{"text_format":"1","workbook":"xlsx","n_sheets":11,"sheets":["Instructions","v1 Project Information","v1 Achieved Features","Feature Verification - On-Site","v1 Documentation","Performance Verification","Upgrade - v2 Features","Upgrade - v2 Documentation","v2 upgrade calc","Tables","Admin"],"not_rendered":{"charts":0,"images":1,"macros":1,"external_links":2,"defined_names":146,"comments":0,"pivot_tables":0},"unopened":[],"bounds":{"document_bytes":16777216,"sheet_cells":100000,"rows_first":2000,"rows_last":500,"rows_between":2000,"halvings":0,"cell_chars":16384,"cell_head_chars":4096},"cells_cut":0,"cells_raw":0,"read":"whole","date_system":"1900"}

{"sheet":"Instructions","index":0,"n_rows":28,"n_cols":2,"rows_kept":28,"cut":false,"hidden":false,"merged":[]}
[]
[null,"Recertification Worksheet"]
[null,"The International WELL Building Institute (IWBI) provides this form so that project teams of WELL Certified buildings may assess the verification method to maintain WELL Certification and apply for recertification. This form has two distinct aims: \n1) To assist projects in the recertification process by identifying which aspects of the project (if any) have changed and limiting documentation only to affected features. \n2) To provide a comparison between WELL v1 and WELL v2 for projects seeking to upgrade upon recertification. \nPlease note while this tool is intended to assist projects in their applications for recertification, its completion requires information submitted by the project and achievement of recertification or, any other designation cannot be guaranteed."]
[null,"Instructions"]
[null,"Step 1: Begin on the v1 Project Information tab. Complete the questionnaire regarding changes to the building design and operation, which covers the following categories:"]
[null,"1. Interior design: doors, appliances, furniture, finishes, layout, and lighting."]
[null,"2. Food service: concessions, vending, menus, and food labeling."]
[null,"3. Exterior design: building grounds, courtyards, pathways, and exterior lighting."]
[null,"4. Cleaning protocol: cleaning and pesticide application."]
[null,"5. Mechanical system: heating, ventilation, and air conditioning."]
[null,"6. Organizational policy: HR policies, employee benefits, discounts, and perks."]
[null,"7. Overall structure: building massing and envelope, entrance, and fenestration."]
[null,"8. Plumbing system: water distribution and treatment."]
[]
[null,"Step 2: Next, identify which WELL Building Standard v1 (WELL) features the project achieved during Certification by referencing your WELL v1 Report. Mark these as \"Yes\" in the v1 Achieved Features tab. Those identified as \"No\" (not pursued or not achieved) will be hidden in the v1 Documentation tab. "]
[]
[null,"Step 3: Go to the v1 Documentation tab. This tab shows the documentation that is required to be submitted for recertification. The degree to which documentation is to be resubmitted is based on the information entered by the project team about changes to the project and the features pursued. \n\nTo show all features and parts, even those not being pursued or requiring documentation, click the \"Show/hide\" button on this tab. Some features indicate documentation is required \"for new products/construction only\"; if there has not been any relevant new products or construction since initial certification within the WELL project boundary, no documentation is required for these features."]
[]
[null,"Step 4: Go to the Performance Verification tab. This tab shows the scope of testing required based on the types of alterations that the project has listed in the Project Information tab. Testing for different parameters will either be listed as \"Full,\" \"Reduced,\" or \"None.\" \n    \n    Full - Testing will occur at the same rate as at initial certification for that parameters.\n    Reduced - Testing will occur at 50% of the sampling locations.\n    None - No additional testing is required for recertification.  \n\nInformation detailing the extent of performance testing (i.e., reduced, full, or none) should be communicated to the contracted Performance Testing Agent prior to testing for recertification."]
[null,"For more information, see Recertification chapter of the WELL Performance Verification Guidebook."]
[]
[null,"Step 5 (Optional): If upgrading to WELL v2, go to the v2 Upgrade tab. This tab shows the extent to which features achieved through initial WELL v1 certification are transferrable to the WELL v2 rating system. \nBefore reviewing, select \"Yes\" or \"No\" in the \"WELL v2 Innovations\" table as it applies to your project. Options for WELL v2 achievement are indicated in Column E as either \"Expected,\" \"Not Pursued,\" or \"Needs Achievement.\" \n\n    Expected -  An alignment exists between the WELL v1 feature already achieved by the project and the \n    corresponding WELL v2 feature. Note that and Achievement Status: Exptected does not gaurantee achievement and all information resubmitted during recertificaiton will be reviewed prior to award of achievement, based on the extent of alterations noted in the v1 Project Information tab.\n    Not Pursued - The WELL v1 feature was not pursued during initial certification, or a WELL v2 feature is not aligned with the previously achieved WELL v1 feature. \n    Needs Achievement - An alignment between WELL v1 and WELL v2 feature does not exist and the project should meet the WELL v2 feature requirements.\n\nThe v2 Documentation tab is used for project teams to identify what is required for WELL v2 verification and documentation submission based on the information and extent of alterations noted in the v1 Project Information tab."]
[null,"NOTE: Projects upgrading to WELL v2 are required to meet all the preconditions per WELL v2."]
[]
[null,"Step 6: For review, submit this worksheet for your v2 project via the WELL digital platform with required documentation indicated in the v2 Documentation tab. Note that any areas added to the project boundary at recertification require full documentation for all features pursued by the project."]
[]
[null,"©2021 International WELL Building Institute pbc. All rights reserved."]
[null,"Version 26.03"]

{"sheet":"v1 Project Information","index":1,"n_rows":46,"n_cols":4,"rows_kept":46,"cut":false,"hidden":false,"merged":[[1,1,1,3],[47,1,47,3],[6,2,6,3],[7,2,7,3],[8,2,8,3],[2,2,2,3],[3,2,3,3],[9,2,9,3],[10,2,10,3],[13,1,13,3],[17,1,17,3],[12,1,12,3],[14,1,14,3],[4,2,4,3],[5,2,5,3],[16,1,16,3]]}
[]
[null,"Project Information"]
[null,"Recertification Project Name:"]
[null,"Project Type:","New and Existing Buildings"]
[null,"Initial Project Name:"]
[null,"Initial WELL Project ID:"]
[null,"Initial Certification Date:"]
[null,"Initial Certification Level:"]
[null,"Initial Certification Standard Version:"]
[null,"Location:"]
[null,"Updated by:"]
[]
[null,"Project Alterations"]
[null,"For each of the categories and subcategories listed below, as applicable and within the last 3 years, select either \"Yes\" or \"No\" if there have been any alterations within the project boundary. Exclude any changes which affect less than 10% scope of the category."]
[null,"(For example, in a project with 100 doors at the original WELL certification, have 10 or more doors been modified or replaced?) "]
[]
[null,"WELL Core"]
[null,"WELL Core projects should only include areas under owner control as they evaluate extent of alterations. In other words, include all non-leased spaces (e.g., common areas and private spaces directly under the control of the building management team), but exclude areas within the project boundary that are leased to or owned by tenants."]
[]
[null,null,"Yes/No","If \"Yes,\" describe the extent of alterations below."]
[null,"Interior Design",{"$f":"IF(COUNTIF(C22:C27,\"Yes\")>0,\"Yes\",\"No\")","v":"No"}]
[null,"Doors"]
[null,"Appliances"]
[null,"Furniture"]
[null,"Finishes"]
[null,"Layout"]
[null,"Lighting"]
[null,"Food Service"]
[null,"Exterior Design",{"$f":"IF(COUNTIF(C30:C33,\"Yes\")>0,\"Yes\",\"No\")","v":"No"}]
[null,"Building grounds"]
[null,"Courtyards"]
[null,"Pathways"]
[null,"Exterior lighting"]
[null,"Cleaning Protocol"]
[null,"Mechanical System",{"$f":"IF(COUNTIF(C36:C38,\"Yes\")>0,\"Yes\",\"No\")","v":"No"}]
[null,"Heating"]
[null,"Ventilating"]
[null,"Air Conditioning"]
[null,"Organizational Policy"]
[null,"Overall Structure",{"$f":"IF(COUNTIF(C41:C43,\"Yes\")>0,\"Yes\",\"No\")","v":"No"}]
[null,"Building envelope"]
[null,"Entrance"]
[null,"Fenestration"]
[null,"Plumbing System",{"$f":"IF(COUNTIF(C45:C46,\"Yes\")>0,\"Yes\",\"No\")","v":"No"}]
[null,"Water distribution"]
[null,"Treatment"]

{"sheet":"v1 Achieved Features","index":2,"n_rows":125,"n_cols":5,"rows_kept":125,"cut":false,"hidden":false,"merged":[[2,1,2,4],[1,1,1,4],[124,1,127,4]]}
[]
[null,"Features Pursued or Achieved"]
[null,"Mark cells below in Column A as \"Yes\" if the optimization is being pursued as part of recertification and \"No\" if it is not."]
[null,"AIR",null,"Feature #","Feature Name"]
[null,"Yes",{"$f":"VLOOKUP(D5,Table4[],3,FALSE)","v":"P"},1,"Air Quality Standards"]
[null,"Yes",{"$f":"VLOOKUP(D6,Table4[],3,FALSE)","v":"P"},2,"Smoking Ban"]
[null,"Yes",{"$f":"VLOOKUP(D7,Table4[],3,FALSE)","v":"P"},3,"Ventilation Effectiveness"]
[null,"Yes",{"$f":"VLOOKUP(D8,Table4[],3,FALSE)","v":"P"},4,"VOC Reduction"]
[null,"Yes",{"$f":"VLOOKUP(D9,Table4[],3,FALSE)","v":"P"},5,"Air Filtration"]
[null,"Yes",{"$f":"VLOOKUP(D10,Table4[],3,FALSE)","v":"P"},6,"Microbe And Mold Control"]
[null,"Yes",{"$f":"VLOOKUP(D11,Table4[],3,FALSE)","v":"P"},7,"Construction Pollution Management"]
[null,"Yes",{"$f":"VLOOKUP(D12,Table4[],3,FALSE)","v":"P"},8,"Healthy Entrance"]
[null,"Yes",{"$f":"VLOOKUP(D13,Table4[],3,FALSE)","v":"P"},9,"Cleaning Protocol"]
[null,"Yes",{"$f":"VLOOKUP(D14,Table4[],3,FALSE)","v":"P"},10,"Pesticide Management"]
[null,"Yes",{"$f":"VLOOKUP(D15,Table4[],3,FALSE)","v":"P"},11,"Fundamental Material Safety"]
[null,"Yes",{"$f":"VLOOKUP(D16,Table4[],3,FALSE)","v":"P"},12,"Moisture Management"]
[null,null,{"$f":"VLOOKUP(D17,Table4[],3,FALSE)","v":"O"},13,"Air Flush"]
[null,null,{"$f":"VLOOKUP(D18,Table4[],3,FALSE)","v":"O"},14,"Air Infiltration Management"]
[null,null,{"$f":"VLOOKUP(D19,Table4[],3,FALSE)","v":"O"},15,"Increased Ventilation"]
[null,null,{"$f":"VLOOKUP(D20,Table4[],3,FALSE)","v":"O"},16,"Humidity Control"]
[null,null,{"$f":"VLOOKUP(D21,Table4[],3,FALSE)","v":"O"},17,"Direct Source Ventilation"]
[null,null,{"$f":"VLOOKUP(D22,Table4[],3,FALSE)","v":"O"},18,"Air Quality Monitoring And Feedback"]
[null,null,{"$f":"VLOOKUP(D23,Table4[],3,FALSE)","v":"O"},19,"Operable Windows"]
[null,null,{"$f":"VLOOKUP(D24,Table4[],3,FALSE)","v":"O"},20,"Outdoor Air Systems"]
[null,null,{"$f":"VLOOKUP(D25,Table4[],3,FALSE)","v":"O"},21,"Displacement Ventilation"]
[null,null,{"$f":"VLOOKUP(D26,Table4[],3,FALSE)","v":"O"},22,"Pest Control"]
[null,null,{"$f":"VLOOKUP(D27,Table4[],3,FALSE)","v":"O"},23,"Advanced Air Purification"]
[null,null,{"$f":"VLOOKUP(D28,Table4[],3,FALSE)","v":"O"},24,"Combustion Minimization"]
[null,null,{"$f":"VLOOKUP(D29,Table4[],3,FALSE)","v":"O"},25,"Toxic Material Reduction"]
[null,null,{"$f":"VLOOKUP(D30,Table4[],3,FALSE)","v":"O"},26,"Enhanced Material Safety"]
[null,null,{"$f":"VLOOKUP(D31,Table4[],3,FALSE)","v":"O"},27,"Antimicrobial Activity for Surfaces"]
[null,null,{"$f":"VLOOKUP(D32,Table4[],3,FALSE)","v":"O"},28,"Cleanable Environment"]
[null,null,{"$f":"VLOOKUP(D33,Table4[],3,FALSE)","v":"O"},29,"Cleaning Equipment"]
[]
[null,"WATER",null,"Feature #","Feature Name"]
[null,"Yes",{"$f":"VLOOKUP(D36,Table4[],3,FALSE)","v":"P"},30," Fundamental Water Quality"]
[null,"Yes",{"$f":"VLOOKUP(D37,Table4[],3,FALSE)","v":"P"},31," Inorganic Contaminants"]
[null,"Yes",{"$f":"VLOOKUP(D38,Table4[],3,FALSE)","v":"P"},32," Organic Contaminants"]
[null,"Yes",{"$f":"VLOOKUP(D39,Table4[],3,FALSE)","v":"P"},33," Agricultural Contaminants"]
[null,"Yes",{"$f":"VLOOKUP(D40,Table4[],3,FALSE)","v":"P"},34," Public Water Additives"]
[null,null,{"$f":"VLOOKUP(D41,Table4[],3,FALSE)","v":"O"},35," Periodic Water Quality Testing"]
[null,null,{"$f":"VLOOKUP(D42,Table4[],3,FALSE)","v":"O"},36," Water Treatment"]
[null,null,{"$f":"VLOOKUP(D43,Table4[],3,FALSE)","v":"O"},37," Drinking Water Promotion"]
[]
[null,"NOURISHMENT",null,"Feature #","Feature Name"]
[null,"Yes",{"$f":"VLOOKUP(D46,Table4[],3,FALSE)","v":"P"},38," Fruits And Vegetables"]
[null,"Yes",{"$f":"VLOOKUP(D47,Table4[],3,FALSE)","v":"P"},39," Processed Foods"]
[null,"Yes",{"$f":"VLOOKUP(D48,Table4[],3,FALSE)","v":"P"},40," Food Allergies"]
[null,"Yes",{"$f":"VLOOKUP(D49,Table4[],3,FALSE)","v":"P"},41," Hand Washing"]
[null,"Yes",{"$f":"VLOOKUP(D50,Table4[],3,FALSE)","v":"P"},42," Food Contamination"]
[null,"Yes",{"$f":"VLOOKUP(D51,Table4[],3,FALSE)","v":"P"},43," Artificial Ingredients"]
[null,"Yes",{"$f":"VLOOKUP(D52,Table4[],3,FALSE)","v":"P"},44," Nutritional Information"]
[null,"Yes",{"$f":"VLOOKUP(D53,Table4[],3,FALSE)","v":"P"},45," Food Advertising"]
[null,null,{"$f":"VLOOKUP(D54,Table4[],3,FALSE)","v":"O"},46," Safe Food Preparation Materials"]
[null,null,{"$f":"VLOOKUP(D55,Table4[],3,FALSE)","v":"O"},47," Serving Sizes"]
[null,null,{"$f":"VLOOKUP(D56,Table4[],3,FALSE)","v":"O"},48," Special Diets"]
[null,null,{"$f":"VLOOKUP(D57,Table4[],3,FALSE)","v":"O"},49," Responsible Food Production"]
[null,null,{"$f":"VLOOKUP(D58,Table4[],3,FALSE)","v":"O"},50," Food Storage"]
[null,null,{"$f":"VLOOKUP(D59,Table4[],3,FALSE)","v":"O"},51," Food Production"]
[null,null,{"$f":"VLOOKUP(D60,Table4[],3,FALSE)","v":"O"},52," Mindful Eating"]
[]
[null,"LIGHT",null,"Feature #","Feature Name"]
[null,"Yes",{"$f":"VLOOKUP(D63,Table4[],3,FALSE)","v":"P"},53," Visual Lighting Design"]
[null,"Yes",{"$f":"VLOOKUP(D64,Table4[],3,FALSE)","v":"P"},54," Circadian Lighting Design"]
[null,"Yes",{"$f":"VLOOKUP(D65,Table4[],3,FALSE)","v":"P"},55," Electric Light Glare Control"]
[null,"Yes",{"$f":"VLOOKUP(D66,Table4[],3,FALSE)","v":"P"},56," Solar Glare Control"]
[null,null,{"$f":"VLOOKUP(D67,Table4[],3,FALSE)","v":"O"},57," Low-Glare Workstation Design"]
[null,null,{"$f":"VLOOKUP(D68,Table4[],3,FALSE)","v":"O"},58," Color Quality"]
[null,null,{"$f":"VLOOKUP(D69,Table4[],3,FALSE)","v":"O"},59," Surface Design"]
[null,null,{"$f":"VLOOKUP(D70,Table4[],3,FALSE)","v":"O"},60," Automated Shading And Dimming Controls"]
[null,null,{"$f":"VLOOKUP(D71,Table4[],3,FALSE)","v":"O"},61," Right To Light"]
[null,null,{"$f":"VLOOKUP(D72,Table4[],3,FALSE)","v":"O"},62," Daylight Modeling"]
[null,null,{"$f":"VLOOKUP(D73,Table4[],3,FALSE)","v":"O"},63," Daylighting Fenestration"]
[]
[null,"FITNESS",null,"Feature #","Feature Name"]
[null,"Yes",{"$f":"VLOOKUP(D76,Table4[],3,FALSE)","v":"P"},64," Interior Fitness Circulation"]
[null,"Yes",{"$f":"VLOOKUP(D77,Table4[],3,FALSE)","v":"P"},65," Activity Incentive Programs"]
[null,null,{"$f":"VLOOKUP(D78,Table4[],3,FALSE)","v":"O"},66," Structured Fitness Opportunities"]
[null,null,{"$f":"VLOOKUP(D79,Table4[],3,FALSE)","v":"O"},67," Exterior Active Design"]
[null,null,{"$f":"VLOOKUP(D80,Table4[],3,FALSE)","v":"O"},68," Physical Activity Spaces"]
[null,null,{"$f":"VLOOKUP(D81,Table4[],3,FALSE)","v":"O"},69," Active Transportation Support"]
[null,null,{"$f":"VLOOKUP(D82,Table4[],3,FALSE)","v":"O"},70," Fitness Equipment"]
[null,null,{"$f":"VLOOKUP(D83,Table4[],3,FALSE)","v":"O"},71," Active Furnishings"]
[]
[null,"COMFORT",null,"Feature #","Feature Name"]
[null,"Yes",{"$f":"VLOOKUP(D86,Table4[],3,FALSE)","v":"P"},72," Accessible Design"]
[null,"Yes",{"$f":"VLOOKUP(D87,Table4[],3,FALSE)","v":"P"},73," Ergonomics: Visual And Physical"]
[null,"Yes",{"$f":"VLOOKUP(D88,Table4[],3,FALSE)","v":"P"},74," Exterior Noise Intrusion"]
[null,"Yes",{"$f":"VLOOKUP(D89,Table4[],3,FALSE)","v":"P"},75," Internally Generated Noise"]
[null,"Yes",{"$f":"VLOOKUP(D90,Table4[],3,FALSE)","v":"P"},76," Thermal Comfort"]
[null,null,{"$f":"VLOOKUP(D91,Table4[],3,FALSE)","v":"O"},77," Olfactory Comfort"]
[null,null,{"$f":"VLOOKUP(D92,Table4[],3,FALSE)","v":"O"},78," Reverberation Time"]
[null,null,{"$f":"VLOOKUP(D93,Table4[],3,FALSE)","v":"O"},79," Sound Masking"]
[null,null,{"$f":"VLOOKUP(D94,Table4[],3,FALSE)","v":"O"},80," Sound Reducing Surfaces"]
[null,null,{"$f":"VLOOKUP(D95,Table4[],3,FALSE)","v":"O"},81," Sound Barriers"]
[null,null,{"$f":"VLOOKUP(D96,Table4[],3,FALSE)","v":"O"},82," Individual Thermal Control"]
[null,null,{"$f":"VLOOKUP(D97,Table4[],3,FALSE)","v":"O"},83," Radiant Thermal Comfort"]
[]
[null,"MIND",null,"Feature #","Feature Name"]
[null,"Yes",{"$f":"VLOOKUP(D100,Tables!$O$4:$Q$108,3,FALSE)","v":"P"},84," Health And Wellness Awareness"]
[null,"Yes",{"$f":"VLOOKUP(D101,Tables!$O$4:$Q$108,3,FALSE)","v":"P"},85," Integrative Design"]
[null,"Yes",{"$f":"VLOOKUP(D102,Tables!$O$4:$Q$108,3,FALSE)","v":"P"},86," Post-Occupancy Surveys"]
[null,"Yes",{"$f":"VLOOKUP(D103,Tables!$O$4:$Q$108,3,FALSE)","v":"P"},87," Beauty And Design I"]
[null,"Yes",{"$f":"VLOOKUP(D104,Tables!$O$4:$Q$108,3,FALSE)","v":"P"},88," Biophilia I - Qualitative"]
[null,null,{"$f":"VLOOKUP(D105,Tables!$O$4:$Q$108,3,FALSE)","v":"O"},89," Adaptable Spaces"]
[null,null,{"$f":"VLOOKUP(D106,Tables!$O$4:$Q$108,3,FALSE)","v":"O"},90," Healthy Sleep Policy"]
[null,null,{"$f":"VLOOKUP(D107,Tables!$O$4:$Q$108,3,FALSE)","v":"O"},91," Business Travel"]
[null,null,{"$f":"VLOOKUP(D108,Tables!$O$4:$Q$108,3,FALSE)","v":"O"},92," Building Health Policy"]
[null,null,{"$f":"VLOOKUP(D109,Tables!$O$4:$Q$108,3,FALSE)","v":"O"},93," Workplace Family Support"]
[null,null,{"$f":"VLOOKUP(D110,Tables!$O$4:$Q$108,3,FALSE)","v":"O"},94," Self-Monitoring"]
[null,null,{"$f":"VLOOKUP(D111,Tables!$O$4:$Q$108,3,FALSE)","v":"O"},95," Stress And Addiction Treatment"]
[null,null,{"$f":"VLOOKUP(D112,Tables!$O$4:$Q$108,3,FALSE)","v":"O"},96," Altruism"]
[null,null,{"$f":"VLOOKUP(D113,Tables!$O$4:$Q$108,3,FALSE)","v":"O"},97," Material Transparency"]
[null,null,{"$f":"VLOOKUP(D114,Tables!$O$4:$Q$108,3,FALSE)","v":"O"},98," Organizational Transparency"]
[null,null,{"$f":"VLOOKUP(D115,Tables!$O$4:$Q$108,3,FALSE)","v":"O"},99," Beauty And Design II"]
[null,null,{"$f":"VLOOKUP(D116,Tables!$O$4:$Q$108,3,FALSE)","v":"O"},100," Biophilia II - Quantitative"]
[]
[null,"INNOVATION",null,"Feature #","Feature Name"]
[null,null,{"$f":"VLOOKUP(D119,Tables!$O$4:$Q$108,3,FALSE)","v":"O"},101,"Innovation I"]
[null,null,{"$f":"VLOOKUP(D120,Tables!$O$4:$Q$108,3,FALSE)","v":"O"},102,"Innovation II"]
[null,null,{"$f":"VLOOKUP(D121,Tables!$O$4:$Q$108,3,FALSE)","v":"O"},103,"Innovation III"]
[null,null,{"$f":"VLOOKUP(D122,Tables!$O$4:$Q$108,3,FALSE)","v":"O"},104,"Innovation IV"]
[null,null,{"$f":"VLOOKUP(D123,Tables!$O$4:$Q$108,3,FALSE)","v":"O"},105,"Innovation V"]
[]
[null,"*Note that for projects upgrading from WELL v1 to WELL v2, Innovations I-V that incorporate WELL AP, WELL tour, achievement of a health and wellness rating system, or achievement of a green rating system should be noted in the top right table on the v2 Upgrade tab and marked as No here."]

{"sheet":"Feature Verification - On-Site","index":3,"n_rows":328,"n_cols":12,"rows_kept":328,"cut":false,"hidden":true,"merged":[[239,0,275,0],[276,0,327,0],[0,0,0,11],[15,0,112,0],[113,0,139,0],[140,0,180,0],[181,0,213,0],[214,0,238,0]]}
["Recertification Verification Checklist - On-Site"]
["WELL Building Standard v1"]
[]
[null,null,null,null,"Project:",{"$f":"'v1 Project Information'!C3","v":0}]
[null,null,null,null,"Location:",{"$f":"'v1 Project Information'!C10","v":0}]
[null,null,null,null,"Initial Certification Date:"]
[null,null,null,null,"Initial Certification Level:"]
[null,null,null,null,"Initial Cerrtification Standard Version:"]
[null,null,"Filtered",1,"Updated By:",{"$f":"'v1 Project Information'!C11","v":0}]
[null,null,null,null,"Date:"]
[]
[null,"P",null,null,"Precondition (required)"]
[null,"O",null,null,"Optimization (optional) "]
[]
[null,"Column1","F#","Pursuing","Feature and Parts","Recertification type","Conditions for change","Verification Applicability","On-Site","Annotated Documents","Letter of Assurance","Notes"]
["AIR","P",{"$f":"IF(LEFT(Table13[[#This Row],[Feature and Parts]],3)=\"fea\",MID(Table13[[#This Row],[Feature and Parts]],9,2)+0,C15)","v":1},{"$f":"LOOKUP(Table13[[#This Row],[F'#]],'v1 Achieved Features'!D:D,'v1 Achieved Features'!$B:B)","v":"Yes"},"Feature 01. Air quality standards"]
[null,null,{"$f":"IF(LEFT(Table13[[#This Row],[Feature and Parts]],3)=\"fea\",MID(Table13[[#This Row],[Feature and Parts]],9,2)+0,C16)","v":1},{"$f":"LOOKUP(Table13[[#This Row],[F'#]],'v1 Achieved Features'!D:D,'v1 Achieved Features'!$B:B)","v":"Yes"},"Standards For Volatile Substances","Normal",null,{"$f":"IF(Table13[[#This Row],[Recertification type]]=\"None unless a change to\",IF(OFFSET('v1 Project Information'!$C$14,MATCH(Table13[[#This Row],[Conditions for change]],'v1 Project Information'!$B$21:$B$44,0),0)=\"Yes\",\"Normal\",\"None\"),Table13[[#This Row],[Recertification type]])","v":"Normal"},"Performance Test",""]
[null,null,{"$f":"IF(LEFT(Table13[[#This Row],[Feature and Parts]],3)=\"fea\",MID(Table13[[#This Row],[Feature and Parts]],9,2)+0,C17)","v":1},{"$f":"LOOKUP(Table13[[#This Row],[F'#]],'v1 Achieved Features'!D:D,'v1 Achieved Features'!$B:B)","v":"Yes"},"Standards For Particulate Matter And Inorganic Gases","Normal",null,{"$f":"IF(Table13[[#This Row],[Recertification type]]=\"None unless a change to\",IF(OFFSET('v1 Project Information'!$C$14,MATCH(Table13[[#This Row],[Conditions for change]],'v1 Project Information'!$B$21:$B$44,0),0)=\"Yes\",\"Normal\",\"None\"),Table13[[#This Row],[Recertification type]])","v":"Normal"},"Performance Test",""]
[null,null,{"$f":"IF(LEFT(Table13[[#This Row],[Feature and Parts]],3)=\"fea\",MID(Table13[[#This Row],[Feature and Parts]],9,2)+0,C18)","v":1},{"$f":"LOOKUP(Table13[[#This Row],[F'#]],'v1 Achieved Features'!D:D,'v1 Achieved Features'!$B:B)","v":"Yes"},"Radon","Normal",null,{"$f":"IF(Table13[[#This Row],[Recertification type]]=\"None unless a change to\",IF(OFFSET('v1 Project Information'!$C$14,MATCH(Table13[[#This Row],[Conditions for change]],'v1 Project Information'!$B$21:$B$44,0),0)=\"Yes\",\"Normal\",\"None\"),Table13[[#This Row],[Recertification type]])","v":"Normal"},"Performance Test",""]
[null,"P",{"$f":"IF(LEFT(Table13[[#This Row],[Feature and Parts]],3)=\"fea\",MID(Table13[[#This Row],[Feature and Parts]],9,2)+0,C19)","v":2},{"$f":"LOOKUP(Table13[[#This Row],[F'#]],'v1 Achieved Features'!D:D,'v1 Achieved Features'!$B:B)","v":"Yes"},"Feature 02. Smoking Ban"]
[null,null,{"$f":"IF(LEFT(Table13[[#This Row],[Feature and Parts]],3)=\"fea\",MID(Table13[[#This Row],[Feature and Parts]],9,2)+0,C20)","v":2},{"$f":"LOOKUP(Table13[[#This Row],[F'#]],'v1 Achieved Features'!D:D,'v1 Achieved Features'!$B:B)","v":"Yes"},"Indoor Smoking Ban","None",null,{"$f":"IF(Table13[[#This Row],[Recertification type]]=\"None unless a change to\",IF(OFFSET('v1 Project Information'!$C$14,MATCH(Table13[[#This Row],[Conditions for change]],'v1 Project Information'!$B$21:$B$44,0),0)=\"Yes\",\"Normal\",\"None\"),Table13[[#This Row],[Recertification type]])","v":"None"},"","Policy Document"]
[null,null,{"$f":"IF(LEFT(Table13[[#This Row],[Feature and Parts]],3)=\"fea\",MID(Table13[[#This Row],[Feature and Parts]],9,2)+0,C21)","v":2},{"$f":"LOOKUP(Table13[[#This Row],[F'#]],'v1 Achieved Features'!D:D,'v1 Achieved Features'!$B:B)","v":"Yes"},"Outdoor Smoking Ban","Normal",null,{"$f":"IF(Table13[[#This Row],[Recertification type]]=\"None unless a change to\",IF(OFFSET('v1 Project Information'!$C$14,MATCH(Table13[[#This Row],[Conditions for change]],'v1 Project Information'!$B$21:$B$44,0),0)=\"Yes\",\"Normal\",\"None\"),Table13[[#This Row],[Recertification type]])","v":"Normal"},"Visual Inspection",""]
[null,"P",{"$f":"IF(LEFT(Table13[[#This Row],[Feature and Parts]],3)=\"fea\",MID(Table13[[#This Row],[Feature and Parts]],9,2)+0,C22)","v":3},{"$f":"LOOKUP(Table13[[#This Row],[F'#]],'v1 Achieved Features'!D:D,'v1 Achieved Features'!$B:B)","v":"Yes"},"Feature 03. Ventilation Effectiveness"]
[null,null,{"$f":"IF(LEFT(Table13[[#This Row],[Feature and Parts]],3)=\"fea\",MID(Table13[[#This Row],[Feature and Parts]],9,2)+0,C23)","v":3},{"$f":"LOOKUP(Table13[[#This Row],[F'#]],'v1 Achieved Features'!D:D,'v1 Achieved Features'!$B:B)","v":"Yes"},"Ventilation Design","None","Mechanical system",{"$f":"IF(Table13[[#This Row],[Recertification type]]=\"None unless a change to\",IF(OFFSET('v1 Project Information'!$C$14,MATCH(Table13[[#This Row],[Conditions for change]],'v1 Project Information'!$B$21:$B$44,0),0)=\"Yes\",\"Normal\",\"None\"),Table13[[#This Row],[Recertification type]])","v":"None"},"","","MEP"]
[null,null,{"$f":"IF(LEFT(Table13[[#This Row],[Feature and Parts]],3)=\"fea\",MID(Table13[[#This Row],[Feature and Parts]],9,2)+0,C24)","v":3},{"$f":"LOOKUP(Table13[[#This Row],[F'#]],'v1 Achieved Features'!D:D,'v1 Achieved Features'!$B:B)","v":"Yes"},"Demand Controlled Ventilation","None","Mechanical system",{"$f":"IF(Table13[[#This Row],[Recertification type]]=\"None unless a change to\",IF(OFFSET('v1 Project Information'!$C$14,MATCH(Table13[[#This Row],[Conditions for change]],'v1 Project Information'!$B$21:$B$44,0),0)=\"Yes\",\"Normal\",\"None\"),Table13[[#This Row],[Recertification type]])","v":"None"},"","","MEP"]
[null,null,{"$f":"IF(LEFT(Table13[[#This Row],[Feature and Parts]],3)=\"fea\",MID(Table13[[#This Row],[Feature and Parts]],9,2)+0,C25)","v":3},{"$f":"LOOKUP(Table13[[#This Row],[F'#]],'v1 Achieved Features'!D:D,'v1 Achieved Features'!$B:B)","v":"Yes"},"System Balancing","None",null,{"$f":"IF(Table13[[#This Row],[Recertification type]]=\"None unless a change to\",IF(OFFSET('v1 Project Information'!$C$14,MATCH(Table13[[#This Row],[Conditions for change]],'v1 Project Information'!$B$21:$B$44,0),0)=\"Yes\",\"Normal\",\"None\"),Table13[[#This Row],[Recertification type]])","v":"None"},"","Testing and Balancing Report"]
[null,"P",{"$f":"IF(LEFT(Table13[[#This Row],[Feature and Parts]],3)=\"fea\",MID(Table13[[#This Row],[Feature and Parts]],9,2)+0,#REF!)","v":4},{"$f":"LOOKUP(Table13[[#This Row],[F'#]],'v1 Achieved Features'!D:D,'v1 Achieved Features'!$B:B)","v":"Yes"},"Feature 04. VOC Reduction"]
[null,null,{"$f":"IF(LEFT(Table13[[#This Row],[Feature and Parts]],3)=\"fea\",MID(Table13[[#This Row],[Feature and Parts]],9,2)+0,C27)","v":4},{"$f":"LOOKUP(Table13[[#This Row],[F'#]],'v1 Achieved Features'!D:D,'v1 Achieved Features'!$B:B)","v":"Yes"},"Interior Paints and Coatings","None",null,{"$f":"IF(Table13[[#This Row],[Recertification type]]=\"None unless a change to\",IF(OFFSET('v1 Project Information'!$C$14,MATCH(Table13[[#This Row],[Conditions for change]],'v1 Project Information'!$B$21:$B$44,0),0)=\"Yes\",\"Normal\",\"None\"),Table13[[#This Row],[Recertification type]])","v":"None"},"","","Architect & Contractor"]
[null,null,{"$f":"IF(LEFT(Table13[[#This Row],[Feature and Parts]],3)=\"fea\",MID(Table13[[#This Row],[Feature and Parts]],9,2)+0,C28)","v":4},{"$f":"LOOKUP(Table13[[#This Row],[F'#]],'v1 Achieved Features'!D:D,'v1 Achieved Features'!$B:B)","v":"Yes"},"Interior Adhesives and Sealants","None",null,{"$f":"IF(Table13[[#This Row],[Recertification type]]=\"None unless a change to\",IF(OFFSET('v1 Project Information'!$C$14,MATCH(Table13[[#This Row],[Conditions for change]],'v1 Project Information'!$B$21:$B$44,0),0)=\"Yes\",\"Normal\",\"None\"),Table13[[#This Row],[Recertification type]])","v":"None"},"","","Architect & Contractor"]
[null,null,{"$f":"IF(LEFT(Table13[[#This Row],[Feature and Parts]],3)=\"fea\",MID(Table13[[#This Row],[Feature and Parts]],9,2)+0,C29)","v":4},{"$f":"LOOKUP(Table13[[#This Row],[F'#]],'v1 Achieved Features'!D:D,'v1 Achieved Features'!$B:B)","v":"Yes"},"Flooring","None",null,{"$f":"IF(Table13[[#This Row],[Recertification type]]=\"None unless a change to\",IF(OFFSET('v1 Project Information'!$C$14,MATCH(Table13[[#This Row],[Conditions for change]],'v1 Project Information'!$B$21:$B$44,0),0)=\"Yes\",\"Normal\",\"None\"),Table13[[#This Row],[Recertification type]])","v":"None"},"","","Architect & Contractor"]
[null,null,{"$f":"IF(LEFT(Table13[[#This Row],[Feature and Parts]],3)=\"fea\",MID(Table13[[#This Row],[Feature and Parts]],9,2)+0,C30)","v":4},{"$f":"LOOKUP(Table13[[#This Row],[F'#]],'v1 Achieved Features'!D:D,'v1 Achieved Features'!$B:B)","v":"Yes"},"Insulation","None",null,{"$f":"IF(Table13[[#This Row],[Recertification type]]=\"None unless a change to\",IF(OFFSET('v1 Project Information'!$C$14,MATCH(Table13[[#This Row],[Conditions for change]],'v1 Project Information'!$B$21:$B$44,0),0)=\"Yes\",\"Normal\",\"None\"),Table13[[#This Row],[Recertification type]])","v":"None"},"","","Architect & Contractor"]
[null,null,{"$f":"IF(LEFT(Table13[[#This Row],[Feature and Parts]],3)=\"fea\",MID(Table13[[#This Row],[Feature and Parts]],9,2)+0,C31)","v":4},{"$f":"LOOKUP(Table13[[#This Row],[F'#]],'v1 Achieved Features'!D:D,'v1 Achieved Features'!$B:B)","v":"Yes"},"Furniture and Furnishings","None",null,{"$f":"IF(Table13[[#This Row],[Recertification type]]=\"None unless a change to\",IF(OFFSET('v1 Project Information'!$C$14,MATCH(Table13[[#This Row],[Conditions for change]],'v1 Project Information'!$B$21:$B$44,0),0)=\"Yes\",\"Normal\",\"None\"),Table13[[#This Row],[Recertification type]])","v":"None"},"","","Architect & Owner"]
[null,"P",{"$f":"IF(LEFT(Table13[[#This Row],[Feature and Parts]],3)=\"fea\",MID(Table13[[#This Row],[Feature and Parts]],9,2)+0,C32)","v":5},{"$f":"LOOKUP(Table13[[#This Row],[F'#]],'v1 Achieved Features'!D:D,'v1 Achieved Features'!$B:B)","v":"Yes"},"Feature 05. Air Filtration"]
[null,null,{"$f":"IF(LEFT(Table13[[#This Row],[Feature and Parts]],3)=\"fea\",MID(Table13[[#This Row],[Feature and Parts]],9,2)+0,C33)","v":5},{"$f":"LOOKUP(Table13[[#This Row],[F'#]],'v1 Achieved Features'!D:D,'v1 Achieved Features'!$B:B)","v":"Yes"},"Filter Accommodation","None unless a change to","Mechanical system",{"$f":"IF(Table13[[#This Row],[Recertification type]]=\"None unless a change to\",IF(OFFSET('v1 Project Information'!$C$14,MATCH(Table13[[#This Row],[Conditions for change]],'v1 Project Information'!$B$21:$B$44,0),0)=\"Yes\",\"Normal\",\"None\"),Table13[[#This Row],[Recertification type]])","v":"None"},"Spot Check","","MEP"]
[null,null,{"$f":"IF(LEFT(Table13[[#This Row],[Feature and Parts]],3)=\"fea\",MID(Table13[[#This Row],[Feature and Parts]],9,2)+0,C34)","v":5},{"$f":"LOOKUP(Table13[[#This Row],[F'#]],'v1 Achieved Features'!D:D,'v1 Achieved Features'!$B:B)","v":"Yes"},"Particle Filtration","None unless a change to","Mechanical system",{"$f":"IF(Table13[[#This Row],[Recertification type]]=\"None unless a change to\",IF(OFFSET('v1 Project Information'!$C$14,MATCH(Table13[[#This Row],[Conditions for change]],'v1 Project Information'!$B$21:$B$44,0),0)=\"Yes\",\"Normal\",\"None\"),Table13[[#This Row],[Recertification type]])","v":"None"},"Spot Check","","MEP"]
[null,null,{"$f":"IF(LEFT(Table13[[#This Row],[Feature and Parts]],3)=\"fea\",MID(Table13[[#This Row],[Feature and Parts]],9,2)+0,C35)","v":5},{"$f":"LOOKUP(Table13[[#This Row],[F'#]],'v1 Achieved Features'!D:D,'v1 Achieved Features'!$B:B)","v":"Yes"},"Air Filtration Maintenance","None",null,{"$f":"IF(Table13[[#This Row],[Recertification type]]=\"None unless a change to\",IF(OFFSET('v1 Project Information'!$C$14,MATCH(Table13[[#This Row],[Conditions for change]],'v1 Project Information'!$B$21:$B$44,0),0)=\"Yes\",\"Normal\",\"None\"),Table13[[#This Row],[Recertification type]])","v":"None"},"","Operations Schedule"]
[null,"P",{"$f":"IF(LEFT(Table13[[#This Row],[Feature and Parts]],3)=\"fea\",MID(Table13[[#This Row],[Feature and Parts]],9,2)+0,C36)","v":6},{"$f":"LOOKUP(Table13[[#This Row],[F'#]],'v1 Achieved Features'!D:D,'v1 Achieved Features'!$B:B)","v":"Yes"},"Feature 06. Microbe And Mold Control"]
[null,null,{"$f":"IF(LEFT(Table13[[#This Row],[Feature and Parts]],3)=\"fea\",MID(Table13[[#This Row],[Feature and Parts]],9,2)+0,C37)","v":6},{"$f":"LOOKUP(Table13[[#This Row],[F'#]],'v1 Achieved Features'!D:D,'v1 Achieved Features'!$B:B)","v":"Yes"},"Cooling Coil Mold Reduction","None",null,{"$f":"IF(Table13[[#This Row],[Recertification type]]=\"None unless a change to\",IF(OFFSET('v1 Project Information'!$C$14,MATCH(Table13[[#This Row],[Conditions for change]],'v1 Project Information'!$B$21:$B$44,0),0)=\"Yes\",\"Normal\",\"None\"),Table13[[#This Row],[Recertification type]])","v":"None"},"","MEP Drawing or Operations Schedule"]
[null,null,{"$f":"IF(LEFT(Table13[[#This Row],[Feature and Parts]],3)=\"fea\",MID(Table13[[#This Row],[Feature and Parts]],9,2)+0,C38)","v":6},{"$f":"LOOKUP(Table13[[#This Row],[F'#]],'v1 Achieved Features'!D:D,'v1 Achieved Features'!$B:B)","v":"Yes"},"Mold Inspections","Normal",null,{"$f":"IF(Table13[[#This Row],[Recertification type]]=\"None unless a change to\",IF(OFFSET('v1 Project Information'!$C$14,MATCH(Table13[[#This Row],[Conditions for change]],'v1 Project Information'!$B$21:$B$44,0),0)=\"Yes\",\"Normal\",\"None\"),Table13[[#This Row],[Recertification type]])","v":"Normal"},"Visual Inspection",""]
[null,"P",{"$f":"IF(LEFT(Table13[[#This Row],[Feature and Parts]],3)=\"fea\",MID(Table13[[#This Row],[Feature and Parts]],9,2)+0,C39)","v":7},{"$f":"LOOKUP(Table13[[#This Row],[F'#]],'v1 Achieved Features'!D:D,'v1 Achieved Features'!$B:B)","v":"Yes"},"Feature 07. Construction Pollution Management"]
[null,null,{"$f":"IF(LEFT(Table13[[#This Row],[Feature and Parts]],3)=\"fea\",MID(Table13[[#This Row],[Feature and Parts]],9,2)+0,C40)","v":7},{"$f":"LOOKUP(Table13[[#This Row],[F'#]],'v1 Achieved Features'!D:D,'v1 Achieved Features'!$B:B)","v":"Yes"},"Duct Protection","None",null,{"$f":"IF(Table13[[#This Row],[Recertification type]]=\"None unless a change to\",IF(OFFSET('v1 Project Information'!$C$14,MATCH(Table13[[#This Row],[Conditions for change]],'v1 Project Information'!$B$21:$B$44,0),0)=\"Yes\",\"Normal\",\"None\"),Table13[[#This Row],[Recertification type]])","v":"None"},"","","Contractor"]
[null,null,{"$f":"IF(LEFT(Table13[[#This Row],[Feature and Parts]],3)=\"fea\",MID(Table13[[#This Row],[Feature and Parts]],9,2)+0,C41)","v":7},{"$f":"LOOKUP(Table13[[#This Row],[F'#]],'v1 Achieved Features'!D:D,'v1 Achieved Features'!$B:B)","v":"Yes"},"Filter Replacement","None",null,{"$f":"IF(Table13[[#This Row],[Recertification type]]=\"None unless a change to\",IF(OFFSET('v1 Project Information'!$C$14,MATCH(Table13[[#This Row],[Conditions for change]],'v1 Project Information'!$B$21:$B$44,0),0)=\"Yes\",\"Normal\",\"None\"),Table13[[#This Row],[Recertification type]])","v":"None"},"","","Contractor"]
[null,null,{"$f":"IF(LEFT(Table13[[#This Row],[Feature and Parts]],3)=\"fea\",MID(Table13[[#This Row],[Feature and Parts]],9,2)+0,C42)","v":7},{"$f":"LOOKUP(Table13[[#This Row],[F'#]],'v1 Achieved Features'!D:D,'v1 Achieved Features'!$B:B)","v":"Yes"},"Moisture Absorption Management","None",null,{"$f":"IF(Table13[[#This Row],[Recertification type]]=\"None unless a change to\",IF(OFFSET('v1 Project Information'!$C$14,MATCH(Table13[[#This Row],[Conditions for change]],'v1 Project Information'!$B$21:$B$44,0),0)=\"Yes\",\"Normal\",\"None\"),Table13[[#This Row],[Recertification type]])","v":"None"},"","","Contractor"]
[null,null,{"$f":"IF(LEFT(Table13[[#This Row],[Feature and Parts]],3)=\"fea\",MID(Table13[[#This Row],[Feature and Parts]],9,2)+0,C43)","v":7},{"$f":"LOOKUP(Table13[[#This Row],[F'#]],'v1 Achieved Features'!D:D,'v1 Achieved Features'!$B:B)","v":"Yes"},"Dust Containment and Removal","None",null,{"$f":"IF(Table13[[#This Row],[Recertification type]]=\"None unless a change to\",IF(OFFSET('v1 Project Information'!$C$14,MATCH(Table13[[#This Row],[Conditions for change]],'v1 Project Information'!$B$21:$B$44,0),0)=\"Yes\",\"Normal\",\"None\"),Table13[[#This Row],[Recertification type]])","v":"None"},"","","Contractor"]
[null,"P",{"$f":"IF(LEFT(Table13[[#This Row],[Feature and Parts]],3)=\"fea\",MID(Table13[[#This Row],[Feature and Parts]],9,2)+0,C44)","v":8},{"$f":"LOOKUP(Table13[[#This Row],[F'#]],'v1 Achieved Features'!D:D,'v1 Achieved Features'!$B:B)","v":"Yes"},"Feature 08. Healthy Entrance"]
[null,null,{"$f":"IF(LEFT(Table13[[#This Row],[Feature and Parts]],3)=\"fea\",MID(Table13[[#This Row],[Feature and Parts]],9,2)+0,C45)","v":8},{"$f":"LOOKUP(Table13[[#This Row],[F'#]],'v1 Achieved Features'!D:D,'v1 Achieved Features'!$B:B)","v":"Yes"},"Entryway Walk-Off Systems","None unless a change to","Overall structure",{"$f":"IF(Table13[[#This Row],[Recertification type]]=\"None unless a change to\",IF(OFFSET('v1 Project Information'!$C$14,MATCH(Table13[[#This Row],[Conditions for change]],'v1 Project Information'!$B$21:$B$44,0),0)=\"Yes\",\"Normal\",\"None\"),Table13[[#This Row],[Recertification type]])","v":"None"},"Visual Inspection",""]
[null,null,{"$f":"IF(LEFT(Table13[[#This Row],[Feature and Parts]],3)=\"fea\",MID(Table13[[#This Row],[Feature and Parts]],9,2)+0,C46)","v":8},{"$f":"LOOKUP(Table13[[#This Row],[F'#]],'v1 Achieved Features'!D:D,'v1 Achieved Features'!$B:B)","v":"Yes"},"Entryway Air Seal","None unless a change to","Overall structure",{"$f":"IF(Table13[[#This Row],[Recertification type]]=\"None unless a change to\",IF(OFFSET('v1 Project Information'!$C$14,MATCH(Table13[[#This Row],[Conditions for change]],'v1 Project Information'!$B$21:$B$44,0),0)=\"Yes\",\"Normal\",\"None\"),Table13[[#This Row],[Recertification type]])","v":"None"},"Visual Inspection",""]
[null,"P",{"$f":"IF(LEFT(Table13[[#This Row],[Feature and Parts]],3)=\"fea\",MID(Table13[[#This Row],[Feature and Parts]],9,2)+0,C47)","v":9},{"$f":"LOOKUP(Table13[[#This Row],[F'#]],'v1 Achieved Features'!D:D,'v1 Achieved Features'!$B:B)","v":"Yes"},"Feature 09. Cleaning Protocol"]
[null,null,{"$f":"IF(LEFT(Table13[[#This Row],[Feature and Parts]],3)=\"fea\",MID(Table13[[#This Row],[Feature and Parts]],9,2)+0,C48)","v":9},{"$f":"LOOKUP(Table13[[#This Row],[F'#]],'v1 Achieved Features'!D:D,'v1 Achieved Features'!$B:B)","v":"Yes"},"Cleaning Plan for Occupied Spaces","None","Cleaning protocol",{"$f":"IF(Table13[[#This Row],[Recertification type]]=\"None unless a change to\",IF(OFFSET('v1 Project Information'!$C$14,MATCH(Table13[[#This Row],[Conditions for change]],'v1 Project Information'!$B$21:$B$44,0),0)=\"Yes\",\"Normal\",\"None\"),Table13[[#This Row],[Recertification type]])","v":"None"},"","Operations Schedule"]
[null,"P",{"$f":"IF(LEFT(Table13[[#This Row],[Feature and Parts]],3)=\"fea\",MID(Table13[[#This Row],[Feature and Parts]],9,2)+0,C49)","v":10},{"$f":"LOOKUP(Table13[[#This Row],[F'#]],'v1 Achieved Features'!D:D,'v1 Achieved Features'!$B:B)","v":"Yes"},"Feature 10. Pesticide Management"]
[null,null,{"$f":"IF(LEFT(Table13[[#This Row],[Feature and Parts]],3)=\"fea\",MID(Table13[[#This Row],[Feature and Parts]],9,2)+0,C50)","v":10},{"$f":"LOOKUP(Table13[[#This Row],[F'#]],'v1 Achieved Features'!D:D,'v1 Achieved Features'!$B:B)","v":"Yes"},"Pesticide Use","None","Cleaning protocol",{"$f":"IF(Table13[[#This Row],[Recertification type]]=\"None unless a change to\",IF(OFFSET('v1 Project Information'!$C$14,MATCH(Table13[[#This Row],[Conditions for change]],'v1 Project Information'!$B$21:$B$44,0),0)=\"Yes\",\"Normal\",\"None\"),Table13[[#This Row],[Recertification type]])","v":"None"},"","Operations Schedule"]
[null,"P",{"$f":"IF(LEFT(Table13[[#This Row],[Feature and Parts]],3)=\"fea\",MID(Table13[[#This Row],[Feature and Parts]],9,2)+0,C51)","v":11},{"$f":"LOOKUP(Table13[[#This Row],[F'#]],'v1 Achieved Features'!D:D,'v1 Achieved Features'!$B:B)","v":"Yes"},"Feature 11. Fundamental Material Safety"]
[null,null,{"$f":"IF(LEFT(Table13[[#This Row],[Feature and Parts]],3)=\"fea\",MID(Table13[[#This Row],[Feature and Parts]],9,2)+0,C52)","v":11},{"$f":"LOOKUP(Table13[[#This Row],[F'#]],'v1 Achieved Features'!D:D,'v1 Achieved Features'!$B:B)","v":"Yes"},"Asbestos and Lead Restriction","None",null,{"$f":"IF(Table13[[#This Row],[Recertification type]]=\"None unless a change to\",IF(OFFSET('v1 Project Information'!$C$14,MATCH(Table13[[#This Row],[Conditions for change]],'v1 Project Information'!$B$21:$B$44,0),0)=\"Yes\",\"Normal\",\"None\"),Table13[[#This Row],[Recertification type]])","v":"None"},"","","Architect & MEP"]
[null,null,{"$f":"IF(LEFT(Table13[[#This Row],[Feature and Parts]],3)=\"fea\",MID(Table13[[#This Row],[Feature and Parts]],9,2)+0,C53)","v":11},{"$f":"LOOKUP(Table13[[#This Row],[F'#]],'v1 Achieved Features'!D:D,'v1 Achieved Features'!$B:B)","v":"Yes"},"Lead Abatement","None",null,{"$f":"IF(Table13[[#This Row],[Recertification type]]=\"None unless a change to\",IF(OFFSET('v1 Project Information'!$C$14,MATCH(Table13[[#This Row],[Conditions for change]],'v1 Project Information'!$B$21:$B$44,0),0)=\"Yes\",\"Normal\",\"None\"),Table13[[#This Row],[Recertification type]])","v":"None"},"","Remediation Report"]
[null,null,{"$f":"IF(LEFT(Table13[[#This Row],[Feature and Parts]],3)=\"fea\",MID(Table13[[#This Row],[Feature and Parts]],9,2)+0,C54)","v":11},{"$f":"LOOKUP(Table13[[#This Row],[F'#]],'v1 Achieved Features'!D:D,'v1 Achieved Features'!$B:B)","v":"Yes"},"Asbestos Abatement","None",null,{"$f":"IF(Table13[[#This Row],[Recertification type]]=\"None unless a change to\",IF(OFFSET('v1 Project Information'!$C$14,MATCH(Table13[[#This Row],[Conditions for change]],'v1 Project Information'!$B$21:$B$44,0),0)=\"Yes\",\"Normal\",\"None\"),Table13[[#This Row],[Recertification type]])","v":"None"},"","Remediation Report"]
[null,null,{"$f":"IF(LEFT(Table13[[#This Row],[Feature and Parts]],3)=\"fea\",MID(Table13[[#This Row],[Feature and Parts]],9,2)+0,C55)","v":11},{"$f":"LOOKUP(Table13[[#This Row],[F'#]],'v1 Achieved Features'!D:D,'v1 Achieved Features'!$B:B)","v":"Yes"},"Polychlorinated Biphenyl Abatement","None",null,{"$f":"IF(Table13[[#This Row],[Recertification type]]=\"None unless a change to\",IF(OFFSET('v1 Project Information'!$C$14,MATCH(Table13[[#This Row],[Conditions for change]],'v1 Project Information'!$B$21:$B$44,0),0)=\"Yes\",\"Normal\",\"None\"),Table13[[#This Row],[Recertification type]])","v":"None"},"","Remediation Report"]
[null,null,{"$f":"IF(LEFT(Table13[[#This Row],[Feature and Parts]],3)=\"fea\",MID(Table13[[#This Row],[Feature and Parts]],9,2)+0,C56)","v":11},{"$f":"LOOKUP(Table13[[#This Row],[F'#]],'v1 Achieved Features'!D:D,'v1 Achieved Features'!$B:B)","v":"Yes"},"Mercury Limitation","None",null,{"$f":"IF(Table13[[#This Row],[Recertification type]]=\"None unless a change to\",IF(OFFSET('v1 Project Information'!$C$14,MATCH(Table13[[#This Row],[Conditions for change]],'v1 Project Information'!$B$21:$B$44,0),0)=\"Yes\",\"Normal\",\"None\"),Table13[[#This Row],[Recertification type]])","v":"None"},"","Policy Document"]
[null,"P",{"$f":"IF(LEFT(Table13[[#This Row],[Feature and Parts]],3)=\"fea\",MID(Table13[[#This Row],[Feature and Parts]],9,2)+0,C57)","v":12},{"$f":"LOOKUP(Table13[[#This Row],[F'#]],'v1 Achieved Features'!D:D,'v1 Achieved Features'!$B:B)","v":"Yes"},"Feature 12. Moisture Management"]
[null,null,{"$f":"IF(LEFT(Table13[[#This Row],[Feature and Parts]],3)=\"fea\",MID(Table13[[#This Row],[Feature and Parts]],9,2)+0,C58)","v":12},{"$f":"LOOKUP(Table13[[#This Row],[F'#]],'v1 Achieved Features'!D:D,'v1 Achieved Features'!$B:B)","v":"Yes"},"Exterior Liquid Water Management","None","Overall structure",{"$f":"IF(Table13[[#This Row],[Recertification type]]=\"None unless a change to\",IF(OFFSET('v1 Project Information'!$C$14,MATCH(Table13[[#This Row],[Conditions for change]],'v1 Project Information'!$B$21:$B$44,0),0)=\"Yes\",\"Normal\",\"None\"),Table13[[#This Row],[Recertification type]])","v":"None"},"","Professional Narrative"]
[null,null,{"$f":"IF(LEFT(Table13[[#This Row],[Feature and Parts]],3)=\"fea\",MID(Table13[[#This Row],[Feature and Parts]],9,2)+0,C59)","v":12},{"$f":"LOOKUP(Table13[[#This Row],[F'#]],'v1 Achieved Features'!D:D,'v1 Achieved Features'!$B:B)","v":"Yes"},"Interior Liquid Water Management","None","Overall structure",{"$f":"IF(Table13[[#This Row],[Recertification type]]=\"None unless a change to\",IF(OFFSET('v1 Project Information'!$C$14,MATCH(Table13[[#This Row],[Conditions for change]],'v1 Project Information'!$B$21:$B$44,0),0)=\"Yes\",\"Normal\",\"None\"),Table13[[#This Row],[Recertification type]])","v":"None"},"","Professional Narrative"]
[null,null,{"$f":"IF(LEFT(Table13[[#This Row],[Feature and Parts]],3)=\"fea\",MID(Table13[[#This Row],[Feature and Parts]],9,2)+0,C60)","v":12},{"$f":"LOOKUP(Table13[[#This Row],[F'#]],'v1 Achieved Features'!D:D,'v1 Achieved Features'!$B:B)","v":"Yes"},"Condensation Management","None","Overall structure",{"$f":"IF(Table13[[#This Row],[Recertification type]]=\"None unless a change to\",IF(OFFSET('v1 Project Information'!$C$14,MATCH(Table13[[#This Row],[Conditions for change]],'v1 Project Information'!$B$21:$B$44,0),0)=\"Yes\",\"Normal\",\"None\"),Table13[[#This Row],[Recertification type]])","v":"None"},"","Professional Narrative"]
[null,null,{"$f":"IF(LEFT(Table13[[#This Row],[Feature and Parts]],3)=\"fea\",MID(Table13[[#This Row],[Feature and Parts]],9,2)+0,C61)","v":12},{"$f":"LOOKUP(Table13[[#This Row],[F'#]],'v1 Achieved Features'!D:D,'v1 Achieved Features'!$B:B)","v":"Yes"},"Material Selection and Protection","None","Overall structure",{"$f":"IF(Table13[[#This Row],[Recertification type]]=\"None unless a change to\",IF(OFFSET('v1 Project Information'!$C$14,MATCH(Table13[[#This Row],[Conditions for change]],'v1 Project Information'!$B$21:$B$44,0),0)=\"Yes\",\"Normal\",\"None\"),Table13[[#This Row],[Recertification type]])","v":"None"},"","Professional Narrative"]
[null,"O",{"$f":"IF(LEFT(Table13[[#This Row],[Feature and Parts]],3)=\"fea\",MID(Table13[[#This Row],[Feature and Parts]],9,2)+0,C62)","v":13},{"$f":"LOOKUP(Table13[[#This Row],[F'#]],'v1 Achieved Features'!D:D,'v1 Achieved Features'!$B:B)","v":0},"Feature 13. Air Flush"]
[null,null,{"$f":"IF(LEFT(Table13[[#This Row],[Feature and Parts]],3)=\"fea\",MID(Table13[[#This Row],[Feature and Parts]],9,2)+0,C63)","v":13},{"$f":"LOOKUP(Table13[[#This Row],[F'#]],'v1 Achieved Features'!D:D,'v1 Achieved Features'!$B:B)","v":0},"Air Flush","None",null,{"$f":"IF(Table13[[#This Row],[Recertification type]]=\"None unless a change to\",IF(OFFSET('v1 Project Information'!$C$14,MATCH(Table13[[#This Row],[Conditions for change]],'v1 Project Information'!$B$21:$B$44,0),0)=\"Yes\",\"Normal\",\"None\"),Table13[[#This Row],[Recertification type]])","v":"None"},"","","Contractor"]
[null,"O",{"$f":"IF(LEFT(Table13[[#This Row],[Feature and Parts]],3)=\"fea\",MID(Table13[[#This Row],[Feature and Parts]],9,2)+0,C64)","v":14},{"$f":"LOOKUP(Table13[[#This Row],[F'#]],'v1 Achieved Features'!D:D,'v1 Achieved Features'!$B:B)","v":0},"Feature 14. Air Infiltration Management"]
[null,null,{"$f":"IF(LEFT(Table13[[#This Row],[Feature and Parts]],3)=\"fea\",MID(Table13[[#This Row],[Feature and Parts]],9,2)+0,C65)","v":14},{"$f":"LOOKUP(Table13[[#This Row],[F'#]],'v1 Achieved Features'!D:D,'v1 Achieved Features'!$B:B)","v":0},"Air Leakage Testing","None","Overall structure",{"$f":"IF(Table13[[#This Row],[Recertification type]]=\"None unless a change to\",IF(OFFSET('v1 Project Information'!$C$14,MATCH(Table13[[#This Row],[Conditions for change]],'v1 Project Information'!$B$21:$B$44,0),0)=\"Yes\",\"Normal\",\"None\"),Table13[[#This Row],[Recertification type]])","v":"None"},"","Commissioning Report"]
[null,"O",{"$f":"IF(LEFT(Table13[[#This Row],[Feature and Parts]],3)=\"fea\",MID(Table13[[#This Row],[Feature and Parts]],9,2)+0,#REF!)","v":15},{"$f":"LOOKUP(Table13[[#This Row],[F'#]],'v1 Achieved Features'!D:D,'v1 Achieved Features'!$B:B)","v":0},"Feature 15. Increased Ventilation"]
[null,null,{"$f":"IF(LEFT(Table13[[#This Row],[Feature and Parts]],3)=\"fea\",MID(Table13[[#This Row],[Feature and Parts]],9,2)+0,C67)","v":15},{"$f":"LOOKUP(Table13[[#This Row],[F'#]],'v1 Achieved Features'!D:D,'v1 Achieved Features'!$B:B)","v":0},"Increased Outdoor Air Supply","None","Mechanical system",{"$f":"IF(Table13[[#This Row],[Recertification type]]=\"None unless a change to\",IF(OFFSET('v1 Project Information'!$C$14,MATCH(Table13[[#This Row],[Conditions for change]],'v1 Project Information'!$B$21:$B$44,0),0)=\"Yes\",\"Normal\",\"None\"),Table13[[#This Row],[Recertification type]])","v":"None"},"","","MEP"]
[null,"O",{"$f":"IF(LEFT(Table13[[#This Row],[Feature and Parts]],3)=\"fea\",MID(Table13[[#This Row],[Feature and Parts]],9,2)+0,C68)","v":16},{"$f":"LOOKUP(Table13[[#This Row],[F'#]],'v1 Achieved Features'!D:D,'v1 Achieved Features'!$B:B)","v":0},"Feature 16. Humidity Control"]
[null,null,{"$f":"IF(LEFT(Table13[[#This Row],[Feature and Parts]],3)=\"fea\",MID(Table13[[#This Row],[Feature and Parts]],9,2)+0,C69)","v":16},{"$f":"LOOKUP(Table13[[#This Row],[F'#]],'v1 Achieved Features'!D:D,'v1 Achieved Features'!$B:B)","v":0},"Relative Humidity","Normal",null,{"$f":"IF(Table13[[#This Row],[Recertification type]]=\"None unless a change to\",IF(OFFSET('v1 Project Information'!$C$14,MATCH(Table13[[#This Row],[Conditions for change]],'v1 Project Information'!$B$21:$B$44,0),0)=\"Yes\",\"Normal\",\"None\"),Table13[[#This Row],[Recertification type]])","v":"Normal"},"Spot Measurement","","MEP"]
[null,"O",{"$f":"IF(LEFT(Table13[[#This Row],[Feature and Parts]],3)=\"fea\",MID(Table13[[#This Row],[Feature and Parts]],9,2)+0,C70)","v":17},{"$f":"LOOKUP(Table13[[#This Row],[F'#]],'v1 Achieved Features'!D:D,'v1 Achieved Features'!$B:B)","v":0},"Feature 17. Direct Source Ventilation"]
[null,null,{"$f":"IF(LEFT(Table13[[#This Row],[Feature and Parts]],3)=\"fea\",MID(Table13[[#This Row],[Feature and Parts]],9,2)+0,C71)","v":17},{"$f":"LOOKUP(Table13[[#This Row],[F'#]],'v1 Achieved Features'!D:D,'v1 Achieved Features'!$B:B)","v":0},"Pollution Isolation and Exhaust","None","Interior design",{"$f":"IF(Table13[[#This Row],[Recertification type]]=\"None unless a change to\",IF(OFFSET('v1 Project Information'!$C$14,MATCH(Table13[[#This Row],[Conditions for change]],'v1 Project Information'!$B$21:$B$44,0),0)=\"Yes\",\"Normal\",\"None\"),Table13[[#This Row],[Recertification type]])","v":"None"},"","Mechanical and Architectural Drawings"]
[null,"O",{"$f":"IF(LEFT(Table13[[#This Row],[Feature and Parts]],3)=\"fea\",MID(Table13[[#This Row],[Feature and Parts]],9,2)+0,C72)","v":18},{"$f":"LOOKUP(Table13[[#This Row],[F'#]],'v1 Achieved Features'!D:D,'v1 Achieved Features'!$B:B)","v":0},"Feature 18. Air Quality Monitoring And Feedback"]
[null,null,{"$f":"IF(LEFT(Table13[[#This Row],[Feature and Parts]],3)=\"fea\",MID(Table13[[#This Row],[Feature and Parts]],9,2)+0,C73)","v":18},{"$f":"LOOKUP(Table13[[#This Row],[F'#]],'v1 Achieved Features'!D:D,'v1 Achieved Features'!$B:B)","v":0},"Indoor Air Monitoring","Annual Submission",null,{"$f":"IF(Table13[[#This Row],[Recertification type]]=\"None unless a change to\",IF(OFFSET('v1 Project Information'!$C$14,MATCH(Table13[[#This Row],[Conditions for change]],'v1 Project Information'!$B$21:$B$44,0),0)=\"Yes\",\"Normal\",\"None\"),Table13[[#This Row],[Recertification type]])","v":"Annual Submission"},"Spot Check","","MEP"]
[null,null,{"$f":"IF(LEFT(Table13[[#This Row],[Feature and Parts]],3)=\"fea\",MID(Table13[[#This Row],[Feature and Parts]],9,2)+0,C74)","v":18},{"$f":"LOOKUP(Table13[[#This Row],[F'#]],'v1 Achieved Features'!D:D,'v1 Achieved Features'!$B:B)","v":0},"Air Data Record Keeping and Response","None",null,{"$f":"IF(Table13[[#This Row],[Recertification type]]=\"None unless a change to\",IF(OFFSET('v1 Project Information'!$C$14,MATCH(Table13[[#This Row],[Conditions for change]],'v1 Project Information'!$B$21:$B$44,0),0)=\"Yes\",\"Normal\",\"None\"),Table13[[#This Row],[Recertification type]])","v":"None"},"","Operations Schedule"]
[null,null,{"$f":"IF(LEFT(Table13[[#This Row],[Feature and Parts]],3)=\"fea\",MID(Table13[[#This Row],[Feature and Parts]],9,2)+0,C75)","v":18},{"$f":"LOOKUP(Table13[[#This Row],[F'#]],'v1 Achieved Features'!D:D,'v1 Achieved Features'!$B:B)","v":0},"Environmental Measures Display","None unless a change to","Interior design",{"$f":"IF(Table13[[#This Row],[Recertification type]]=\"None unless a change to\",IF(OFFSET('v1 Project Information'!$C$14,MATCH(Table13[[#This Row],[Conditions for change]],'v1 Project Information'!$B$21:$B$44,0),0)=\"Yes\",\"Normal\",\"None\"),Table13[[#This Row],[Recertification type]])","v":"None"},"Visual Inspection",""]
[null,"O",{"$f":"IF(LEFT(Table13[[#This Row],[Feature and Parts]],3)=\"fea\",MID(Table13[[#This Row],[Feature and Parts]],9,2)+0,C76)","v":19},{"$f":"LOOKUP(Table13[[#This Row],[F'#]],'v1 Achieved Features'!D:D,'v1 Achieved Features'!$B:B)","v":0},"Feature 19. Operable Windows"]
[null,null,{"$f":"IF(LEFT(Table13[[#This Row],[Feature and Parts]],3)=\"fea\",MID(Table13[[#This Row],[Feature and Parts]],9,2)+0,C77)","v":19},{"$f":"LOOKUP(Table13[[#This Row],[F'#]],'v1 Achieved Features'!D:D,'v1 Achieved Features'!$B:B)","v":0},"Full Control","None unless a change to","Overall structure",{"$f":"IF(Table13[[#This Row],[Recertification type]]=\"None unless a change to\",IF(OFFSET('v1 Project Information'!$C$14,MATCH(Table13[[#This Row],[Conditions for change]],'v1 Project Information'!$B$21:$B$44,0),0)=\"Yes\",\"Normal\",\"None\"),Table13[[#This Row],[Recertification type]])","v":"None"},"Spot Check","","Architect"]
[null,null,{"$f":"IF(LEFT(Table13[[#This Row],[Feature and Parts]],3)=\"fea\",MID(Table13[[#This Row],[Feature and Parts]],9,2)+0,C78)","v":19},{"$f":"LOOKUP(Table13[[#This Row],[F'#]],'v1 Achieved Features'!D:D,'v1 Achieved Features'!$B:B)","v":0},"Outdoor Air Measurement","None",null,{"$f":"IF(Table13[[#This Row],[Recertification type]]=\"None unless a change to\",IF(OFFSET('v1 Project Information'!$C$14,MATCH(Table13[[#This Row],[Conditions for change]],'v1 Project Information'!$B$21:$B$44,0),0)=\"Yes\",\"Normal\",\"None\"),Table13[[#This Row],[Recertification type]])","v":"None"},"","Policy Document"]
[null,null,{"$f":"IF(LEFT(Table13[[#This Row],[Feature and Parts]],3)=\"fea\",MID(Table13[[#This Row],[Feature and Parts]],9,2)+0,C79)","v":19},{"$f":"LOOKUP(Table13[[#This Row],[F'#]],'v1 Achieved Features'!D:D,'v1 Achieved Features'!$B:B)","v":0},"Window Operation Management","None unless a change to","Interior design",{"$f":"IF(Table13[[#This Row],[Recertification type]]=\"None unless a change to\",IF(OFFSET('v1 Project Information'!$C$14,MATCH(Table13[[#This Row],[Conditions for change]],'v1 Project Information'!$B$21:$B$44,0),0)=\"Yes\",\"Normal\",\"None\"),Table13[[#This Row],[Recertification type]])","v":"None"},"Spot Check","","Owner"]
[null,"O",{"$f":"IF(LEFT(Table13[[#This Row],[Feature and Parts]],3)=\"fea\",MID(Table13[[#This Row],[Feature and Parts]],9,2)+0,C80)","v":20},{"$f":"LOOKUP(Table13[[#This Row],[F'#]],'v1 Achieved Features'!D:D,'v1 Achieved Features'!$B:B)","v":0},"Feature 20. Outdoor Air Systems"]
[null,null,{"$f":"IF(LEFT(Table13[[#This Row],[Feature and Parts]],3)=\"fea\",MID(Table13[[#This Row],[Feature and Parts]],9,2)+0,C81)","v":20},{"$f":"LOOKUP(Table13[[#This Row],[F'#]],'v1 Achieved Features'!D:D,'v1 Achieved Features'!$B:B)","v":0},"Dedicated Outdoor Air Systems","None","Mechanical system",{"$f":"IF(Table13[[#This Row],[Recertification type]]=\"None unless a change to\",IF(OFFSET('v1 Project Information'!$C$14,MATCH(Table13[[#This Row],[Conditions for change]],'v1 Project Information'!$B$21:$B$44,0),0)=\"Yes\",\"Normal\",\"None\"),Table13[[#This Row],[Recertification type]])","v":"None"},"","","MEP"]
[null,"O",{"$f":"IF(LEFT(Table13[[#This Row],[Feature and Parts]],3)=\"fea\",MID(Table13[[#This Row],[Feature and Parts]],9,2)+0,C82)","v":21},{"$f":"LOOKUP(Table13[[#This Row],[F'#]],'v1 Achieved Features'!D:D,'v1 Achieved Features'!$B:B)","v":0},"Feature 21. Displacement Ventilation"]
[null,null,{"$f":"IF(LEFT(Table13[[#This Row],[Feature and Parts]],3)=\"fea\",MID(Table13[[#This Row],[Feature and Parts]],9,2)+0,C83)","v":21},{"$f":"LOOKUP(Table13[[#This Row],[F'#]],'v1 Achieved Features'!D:D,'v1 Achieved Features'!$B:B)","v":0},"Displacement Ventilation Design and Application","None","Mechanical system",{"$f":"IF(Table13[[#This Row],[Recertification type]]=\"None unless a change to\",IF(OFFSET('v1 Project Information'!$C$14,MATCH(Table13[[#This Row],[Conditions for change]],'v1 Project Information'!$B$21:$B$44,0),0)=\"Yes\",\"Normal\",\"None\"),Table13[[#This Row],[Recertification type]])","v":"None"},"","","MEP"]
[null,null,{"$f":"IF(LEFT(Table13[[#This Row],[Feature and Parts]],3)=\"fea\",MID(Table13[[#This Row],[Feature and Parts]],9,2)+0,C84)","v":21},{"$f":"LOOKUP(Table13[[#This Row],[F'#]],'v1 Achieved Features'!D:D,'v1 Achieved Features'!$B:B)","v":0},"System Performance","None","Mechanical system",{"$f":"IF(Table13[[#This Row],[Recertification type]]=\"None unless a change to\",IF(OFFSET('v1 Project Information'!$C$14,MATCH(Table13[[#This Row],[Conditions for change]],'v1 Project Information'!$B$21:$B$44,0),0)=\"Yes\",\"Normal\",\"None\"),Table13[[#This Row],[Recertification type]])","v":"None"},"","","MEP"]
[null,"O",{"$f":"IF(LEFT(Table13[[#This Row],[Feature and Parts]],3)=\"fea\",MID(Table13[[#This Row],[Feature and Parts]],9,2)+0,C85)","v":22},{"$f":"LOOKUP(Table13[[#This Row],[F'#]],'v1 Achieved Features'!D:D,'v1 Achieved Features'!$B:B)","v":0},"Feature 22. Pest Control"]
[null,null,{"$f":"IF(LEFT(Table13[[#This Row],[Feature and Parts]],3)=\"fea\",MID(Table13[[#This Row],[Feature and Parts]],9,2)+0,C86)","v":22},{"$f":"LOOKUP(Table13[[#This Row],[F'#]],'v1 Achieved Features'!D:D,'v1 Achieved Features'!$B:B)","v":0},"Pest Reduction","None unless a change to","Interior design",{"$f":"IF(Table13[[#This Row],[Recertification type]]=\"None unless a change to\",IF(OFFSET('v1 Project Information'!$C$14,MATCH(Table13[[#This Row],[Conditions for change]],'v1 Project Information'!$B$21:$B$44,0),0)=\"Yes\",\"Normal\",\"None\"),Table13[[#This Row],[Recertification type]])","v":"None"},"Spot Check","Operations Schedule"]
[null,null,{"$f":"IF(LEFT(Table13[[#This Row],[Feature and Parts]],3)=\"fea\",MID(Table13[[#This Row],[Feature and Parts]],9,2)+0,C87)","v":22},{"$f":"LOOKUP(Table13[[#This Row],[F'#]],'v1 Achieved Features'!D:D,'v1 Achieved Features'!$B:B)","v":0},"Pest Inspection","Normal",null,{"$f":"IF(Table13[[#This Row],[Recertification type]]=\"None unless a change to\",IF(OFFSET('v1 Project Information'!$C$14,MATCH(Table13[[#This Row],[Conditions for change]],'v1 Project Information'!$B$21:$B$44,0),0)=\"Yes\",\"Normal\",\"None\"),Table13[[#This Row],[Recertification type]])","v":"Normal"},"Visual Inspection",""]
[null,"O",{"$f":"IF(LEFT(Table13[[#This Row],[Feature and Parts]],3)=\"fea\",MID(Table13[[#This Row],[Feature and Parts]],9,2)+0,C88)","v":23},{"$f":"LOOKUP(Table13[[#This Row],[F'#]],'v1 Achieved Features'!D:D,'v1 Achieved Features'!$B:B)","v":0},"Feature 23. Advanced Air Purification"]
[null,null,{"$f":"IF(LEFT(Table13[[#This Row],[Feature and Parts]],3)=\"fea\",MID(Table13[[#This Row],[Feature and Parts]],9,2)+0,C89)","v":23},{"$f":"LOOKUP(Table13[[#This Row],[F'#]],'v1 Achieved Features'!D:D,'v1 Achieved Features'!$B:B)","v":0},"Carbon Filtration","None unless a change to","Mechanical system",{"$f":"IF(Table13[[#This Row],[Recertification type]]=\"None unless a change to\",IF(OFFSET('v1 Project Information'!$C$14,MATCH(Table13[[#This Row],[Conditions for change]],'v1 Project Information'!$B$21:$B$44,0),0)=\"Yes\",\"Normal\",\"None\"),Table13[[#This Row],[Recertification type]])","v":"None"},"Spot Check","","MEP"]
[null,null,{"$f":"IF(LEFT(Table13[[#This Row],[Feature and Parts]],3)=\"fea\",MID(Table13[[#This Row],[Feature and Parts]],9,2)+0,C90)","v":23},{"$f":"LOOKUP(Table13[[#This Row],[F'#]],'v1 Achieved Features'!D:D,'v1 Achieved Features'!$B:B)","v":0},"Air Sanitization","None unless a change to","Mechanical system",{"$f":"IF(Table13[[#This Row],[Recertification type]]=\"None unless a change to\",IF(OFFSET('v1 Project Information'!$C$14,MATCH(Table13[[#This Row],[Conditions for change]],'v1 Project Information'!$B$21:$B$44,0),0)=\"Yes\",\"Normal\",\"None\"),Table13[[#This Row],[Recertification type]])","v":"None"},"Spot Check","","MEP"]
[null,null,{"$f":"IF(LEFT(Table13[[#This Row],[Feature and Parts]],3)=\"fea\",MID(Table13[[#This Row],[Feature and Parts]],9,2)+0,C91)","v":23},{"$f":"LOOKUP(Table13[[#This Row],[F'#]],'v1 Achieved Features'!D:D,'v1 Achieved Features'!$B:B)","v":0},"Air Quality Maintenance","None",null,{"$f":"IF(Table13[[#This Row],[Recertification type]]=\"None unless a change to\",IF(OFFSET('v1 Project Information'!$C$14,MATCH(Table13[[#This Row],[Conditions for change]],'v1 Project Information'!$B$21:$B$44,0),0)=\"Yes\",\"Normal\",\"None\"),Table13[[#This Row],[Recertification type]])","v":"None"},"","Operations Schedule"]
[null,"O",{"$f":"IF(LEFT(Table13[[#This Row],[Feature and Parts]],3)=\"fea\",MID(Table13[[#This Row],[Feature and Parts]],9,2)+0,C92)","v":24},{"$f":"LOOKUP(Table13[[#This Row],[F'#]],'v1 Achieved Features'!D:D,'v1 Achieved Features'!$B:B)","v":0},"Feature 24. Combustion Minimization"]
[null,null,{"$f":"IF(LEFT(Table13[[#This Row],[Feature and Parts]],3)=\"fea\",MID(Table13[[#This Row],[Feature and Parts]],9,2)+0,C93)","v":24},{"$f":"LOOKUP(Table13[[#This Row],[F'#]],'v1 Achieved Features'!D:D,'v1 Achieved Features'!$B:B)","v":0},"Appliance and Heater Combustion Ban","None unless a change to","Interior design",{"$f":"IF(Table13[[#This Row],[Recertification type]]=\"None unless a change to\",IF(OFFSET('v1 Project Information'!$C$14,MATCH(Table13[[#This Row],[Conditions for change]],'v1 Project Information'!$B$21:$B$44,0),0)=\"Yes\",\"Normal\",\"None\"),Table13[[#This Row],[Recertification type]])","v":"None"},"Spot Check","","Owner"]
[null,null,{"$f":"IF(LEFT(Table13[[#This Row],[Feature and Parts]],3)=\"fea\",MID(Table13[[#This Row],[Feature and Parts]],9,2)+0,C94)","v":24},{"$f":"LOOKUP(Table13[[#This Row],[F'#]],'v1 Achieved Features'!D:D,'v1 Achieved Features'!$B:B)","v":0},"Low-Emission Combustion Sources","None","Mechanical system",{"$f":"IF(Table13[[#This Row],[Recertification type]]=\"None unless a change to\",IF(OFFSET('v1 Project Information'!$C$14,MATCH(Table13[[#This Row],[Conditions for change]],'v1 Project Information'!$B$21:$B$44,0),0)=\"Yes\",\"Normal\",\"None\"),Table13[[#This Row],[Recertification type]])","v":"None"},"","","MEP"]
[null,null,{"$f":"IF(LEFT(Table13[[#This Row],[Feature and Parts]],3)=\"fea\",MID(Table13[[#This Row],[Feature and Parts]],9,2)+0,C95)","v":24},{"$f":"LOOKUP(Table13[[#This Row],[F'#]],'v1 Achieved Features'!D:D,'v1 Achieved Features'!$B:B)","v":0},"Engine Exhaust Reduction","Normal",null,{"$f":"IF(Table13[[#This Row],[Recertification type]]=\"None unless a change to\",IF(OFFSET('v1 Project Information'!$C$14,MATCH(Table13[[#This Row],[Conditions for change]],'v1 Project Information'!$B$21:$B$44,0),0)=\"Yes\",\"Normal\",\"None\"),Table13[[#This Row],[Recertification type]])","v":"Normal"},"Visual Inspection",""]
[null,null,{"$f":"IF(LEFT(Table13[[#This Row],[Feature and Parts]],3)=\"fea\",MID(Table13[[#This Row],[Feature and Parts]],9,2)+0,C96)","v":24},{"$f":"LOOKUP(Table13[[#This Row],[F'#]],'v1 Achieved Features'!D:D,'v1 Achieved Features'!$B:B)","v":0},"Construction Equipment","None","Overall structure",{"$f":"IF(Table13[[#This Row],[Recertification type]]=\"None unless a change to\",IF(OFFSET('v1 Project Information'!$C$14,MATCH(Table13[[#This Row],[Conditions for change]],'v1 Project Information'!$B$21:$B$44,0),0)=\"Yes\",\"Normal\",\"None\"),Table13[[#This Row],[Recertification type]])","v":"None"},"","","Contractor"]
[null,"O",{"$f":"IF(LEFT(Table13[[#This Row],[Feature and Parts]],3)=\"fea\",MID(Table13[[#This Row],[Feature and Parts]],9,2)+0,C97)","v":25},{"$f":"LOOKUP(Table13[[#This Row],[F'#]],'v1 Achieved Features'!D:D,'v1 Achieved Features'!$B:B)","v":0},"Feature 25. Toxic Material Reduction"]
[null,null,{"$f":"IF(LEFT(Table13[[#This Row],[Feature and Parts]],3)=\"fea\",MID(Table13[[#This Row],[Feature and Parts]],9,2)+0,C98)","v":25},{"$f":"LOOKUP(Table13[[#This Row],[F'#]],'v1 Achieved Features'!D:D,'v1 Achieved Features'!$B:B)","v":0},"Perfluorinated Compound Limitation","None",null,{"$f":"IF(Table13[[#This Row],[Recertification type]]=\"None unless a change to\",IF(OFFSET('v1 Project Information'!$C$14,MATCH(Table13[[#This Row],[Conditions for change]],'v1 Project Information'!$B$21:$B$44,0),0)=\"Yes\",\"Normal\",\"None\"),Table13[[#This Row],[Recertification type]])","v":"None"},"","","Architect & Owner"]
[null,null,{"$f":"IF(LEFT(Table13[[#This Row],[Feature and Parts]],3)=\"fea\",MID(Table13[[#This Row],[Feature and Parts]],9,2)+0,C99)","v":25},{"$f":"LOOKUP(Table13[[#This Row],[F'#]],'v1 Achieved Features'!D:D,'v1 Achieved Features'!$B:B)","v":0},"Flame Retardant Limitation","None",null,{"$f":"IF(Table13[[#This Row],[Recertification type]]=\"None unless a change to\",IF(OFFSET('v1 Project Information'!$C$14,MATCH(Table13[[#This Row],[Conditions for change]],'v1 Project Information'!$B$21:$B$44,0),0)=\"Yes\",\"Normal\",\"None\"),Table13[[#This Row],[Recertification type]])","v":"None"},"","","Architect & Contractor"]
[null,null,{"$f":"IF(LEFT(Table13[[#This Row],[Feature and Parts]],3)=\"fea\",MID(Table13[[#This Row],[Feature and Parts]],9,2)+0,C100)","v":25},{"$f":"LOOKUP(Table13[[#This Row],[F'#]],'v1 Achieved Features'!D:D,'v1 Achieved Features'!$B:B)","v":0},"Phthalate (Plasticizers) Limitation","None",null,{"$f":"IF(Table13[[#This Row],[Recertification type]]=\"None unless a change to\",IF(OFFSET('v1 Project Information'!$C$14,MATCH(Table13[[#This Row],[Conditions for change]],'v1 Project Information'!$B$21:$B$44,0),0)=\"Yes\",\"Normal\",\"None\"),Table13[[#This Row],[Recertification type]])","v":"None"},"","","Architect & Contractor"]
[null,null,{"$f":"IF(LEFT(Table13[[#This Row],[Feature and Parts]],3)=\"fea\",MID(Table13[[#This Row],[Feature and Parts]],9,2)+0,C101)","v":25},{"$f":"LOOKUP(Table13[[#This Row],[F'#]],'v1 Achieved Features'!D:D,'v1 Achieved Features'!$B:B)","v":0},"Isocyanate-Based Polyurethane Limitation","None",null,{"$f":"IF(Table13[[#This Row],[Recertification type]]=\"None unless a change to\",IF(OFFSET('v1 Project Information'!$C$14,MATCH(Table13[[#This Row],[Conditions for change]],'v1 Project Information'!$B$21:$B$44,0),0)=\"Yes\",\"Normal\",\"None\"),Table13[[#This Row],[Recertification type]])","v":"None"},"","","Architect & Contractor"]
[null,null,{"$f":"IF(LEFT(Table13[[#This Row],[Feature and Parts]],3)=\"fea\",MID(Table13[[#This Row],[Feature and Parts]],9,2)+0,C102)","v":25},{"$f":"LOOKUP(Table13[[#This Row],[F'#]],'v1 Achieved Features'!D:D,'v1 Achieved Features'!$B:B)","v":0},"Urea-Formaldehyde Restriction","None",null,{"$f":"IF(Table13[[#This Row],[Recertification type]]=\"None unless a change to\",IF(OFFSET('v1 Project Information'!$C$14,MATCH(Table13[[#This Row],[Conditions for change]],'v1 Project Information'!$B$21:$B$44,0),0)=\"Yes\",\"Normal\",\"None\"),Table13[[#This Row],[Recertification type]])","v":"None"},"","","Architect & Contractor"]
[null,"O",{"$f":"IF(LEFT(Table13[[#This Row],[Feature and Parts]],3)=\"fea\",MID(Table13[[#This Row],[Feature and Parts]],9,2)+0,C103)","v":26},{"$f":"LOOKUP(Table13[[#This Row],[F'#]],'v1 Achieved Features'!D:D,'v1 Achieved Features'!$B:B)","v":0},"Feature 26. Enhanced Material Safety"]
[null,null,{"$f":"IF(LEFT(Table13[[#This Row],[Feature and Parts]],3)=\"fea\",MID(Table13[[#This Row],[Feature and Parts]],9,2)+0,C104)","v":26},{"$f":"LOOKUP(Table13[[#This Row],[F'#]],'v1 Achieved Features'!D:D,'v1 Achieved Features'!$B:B)","v":0},"Precautionary Material Selection","None",null,{"$f":"IF(Table13[[#This Row],[Recertification type]]=\"None unless a change to\",IF(OFFSET('v1 Project Information'!$C$14,MATCH(Table13[[#This Row],[Conditions for change]],'v1 Project Information'!$B$21:$B$44,0),0)=\"Yes\",\"Normal\",\"None\"),Table13[[#This Row],[Recertification type]])","v":"None"},"","","Architect, Contractor, & Owner"]
[null,"O",{"$f":"IF(LEFT(Table13[[#This Row],[Feature and Parts]],3)=\"fea\",MID(Table13[[#This Row],[Feature and Parts]],9,2)+0,C105)","v":27},{"$f":"LOOKUP(Table13[[#This Row],[F'#]],'v1 Achieved Features'!D:D,'v1 Achieved Features'!$B:B)","v":0},"Feature 27. Antimicrobial Activity For Surfaces"]
[null,null,{"$f":"IF(LEFT(Table13[[#This Row],[Feature and Parts]],3)=\"fea\",MID(Table13[[#This Row],[Feature and Parts]],9,2)+0,C106)","v":27},{"$f":"LOOKUP(Table13[[#This Row],[F'#]],'v1 Achieved Features'!D:D,'v1 Achieved Features'!$B:B)","v":0},"High-Touch Surfaces","None",null,{"$f":"IF(Table13[[#This Row],[Recertification type]]=\"None unless a change to\",IF(OFFSET('v1 Project Information'!$C$14,MATCH(Table13[[#This Row],[Conditions for change]],'v1 Project Information'!$B$21:$B$44,0),0)=\"Yes\",\"Normal\",\"None\"),Table13[[#This Row],[Recertification type]])","v":"None"},"","Architectural Drawing or Operations Schedule"]
[null,"O",{"$f":"IF(LEFT(Table13[[#This Row],[Feature and Parts]],3)=\"fea\",MID(Table13[[#This Row],[Feature and Parts]],9,2)+0,C107)","v":28},{"$f":"LOOKUP(Table13[[#This Row],[F'#]],'v1 Achieved Features'!D:D,'v1 Achieved Features'!$B:B)","v":0},"Feature 28. Cleanable Environment"]
[null,null,{"$f":"IF(LEFT(Table13[[#This Row],[Feature and Parts]],3)=\"fea\",MID(Table13[[#This Row],[Feature and Parts]],9,2)+0,C108)","v":28},{"$f":"LOOKUP(Table13[[#This Row],[F'#]],'v1 Achieved Features'!D:D,'v1 Achieved Features'!$B:B)","v":0},"Material Properties","None unless a change to","Interior design",{"$f":"IF(Table13[[#This Row],[Recertification type]]=\"None unless a change to\",IF(OFFSET('v1 Project Information'!$C$14,MATCH(Table13[[#This Row],[Conditions for change]],'v1 Project Information'!$B$21:$B$44,0),0)=\"Yes\",\"Normal\",\"None\"),Table13[[#This Row],[Recertification type]])","v":"None"},"Spot Check","","Architect & Contractor"]
[null,null,{"$f":"IF(LEFT(Table13[[#This Row],[Feature and Parts]],3)=\"fea\",MID(Table13[[#This Row],[Feature and Parts]],9,2)+0,C109)","v":28},{"$f":"LOOKUP(Table13[[#This Row],[F'#]],'v1 Achieved Features'!D:D,'v1 Achieved Features'!$B:B)","v":0},"Cleanability","None unless a change to","Interior design",{"$f":"IF(Table13[[#This Row],[Recertification type]]=\"None unless a change to\",IF(OFFSET('v1 Project Information'!$C$14,MATCH(Table13[[#This Row],[Conditions for change]],'v1 Project Information'!$B$21:$B$44,0),0)=\"Yes\",\"Normal\",\"None\"),Table13[[#This Row],[Recertification type]])","v":"None"},"Spot Check","","Architect & Contractor"]
[null,"O",{"$f":"IF(LEFT(Table13[[#This Row],[Feature and Parts]],3)=\"fea\",MID(Table13[[#This Row],[Feature and Parts]],9,2)+0,C110)","v":29},{"$f":"LOOKUP(Table13[[#This Row],[F'#]],'v1 Achieved Features'!D:D,'v1 Achieved Features'!$B:B)","v":0},"Feature 29. Cleaning Equipment"]
[null,null,{"$f":"IF(LEFT(Table13[[#This Row],[Feature and Parts]],3)=\"fea\",MID(Table13[[#This Row],[Feature and Parts]],9,2)+0,C111)","v":29},{"$f":"LOOKUP(Table13[[#This Row],[F'#]],'v1 Achieved Features'!D:D,'v1 Achieved Features'!$B:B)","v":0},"Equipment and Cleaning Agents","None","Cleaning protocol",{"$f":"IF(Table13[[#This Row],[Recertification type]]=\"None unless a change to\",IF(OFFSET('v1 Project Information'!$C$14,MATCH(Table13[[#This Row],[Conditions for change]],'v1 Project Information'!$B$21:$B$44,0),0)=\"Yes\",\"Normal\",\"None\"),Table13[[#This Row],[Recertification type]])","v":"None"},"","Operations Schedule"]
[null,null,{"$f":"IF(LEFT(Table13[[#This Row],[Feature and Parts]],3)=\"fea\",MID(Table13[[#This Row],[Feature and Parts]],9,2)+0,C112)","v":29},{"$f":"LOOKUP(Table13[[#This Row],[F'#]],'v1 Achieved Features'!D:D,'v1 Achieved Features'!$B:B)","v":0},"Chemical Storage","None unless a change to","Cleaning protocol",{"$f":"IF(Table13[[#This Row],[Recertification type]]=\"None unless a change to\",IF(OFFSET('v1 Project Information'!$C$14,MATCH(Table13[[#This Row],[Conditions for change]],'v1 Project Information'!$B$21:$B$44,0),0)=\"Yes\",\"Normal\",\"None\"),Table13[[#This Row],[Recertification type]])","v":"None"},"Visual Inspection",""]
["WATER","P",{"$f":"IF(LEFT(Table13[[#This Row],[Feature and Parts]],3)=\"fea\",MID(Table13[[#This Row],[Feature and Parts]],9,2)+0,C113)","v":30},{"$f":"LOOKUP(Table13[[#This Row],[F'#]],'v1 Achieved Features'!D:D,'v1 Achieved Features'!$B:B)","v":"Yes"},"Feature 30. Fundamental Water Quality"]
[null,null,{"$f":"IF(LEFT(Table13[[#This Row],[Feature and Parts]],3)=\"fea\",MID(Table13[[#This Row],[Feature and Parts]],9,2)+0,C114)","v":30},{"$f":"LOOKUP(Table13[[#This Row],[F'#]],'v1 Achieved Features'!D:D,'v1 Achieved Features'!$B:B)","v":"Yes"},"Sediment","Normal",null,{"$f":"IF(Table13[[#This Row],[Recertification type]]=\"None unless a change to\",IF(OFFSET('v1 Project Information'!$C$14,MATCH(Table13[[#This Row],[Conditions for change]],'v1 Project Information'!$B$21:$B$44,0),0)=\"Yes\",\"Normal\",\"None\"),Table13[[#This Row],[Recertification type]])","v":"Normal"},"Performance Test",""]
[null,null,{"$f":"IF(LEFT(Table13[[#This Row],[Feature and Parts]],3)=\"fea\",MID(Table13[[#This Row],[Feature and Parts]],9,2)+0,C115)","v":30},{"$f":"LOOKUP(Table13[[#This Row],[F'#]],'v1 Achieved Features'!D:D,'v1 Achieved Features'!$B:B)","v":"Yes"},"Microorganisms","Normal",null,{"$f":"IF(Table13[[#This Row],[Recertification type]]=\"None unless a change to\",IF(OFFSET('v1 Project Information'!$C$14,MATCH(Table13[[#This Row],[Conditions for change]],'v1 Project Information'!$B$21:$B$44,0),0)=\"Yes\",\"Normal\",\"None\"),Table13[[#This Row],[Recertification type]])","v":"Normal"},"Performance Test",""]
[null,"P",{"$f":"IF(LEFT(Table13[[#This Row],[Feature and Parts]],3)=\"fea\",MID(Table13[[#This Row],[Feature and Parts]],9,2)+0,C116)","v":31},{"$f":"LOOKUP(Table13[[#This Row],[F'#]],'v1 Achieved Features'!D:D,'v1 Achieved Features'!$B:B)","v":"Yes"},"Feature 31. Inorganic Contaminants"]
[null,null,{"$f":"IF(LEFT(Table13[[#This Row],[Feature and Parts]],3)=\"fea\",MID(Table13[[#This Row],[Feature and Parts]],9,2)+0,C117)","v":31},{"$f":"LOOKUP(Table13[[#This Row],[F'#]],'v1 Achieved Features'!D:D,'v1 Achieved Features'!$B:B)","v":"Yes"},"Dissolved Metals","Normal",null,{"$f":"IF(Table13[[#This Row],[Recertification type]]=\"None unless a change to\",IF(OFFSET('v1 Project Information'!$C$14,MATCH(Table13[[#This Row],[Conditions for change]],'v1 Project Information'!$B$21:$B$44,0),0)=\"Yes\",\"Normal\",\"None\"),Table13[[#This Row],[Recertification type]])","v":"Normal"},"Performance Test",""]
[null,"P",{"$f":"IF(LEFT(Table13[[#This Row],[Feature and Parts]],3)=\"fea\",MID(Table13[[#This Row],[Feature and Parts]],9,2)+0,C118)","v":32},{"$f":"LOOKUP(Table13[[#This Row],[F'#]],'v1 Achieved Features'!D:D,'v1 Achieved Features'!$B:B)","v":"Yes"},"Feature 32. Organic Contaminants"]
[null,null,{"$f":"IF(LEFT(Table13[[#This Row],[Feature and Parts]],3)=\"fea\",MID(Table13[[#This Row],[Feature and Parts]],9,2)+0,C119)","v":32},{"$f":"LOOKUP(Table13[[#This Row],[F'#]],'v1 Achieved Features'!D:D,'v1 Achieved Features'!$B:B)","v":"Yes"},"Organic Pollutants","Normal",null,{"$f":"IF(Table13[[#This Row],[Recertification type]]=\"None unless a change to\",IF(OFFSET('v1 Project Information'!$C$14,MATCH(Table13[[#This Row],[Conditions for change]],'v1 Project Information'!$B$21:$B$44,0),0)=\"Yes\",\"Normal\",\"None\"),Table13[[#This Row],[Recertification type]])","v":"Normal"},"Performance Test",""]
[null,"P",{"$f":"IF(LEFT(Table13[[#This Row],[Feature and Parts]],3)=\"fea\",MID(Table13[[#This Row],[Feature and Parts]],9,2)+0,C120)","v":33},{"$f":"LOOKUP(Table13[[#This Row],[F'#]],'v1 Achieved Features'!D:D,'v1 Achieved Features'!$B:B)","v":"Yes"},"Feature 33. Agricultural Contaminants"]
[null,null,{"$f":"IF(LEFT(Table13[[#This Row],[Feature and Parts]],3)=\"fea\",MID(Table13[[#This Row],[Feature and Parts]],9,2)+0,C121)","v":33},{"$f":"LOOKUP(Table13[[#This Row],[F'#]],'v1 Achieved Features'!D:D,'v1 Achieved Features'!$B:B)","v":"Yes"},"Herbicides and Pesticides","Normal",null,{"$f":"IF(Table13[[#This Row],[Recertification type]]=\"None unless a change to\",IF(OFFSET('v1 Project Information'!$C$14,MATCH(Table13[[#This Row],[Conditions for change]],'v1 Project Information'!$B$21:$B$44,0),0)=\"Yes\",\"Normal\",\"None\"),Table13[[#This Row],[Recertification type]])","v":"Normal"},"Performance Test",""]
[null,null,{"$f":"IF(LEFT(Table13[[#This Row],[Feature and Parts]],3)=\"fea\",MID(Table13[[#This Row],[Feature and Parts]],9,2)+0,C122)","v":33},{"$f":"LOOKUP(Table13[[#This Row],[F'#]],'v1 Achieved Features'!D:D,'v1 Achieved Features'!$B:B)","v":"Yes"},"Fertilizers","Normal",null,{"$f":"IF(Table13[[#This Row],[Recertification type]]=\"None unless a change to\",IF(OFFSET('v1 Project Information'!$C$14,MATCH(Table13[[#This Row],[Conditions for change]],'v1 Project Information'!$B$21:$B$44,0),0)=\"Yes\",\"Normal\",\"None\"),Table13[[#This Row],[Recertification type]])","v":"Normal"},"Performance Test",""]
[null,"P",{"$f":"IF(LEFT(Table13[[#This Row],[Feature and Parts]],3)=\"fea\",MID(Table13[[#This Row],[Feature and Parts]],9,2)+0,C123)","v":34},{"$f":"LOOKUP(Table13[[#This Row],[F'#]],'v1 Achieved Features'!D:D,'v1 Achieved Features'!$B:B)","v":"Yes"},"Feature 34. Public Water Additives"]
[null,null,{"$f":"IF(LEFT(Table13[[#This Row],[Feature and Parts]],3)=\"fea\",MID(Table13[[#This Row],[Feature and Parts]],9,2)+0,C124)","v":34},{"$f":"LOOKUP(Table13[[#This Row],[F'#]],'v1 Achieved Features'!D:D,'v1 Achieved Features'!$B:B)","v":"Yes"},"Disinfectants","Normal",null,{"$f":"IF(Table13[[#This Row],[Recertification type]]=\"None unless a change to\",IF(OFFSET('v1 Project Information'!$C$14,MATCH(Table13[[#This Row],[Conditions for change]],'v1 Project Information'!$B$21:$B$44,0),0)=\"Yes\",\"Normal\",\"None\"),Table13[[#This Row],[Recertification type]])","v":"Normal"},"Performance Test",""]
[null,null,{"$f":"IF(LEFT(Table13[[#This Row],[Feature and Parts]],3)=\"fea\",MID(Table13[[#This Row],[Feature and Parts]],9,2)+0,C125)","v":34},{"$f":"LOOKUP(Table13[[#This Row],[F'#]],'v1 Achieved Features'!D:D,'v1 Achieved Features'!$B:B)","v":"Yes"},"Disinfectant Byproducts","Normal",null,{"$f":"IF(Table13[[#This Row],[Recertification type]]=\"None unless a change to\",IF(OFFSET('v1 Project Information'!$C$14,MATCH(Table13[[#This Row],[Conditions for change]],'v1 Project Information'!$B$21:$B$44,0),0)=\"Yes\",\"Normal\",\"None\"),Table13[[#This Row],[Recertification type]])","v":"Normal"},"Performance Test",""]
[null,null,{"$f":"IF(LEFT(Table13[[#This Row],[Feature and Parts]],3)=\"fea\",MID(Table13[[#This Row],[Feature and Parts]],9,2)+0,C126)","v":34},{"$f":"LOOKUP(Table13[[#This Row],[F'#]],'v1 Achieved Features'!D:D,'v1 Achieved Features'!$B:B)","v":"Yes"},"Fluoride","Normal",null,{"$f":"IF(Table13[[#This Row],[Recertification type]]=\"None unless a change to\",IF(OFFSET('v1 Project Information'!$C$14,MATCH(Table13[[#This Row],[Conditions for change]],'v1 Project Information'!$B$21:$B$44,0),0)=\"Yes\",\"Normal\",\"None\"),Table13[[#This Row],[Recertification type]])","v":"Normal"},"Performance Test",""]
[null,"O",{"$f":"IF(LEFT(Table13[[#This Row],[Feature and Parts]],3)=\"fea\",MID(Table13[[#This Row],[Feature and Parts]],9,2)+0,C127)","v":35},{"$f":"LOOKUP(Table13[[#This Row],[F'#]],'v1 Achieved Features'!D:D,'v1 Achieved Features'!$B:B)","v":0},"Feature 35. Periodic Water Quality Testing"]
[null,null,{"$f":"IF(LEFT(Table13[[#This Row],[Feature and Parts]],3)=\"fea\",MID(Table13[[#This Row],[Feature and Parts]],9,2)+0,C128)","v":35},{"$f":"LOOKUP(Table13[[#This Row],[F'#]],'v1 Achieved Features'!D:D,'v1 Achieved Features'!$B:B)","v":0},"Quarterly Testing","None",null,{"$f":"IF(Table13[[#This Row],[Recertification type]]=\"None unless a change to\",IF(OFFSET('v1 Project Information'!$C$14,MATCH(Table13[[#This Row],[Conditions for change]],'v1 Project Information'!$B$21:$B$44,0),0)=\"Yes\",\"Normal\",\"None\"),Table13[[#This Row],[Recertification type]])","v":"None"},"","Operations Schedule"]
[null,null,{"$f":"IF(LEFT(Table13[[#This Row],[Feature and Parts]],3)=\"fea\",MID(Table13[[#This Row],[Feature and Parts]],9,2)+0,C129)","v":35},{"$f":"LOOKUP(Table13[[#This Row],[F'#]],'v1 Achieved Features'!D:D,'v1 Achieved Features'!$B:B)","v":0},"Water Data Record Keeping and Response","None",null,{"$f":"IF(Table13[[#This Row],[Recertification type]]=\"None unless a change to\",IF(OFFSET('v1 Project Information'!$C$14,MATCH(Table13[[#This Row],[Conditions for change]],'v1 Project Information'!$B$21:$B$44,0),0)=\"Yes\",\"Normal\",\"None\"),Table13[[#This Row],[Recertification type]])","v":"None"},"","Operations Schedule"]
[null,"O",{"$f":"IF(LEFT(Table13[[#This Row],[Feature and Parts]],3)=\"fea\",MID(Table13[[#This Row],[Feature and Parts]],9,2)+0,C130)","v":36},{"$f":"LOOKUP(Table13[[#This Row],[F'#]],'v1 Achieved Features'!D:D,'v1 Achieved Features'!$B:B)","v":0},"Feature 36. Water Treatment"]
[null,null,{"$f":"IF(LEFT(Table13[[#This Row],[Feature and Parts]],3)=\"fea\",MID(Table13[[#This Row],[Feature and Parts]],9,2)+0,C131)","v":36},{"$f":"LOOKUP(Table13[[#This Row],[F'#]],'v1 Achieved Features'!D:D,'v1 Achieved Features'!$B:B)","v":0},"Organic Chemical Removal","None unless a change to","Plumbing system",{"$f":"IF(Table13[[#This Row],[Recertification type]]=\"None unless a change to\",IF(OFFSET('v1 Project Information'!$C$14,MATCH(Table13[[#This Row],[Conditions for change]],'v1 Project Information'!$B$21:$B$44,0),0)=\"Yes\",\"Normal\",\"None\"),Table13[[#This Row],[Recertification type]])","v":"None"},"Spot Check","","MEP"]
[null,null,{"$f":"IF(LEFT(Table13[[#This Row],[Feature and Parts]],3)=\"fea\",MID(Table13[[#This Row],[Feature and Parts]],9,2)+0,C132)","v":36},{"$f":"LOOKUP(Table13[[#This Row],[F'#]],'v1 Achieved Features'!D:D,'v1 Achieved Features'!$B:B)","v":0},"Sediment Filter","None unless a change to","Plumbing system",{"$f":"IF(Table13[[#This Row],[Recertification type]]=\"None unless a change to\",IF(OFFSET('v1 Project Information'!$C$14,MATCH(Table13[[#This Row],[Conditions for change]],'v1 Project Information'!$B$21:$B$44,0),0)=\"Yes\",\"Normal\",\"None\"),Table13[[#This Row],[Recertification type]])","v":"None"},"Spot Check","","MEP"]
[null,null,{"$f":"IF(LEFT(Table13[[#This Row],[Feature and Parts]],3)=\"fea\",MID(Table13[[#This Row],[Feature and Parts]],9,2)+0,C133)","v":36},{"$f":"LOOKUP(Table13[[#This Row],[F'#]],'v1 Achieved Features'!D:D,'v1 Achieved Features'!$B:B)","v":0},"Microbial Elimination","None unless a change to","Plumbing system",{"$f":"IF(Table13[[#This Row],[Recertification type]]=\"None unless a change to\",IF(OFFSET('v1 Project Information'!$C$14,MATCH(Table13[[#This Row],[Conditions for change]],'v1 Project Information'!$B$21:$B$44,0),0)=\"Yes\",\"Normal\",\"None\"),Table13[[#This Row],[Recertification type]])","v":"None"},"Spot Check","","MEP"]
[null,null,{"$f":"IF(LEFT(Table13[[#This Row],[Feature and Parts]],3)=\"fea\",MID(Table13[[#This Row],[Feature and Parts]],9,2)+0,C134)","v":36},{"$f":"LOOKUP(Table13[[#This Row],[F'#]],'v1 Achieved Features'!D:D,'v1 Achieved Features'!$B:B)","v":0},"Water Quality Maintenance","None",null,{"$f":"IF(Table13[[#This Row],[Recertification type]]=\"None unless a change to\",IF(OFFSET('v1 Project Information'!$C$14,MATCH(Table13[[#This Row],[Conditions for change]],'v1 Project Information'!$B$21:$B$44,0),0)=\"Yes\",\"Normal\",\"None\"),Table13[[#This Row],[Recertification type]])","v":"None"},"","Operations Schedule"]
[null,null,{"$f":"IF(LEFT(Table13[[#This Row],[Feature and Parts]],3)=\"fea\",MID(Table13[[#This Row],[Feature and Parts]],9,2)+0,C135)","v":36},{"$f":"LOOKUP(Table13[[#This Row],[F'#]],'v1 Achieved Features'!D:D,'v1 Achieved Features'!$B:B)","v":0},"Legionella Control","None","Mechanical system",{"$f":"IF(Table13[[#This Row],[Recertification type]]=\"None unless a change to\",IF(OFFSET('v1 Project Information'!$C$14,MATCH(Table13[[#This Row],[Conditions for change]],'v1 Project Information'!$B$21:$B$44,0),0)=\"Yes\",\"Normal\",\"None\"),Table13[[#This Row],[Recertification type]])","v":"None"},"","Professional Narrative"]
[null,"O",{"$f":"IF(LEFT(Table13[[#This Row],[Feature and Parts]],3)=\"fea\",MID(Table13[[#This Row],[Feature and Parts]],9,2)+0,C136)","v":37},{"$f":"LOOKUP(Table13[[#This Row],[F'#]],'v1 Achieved Features'!D:D,'v1 Achieved Features'!$B:B)","v":0},"Feature 37. Drinking Water Promotion"]
[null,null,{"$f":"IF(LEFT(Table13[[#This Row],[Feature and Parts]],3)=\"fea\",MID(Table13[[#This Row],[Feature and Parts]],9,2)+0,C137)","v":37},{"$f":"LOOKUP(Table13[[#This Row],[F'#]],'v1 Achieved Features'!D:D,'v1 Achieved Features'!$B:B)","v":0},"Drinking Water Taste Properties","Normal",null,{"$f":"IF(Table13[[#This Row],[Recertification type]]=\"None unless a change to\",IF(OFFSET('v1 Project Information'!$C$14,MATCH(Table13[[#This Row],[Conditions for change]],'v1 Project Information'!$B$21:$B$44,0),0)=\"Yes\",\"Normal\",\"None\"),Table13[[#This Row],[Recertification type]])","v":"Normal"},"Performance Test",""]
[null,null,{"$f":"IF(LEFT(Table13[[#This Row],[Feature and Parts]],3)=\"fea\",MID(Table13[[#This Row],[Feature and Parts]],9,2)+0,C138)","v":37},{"$f":"LOOKUP(Table13[[#This Row],[F'#]],'v1 Achieved Features'!D:D,'v1 Achieved Features'!$B:B)","v":0},"Drinking Water Access","None unless a change to","Interior design",{"$f":"IF(Table13[[#This Row],[Recertification type]]=\"None unless a change to\",IF(OFFSET('v1 Project Information'!$C$14,MATCH(Table13[[#This Row],[Conditions for change]],'v1 Project Information'!$B$21:$B$44,0),0)=\"Yes\",\"Normal\",\"None\"),Table13[[#This Row],[Recertification type]])","v":"None"},"Spot Check","","Architect"]
[null,null,{"$f":"IF(LEFT(Table13[[#This Row],[Feature and Parts]],3)=\"fea\",MID(Table13[[#This Row],[Feature and Parts]],9,2)+0,C139)","v":37},{"$f":"LOOKUP(Table13[[#This Row],[F'#]],'v1 Achieved Features'!D:D,'v1 Achieved Features'!$B:B)","v":0},"Water Dispenser Maintenance","None","Cleaning protocol",{"$f":"IF(Table13[[#This Row],[Recertification type]]=\"None unless a change to\",IF(OFFSET('v1 Project Information'!$C$14,MATCH(Table13[[#This Row],[Conditions for change]],'v1 Project Information'!$B$21:$B$44,0),0)=\"Yes\",\"Normal\",\"None\"),Table13[[#This Row],[Recertification type]])","v":"None"},"","Operations Schedule"]
["NOURISHMENT","P",{"$f":"IF(LEFT(Table13[[#This Row],[Feature and Parts]],3)=\"fea\",MID(Table13[[#This Row],[Feature and Parts]],9,2)+0,C140)","v":38},{"$f":"LOOKUP(Table13[[#This Row],[F'#]],'v1 Achieved Features'!D:D,'v1 Achieved Features'!$B:B)","v":"Yes"},"Feature 38. Fruits And Vegetables"]
[null,null,{"$f":"IF(LEFT(Table13[[#This Row],[Feature and Parts]],3)=\"fea\",MID(Table13[[#This Row],[Feature and Parts]],9,2)+0,C141)","v":38},{"$f":"LOOKUP(Table13[[#This Row],[F'#]],'v1 Achieved Features'!D:D,'v1 Achieved Features'!$B:B)","v":"Yes"},"Fruit and Vegetable Variety","None unless a change to","Food service",{"$f":"IF(Table13[[#This Row],[Recertification type]]=\"None unless a change to\",IF(OFFSET('v1 Project Information'!$C$14,MATCH(Table13[[#This Row],[Conditions for change]],'v1 Project Information'!$B$21:$B$44,0),0)=\"Yes\",\"Normal\",\"None\"),Table13[[#This Row],[Recertification type]])","v":"None"},"Spot Check","Operations Schedule"]
[null,null,{"$f":"IF(LEFT(Table13[[#This Row],[Feature and Parts]],3)=\"fea\",MID(Table13[[#This Row],[Feature and Parts]],9,2)+0,C142)","v":38},{"$f":"LOOKUP(Table13[[#This Row],[F'#]],'v1 Achieved Features'!D:D,'v1 Achieved Features'!$B:B)","v":"Yes"},"Fruit and Vegetable Promotion","None unless a change to","Food service",{"$f":"IF(Table13[[#This Row],[Recertification type]]=\"None unless a change to\",IF(OFFSET('v1 Project Information'!$C$14,MATCH(Table13[[#This Row],[Conditions for change]],'v1 Project Information'!$B$21:$B$44,0),0)=\"Yes\",\"Normal\",\"None\"),Table13[[#This Row],[Recertification type]])","v":"None"},"Spot Check","Operations Schedule"]
[null,"P",{"$f":"IF(LEFT(Table13[[#This Row],[Feature and Parts]],3)=\"fea\",MID(Table13[[#This Row],[Feature and Parts]],9,2)+0,C143)","v":39},{"$f":"LOOKUP(Table13[[#This Row],[F'#]],'v1 Achieved Features'!D:D,'v1 Achieved Features'!$B:B)","v":"Yes"},"Feature 39. Processed Foods"]
[null,null,{"$f":"IF(LEFT(Table13[[#This Row],[Feature and Parts]],3)=\"fea\",MID(Table13[[#This Row],[Feature and Parts]],9,2)+0,C144)","v":39},{"$f":"LOOKUP(Table13[[#This Row],[F'#]],'v1 Achieved Features'!D:D,'v1 Achieved Features'!$B:B)","v":"Yes"},"Refined Ingredient Restrictions","None unless a change to","Food service",{"$f":"IF(Table13[[#This Row],[Recertification type]]=\"None unless a change to\",IF(OFFSET('v1 Project Information'!$C$14,MATCH(Table13[[#This Row],[Conditions for change]],'v1 Project Information'!$B$21:$B$44,0),0)=\"Yes\",\"Normal\",\"None\"),Table13[[#This Row],[Recertification type]])","v":"None"},"Spot Check","Operations Schedule"]
[null,null,{"$f":"IF(LEFT(Table13[[#This Row],[Feature and Parts]],3)=\"fea\",MID(Table13[[#This Row],[Feature and Parts]],9,2)+0,C145)","v":39},{"$f":"LOOKUP(Table13[[#This Row],[F'#]],'v1 Achieved Features'!D:D,'v1 Achieved Features'!$B:B)","v":"Yes"},"Trans Fat Ban","None unless a change to","Food service",{"$f":"IF(Table13[[#This Row],[Recertification type]]=\"None unless a change to\",IF(OFFSET('v1 Project Information'!$C$14,MATCH(Table13[[#This Row],[Conditions for change]],'v1 Project Information'!$B$21:$B$44,0),0)=\"Yes\",\"Normal\",\"None\"),Table13[[#This Row],[Recertification type]])","v":"None"},"Spot Check","Operations Schedule"]
[null,"P",{"$f":"IF(LEFT(Table13[[#This Row],[Feature and Parts]],3)=\"fea\",MID(Table13[[#This Row],[Feature and Parts]],9,2)+0,C146)","v":40},{"$f":"LOOKUP(Table13[[#This Row],[F'#]],'v1 Achieved Features'!D:D,'v1 Achieved Features'!$B:B)","v":"Yes"},"Feature 40. Food Allergies"]
[null,null,{"$f":"IF(LEFT(Table13[[#This Row],[Feature and Parts]],3)=\"fea\",MID(Table13[[#This Row],[Feature and Parts]],9,2)+0,C147)","v":40},{"$f":"LOOKUP(Table13[[#This Row],[F'#]],'v1 Achieved Features'!D:D,'v1 Achieved Features'!$B:B)","v":"Yes"},"Food Allergy Labeling","None unless a change to","Food service",{"$f":"IF(Table13[[#This Row],[Recertification type]]=\"None unless a change to\",IF(OFFSET('v1 Project Information'!$C$14,MATCH(Table13[[#This Row],[Conditions for change]],'v1 Project Information'!$B$21:$B$44,0),0)=\"Yes\",\"Normal\",\"None\"),Table13[[#This Row],[Recertification type]])","v":"None"},"Spot Check","Operations Schedule"]
[null,"P",{"$f":"IF(LEFT(Table13[[#This Row],[Feature and Parts]],3)=\"fea\",MID(Table13[[#This Row],[Feature and Parts]],9,2)+0,C148)","v":41},{"$f":"LOOKUP(Table13[[#This Row],[F'#]],'v1 Achieved Features'!D:D,'v1 Achieved Features'!$B:B)","v":"Yes"},"Feature 41. Hand Washing"]
[null,null,{"$f":"IF(LEFT(Table13[[#This Row],[Feature and Parts]],3)=\"fea\",MID(Table13[[#This Row],[Feature and Parts]],9,2)+0,C149)","v":41},{"$f":"LOOKUP(Table13[[#This Row],[F'#]],'v1 Achieved Features'!D:D,'v1 Achieved Features'!$B:B)","v":"Yes"},"Hand Washing Supplies","None unless a change to","Cleaning protocol",{"$f":"IF(Table13[[#This Row],[Recertification type]]=\"None unless a change to\",IF(OFFSET('v1 Project Information'!$C$14,MATCH(Table13[[#This Row],[Conditions for change]],'v1 Project Information'!$B$21:$B$44,0),0)=\"Yes\",\"Normal\",\"None\"),Table13[[#This Row],[Recertification type]])","v":"None"},"Spot Check","Operations Schedule"]
[null,null,{"$f":"IF(LEFT(Table13[[#This Row],[Feature and Parts]],3)=\"fea\",MID(Table13[[#This Row],[Feature and Parts]],9,2)+0,C150)","v":41},{"$f":"LOOKUP(Table13[[#This Row],[F'#]],'v1 Achieved Features'!D:D,'v1 Achieved Features'!$B:B)","v":"Yes"},"Contamination Reduction","Normal",null,{"$f":"IF(Table13[[#This Row],[Recertification type]]=\"None unless a change to\",IF(OFFSET('v1 Project Information'!$C$14,MATCH(Table13[[#This Row],[Conditions for change]],'v1 Project Information'!$B$21:$B$44,0),0)=\"Yes\",\"Normal\",\"None\"),Table13[[#This Row],[Recertification type]])","v":"Normal"},"Visual Inspection",""]
[null,null,{"$f":"IF(LEFT(Table13[[#This Row],[Feature and Parts]],3)=\"fea\",MID(Table13[[#This Row],[Feature and Parts]],9,2)+0,C151)","v":41},{"$f":"LOOKUP(Table13[[#This Row],[F'#]],'v1 Achieved Features'!D:D,'v1 Achieved Features'!$B:B)","v":"Yes"},"Sink Dimensions","None unless a change to","Interior design",{"$f":"IF(Table13[[#This Row],[Recertification type]]=\"None unless a change to\",IF(OFFSET('v1 Project Information'!$C$14,MATCH(Table13[[#This Row],[Conditions for change]],'v1 Project Information'!$B$21:$B$44,0),0)=\"Yes\",\"Normal\",\"None\"),Table13[[#This Row],[Recertification type]])","v":"None"},"Spot Check","","Architect"]
[null,"P",{"$f":"IF(LEFT(Table13[[#This Row],[Feature and Parts]],3)=\"fea\",MID(Table13[[#This Row],[Feature and Parts]],9,2)+0,C152)","v":42},{"$f":"LOOKUP(Table13[[#This Row],[F'#]],'v1 Achieved Features'!D:D,'v1 Achieved Features'!$B:B)","v":"Yes"},"Feature 42. Food Contamination"]
[null,null,{"$f":"IF(LEFT(Table13[[#This Row],[Feature and Parts]],3)=\"fea\",MID(Table13[[#This Row],[Feature and Parts]],9,2)+0,C153)","v":42},{"$f":"LOOKUP(Table13[[#This Row],[F'#]],'v1 Achieved Features'!D:D,'v1 Achieved Features'!$B:B)","v":"Yes"},"Cold Storage","None unless a change to","Interior design",{"$f":"IF(Table13[[#This Row],[Recertification type]]=\"None unless a change to\",IF(OFFSET('v1 Project Information'!$C$14,MATCH(Table13[[#This Row],[Conditions for change]],'v1 Project Information'!$B$21:$B$44,0),0)=\"Yes\",\"Normal\",\"None\"),Table13[[#This Row],[Recertification type]])","v":"None"},"Spot Check","","Owner"]
[null,null,{"$f":"IF(LEFT(Table13[[#This Row],[Feature and Parts]],3)=\"fea\",MID(Table13[[#This Row],[Feature and Parts]],9,2)+0,C154)","v":42},{"$f":"LOOKUP(Table13[[#This Row],[F'#]],'v1 Achieved Features'!D:D,'v1 Achieved Features'!$B:B)","v":"Yes"},"Residential Kitchen Sinks","None unless a change to","Interior design",{"$f":"IF(Table13[[#This Row],[Recertification type]]=\"None unless a change to\",IF(OFFSET('v1 Project Information'!$C$14,MATCH(Table13[[#This Row],[Conditions for change]],'v1 Project Information'!$B$21:$B$44,0),0)=\"Yes\",\"Normal\",\"None\"),Table13[[#This Row],[Recertification type]])","v":"None"},"Visual Inspection",""]
[null,"P",{"$f":"IF(LEFT(Table13[[#This Row],[Feature and Parts]],3)=\"fea\",MID(Table13[[#This Row],[Feature and Parts]],9,2)+0,C155)","v":43},{"$f":"LOOKUP(Table13[[#This Row],[F'#]],'v1 Achieved Features'!D:D,'v1 Achieved Features'!$B:B)","v":"Yes"},"Feature 43. Artificial Ingredients"]
[null,null,{"$f":"IF(LEFT(Table13[[#This Row],[Feature and Parts]],3)=\"fea\",MID(Table13[[#This Row],[Feature and Parts]],9,2)+0,C156)","v":43},{"$f":"LOOKUP(Table13[[#This Row],[F'#]],'v1 Achieved Features'!D:D,'v1 Achieved Features'!$B:B)","v":"Yes"},"Artificial Substance Labeling","None unless a change to","Food service",{"$f":"IF(Table13[[#This Row],[Recertification type]]=\"None unless a change to\",IF(OFFSET('v1 Project Information'!$C$14,MATCH(Table13[[#This Row],[Conditions for change]],'v1 Project Information'!$B$21:$B$44,0),0)=\"Yes\",\"Normal\",\"None\"),Table13[[#This Row],[Recertification type]])","v":"None"},"Spot Check","Operations Schedule"]
[null,"P",{"$f":"IF(LEFT(Table13[[#This Row],[Feature and Parts]],3)=\"fea\",MID(Table13[[#This Row],[Feature and Parts]],9,2)+0,C157)","v":44},{"$f":"LOOKUP(Table13[[#This Row],[F'#]],'v1 Achieved Features'!D:D,'v1 Achieved Features'!$B:B)","v":"Yes"},"Feature 44. Nutritional Information"]
[null,null,{"$f":"IF(LEFT(Table13[[#This Row],[Feature and Parts]],3)=\"fea\",MID(Table13[[#This Row],[Feature and Parts]],9,2)+0,C158)","v":44},{"$f":"LOOKUP(Table13[[#This Row],[F'#]],'v1 Achieved Features'!D:D,'v1 Achieved Features'!$B:B)","v":"Yes"},"Detailed Nutritional Information","None unless a change to","Food service",{"$f":"IF(Table13[[#This Row],[Recertification type]]=\"None unless a change to\",IF(OFFSET('v1 Project Information'!$C$14,MATCH(Table13[[#This Row],[Conditions for change]],'v1 Project Information'!$B$21:$B$44,0),0)=\"Yes\",\"Normal\",\"None\"),Table13[[#This Row],[Recertification type]])","v":"None"},"Visual Inspection",""]
[null,"P",{"$f":"IF(LEFT(Table13[[#This Row],[Feature and Parts]],3)=\"fea\",MID(Table13[[#This Row],[Feature and Parts]],9,2)+0,C159)","v":45},{"$f":"LOOKUP(Table13[[#This Row],[F'#]],'v1 Achieved Features'!D:D,'v1 Achieved Features'!$B:B)","v":"Yes"},"Feature 45. Food Advertising"]
[null,null,{"$f":"IF(LEFT(Table13[[#This Row],[Feature and Parts]],3)=\"fea\",MID(Table13[[#This Row],[Feature and Parts]],9,2)+0,C160)","v":45},{"$f":"LOOKUP(Table13[[#This Row],[F'#]],'v1 Achieved Features'!D:D,'v1 Achieved Features'!$B:B)","v":"Yes"},"Advertising and Environmental Cues","Normal",null,{"$f":"IF(Table13[[#This Row],[Recertification type]]=\"None unless a change to\",IF(OFFSET('v1 Project Information'!$C$14,MATCH(Table13[[#This Row],[Conditions for change]],'v1 Project Information'!$B$21:$B$44,0),0)=\"Yes\",\"Normal\",\"None\"),Table13[[#This Row],[Recertification type]])","v":"Normal"},"Visual Inspection",""]
[null,null,{"$f":"IF(LEFT(Table13[[#This Row],[Feature and Parts]],3)=\"fea\",MID(Table13[[#This Row],[Feature and Parts]],9,2)+0,C161)","v":45},{"$f":"LOOKUP(Table13[[#This Row],[F'#]],'v1 Achieved Features'!D:D,'v1 Achieved Features'!$B:B)","v":"Yes"},"Nutritional Messaging","Normal",null,{"$f":"IF(Table13[[#This Row],[Recertification type]]=\"None unless a change to\",IF(OFFSET('v1 Project Information'!$C$14,MATCH(Table13[[#This Row],[Conditions for change]],'v1 Project Information'!$B$21:$B$44,0),0)=\"Yes\",\"Normal\",\"None\"),Table13[[#This Row],[Recertification type]])","v":"Normal"},"Visual Inspection",""]
[null,"O",{"$f":"IF(LEFT(Table13[[#This Row],[Feature and Parts]],3)=\"fea\",MID(Table13[[#This Row],[Feature and Parts]],9,2)+0,C162)","v":46},{"$f":"LOOKUP(Table13[[#This Row],[F'#]],'v1 Achieved Features'!D:D,'v1 Achieved Features'!$B:B)","v":0},"Feature 46. Safe Food Preparation Materials"]
[null,null,{"$f":"IF(LEFT(Table13[[#This Row],[Feature and Parts]],3)=\"fea\",MID(Table13[[#This Row],[Feature and Parts]],9,2)+0,C163)","v":46},{"$f":"LOOKUP(Table13[[#This Row],[F'#]],'v1 Achieved Features'!D:D,'v1 Achieved Features'!$B:B)","v":0},"Cooking Material","Normal",null,{"$f":"IF(Table13[[#This Row],[Recertification type]]=\"None unless a change to\",IF(OFFSET('v1 Project Information'!$C$14,MATCH(Table13[[#This Row],[Conditions for change]],'v1 Project Information'!$B$21:$B$44,0),0)=\"Yes\",\"Normal\",\"None\"),Table13[[#This Row],[Recertification type]])","v":"Normal"},"Spot Check","Operations Schedule"]
[null,null,{"$f":"IF(LEFT(Table13[[#This Row],[Feature and Parts]],3)=\"fea\",MID(Table13[[#This Row],[Feature and Parts]],9,2)+0,C164)","v":46},{"$f":"LOOKUP(Table13[[#This Row],[F'#]],'v1 Achieved Features'!D:D,'v1 Achieved Features'!$B:B)","v":0},"Cutting Surfaces","Normal",null,{"$f":"IF(Table13[[#This Row],[Recertification type]]=\"None unless a change to\",IF(OFFSET('v1 Project Information'!$C$14,MATCH(Table13[[#This Row],[Conditions for change]],'v1 Project Information'!$B$21:$B$44,0),0)=\"Yes\",\"Normal\",\"None\"),Table13[[#This Row],[Recertification type]])","v":"Normal"},"Spot Check","Operations Schedule"]
[null,"O",{"$f":"IF(LEFT(Table13[[#This Row],[Feature and Parts]],3)=\"fea\",MID(Table13[[#This Row],[Feature and Parts]],9,2)+0,C165)","v":47},{"$f":"LOOKUP(Table13[[#This Row],[F'#]],'v1 Achieved Features'!D:D,'v1 Achieved Features'!$B:B)","v":0},"Feature 47. Serving Sizes"]
[null,null,{"$f":"IF(LEFT(Table13[[#This Row],[Feature and Parts]],3)=\"fea\",MID(Table13[[#This Row],[Feature and Parts]],9,2)+0,C166)","v":47},{"$f":"LOOKUP(Table13[[#This Row],[F'#]],'v1 Achieved Features'!D:D,'v1 Achieved Features'!$B:B)","v":0},"Meal Sizes","None unless a change to","Food service",{"$f":"IF(Table13[[#This Row],[Recertification type]]=\"None unless a change to\",IF(OFFSET('v1 Project Information'!$C$14,MATCH(Table13[[#This Row],[Conditions for change]],'v1 Project Information'!$B$21:$B$44,0),0)=\"Yes\",\"Normal\",\"None\"),Table13[[#This Row],[Recertification type]])","v":"None"},"Spot Check","Operations Schedule"]
[null,null,{"$f":"IF(LEFT(Table13[[#This Row],[Feature and Parts]],3)=\"fea\",MID(Table13[[#This Row],[Feature and Parts]],9,2)+0,C167)","v":47},{"$f":"LOOKUP(Table13[[#This Row],[F'#]],'v1 Achieved Features'!D:D,'v1 Achieved Features'!$B:B)","v":0},"Dinnerware Sizes","None unless a change to","Food service",{"$f":"IF(Table13[[#This Row],[Recertification type]]=\"None unless a change to\",IF(OFFSET('v1 Project Information'!$C$14,MATCH(Table13[[#This Row],[Conditions for change]],'v1 Project Information'!$B$21:$B$44,0),0)=\"Yes\",\"Normal\",\"None\"),Table13[[#This Row],[Recertification type]])","v":"None"},"Spot Check","Operations Schedule"]
[null,"O",{"$f":"IF(LEFT(Table13[[#This Row],[Feature and Parts]],3)=\"fea\",MID(Table13[[#This Row],[Feature and Parts]],9,2)+0,C168)","v":48},{"$f":"LOOKUP(Table13[[#This Row],[F'#]],'v1 Achieved Features'!D:D,'v1 Achieved Features'!$B:B)","v":0},"Feature 48. Special Diets"]
[null,null,{"$f":"IF(LEFT(Table13[[#This Row],[Feature and Parts]],3)=\"fea\",MID(Table13[[#This Row],[Feature and Parts]],9,2)+0,C169)","v":48},{"$f":"LOOKUP(Table13[[#This Row],[F'#]],'v1 Achieved Features'!D:D,'v1 Achieved Features'!$B:B)","v":0},"Food Alternatives","None","Food service",{"$f":"IF(Table13[[#This Row],[Recertification type]]=\"None unless a change to\",IF(OFFSET('v1 Project Information'!$C$14,MATCH(Table13[[#This Row],[Conditions for change]],'v1 Project Information'!$B$21:$B$44,0),0)=\"Yes\",\"Normal\",\"None\"),Table13[[#This Row],[Recertification type]])","v":"None"},"","Operations Schedule"]
[null,"O",{"$f":"IF(LEFT(Table13[[#This Row],[Feature and Parts]],3)=\"fea\",MID(Table13[[#This Row],[Feature and Parts]],9,2)+0,C170)","v":49},{"$f":"LOOKUP(Table13[[#This Row],[F'#]],'v1 Achieved Features'!D:D,'v1 Achieved Features'!$B:B)","v":0},"Feature 49. Responsible Food Production"]
[null,null,{"$f":"IF(LEFT(Table13[[#This Row],[Feature and Parts]],3)=\"fea\",MID(Table13[[#This Row],[Feature and Parts]],9,2)+0,C171)","v":49},{"$f":"LOOKUP(Table13[[#This Row],[F'#]],'v1 Achieved Features'!D:D,'v1 Achieved Features'!$B:B)","v":0},"Sustainable Agriculture","None","Food service",{"$f":"IF(Table13[[#This Row],[Recertification type]]=\"None unless a change to\",IF(OFFSET('v1 Project Information'!$C$14,MATCH(Table13[[#This Row],[Conditions for change]],'v1 Project Information'!$B$21:$B$44,0),0)=\"Yes\",\"Normal\",\"None\"),Table13[[#This Row],[Recertification type]])","v":"None"},"","Operations Schedule"]
[null,null,{"$f":"IF(LEFT(Table13[[#This Row],[Feature and Parts]],3)=\"fea\",MID(Table13[[#This Row],[Feature and Parts]],9,2)+0,C172)","v":49},{"$f":"LOOKUP(Table13[[#This Row],[F'#]],'v1 Achieved Features'!D:D,'v1 Achieved Features'!$B:B)","v":0},"Humane Agriculture","None","Food service",{"$f":"IF(Table13[[#This Row],[Recertification type]]=\"None unless a change to\",IF(OFFSET('v1 Project Information'!$C$14,MATCH(Table13[[#This Row],[Conditions for change]],'v1 Project Information'!$B$21:$B$44,0),0)=\"Yes\",\"Normal\",\"None\"),Table13[[#This Row],[Recertification type]])","v":"None"},"","Operations Schedule"]
[null,"O",{"$f":"IF(LEFT(Table13[[#This Row],[Feature and Parts]],3)=\"fea\",MID(Table13[[#This Row],[Feature and Parts]],9,2)+0,C173)","v":50},{"$f":"LOOKUP(Table13[[#This Row],[F'#]],'v1 Achieved Features'!D:D,'v1 Achieved Features'!$B:B)","v":0},"Feature 50. Food Storage"]
[null,null,{"$f":"IF(LEFT(Table13[[#This Row],[Feature and Parts]],3)=\"fea\",MID(Table13[[#This Row],[Feature and Parts]],9,2)+0,C174)","v":50},{"$f":"LOOKUP(Table13[[#This Row],[F'#]],'v1 Achieved Features'!D:D,'v1 Achieved Features'!$B:B)","v":0},"Storage Capacity","None unless a change to","Interior design",{"$f":"IF(Table13[[#This Row],[Recertification type]]=\"None unless a change to\",IF(OFFSET('v1 Project Information'!$C$14,MATCH(Table13[[#This Row],[Conditions for change]],'v1 Project Information'!$B$21:$B$44,0),0)=\"Yes\",\"Normal\",\"None\"),Table13[[#This Row],[Recertification type]])","v":"None"},"Spot Check","","Owner"]
[null,"O",{"$f":"IF(LEFT(Table13[[#This Row],[Feature and Parts]],3)=\"fea\",MID(Table13[[#This Row],[Feature and Parts]],9,2)+0,C175)","v":51},{"$f":"LOOKUP(Table13[[#This Row],[F'#]],'v1 Achieved Features'!D:D,'v1 Achieved Features'!$B:B)","v":0},"Feature 51. Food Production"]
[null,null,{"$f":"IF(LEFT(Table13[[#This Row],[Feature and Parts]],3)=\"fea\",MID(Table13[[#This Row],[Feature and Parts]],9,2)+0,C176)","v":51},{"$f":"LOOKUP(Table13[[#This Row],[F'#]],'v1 Achieved Features'!D:D,'v1 Achieved Features'!$B:B)","v":0},"Gardening Space","None unless a change to","Exterior design",{"$f":"IF(Table13[[#This Row],[Recertification type]]=\"None unless a change to\",IF(OFFSET('v1 Project Information'!$C$14,MATCH(Table13[[#This Row],[Conditions for change]],'v1 Project Information'!$B$21:$B$44,0),0)=\"Yes\",\"Normal\",\"None\"),Table13[[#This Row],[Recertification type]])","v":"None"},"Spot Check","","Owner"]
[null,null,{"$f":"IF(LEFT(Table13[[#This Row],[Feature and Parts]],3)=\"fea\",MID(Table13[[#This Row],[Feature and Parts]],9,2)+0,C177)","v":51},{"$f":"LOOKUP(Table13[[#This Row],[F'#]],'v1 Achieved Features'!D:D,'v1 Achieved Features'!$B:B)","v":0},"Planting Support","None unless a change to","Interior design",{"$f":"IF(Table13[[#This Row],[Recertification type]]=\"None unless a change to\",IF(OFFSET('v1 Project Information'!$C$14,MATCH(Table13[[#This Row],[Conditions for change]],'v1 Project Information'!$B$21:$B$44,0),0)=\"Yes\",\"Normal\",\"None\"),Table13[[#This Row],[Recertification type]])","v":"None"},"Spot Check","","Owner"]
[null,"O",{"$f":"IF(LEFT(Table13[[#This Row],[Feature and Parts]],3)=\"fea\",MID(Table13[[#This Row],[Feature and Parts]],9,2)+0,C178)","v":52},{"$f":"LOOKUP(Table13[[#This Row],[F'#]],'v1 Achieved Features'!D:D,'v1 Achieved Features'!$B:B)","v":0},"Feature 52. Mindful Eating"]
[null,null,{"$f":"IF(LEFT(Table13[[#This Row],[Feature and Parts]],3)=\"fea\",MID(Table13[[#This Row],[Feature and Parts]],9,2)+0,C179)","v":52},{"$f":"LOOKUP(Table13[[#This Row],[F'#]],'v1 Achieved Features'!D:D,'v1 Achieved Features'!$B:B)","v":0},"Eating Spaces","None","Interior design",{"$f":"IF(Table13[[#This Row],[Recertification type]]=\"None unless a change to\",IF(OFFSET('v1 Project Information'!$C$14,MATCH(Table13[[#This Row],[Conditions for change]],'v1 Project Information'!$B$21:$B$44,0),0)=\"Yes\",\"Normal\",\"None\"),Table13[[#This Row],[Recertification type]])","v":"None"},"","Architectural Drawing"]
[null,null,{"$f":"IF(LEFT(Table13[[#This Row],[Feature and Parts]],3)=\"fea\",MID(Table13[[#This Row],[Feature and Parts]],9,2)+0,C180)","v":52},{"$f":"LOOKUP(Table13[[#This Row],[F'#]],'v1 Achieved Features'!D:D,'v1 Achieved Features'!$B:B)","v":0},"Break Area Furnishings","None unless a change to","Interior design",{"$f":"IF(Table13[[#This Row],[Recertification type]]=\"None unless a change to\",IF(OFFSET('v1 Project Information'!$C$14,MATCH(Table13[[#This Row],[Conditions for change]],'v1 Project Information'!$B$21:$B$44,0),0)=\"Yes\",\"Normal\",\"None\"),Table13[[#This Row],[Recertification type]])","v":"None"},"Spot Check","","Owner"]
["LIGHT","P",{"$f":"IF(LEFT(Table13[[#This Row],[Feature and Parts]],3)=\"fea\",MID(Table13[[#This Row],[Feature and Parts]],9,2)+0,C181)","v":53},{"$f":"LOOKUP(Table13[[#This Row],[F'#]],'v1 Achieved Features'!D:D,'v1 Achieved Features'!$B:B)","v":"Yes"},"Feature 53. Visual Lighting Design"]
[null,null,{"$f":"IF(LEFT(Table13[[#This Row],[Feature and Parts]],3)=\"fea\",MID(Table13[[#This Row],[Feature and Parts]],9,2)+0,C182)","v":53},{"$f":"LOOKUP(Table13[[#This Row],[F'#]],'v1 Achieved Features'!D:D,'v1 Achieved Features'!$B:B)","v":"Yes"},"Visual Acuity for Focus","None unless a change to","Interior design",{"$f":"IF(Table13[[#This Row],[Recertification type]]=\"None unless a change to\",IF(OFFSET('v1 Project Information'!$C$14,MATCH(Table13[[#This Row],[Conditions for change]],'v1 Project Information'!$B$21:$B$44,0),0)=\"Yes\",\"Normal\",\"None\"),Table13[[#This Row],[Recertification type]])","v":"None"},"Spot Measurement","Policy Document","Architect"]
[null,null,{"$f":"IF(LEFT(Table13[[#This Row],[Feature and Parts]],3)=\"fea\",MID(Table13[[#This Row],[Feature and Parts]],9,2)+0,C183)","v":53},{"$f":"LOOKUP(Table13[[#This Row],[F'#]],'v1 Achieved Features'!D:D,'v1 Achieved Features'!$B:B)","v":"Yes"},"Brightness Management Strategies","None","Interior design",{"$f":"IF(Table13[[#This Row],[Recertification type]]=\"None unless a change to\",IF(OFFSET('v1 Project Information'!$C$14,MATCH(Table13[[#This Row],[Conditions for change]],'v1 Project Information'!$B$21:$B$44,0),0)=\"Yes\",\"Normal\",\"None\"),Table13[[#This Row],[Recertification type]])","v":"None"},"","Professional Narrative"]
[null,null,{"$f":"IF(LEFT(Table13[[#This Row],[Feature and Parts]],3)=\"fea\",MID(Table13[[#This Row],[Feature and Parts]],9,2)+0,C184)","v":53},{"$f":"LOOKUP(Table13[[#This Row],[F'#]],'v1 Achieved Features'!D:D,'v1 Achieved Features'!$B:B)","v":"Yes"},"Visual Acuity in Living Environments","None unless a change to","Interior design",{"$f":"IF(Table13[[#This Row],[Recertification type]]=\"None unless a change to\",IF(OFFSET('v1 Project Information'!$C$14,MATCH(Table13[[#This Row],[Conditions for change]],'v1 Project Information'!$B$21:$B$44,0),0)=\"Yes\",\"Normal\",\"None\"),Table13[[#This Row],[Recertification type]])","v":"None"},"Spot Measurement","","Architect"]
[null,"P",{"$f":"IF(LEFT(Table13[[#This Row],[Feature and Parts]],3)=\"fea\",MID(Table13[[#This Row],[Feature and Parts]],9,2)+0,C185)","v":54},{"$f":"LOOKUP(Table13[[#This Row],[F'#]],'v1 Achieved Features'!D:D,'v1 Achieved Features'!$B:B)","v":"Yes"},"Feature 54. Circadian Lighting Design"]
[null,null,{"$f":"IF(LEFT(Table13[[#This Row],[Feature and Parts]],3)=\"fea\",MID(Table13[[#This Row],[Feature and Parts]],9,2)+0,C186)","v":54},{"$f":"LOOKUP(Table13[[#This Row],[F'#]],'v1 Achieved Features'!D:D,'v1 Achieved Features'!$B:B)","v":"Yes"},"Melanopic Light Intensity for Work Areas","None unless a change to","Interior design",{"$f":"IF(Table13[[#This Row],[Recertification type]]=\"None unless a change to\",IF(OFFSET('v1 Project Information'!$C$14,MATCH(Table13[[#This Row],[Conditions for change]],'v1 Project Information'!$B$21:$B$44,0),0)=\"Yes\",\"Normal\",\"None\"),Table13[[#This Row],[Recertification type]])","v":"None"},"Spot Measurement","","Architect"]
[null,"P",{"$f":"IF(LEFT(Table13[[#This Row],[Feature and Parts]],3)=\"fea\",MID(Table13[[#This Row],[Feature and Parts]],9,2)+0,#REF!)","v":55},{"$f":"LOOKUP(Table13[[#This Row],[F'#]],'v1 Achieved Features'!D:D,'v1 Achieved Features'!$B:B)","v":"Yes"},"Feature 55. Electric Light Glare Control"]
[null,null,{"$f":"IF(LEFT(Table13[[#This Row],[Feature and Parts]],3)=\"fea\",MID(Table13[[#This Row],[Feature and Parts]],9,2)+0,C188)","v":55},{"$f":"LOOKUP(Table13[[#This Row],[F'#]],'v1 Achieved Features'!D:D,'v1 Achieved Features'!$B:B)","v":"Yes"},"Lamp Shielding","None",null,{"$f":"IF(Table13[[#This Row],[Recertification type]]=\"None unless a change to\",IF(OFFSET('v1 Project Information'!$C$14,MATCH(Table13[[#This Row],[Conditions for change]],'v1 Project Information'!$B$21:$B$44,0),0)=\"Yes\",\"Normal\",\"None\"),Table13[[#This Row],[Recertification type]])","v":"None"},"","","Architect"]
[null,null,{"$f":"IF(LEFT(Table13[[#This Row],[Feature and Parts]],3)=\"fea\",MID(Table13[[#This Row],[Feature and Parts]],9,2)+0,C189)","v":55},{"$f":"LOOKUP(Table13[[#This Row],[F'#]],'v1 Achieved Features'!D:D,'v1 Achieved Features'!$B:B)","v":"Yes"},"Glare Minimization","None",null,{"$f":"IF(Table13[[#This Row],[Recertification type]]=\"None unless a change to\",IF(OFFSET('v1 Project Information'!$C$14,MATCH(Table13[[#This Row],[Conditions for change]],'v1 Project Information'!$B$21:$B$44,0),0)=\"Yes\",\"Normal\",\"None\"),Table13[[#This Row],[Recertification type]])","v":"None"},"","","Architect"]
[null,"P",{"$f":"IF(LEFT(Table13[[#This Row],[Feature and Parts]],3)=\"fea\",MID(Table13[[#This Row],[Feature and Parts]],9,2)+0,C190)","v":56},{"$f":"LOOKUP(Table13[[#This Row],[F'#]],'v1 Achieved Features'!D:D,'v1 Achieved Features'!$B:B)","v":"Yes"},"Feature 56. Solar Glare Control"]
[null,null,{"$f":"IF(LEFT(Table13[[#This Row],[Feature and Parts]],3)=\"fea\",MID(Table13[[#This Row],[Feature and Parts]],9,2)+0,C191)","v":56},{"$f":"LOOKUP(Table13[[#This Row],[F'#]],'v1 Achieved Features'!D:D,'v1 Achieved Features'!$B:B)","v":"Yes"},"View Window Shading","None unless a change to","Interior design",{"$f":"IF(Table13[[#This Row],[Recertification type]]=\"None unless a change to\",IF(OFFSET('v1 Project Information'!$C$14,MATCH(Table13[[#This Row],[Conditions for change]],'v1 Project Information'!$B$21:$B$44,0),0)=\"Yes\",\"Normal\",\"None\"),Table13[[#This Row],[Recertification type]])","v":"None"},"Spot Check","","Architect"]
[null,null,{"$f":"IF(LEFT(Table13[[#This Row],[Feature and Parts]],3)=\"fea\",MID(Table13[[#This Row],[Feature and Parts]],9,2)+0,C192)","v":56},{"$f":"LOOKUP(Table13[[#This Row],[F'#]],'v1 Achieved Features'!D:D,'v1 Achieved Features'!$B:B)","v":"Yes"},"Daylight Management","None unless a change to","Interior design",{"$f":"IF(Table13[[#This Row],[Recertification type]]=\"None unless a change to\",IF(OFFSET('v1 Project Information'!$C$14,MATCH(Table13[[#This Row],[Conditions for change]],'v1 Project Information'!$B$21:$B$44,0),0)=\"Yes\",\"Normal\",\"None\"),Table13[[#This Row],[Recertification type]])","v":"None"},"Spot Check","","Architect"]
[null,"O",{"$f":"IF(LEFT(Table13[[#This Row],[Feature and Parts]],3)=\"fea\",MID(Table13[[#This Row],[Feature and Parts]],9,2)+0,C193)","v":57},{"$f":"LOOKUP(Table13[[#This Row],[F'#]],'v1 Achieved Features'!D:D,'v1 Achieved Features'!$B:B)","v":0},"Feature 57. Low-Glare Workstation Design"]
[null,null,{"$f":"IF(LEFT(Table13[[#This Row],[Feature and Parts]],3)=\"fea\",MID(Table13[[#This Row],[Feature and Parts]],9,2)+0,C194)","v":57},{"$f":"LOOKUP(Table13[[#This Row],[F'#]],'v1 Achieved Features'!D:D,'v1 Achieved Features'!$B:B)","v":0},"Glare Avoidance","None unless a change to","Interior design",{"$f":"IF(Table13[[#This Row],[Recertification type]]=\"None unless a change to\",IF(OFFSET('v1 Project Information'!$C$14,MATCH(Table13[[#This Row],[Conditions for change]],'v1 Project Information'!$B$21:$B$44,0),0)=\"Yes\",\"Normal\",\"None\"),Table13[[#This Row],[Recertification type]])","v":"None"},"Visual Inspection",""]
[null,"O",{"$f":"IF(LEFT(Table13[[#This Row],[Feature and Parts]],3)=\"fea\",MID(Table13[[#This Row],[Feature and Parts]],9,2)+0,C195)","v":58},{"$f":"LOOKUP(Table13[[#This Row],[F'#]],'v1 Achieved Features'!D:D,'v1 Achieved Features'!$B:B)","v":0},"Feature 58. Color Quality"]
[null,null,{"$f":"IF(LEFT(Table13[[#This Row],[Feature and Parts]],3)=\"fea\",MID(Table13[[#This Row],[Feature and Parts]],9,2)+0,C196)","v":58},{"$f":"LOOKUP(Table13[[#This Row],[F'#]],'v1 Achieved Features'!D:D,'v1 Achieved Features'!$B:B)","v":0},"Color Rendering Index","None",null,{"$f":"IF(Table13[[#This Row],[Recertification type]]=\"None unless a change to\",IF(OFFSET('v1 Project Information'!$C$14,MATCH(Table13[[#This Row],[Conditions for change]],'v1 Project Information'!$B$21:$B$44,0),0)=\"Yes\",\"Normal\",\"None\"),Table13[[#This Row],[Recertification type]])","v":"None"},"","","Architect"]
[null,"O",{"$f":"IF(LEFT(Table13[[#This Row],[Feature and Parts]],3)=\"fea\",MID(Table13[[#This Row],[Feature and Parts]],9,2)+0,C197)","v":59},{"$f":"LOOKUP(Table13[[#This Row],[F'#]],'v1 Achieved Features'!D:D,'v1 Achieved Features'!$B:B)","v":0},"Feature 59. Surface Design"]
[null,null,{"$f":"IF(LEFT(Table13[[#This Row],[Feature and Parts]],3)=\"fea\",MID(Table13[[#This Row],[Feature and Parts]],9,2)+0,C198)","v":59},{"$f":"LOOKUP(Table13[[#This Row],[F'#]],'v1 Achieved Features'!D:D,'v1 Achieved Features'!$B:B)","v":0},"Working and Learning Area Surface Reflectivity","None","Interior design",{"$f":"IF(Table13[[#This Row],[Recertification type]]=\"None unless a change to\",IF(OFFSET('v1 Project Information'!$C$14,MATCH(Table13[[#This Row],[Conditions for change]],'v1 Project Information'!$B$21:$B$44,0),0)=\"Yes\",\"Normal\",\"None\"),Table13[[#This Row],[Recertification type]])","v":"None"},"","","Architect"]
[null,null,{"$f":"IF(LEFT(Table13[[#This Row],[Feature and Parts]],3)=\"fea\",MID(Table13[[#This Row],[Feature and Parts]],9,2)+0,C199)","v":59},{"$f":"LOOKUP(Table13[[#This Row],[F'#]],'v1 Achieved Features'!D:D,'v1 Achieved Features'!$B:B)","v":0},"Bedroom Wall and Ceiling Lightness","None","Interior design",{"$f":"IF(Table13[[#This Row],[Recertification type]]=\"None unless a change to\",IF(OFFSET('v1 Project Information'!$C$14,MATCH(Table13[[#This Row],[Conditions for change]],'v1 Project Information'!$B$21:$B$44,0),0)=\"Yes\",\"Normal\",\"None\"),Table13[[#This Row],[Recertification type]])","v":"None"},"","","Architect"]
[null,null,{"$f":"IF(LEFT(Table13[[#This Row],[Feature and Parts]],3)=\"fea\",MID(Table13[[#This Row],[Feature and Parts]],9,2)+0,C200)","v":59},{"$f":"LOOKUP(Table13[[#This Row],[F'#]],'v1 Achieved Features'!D:D,'v1 Achieved Features'!$B:B)","v":0},"Living Space Wall and Ceiling Lightness","None","Interior design",{"$f":"IF(Table13[[#This Row],[Recertification type]]=\"None unless a change to\",IF(OFFSET('v1 Project Information'!$C$14,MATCH(Table13[[#This Row],[Conditions for change]],'v1 Project Information'!$B$21:$B$44,0),0)=\"Yes\",\"Normal\",\"None\"),Table13[[#This Row],[Recertification type]])","v":"None"},"","","Architect"]
[null,"O",{"$f":"IF(LEFT(Table13[[#This Row],[Feature and Parts]],3)=\"fea\",MID(Table13[[#This Row],[Feature and Parts]],9,2)+0,C201)","v":60},{"$f":"LOOKUP(Table13[[#This Row],[F'#]],'v1 Achieved Features'!D:D,'v1 Achieved Features'!$B:B)","v":0},"Feature 60. Automated Shading And Dimming Controls"]
[null,null,{"$f":"IF(LEFT(Table13[[#This Row],[Feature and Parts]],3)=\"fea\",MID(Table13[[#This Row],[Feature and Parts]],9,2)+0,C202)","v":60},{"$f":"LOOKUP(Table13[[#This Row],[F'#]],'v1 Achieved Features'!D:D,'v1 Achieved Features'!$B:B)","v":0},"Automated Sunlight Control","None",null,{"$f":"IF(Table13[[#This Row],[Recertification type]]=\"None unless a change to\",IF(OFFSET('v1 Project Information'!$C$14,MATCH(Table13[[#This Row],[Conditions for change]],'v1 Project Information'!$B$21:$B$44,0),0)=\"Yes\",\"Normal\",\"None\"),Table13[[#This Row],[Recertification type]])","v":"None"},"","","MEP"]
[null,null,{"$f":"IF(LEFT(Table13[[#This Row],[Feature and Parts]],3)=\"fea\",MID(Table13[[#This Row],[Feature and Parts]],9,2)+0,C203)","v":60},{"$f":"LOOKUP(Table13[[#This Row],[F'#]],'v1 Achieved Features'!D:D,'v1 Achieved Features'!$B:B)","v":0},"Responsive Light Control","None",null,{"$f":"IF(Table13[[#This Row],[Recertification type]]=\"None unless a change to\",IF(OFFSET('v1 Project Information'!$C$14,MATCH(Table13[[#This Row],[Conditions for change]],'v1 Project Information'!$B$21:$B$44,0),0)=\"Yes\",\"Normal\",\"None\"),Table13[[#This Row],[Recertification type]])","v":"None"},"","","MEP"]
[null,"O",{"$f":"IF(LEFT(Table13[[#This Row],[Feature and Parts]],3)=\"fea\",MID(Table13[[#This Row],[Feature and Parts]],9,2)+0,C204)","v":61},{"$f":"LOOKUP(Table13[[#This Row],[F'#]],'v1 Achieved Features'!D:D,'v1 Achieved Features'!$B:B)","v":0},"Feature 61. Right To Light"]
[null,null,{"$f":"IF(LEFT(Table13[[#This Row],[Feature and Parts]],3)=\"fea\",MID(Table13[[#This Row],[Feature and Parts]],9,2)+0,C205)","v":61},{"$f":"LOOKUP(Table13[[#This Row],[F'#]],'v1 Achieved Features'!D:D,'v1 Achieved Features'!$B:B)","v":0},"Lease Depth","None unless a change to","Overall structure",{"$f":"IF(Table13[[#This Row],[Recertification type]]=\"None unless a change to\",IF(OFFSET('v1 Project Information'!$C$14,MATCH(Table13[[#This Row],[Conditions for change]],'v1 Project Information'!$B$21:$B$44,0),0)=\"Yes\",\"Normal\",\"None\"),Table13[[#This Row],[Recertification type]])","v":"None"},"Spot Check","Architectural Drawing"]
[null,null,{"$f":"IF(LEFT(Table13[[#This Row],[Feature and Parts]],3)=\"fea\",MID(Table13[[#This Row],[Feature and Parts]],9,2)+0,C206)","v":61},{"$f":"LOOKUP(Table13[[#This Row],[F'#]],'v1 Achieved Features'!D:D,'v1 Achieved Features'!$B:B)","v":0},"Window Access","None unless a change to","Interior design",{"$f":"IF(Table13[[#This Row],[Recertification type]]=\"None unless a change to\",IF(OFFSET('v1 Project Information'!$C$14,MATCH(Table13[[#This Row],[Conditions for change]],'v1 Project Information'!$B$21:$B$44,0),0)=\"Yes\",\"Normal\",\"None\"),Table13[[#This Row],[Recertification type]])","v":"None"},"Spot Check","Architectural Drawing"]
[null,"O",{"$f":"IF(LEFT(Table13[[#This Row],[Feature and Parts]],3)=\"fea\",MID(Table13[[#This Row],[Feature and Parts]],9,2)+0,C207)","v":62},{"$f":"LOOKUP(Table13[[#This Row],[F'#]],'v1 Achieved Features'!D:D,'v1 Achieved Features'!$B:B)","v":0},"Feature 62. Daylight Modeling"]
[null,null,{"$f":"IF(LEFT(Table13[[#This Row],[Feature and Parts]],3)=\"fea\",MID(Table13[[#This Row],[Feature and Parts]],9,2)+0,C208)","v":62},{"$f":"LOOKUP(Table13[[#This Row],[F'#]],'v1 Achieved Features'!D:D,'v1 Achieved Features'!$B:B)","v":0},"Healthy Sunlight Exposure","None","Interior design",{"$f":"IF(Table13[[#This Row],[Recertification type]]=\"None unless a change to\",IF(OFFSET('v1 Project Information'!$C$14,MATCH(Table13[[#This Row],[Conditions for change]],'v1 Project Information'!$B$21:$B$44,0),0)=\"Yes\",\"Normal\",\"None\"),Table13[[#This Row],[Recertification type]])","v":"None"},"","Modeling Report"]
[null,"O",{"$f":"IF(LEFT(Table13[[#This Row],[Feature and Parts]],3)=\"fea\",MID(Table13[[#This Row],[Feature and Parts]],9,2)+0,C209)","v":63},{"$f":"LOOKUP(Table13[[#This Row],[F'#]],'v1 Achieved Features'!D:D,'v1 Achieved Features'!$B:B)","v":0},"Feature 63. Daylighting Fenestration"]
[null,null,{"$f":"IF(LEFT(Table13[[#This Row],[Feature and Parts]],3)=\"fea\",MID(Table13[[#This Row],[Feature and Parts]],9,2)+0,C210)","v":63},{"$f":"LOOKUP(Table13[[#This Row],[F'#]],'v1 Achieved Features'!D:D,'v1 Achieved Features'!$B:B)","v":0},"Window Sizes for Working and Learning Spaces","None unless a change to","Overall structure",{"$f":"IF(Table13[[#This Row],[Recertification type]]=\"None unless a change to\",IF(OFFSET('v1 Project Information'!$C$14,MATCH(Table13[[#This Row],[Conditions for change]],'v1 Project Information'!$B$21:$B$44,0),0)=\"Yes\",\"Normal\",\"None\"),Table13[[#This Row],[Recertification type]])","v":"None"},"Spot Check","Architectural Drawing"]
[null,null,{"$f":"IF(LEFT(Table13[[#This Row],[Feature and Parts]],3)=\"fea\",MID(Table13[[#This Row],[Feature and Parts]],9,2)+0,C211)","v":63},{"$f":"LOOKUP(Table13[[#This Row],[F'#]],'v1 Achieved Features'!D:D,'v1 Achieved Features'!$B:B)","v":0},"Window Transmittance in Working and Learning Areas","None","Overall structure",{"$f":"IF(Table13[[#This Row],[Recertification type]]=\"None unless a change to\",IF(OFFSET('v1 Project Information'!$C$14,MATCH(Table13[[#This Row],[Conditions for change]],'v1 Project Information'!$B$21:$B$44,0),0)=\"Yes\",\"Normal\",\"None\"),Table13[[#This Row],[Recertification type]])","v":"None"},"","","Architect"]
[null,null,{"$f":"IF(LEFT(Table13[[#This Row],[Feature and Parts]],3)=\"fea\",MID(Table13[[#This Row],[Feature and Parts]],9,2)+0,C212)","v":63},{"$f":"LOOKUP(Table13[[#This Row],[F'#]],'v1 Achieved Features'!D:D,'v1 Achieved Features'!$B:B)","v":0},"Uniform Color Transmittance","None","Overall structure",{"$f":"IF(Table13[[#This Row],[Recertification type]]=\"None unless a change to\",IF(OFFSET('v1 Project Information'!$C$14,MATCH(Table13[[#This Row],[Conditions for change]],'v1 Project Information'!$B$21:$B$44,0),0)=\"Yes\",\"Normal\",\"None\"),Table13[[#This Row],[Recertification type]])","v":"None"},"","","Architect"]
[null,null,{"$f":"IF(LEFT(Table13[[#This Row],[Feature and Parts]],3)=\"fea\",MID(Table13[[#This Row],[Feature and Parts]],9,2)+0,C213)","v":63},{"$f":"LOOKUP(Table13[[#This Row],[F'#]],'v1 Achieved Features'!D:D,'v1 Achieved Features'!$B:B)","v":0},"Window Sizes for Living Spaces","None unless a change to","Overall structure",{"$f":"IF(Table13[[#This Row],[Recertification type]]=\"None unless a change to\",IF(OFFSET('v1 Project Information'!$C$14,MATCH(Table13[[#This Row],[Conditions for change]],'v1 Project Information'!$B$21:$B$44,0),0)=\"Yes\",\"Normal\",\"None\"),Table13[[#This Row],[Recertification type]])","v":"None"},"Spot Check","Architectural Drawing"]
["FITNESS","P",{"$f":"IF(LEFT(Table13[[#This Row],[Feature and Parts]],3)=\"fea\",MID(Table13[[#This Row],[Feature and Parts]],9,2)+0,C214)","v":64},{"$f":"LOOKUP(Table13[[#This Row],[F'#]],'v1 Achieved Features'!D:D,'v1 Achieved Features'!$B:B)","v":"Yes"},"Feature 64. Interior Fitness Circulation"]
[null,null,{"$f":"IF(LEFT(Table13[[#This Row],[Feature and Parts]],3)=\"fea\",MID(Table13[[#This Row],[Feature and Parts]],9,2)+0,C215)","v":64},{"$f":"LOOKUP(Table13[[#This Row],[F'#]],'v1 Achieved Features'!D:D,'v1 Achieved Features'!$B:B)","v":"Yes"},"Stair Accessibility","None unless a change to","Interior design",{"$f":"IF(Table13[[#This Row],[Recertification type]]=\"None unless a change to\",IF(OFFSET('v1 Project Information'!$C$14,MATCH(Table13[[#This Row],[Conditions for change]],'v1 Project Information'!$B$21:$B$44,0),0)=\"Yes\",\"Normal\",\"None\"),Table13[[#This Row],[Recertification type]])","v":"None"},"Visual Inspection",""]
[null,null,{"$f":"IF(LEFT(Table13[[#This Row],[Feature and Parts]],3)=\"fea\",MID(Table13[[#This Row],[Feature and Parts]],9,2)+0,C216)","v":64},{"$f":"LOOKUP(Table13[[#This Row],[F'#]],'v1 Achieved Features'!D:D,'v1 Achieved Features'!$B:B)","v":"Yes"},"Stair Promotion","None unless a change to","Overall structure",{"$f":"IF(Table13[[#This Row],[Recertification type]]=\"None unless a change to\",IF(OFFSET('v1 Project Information'!$C$14,MATCH(Table13[[#This Row],[Conditions for change]],'v1 Project Information'!$B$21:$B$44,0),0)=\"Yes\",\"Normal\",\"None\"),Table13[[#This Row],[Recertification type]])","v":"None"},"Visual Inspection",""]
[null,null,{"$f":"IF(LEFT(Table13[[#This Row],[Feature and Parts]],3)=\"fea\",MID(Table13[[#This Row],[Feature and Parts]],9,2)+0,C217)","v":64},{"$f":"LOOKUP(Table13[[#This Row],[F'#]],'v1 Achieved Features'!D:D,'v1 Achieved Features'!$B:B)","v":"Yes"},"Facilitative Aesthetics","None unless a change to","Interior design",{"$f":"IF(Table13[[#This Row],[Recertification type]]=\"None unless a change to\",IF(OFFSET('v1 Project Information'!$C$14,MATCH(Table13[[#This Row],[Conditions for change]],'v1 Project Information'!$B$21:$B$44,0),0)=\"Yes\",\"Normal\",\"None\"),Table13[[#This Row],[Recertification type]])","v":"None"},"Visual Inspection",""]
[null,"P",{"$f":"IF(LEFT(Table13[[#This Row],[Feature and Parts]],3)=\"fea\",MID(Table13[[#This Row],[Feature and Parts]],9,2)+0,C218)","v":65},{"$f":"LOOKUP(Table13[[#This Row],[F'#]],'v1 Achieved Features'!D:D,'v1 Achieved Features'!$B:B)","v":"Yes"},"Feature 65. Activity Incentive Programs"]
[null,null,{"$f":"IF(LEFT(Table13[[#This Row],[Feature and Parts]],3)=\"fea\",MID(Table13[[#This Row],[Feature and Parts]],9,2)+0,C219)","v":65},{"$f":"LOOKUP(Table13[[#This Row],[F'#]],'v1 Achieved Features'!D:D,'v1 Achieved Features'!$B:B)","v":"Yes"},"Activity Incentive Programs","None","Organizational policy",{"$f":"IF(Table13[[#This Row],[Recertification type]]=\"None unless a change to\",IF(OFFSET('v1 Project Information'!$C$14,MATCH(Table13[[#This Row],[Conditions for change]],'v1 Project Information'!$B$21:$B$44,0),0)=\"Yes\",\"Normal\",\"None\"),Table13[[#This Row],[Recertification type]])","v":"None"},"","Policy Document"]
[null,"O",{"$f":"IF(LEFT(Table13[[#This Row],[Feature and Parts]],3)=\"fea\",MID(Table13[[#This Row],[Feature and Parts]],9,2)+0,C220)","v":66},{"$f":"LOOKUP(Table13[[#This Row],[F'#]],'v1 Achieved Features'!D:D,'v1 Achieved Features'!$B:B)","v":0},"Feature 66. Structured Fitness Opportunities"]
[null,null,{"$f":"IF(LEFT(Table13[[#This Row],[Feature and Parts]],3)=\"fea\",MID(Table13[[#This Row],[Feature and Parts]],9,2)+0,C221)","v":66},{"$f":"LOOKUP(Table13[[#This Row],[F'#]],'v1 Achieved Features'!D:D,'v1 Achieved Features'!$B:B)","v":0},"Professional Fitness Programs","None","Organizational policy",{"$f":"IF(Table13[[#This Row],[Recertification type]]=\"None unless a change to\",IF(OFFSET('v1 Project Information'!$C$14,MATCH(Table13[[#This Row],[Conditions for change]],'v1 Project Information'!$B$21:$B$44,0),0)=\"Yes\",\"Normal\",\"None\"),Table13[[#This Row],[Recertification type]])","v":"None"},"","Policy Document"]
[null,null,{"$f":"IF(LEFT(Table13[[#This Row],[Feature and Parts]],3)=\"fea\",MID(Table13[[#This Row],[Feature and Parts]],9,2)+0,C222)","v":66},{"$f":"LOOKUP(Table13[[#This Row],[F'#]],'v1 Achieved Features'!D:D,'v1 Achieved Features'!$B:B)","v":0},"Fitness Education","None","Organizational policy",{"$f":"IF(Table13[[#This Row],[Recertification type]]=\"None unless a change to\",IF(OFFSET('v1 Project Information'!$C$14,MATCH(Table13[[#This Row],[Conditions for change]],'v1 Project Information'!$B$21:$B$44,0),0)=\"Yes\",\"Normal\",\"None\"),Table13[[#This Row],[Recertification type]])","v":"None"},"","Policy Document"]
[null,"O",{"$f":"IF(LEFT(Table13[[#This Row],[Feature and Parts]],3)=\"fea\",MID(Table13[[#This Row],[Feature and Parts]],9,2)+0,C223)","v":67},{"$f":"LOOKUP(Table13[[#This Row],[F'#]],'v1 Achieved Features'!D:D,'v1 Achieved Features'!$B:B)","v":0},"Feature 67. Exterior Active Design"]
[null,null,{"$f":"IF(LEFT(Table13[[#This Row],[Feature and Parts]],3)=\"fea\",MID(Table13[[#This Row],[Feature and Parts]],9,2)+0,C224)","v":67},{"$f":"LOOKUP(Table13[[#This Row],[F'#]],'v1 Achieved Features'!D:D,'v1 Achieved Features'!$B:B)","v":0},"Pedestrian Amenities","None unless a change to","Exterior design",{"$f":"IF(Table13[[#This Row],[Recertification type]]=\"None unless a change to\",IF(OFFSET('v1 Project Information'!$C$14,MATCH(Table13[[#This Row],[Conditions for change]],'v1 Project Information'!$B$21:$B$44,0),0)=\"Yes\",\"Normal\",\"None\"),Table13[[#This Row],[Recertification type]])","v":"None"},"Spot Check","","Owner"]
[null,null,{"$f":"IF(LEFT(Table13[[#This Row],[Feature and Parts]],3)=\"fea\",MID(Table13[[#This Row],[Feature and Parts]],9,2)+0,C225)","v":67},{"$f":"LOOKUP(Table13[[#This Row],[F'#]],'v1 Achieved Features'!D:D,'v1 Achieved Features'!$B:B)","v":0},"Pedestrian Promotion","None unless a change to","Exterior design",{"$f":"IF(Table13[[#This Row],[Recertification type]]=\"None unless a change to\",IF(OFFSET('v1 Project Information'!$C$14,MATCH(Table13[[#This Row],[Conditions for change]],'v1 Project Information'!$B$21:$B$44,0),0)=\"Yes\",\"Normal\",\"None\"),Table13[[#This Row],[Recertification type]])","v":"None"},"Spot Check","","Owner"]
[null,null,{"$f":"IF(LEFT(Table13[[#This Row],[Feature and Parts]],3)=\"fea\",MID(Table13[[#This Row],[Feature and Parts]],9,2)+0,C226)","v":67},{"$f":"LOOKUP(Table13[[#This Row],[F'#]],'v1 Achieved Features'!D:D,'v1 Achieved Features'!$B:B)","v":0},"Neighborhood Connectivity","None",null,{"$f":"IF(Table13[[#This Row],[Recertification type]]=\"None unless a change to\",IF(OFFSET('v1 Project Information'!$C$14,MATCH(Table13[[#This Row],[Conditions for change]],'v1 Project Information'!$B$21:$B$44,0),0)=\"Yes\",\"Normal\",\"None\"),Table13[[#This Row],[Recertification type]])","v":"None"},"","Annotated Map"]
[null,"O",{"$f":"IF(LEFT(Table13[[#This Row],[Feature and Parts]],3)=\"fea\",MID(Table13[[#This Row],[Feature and Parts]],9,2)+0,C227)","v":68},{"$f":"LOOKUP(Table13[[#This Row],[F'#]],'v1 Achieved Features'!D:D,'v1 Achieved Features'!$B:B)","v":0},"Feature 68. Physical Activity Spaces"]
[null,null,{"$f":"IF(LEFT(Table13[[#This Row],[Feature and Parts]],3)=\"fea\",MID(Table13[[#This Row],[Feature and Parts]],9,2)+0,C228)","v":68},{"$f":"LOOKUP(Table13[[#This Row],[F'#]],'v1 Achieved Features'!D:D,'v1 Achieved Features'!$B:B)","v":0},"Site Space Designation for Offices","None","Interior design",{"$f":"IF(Table13[[#This Row],[Recertification type]]=\"None unless a change to\",IF(OFFSET('v1 Project Information'!$C$14,MATCH(Table13[[#This Row],[Conditions for change]],'v1 Project Information'!$B$21:$B$44,0),0)=\"Yes\",\"Normal\",\"None\"),Table13[[#This Row],[Recertification type]])","v":"None"},"","Architectural Drawing"]
[null,null,{"$f":"IF(LEFT(Table13[[#This Row],[Feature and Parts]],3)=\"fea\",MID(Table13[[#This Row],[Feature and Parts]],9,2)+0,C229)","v":68},{"$f":"LOOKUP(Table13[[#This Row],[F'#]],'v1 Achieved Features'!D:D,'v1 Achieved Features'!$B:B)","v":0},"External Exercise Spaces","None",null,{"$f":"IF(Table13[[#This Row],[Recertification type]]=\"None unless a change to\",IF(OFFSET('v1 Project Information'!$C$14,MATCH(Table13[[#This Row],[Conditions for change]],'v1 Project Information'!$B$21:$B$44,0),0)=\"Yes\",\"Normal\",\"None\"),Table13[[#This Row],[Recertification type]])","v":"None"},"","Annotated Map"]
[null,"O",{"$f":"IF(LEFT(Table13[[#This Row],[Feature and Parts]],3)=\"fea\",MID(Table13[[#This Row],[Feature and Parts]],9,2)+0,C230)","v":69},{"$f":"LOOKUP(Table13[[#This Row],[F'#]],'v1 Achieved Features'!D:D,'v1 Achieved Features'!$B:B)","v":0},"Feature 69. Active Transportation Support"]
[null,null,{"$f":"IF(LEFT(Table13[[#This Row],[Feature and Parts]],3)=\"fea\",MID(Table13[[#This Row],[Feature and Parts]],9,2)+0,C231)","v":69},{"$f":"LOOKUP(Table13[[#This Row],[F'#]],'v1 Achieved Features'!D:D,'v1 Achieved Features'!$B:B)","v":0},"Bicycle Storage and Support","None unless a change to","Interior design",{"$f":"IF(Table13[[#This Row],[Recertification type]]=\"None unless a change to\",IF(OFFSET('v1 Project Information'!$C$14,MATCH(Table13[[#This Row],[Conditions for change]],'v1 Project Information'!$B$21:$B$44,0),0)=\"Yes\",\"Normal\",\"None\"),Table13[[#This Row],[Recertification type]])","v":"None"},"Spot Check","","Owner"]
[null,null,{"$f":"IF(LEFT(Table13[[#This Row],[Feature and Parts]],3)=\"fea\",MID(Table13[[#This Row],[Feature and Parts]],9,2)+0,C232)","v":69},{"$f":"LOOKUP(Table13[[#This Row],[F'#]],'v1 Achieved Features'!D:D,'v1 Achieved Features'!$B:B)","v":0},"Post Commute and Workout Facilities","None unless a change to","Interior design",{"$f":"IF(Table13[[#This Row],[Recertification type]]=\"None unless a change to\",IF(OFFSET('v1 Project Information'!$C$14,MATCH(Table13[[#This Row],[Conditions for change]],'v1 Project Information'!$B$21:$B$44,0),0)=\"Yes\",\"Normal\",\"None\"),Table13[[#This Row],[Recertification type]])","v":"None"},"Spot Check","","Architect"]
[null,"O",{"$f":"IF(LEFT(Table13[[#This Row],[Feature and Parts]],3)=\"fea\",MID(Table13[[#This Row],[Feature and Parts]],9,2)+0,C233)","v":70},{"$f":"LOOKUP(Table13[[#This Row],[F'#]],'v1 Achieved Features'!D:D,'v1 Achieved Features'!$B:B)","v":0},"Feature 70. Fitness Equipment"]
[null,null,{"$f":"IF(LEFT(Table13[[#This Row],[Feature and Parts]],3)=\"fea\",MID(Table13[[#This Row],[Feature and Parts]],9,2)+0,C234)","v":70},{"$f":"LOOKUP(Table13[[#This Row],[F'#]],'v1 Achieved Features'!D:D,'v1 Achieved Features'!$B:B)","v":0},"Cardiorespiratory Exercise Equipment","None unless a change to","Interior design",{"$f":"IF(Table13[[#This Row],[Recertification type]]=\"None unless a change to\",IF(OFFSET('v1 Project Information'!$C$14,MATCH(Table13[[#This Row],[Conditions for change]],'v1 Project Information'!$B$21:$B$44,0),0)=\"Yes\",\"Normal\",\"None\"),Table13[[#This Row],[Recertification type]])","v":"None"},"Spot Check","","Owner"]
[null,null,{"$f":"IF(LEFT(Table13[[#This Row],[Feature and Parts]],3)=\"fea\",MID(Table13[[#This Row],[Feature and Parts]],9,2)+0,C235)","v":70},{"$f":"LOOKUP(Table13[[#This Row],[F'#]],'v1 Achieved Features'!D:D,'v1 Achieved Features'!$B:B)","v":0},"Muscle-strengthening Exercise Equipment","None unless a change to","Interior design",{"$f":"IF(Table13[[#This Row],[Recertification type]]=\"None unless a change to\",IF(OFFSET('v1 Project Information'!$C$14,MATCH(Table13[[#This Row],[Conditions for change]],'v1 Project Information'!$B$21:$B$44,0),0)=\"Yes\",\"Normal\",\"None\"),Table13[[#This Row],[Recertification type]])","v":"None"},"Spot Check","","Owner"]
[null,"O",{"$f":"IF(LEFT(Table13[[#This Row],[Feature and Parts]],3)=\"fea\",MID(Table13[[#This Row],[Feature and Parts]],9,2)+0,C236)","v":71},{"$f":"LOOKUP(Table13[[#This Row],[F'#]],'v1 Achieved Features'!D:D,'v1 Achieved Features'!$B:B)","v":0},"Feature 71. Active Furnishings"]
[null,null,{"$f":"IF(LEFT(Table13[[#This Row],[Feature and Parts]],3)=\"fea\",MID(Table13[[#This Row],[Feature and Parts]],9,2)+0,C237)","v":71},{"$f":"LOOKUP(Table13[[#This Row],[F'#]],'v1 Achieved Features'!D:D,'v1 Achieved Features'!$B:B)","v":0},"Active Workstations","Normal",null,{"$f":"IF(Table13[[#This Row],[Recertification type]]=\"None unless a change to\",IF(OFFSET('v1 Project Information'!$C$14,MATCH(Table13[[#This Row],[Conditions for change]],'v1 Project Information'!$B$21:$B$44,0),0)=\"Yes\",\"Normal\",\"None\"),Table13[[#This Row],[Recertification type]])","v":"Normal"},"Spot Check","","Owner"]
[null,null,{"$f":"IF(LEFT(Table13[[#This Row],[Feature and Parts]],3)=\"fea\",MID(Table13[[#This Row],[Feature and Parts]],9,2)+0,C238)","v":71},{"$f":"LOOKUP(Table13[[#This Row],[F'#]],'v1 Achieved Features'!D:D,'v1 Achieved Features'!$B:B)","v":0},"Prevalent Standing Desks","Normal",null,{"$f":"IF(Table13[[#This Row],[Recertification type]]=\"None unless a change to\",IF(OFFSET('v1 Project Information'!$C$14,MATCH(Table13[[#This Row],[Conditions for change]],'v1 Project Information'!$B$21:$B$44,0),0)=\"Yes\",\"Normal\",\"None\"),Table13[[#This Row],[Recertification type]])","v":"Normal"},"Spot Check","","Owner"]
["COMFORT","P",{"$f":"IF(LEFT(Table13[[#This Row],[Feature and Parts]],3)=\"fea\",MID(Table13[[#This Row],[Feature and Parts]],9,2)+0,C239)","v":72},{"$f":"LOOKUP(Table13[[#This Row],[F'#]],'v1 Achieved Features'!D:D,'v1 Achieved Features'!$B:B)","v":"Yes"},"Feature 72. Accessible Design"]
[null,null,{"$f":"IF(LEFT(Table13[[#This Row],[Feature and Parts]],3)=\"fea\",MID(Table13[[#This Row],[Feature and Parts]],9,2)+0,C240)","v":72},{"$f":"LOOKUP(Table13[[#This Row],[F'#]],'v1 Achieved Features'!D:D,'v1 Achieved Features'!$B:B)","v":"Yes"},"Accessibility and Usability","None","Interior design",{"$f":"IF(Table13[[#This Row],[Recertification type]]=\"None unless a change to\",IF(OFFSET('v1 Project Information'!$C$14,MATCH(Table13[[#This Row],[Conditions for change]],'v1 Project Information'!$B$21:$B$44,0),0)=\"Yes\",\"Normal\",\"None\"),Table13[[#This Row],[Recertification type]])","v":"None"},"","","Architect"]
[null,"P",{"$f":"IF(LEFT(Table13[[#This Row],[Feature and Parts]],3)=\"fea\",MID(Table13[[#This Row],[Feature and Parts]],9,2)+0,C241)","v":73},{"$f":"LOOKUP(Table13[[#This Row],[F'#]],'v1 Achieved Features'!D:D,'v1 Achieved Features'!$B:B)","v":"Yes"},"Feature 73. Ergonomics: Visual And Physical"]
[null,null,{"$f":"IF(LEFT(Table13[[#This Row],[Feature and Parts]],3)=\"fea\",MID(Table13[[#This Row],[Feature and Parts]],9,2)+0,C242)","v":73},{"$f":"LOOKUP(Table13[[#This Row],[F'#]],'v1 Achieved Features'!D:D,'v1 Achieved Features'!$B:B)","v":"Yes"},"Visual Ergonomics","Normal",null,{"$f":"IF(Table13[[#This Row],[Recertification type]]=\"None unless a change to\",IF(OFFSET('v1 Project Information'!$C$14,MATCH(Table13[[#This Row],[Conditions for change]],'v1 Project Information'!$B$21:$B$44,0),0)=\"Yes\",\"Normal\",\"None\"),Table13[[#This Row],[Recertification type]])","v":"Normal"},"Spot Check","","Owner"]
[null,null,{"$f":"IF(LEFT(Table13[[#This Row],[Feature and Parts]],3)=\"fea\",MID(Table13[[#This Row],[Feature and Parts]],9,2)+0,C243)","v":73},{"$f":"LOOKUP(Table13[[#This Row],[F'#]],'v1 Achieved Features'!D:D,'v1 Achieved Features'!$B:B)","v":"Yes"},"Desk Height Flexibility","Normal",null,{"$f":"IF(Table13[[#This Row],[Recertification type]]=\"None unless a change to\",IF(OFFSET('v1 Project Information'!$C$14,MATCH(Table13[[#This Row],[Conditions for change]],'v1 Project Information'!$B$21:$B$44,0),0)=\"Yes\",\"Normal\",\"None\"),Table13[[#This Row],[Recertification type]])","v":"Normal"},"Spot Check","","Owner"]
[null,null,{"$f":"IF(LEFT(Table13[[#This Row],[Feature and Parts]],3)=\"fea\",MID(Table13[[#This Row],[Feature and Parts]],9,2)+0,C244)","v":73},{"$f":"LOOKUP(Table13[[#This Row],[F'#]],'v1 Achieved Features'!D:D,'v1 Achieved Features'!$B:B)","v":"Yes"},"Seat Flexibility","Normal",null,{"$f":"IF(Table13[[#This Row],[Recertification type]]=\"None unless a change to\",IF(OFFSET('v1 Project Information'!$C$14,MATCH(Table13[[#This Row],[Conditions for change]],'v1 Project Information'!$B$21:$B$44,0),0)=\"Yes\",\"Normal\",\"None\"),Table13[[#This Row],[Recertification type]])","v":"Normal"},"Spot Check","","Owner"]
[null,"P",{"$f":"IF(LEFT(Table13[[#This Row],[Feature and Parts]],3)=\"fea\",MID(Table13[[#This Row],[Feature and Parts]],9,2)+0,C245)","v":74},{"$f":"LOOKUP(Table13[[#This Row],[F'#]],'v1 Achieved Features'!D:D,'v1 Achieved Features'!$B:B)","v":"Yes"},"Feature 74. Exterior Noise Intrusion"]
[null,null,{"$f":"IF(LEFT(Table13[[#This Row],[Feature and Parts]],3)=\"fea\",MID(Table13[[#This Row],[Feature and Parts]],9,2)+0,C246)","v":74},{"$f":"LOOKUP(Table13[[#This Row],[F'#]],'v1 Achieved Features'!D:D,'v1 Achieved Features'!$B:B)","v":"Yes"},"Sound Pressure Level","Normal",null,{"$f":"IF(Table13[[#This Row],[Recertification type]]=\"None unless a change to\",IF(OFFSET('v1 Project Information'!$C$14,MATCH(Table13[[#This Row],[Conditions for change]],'v1 Project Information'!$B$21:$B$44,0),0)=\"Yes\",\"Normal\",\"None\"),Table13[[#This Row],[Recertification type]])","v":"Normal"},"Performance Test",""]
[null,null,{"$f":"IF(LEFT(Table13[[#This Row],[Feature and Parts]],3)=\"fea\",MID(Table13[[#This Row],[Feature and Parts]],9,2)+0,#REF!)","v":{"$error":"#REF!"}},{"$f":"LOOKUP(Table13[[#This Row],[F'#]],'v1 Achieved Features'!D:D,'v1 Achieved Features'!$B:B)","v":{"$error":"#REF!"}},"Acoustical Narrative","None","Overall structure",{"$f":"IF(Table13[[#This Row],[Recertification type]]=\"None unless a change to\",IF(OFFSET('v1 Project Information'!$C$14,MATCH(Table13[[#This Row],[Conditions for change]],'v1 Project Information'!$B$21:$B$44,0),0)=\"Yes\",\"Normal\",\"None\"),Table13[[#This Row],[Recertification type]])","v":"None"},"","Professional Narrative"]
[null,"P",{"$f":"IF(LEFT(Table13[[#This Row],[Feature and Parts]],3)=\"fea\",MID(Table13[[#This Row],[Feature and Parts]],9,2)+0,C248)","v":75},{"$f":"LOOKUP(Table13[[#This Row],[F'#]],'v1 Achieved Features'!D:D,'v1 Achieved Features'!$B:B)","v":"Yes"},"Feature 75. Internally Generated Noise"]
[null,null,{"$f":"IF(LEFT(Table13[[#This Row],[Feature and Parts]],3)=\"fea\",MID(Table13[[#This Row],[Feature and Parts]],9,2)+0,C249)","v":75},{"$f":"LOOKUP(Table13[[#This Row],[F'#]],'v1 Achieved Features'!D:D,'v1 Achieved Features'!$B:B)","v":"Yes"},"Acoustic Planning","None","Interior design",{"$f":"IF(Table13[[#This Row],[Recertification type]]=\"None unless a change to\",IF(OFFSET('v1 Project Information'!$C$14,MATCH(Table13[[#This Row],[Conditions for change]],'v1 Project Information'!$B$21:$B$44,0),0)=\"Yes\",\"Normal\",\"None\"),Table13[[#This Row],[Recertification type]])","v":"None"},"","","Architect"]
[null,null,{"$f":"IF(LEFT(Table13[[#This Row],[Feature and Parts]],3)=\"fea\",MID(Table13[[#This Row],[Feature and Parts]],9,2)+0,C250)","v":75},{"$f":"LOOKUP(Table13[[#This Row],[F'#]],'v1 Achieved Features'!D:D,'v1 Achieved Features'!$B:B)","v":"Yes"},"Mechanical Equipment Sound Levels","Normal",null,{"$f":"IF(Table13[[#This Row],[Recertification type]]=\"None unless a change to\",IF(OFFSET('v1 Project Information'!$C$14,MATCH(Table13[[#This Row],[Conditions for change]],'v1 Project Information'!$B$21:$B$44,0),0)=\"Yes\",\"Normal\",\"None\"),Table13[[#This Row],[Recertification type]])","v":"Normal"},"Performance Test",""]
[null,null,{"$f":"IF(LEFT(Table13[[#This Row],[Feature and Parts]],3)=\"fea\",MID(Table13[[#This Row],[Feature and Parts]],9,2)+0,C251)","v":75},{"$f":"LOOKUP(Table13[[#This Row],[F'#]],'v1 Achieved Features'!D:D,'v1 Achieved Features'!$B:B)","v":"Yes"},"Mechanical Equipment Sound Levels in Sensitive Rooms","Normal",null,{"$f":"IF(Table13[[#This Row],[Recertification type]]=\"None unless a change to\",IF(OFFSET('v1 Project Information'!$C$14,MATCH(Table13[[#This Row],[Conditions for change]],'v1 Project Information'!$B$21:$B$44,0),0)=\"Yes\",\"Normal\",\"None\"),Table13[[#This Row],[Recertification type]])","v":"Normal"},"Performance Test",""]
[null,"P",{"$f":"IF(LEFT(Table13[[#This Row],[Feature and Parts]],3)=\"fea\",MID(Table13[[#This Row],[Feature and Parts]],9,2)+0,#REF!)","v":76},{"$f":"LOOKUP(Table13[[#This Row],[F'#]],'v1 Achieved Features'!D:D,'v1 Achieved Features'!$B:B)","v":"Yes"},"Feature 76. Thermal Comfort"]
[null,null,{"$f":"IF(LEFT(Table13[[#This Row],[Feature and Parts]],3)=\"fea\",MID(Table13[[#This Row],[Feature and Parts]],9,2)+0,C253)","v":76},{"$f":"LOOKUP(Table13[[#This Row],[F'#]],'v1 Achieved Features'!D:D,'v1 Achieved Features'!$B:B)","v":"Yes"},"Ventilated Thermal Environment","Normal",null,{"$f":"IF(Table13[[#This Row],[Recertification type]]=\"None unless a change to\",IF(OFFSET('v1 Project Information'!$C$14,MATCH(Table13[[#This Row],[Conditions for change]],'v1 Project Information'!$B$21:$B$44,0),0)=\"Yes\",\"Normal\",\"None\"),Table13[[#This Row],[Recertification type]])","v":"Normal"},"Spot Measurement","","MEP"]
[null,null,{"$f":"IF(LEFT(Table13[[#This Row],[Feature and Parts]],3)=\"fea\",MID(Table13[[#This Row],[Feature and Parts]],9,2)+0,C254)","v":76},{"$f":"LOOKUP(Table13[[#This Row],[F'#]],'v1 Achieved Features'!D:D,'v1 Achieved Features'!$B:B)","v":"Yes"},"Natural Thermal Adaptation","Normal",null,{"$f":"IF(Table13[[#This Row],[Recertification type]]=\"None unless a change to\",IF(OFFSET('v1 Project Information'!$C$14,MATCH(Table13[[#This Row],[Conditions for change]],'v1 Project Information'!$B$21:$B$44,0),0)=\"Yes\",\"Normal\",\"None\"),Table13[[#This Row],[Recertification type]])","v":"Normal"},"Spot Measurement","","MEP"]
[null,"O",{"$f":"IF(LEFT(Table13[[#This Row],[Feature and Parts]],3)=\"fea\",MID(Table13[[#This Row],[Feature and Parts]],9,2)+0,C255)","v":77},{"$f":"LOOKUP(Table13[[#This Row],[F'#]],'v1 Achieved Features'!D:D,'v1 Achieved Features'!$B:B)","v":0},"Feature 77. Olfactory Comfort"]
[null,null,{"$f":"IF(LEFT(Table13[[#This Row],[Feature and Parts]],3)=\"fea\",MID(Table13[[#This Row],[Feature and Parts]],9,2)+0,C256)","v":77},{"$f":"LOOKUP(Table13[[#This Row],[F'#]],'v1 Achieved Features'!D:D,'v1 Achieved Features'!$B:B)","v":0},"Source Separation","None","Interior design",{"$f":"IF(Table13[[#This Row],[Recertification type]]=\"None unless a change to\",IF(OFFSET('v1 Project Information'!$C$14,MATCH(Table13[[#This Row],[Conditions for change]],'v1 Project Information'!$B$21:$B$44,0),0)=\"Yes\",\"Normal\",\"None\"),Table13[[#This Row],[Recertification type]])","v":"None"},"","Architectural Drawing"]
[null,"O",{"$f":"IF(LEFT(Table13[[#This Row],[Feature and Parts]],3)=\"fea\",MID(Table13[[#This Row],[Feature and Parts]],9,2)+0,C257)","v":78},{"$f":"LOOKUP(Table13[[#This Row],[F'#]],'v1 Achieved Features'!D:D,'v1 Achieved Features'!$B:B)","v":0},"Feature 78. Reverberation Time"]
[null,null,{"$f":"IF(LEFT(Table13[[#This Row],[Feature and Parts]],3)=\"fea\",MID(Table13[[#This Row],[Feature and Parts]],9,2)+0,C258)","v":78},{"$f":"LOOKUP(Table13[[#This Row],[F'#]],'v1 Achieved Features'!D:D,'v1 Achieved Features'!$B:B)","v":0},"Reverberation Time","Normal",null,{"$f":"IF(Table13[[#This Row],[Recertification type]]=\"None unless a change to\",IF(OFFSET('v1 Project Information'!$C$14,MATCH(Table13[[#This Row],[Conditions for change]],'v1 Project Information'!$B$21:$B$44,0),0)=\"Yes\",\"Normal\",\"None\"),Table13[[#This Row],[Recertification type]])","v":"Normal"},"Performance Test",""]
[null,"O",{"$f":"IF(LEFT(Table13[[#This Row],[Feature and Parts]],3)=\"fea\",MID(Table13[[#This Row],[Feature and Parts]],9,2)+0,C259)","v":79},{"$f":"LOOKUP(Table13[[#This Row],[F'#]],'v1 Achieved Features'!D:D,'v1 Achieved Features'!$B:B)","v":0},"Feature 79. Sound Masking"]
[null,null,{"$f":"IF(LEFT(Table13[[#This Row],[Feature and Parts]],3)=\"fea\",MID(Table13[[#This Row],[Feature and Parts]],9,2)+0,C260)","v":79},{"$f":"LOOKUP(Table13[[#This Row],[F'#]],'v1 Achieved Features'!D:D,'v1 Achieved Features'!$B:B)","v":0},"Sound Masking Use","None","Interior design",{"$f":"IF(Table13[[#This Row],[Recertification type]]=\"None unless a change to\",IF(OFFSET('v1 Project Information'!$C$14,MATCH(Table13[[#This Row],[Conditions for change]],'v1 Project Information'!$B$21:$B$44,0),0)=\"Yes\",\"Normal\",\"None\"),Table13[[#This Row],[Recertification type]])","v":"None"},"","","MEP"]
[null,null,{"$f":"IF(LEFT(Table13[[#This Row],[Feature and Parts]],3)=\"fea\",MID(Table13[[#This Row],[Feature and Parts]],9,2)+0,C261)","v":79},{"$f":"LOOKUP(Table13[[#This Row],[F'#]],'v1 Achieved Features'!D:D,'v1 Achieved Features'!$B:B)","v":0},"Sound Masking Limits","Normal",null,{"$f":"IF(Table13[[#This Row],[Recertification type]]=\"None unless a change to\",IF(OFFSET('v1 Project Information'!$C$14,MATCH(Table13[[#This Row],[Conditions for change]],'v1 Project Information'!$B$21:$B$44,0),0)=\"Yes\",\"Normal\",\"None\"),Table13[[#This Row],[Recertification type]])","v":"Normal"},"Performance Test",""]
[null,"O",{"$f":"IF(LEFT(Table13[[#This Row],[Feature and Parts]],3)=\"fea\",MID(Table13[[#This Row],[Feature and Parts]],9,2)+0,C262)","v":80},{"$f":"LOOKUP(Table13[[#This Row],[F'#]],'v1 Achieved Features'!D:D,'v1 Achieved Features'!$B:B)","v":0},"Feature 80. Sound Reducing Surfaces"]
[null,null,{"$f":"IF(LEFT(Table13[[#This Row],[Feature and Parts]],3)=\"fea\",MID(Table13[[#This Row],[Feature and Parts]],9,2)+0,C263)","v":80},{"$f":"LOOKUP(Table13[[#This Row],[F'#]],'v1 Achieved Features'!D:D,'v1 Achieved Features'!$B:B)","v":0},"Ceilings","None","Interior design",{"$f":"IF(Table13[[#This Row],[Recertification type]]=\"None unless a change to\",IF(OFFSET('v1 Project Information'!$C$14,MATCH(Table13[[#This Row],[Conditions for change]],'v1 Project Information'!$B$21:$B$44,0),0)=\"Yes\",\"Normal\",\"None\"),Table13[[#This Row],[Recertification type]])","v":"None"},"","","Architect"]
[null,null,{"$f":"IF(LEFT(Table13[[#This Row],[Feature and Parts]],3)=\"fea\",MID(Table13[[#This Row],[Feature and Parts]],9,2)+0,C264)","v":80},{"$f":"LOOKUP(Table13[[#This Row],[F'#]],'v1 Achieved Features'!D:D,'v1 Achieved Features'!$B:B)","v":0},"Walls","None","Interior design",{"$f":"IF(Table13[[#This Row],[Recertification type]]=\"None unless a change to\",IF(OFFSET('v1 Project Information'!$C$14,MATCH(Table13[[#This Row],[Conditions for change]],'v1 Project Information'!$B$21:$B$44,0),0)=\"Yes\",\"Normal\",\"None\"),Table13[[#This Row],[Recertification type]])","v":"None"},"","","Architect"]
[null,"O",{"$f":"IF(LEFT(Table13[[#This Row],[Feature and Parts]],3)=\"fea\",MID(Table13[[#This Row],[Feature and Parts]],9,2)+0,C265)","v":81},{"$f":"LOOKUP(Table13[[#This Row],[F'#]],'v1 Achieved Features'!D:D,'v1 Achieved Features'!$B:B)","v":0},"Feature 81. Sound Barriers"]
[null,null,{"$f":"IF(LEFT(Table13[[#This Row],[Feature and Parts]],3)=\"fea\",MID(Table13[[#This Row],[Feature and Parts]],9,2)+0,C266)","v":81},{"$f":"LOOKUP(Table13[[#This Row],[F'#]],'v1 Achieved Features'!D:D,'v1 Achieved Features'!$B:B)","v":0},"Wall Construction Specifications","None","Interior design",{"$f":"IF(Table13[[#This Row],[Recertification type]]=\"None unless a change to\",IF(OFFSET('v1 Project Information'!$C$14,MATCH(Table13[[#This Row],[Conditions for change]],'v1 Project Information'!$B$21:$B$44,0),0)=\"Yes\",\"Normal\",\"None\"),Table13[[#This Row],[Recertification type]])","v":"None"},"","","Architect"]
[null,null,{"$f":"IF(LEFT(Table13[[#This Row],[Feature and Parts]],3)=\"fea\",MID(Table13[[#This Row],[Feature and Parts]],9,2)+0,C267)","v":81},{"$f":"LOOKUP(Table13[[#This Row],[F'#]],'v1 Achieved Features'!D:D,'v1 Achieved Features'!$B:B)","v":0},"Doorway Specifications","None","Interior design",{"$f":"IF(Table13[[#This Row],[Recertification type]]=\"None unless a change to\",IF(OFFSET('v1 Project Information'!$C$14,MATCH(Table13[[#This Row],[Conditions for change]],'v1 Project Information'!$B$21:$B$44,0),0)=\"Yes\",\"Normal\",\"None\"),Table13[[#This Row],[Recertification type]])","v":"None"},"","","Architect & Contractor"]
[null,null,{"$f":"IF(LEFT(Table13[[#This Row],[Feature and Parts]],3)=\"fea\",MID(Table13[[#This Row],[Feature and Parts]],9,2)+0,C268)","v":81},{"$f":"LOOKUP(Table13[[#This Row],[F'#]],'v1 Achieved Features'!D:D,'v1 Achieved Features'!$B:B)","v":0},"Wall Construction Methodology","None","Interior design",{"$f":"IF(Table13[[#This Row],[Recertification type]]=\"None unless a change to\",IF(OFFSET('v1 Project Information'!$C$14,MATCH(Table13[[#This Row],[Conditions for change]],'v1 Project Information'!$B$21:$B$44,0),0)=\"Yes\",\"Normal\",\"None\"),Table13[[#This Row],[Recertification type]])","v":"None"},"","","Contractor"]
[null,null,{"$f":"IF(LEFT(Table13[[#This Row],[Feature and Parts]],3)=\"fea\",MID(Table13[[#This Row],[Feature and Parts]],9,2)+0,C269)","v":81},{"$f":"LOOKUP(Table13[[#This Row],[F'#]],'v1 Achieved Features'!D:D,'v1 Achieved Features'!$B:B)","v":0},"Noise Intrusion Mitigation","None unless a change to","Interior design",{"$f":"IF(Table13[[#This Row],[Recertification type]]=\"None unless a change to\",IF(OFFSET('v1 Project Information'!$C$14,MATCH(Table13[[#This Row],[Conditions for change]],'v1 Project Information'!$B$21:$B$44,0),0)=\"Yes\",\"Normal\",\"None\"),Table13[[#This Row],[Recertification type]])","v":"None"},"Spot Check","","Architect & Contractor"]
[null,"O",{"$f":"IF(LEFT(Table13[[#This Row],[Feature and Parts]],3)=\"fea\",MID(Table13[[#This Row],[Feature and Parts]],9,2)+0,#REF!)","v":82},{"$f":"LOOKUP(Table13[[#This Row],[F'#]],'v1 Achieved Features'!D:D,'v1 Achieved Features'!$B:B)","v":0},"Feature 82.  Individual Thermal Control"]
[null,null,{"$f":"IF(LEFT(Table13[[#This Row],[Feature and Parts]],3)=\"fea\",MID(Table13[[#This Row],[Feature and Parts]],9,2)+0,C271)","v":82},{"$f":"LOOKUP(Table13[[#This Row],[F'#]],'v1 Achieved Features'!D:D,'v1 Achieved Features'!$B:B)","v":0},"Free Address","None","Interior design",{"$f":"IF(Table13[[#This Row],[Recertification type]]=\"None unless a change to\",IF(OFFSET('v1 Project Information'!$C$14,MATCH(Table13[[#This Row],[Conditions for change]],'v1 Project Information'!$B$21:$B$44,0),0)=\"Yes\",\"Normal\",\"None\"),Table13[[#This Row],[Recertification type]])","v":"None"},"","Policy Document"]
[null,null,{"$f":"IF(LEFT(Table13[[#This Row],[Feature and Parts]],3)=\"fea\",MID(Table13[[#This Row],[Feature and Parts]],9,2)+0,C272)","v":82},{"$f":"LOOKUP(Table13[[#This Row],[F'#]],'v1 Achieved Features'!D:D,'v1 Achieved Features'!$B:B)","v":0},"Personal Thermal Comfort Devices","None unless a change to","Interior design",{"$f":"IF(Table13[[#This Row],[Recertification type]]=\"None unless a change to\",IF(OFFSET('v1 Project Information'!$C$14,MATCH(Table13[[#This Row],[Conditions for change]],'v1 Project Information'!$B$21:$B$44,0),0)=\"Yes\",\"Normal\",\"None\"),Table13[[#This Row],[Recertification type]])","v":"None"},"Spot Check","","Owner"]
[null,"O",{"$f":"IF(LEFT(Table13[[#This Row],[Feature and Parts]],3)=\"fea\",MID(Table13[[#This Row],[Feature and Parts]],9,2)+0,C273)","v":83},{"$f":"LOOKUP(Table13[[#This Row],[F'#]],'v1 Achieved Features'!D:D,'v1 Achieved Features'!$B:B)","v":0},"Feature 83. Radiant Thermal Comfort"]
[null,null,{"$f":"IF(LEFT(Table13[[#This Row],[Feature and Parts]],3)=\"fea\",MID(Table13[[#This Row],[Feature and Parts]],9,2)+0,C274)","v":83},{"$f":"LOOKUP(Table13[[#This Row],[F'#]],'v1 Achieved Features'!D:D,'v1 Achieved Features'!$B:B)","v":0},"Lobbies and Other Common Spaces","None","Mechanical system",{"$f":"IF(Table13[[#This Row],[Recertification type]]=\"None unless a change to\",IF(OFFSET('v1 Project Information'!$C$14,MATCH(Table13[[#This Row],[Conditions for change]],'v1 Project Information'!$B$21:$B$44,0),0)=\"Yes\",\"Normal\",\"None\"),Table13[[#This Row],[Recertification type]])","v":"None"},"","","MEP"]
[null,null,{"$f":"IF(LEFT(Table13[[#This Row],[Feature and Parts]],3)=\"fea\",MID(Table13[[#This Row],[Feature and Parts]],9,2)+0,C275)","v":83},{"$f":"LOOKUP(Table13[[#This Row],[F'#]],'v1 Achieved Features'!D:D,'v1 Achieved Features'!$B:B)","v":0},"Offices and Other Regularly Occupied Spaces","None","Mechanical system",{"$f":"IF(Table13[[#This Row],[Recertification type]]=\"None unless a change to\",IF(OFFSET('v1 Project Information'!$C$14,MATCH(Table13[[#This Row],[Conditions for change]],'v1 Project Information'!$B$21:$B$44,0),0)=\"Yes\",\"Normal\",\"None\"),Table13[[#This Row],[Recertification type]])","v":"None"},"","","MEP"]
["MIND","P",{"$f":"IF(LEFT(Table13[[#This Row],[Feature and Parts]],3)=\"fea\",MID(Table13[[#This Row],[Feature and Parts]],9,2)+0,C276)","v":84},{"$f":"LOOKUP(Table13[[#This Row],[F'#]],'v1 Achieved Features'!D:D,'v1 Achieved Features'!$B:B)","v":"Yes"},"Feature 84. Health And Wellness Awareness"]
[null,null,{"$f":"IF(LEFT(Table13[[#This Row],[Feature and Parts]],3)=\"fea\",MID(Table13[[#This Row],[Feature and Parts]],9,2)+0,C277)","v":84},{"$f":"LOOKUP(Table13[[#This Row],[F'#]],'v1 Achieved Features'!D:D,'v1 Achieved Features'!$B:B)","v":"Yes"},"WELL Building Standard® Guide","Normal",null,{"$f":"IF(Table13[[#This Row],[Recertification type]]=\"None unless a change to\",IF(OFFSET('v1 Project Information'!$C$14,MATCH(Table13[[#This Row],[Conditions for change]],'v1 Project Information'!$B$21:$B$44,0),0)=\"Yes\",\"Normal\",\"None\"),Table13[[#This Row],[Recertification type]])","v":"Normal"},"Visual Inspection",""]
[null,null,{"$f":"IF(LEFT(Table13[[#This Row],[Feature and Parts]],3)=\"fea\",MID(Table13[[#This Row],[Feature and Parts]],9,2)+0,C278)","v":84},{"$f":"LOOKUP(Table13[[#This Row],[F'#]],'v1 Achieved Features'!D:D,'v1 Achieved Features'!$B:B)","v":"Yes"},"Health and Wellness Library","Normal",null,{"$f":"IF(Table13[[#This Row],[Recertification type]]=\"None unless a change to\",IF(OFFSET('v1 Project Information'!$C$14,MATCH(Table13[[#This Row],[Conditions for change]],'v1 Project Information'!$B$21:$B$44,0),0)=\"Yes\",\"Normal\",\"None\"),Table13[[#This Row],[Recertification type]])","v":"Normal"},"Visual Inspection",""]
[null,"P",{"$f":"IF(LEFT(Table13[[#This Row],[Feature and Parts]],3)=\"fea\",MID(Table13[[#This Row],[Feature and Parts]],9,2)+0,C279)","v":85},{"$f":"LOOKUP(Table13[[#This Row],[F'#]],'v1 Achieved Features'!D:D,'v1 Achieved Features'!$B:B)","v":"Yes"},"Feature 85. Integrative Design"]
[null,null,{"$f":"IF(LEFT(Table13[[#This Row],[Feature and Parts]],3)=\"fea\",MID(Table13[[#This Row],[Feature and Parts]],9,2)+0,C280)","v":85},{"$f":"LOOKUP(Table13[[#This Row],[F'#]],'v1 Achieved Features'!D:D,'v1 Achieved Features'!$B:B)","v":"Yes"},"Stakeholder Charrette","None",null,{"$f":"IF(Table13[[#This Row],[Recertification type]]=\"None unless a change to\",IF(OFFSET('v1 Project Information'!$C$14,MATCH(Table13[[#This Row],[Conditions for change]],'v1 Project Information'!$B$21:$B$44,0),0)=\"Yes\",\"Normal\",\"None\"),Table13[[#This Row],[Recertification type]])","v":"None"},"","Policy Document"]
[null,null,{"$f":"IF(LEFT(Table13[[#This Row],[Feature and Parts]],3)=\"fea\",MID(Table13[[#This Row],[Feature and Parts]],9,2)+0,C281)","v":85},{"$f":"LOOKUP(Table13[[#This Row],[F'#]],'v1 Achieved Features'!D:D,'v1 Achieved Features'!$B:B)","v":"Yes"},"Development Plan","None",null,{"$f":"IF(Table13[[#This Row],[Recertification type]]=\"None unless a change to\",IF(OFFSET('v1 Project Information'!$C$14,MATCH(Table13[[#This Row],[Conditions for change]],'v1 Project Information'!$B$21:$B$44,0),0)=\"Yes\",\"Normal\",\"None\"),Table13[[#This Row],[Recertification type]])","v":"None"},"","Policy Document"]
[null,null,{"$f":"IF(LEFT(Table13[[#This Row],[Feature and Parts]],3)=\"fea\",MID(Table13[[#This Row],[Feature and Parts]],9,2)+0,C282)","v":85},{"$f":"LOOKUP(Table13[[#This Row],[F'#]],'v1 Achieved Features'!D:D,'v1 Achieved Features'!$B:B)","v":"Yes"},"Stakeholder Orientation","None",null,{"$f":"IF(Table13[[#This Row],[Recertification type]]=\"None unless a change to\",IF(OFFSET('v1 Project Information'!$C$14,MATCH(Table13[[#This Row],[Conditions for change]],'v1 Project Information'!$B$21:$B$44,0),0)=\"Yes\",\"Normal\",\"None\"),Table13[[#This Row],[Recertification type]])","v":"None"},"","Policy Document"]
[null,"P",{"$f":"IF(LEFT(Table13[[#This Row],[Feature and Parts]],3)=\"fea\",MID(Table13[[#This Row],[Feature and Parts]],9,2)+0,C283)","v":86},{"$f":"LOOKUP(Table13[[#This Row],[F'#]],'v1 Achieved Features'!D:D,'v1 Achieved Features'!$B:B)","v":"Yes"},"Feature 86. Post-Occupancy Surveys"]
[null,null,{"$f":"IF(LEFT(Table13[[#This Row],[Feature and Parts]],3)=\"fea\",MID(Table13[[#This Row],[Feature and Parts]],9,2)+0,C284)","v":86},{"$f":"LOOKUP(Table13[[#This Row],[F'#]],'v1 Achieved Features'!D:D,'v1 Achieved Features'!$B:B)","v":"Yes"},"Occupant Survey Content","None",null,{"$f":"IF(Table13[[#This Row],[Recertification type]]=\"None unless a change to\",IF(OFFSET('v1 Project Information'!$C$14,MATCH(Table13[[#This Row],[Conditions for change]],'v1 Project Information'!$B$21:$B$44,0),0)=\"Yes\",\"Normal\",\"None\"),Table13[[#This Row],[Recertification type]])","v":"None"},"","Policy Document"]
[null,null,{"$f":"IF(LEFT(Table13[[#This Row],[Feature and Parts]],3)=\"fea\",MID(Table13[[#This Row],[Feature and Parts]],9,2)+0,C285)","v":86},{"$f":"LOOKUP(Table13[[#This Row],[F'#]],'v1 Achieved Features'!D:D,'v1 Achieved Features'!$B:B)","v":"Yes"},"Information Reporting","None",null,{"$f":"IF(Table13[[#This Row],[Recertification type]]=\"None unless a change to\",IF(OFFSET('v1 Project Information'!$C$14,MATCH(Table13[[#This Row],[Conditions for change]],'v1 Project Information'!$B$21:$B$44,0),0)=\"Yes\",\"Normal\",\"None\"),Table13[[#This Row],[Recertification type]])","v":"None"},"","Policy Document"]
[null,"P",{"$f":"IF(LEFT(Table13[[#This Row],[Feature and Parts]],3)=\"fea\",MID(Table13[[#This Row],[Feature and Parts]],9,2)+0,C286)","v":87},{"$f":"LOOKUP(Table13[[#This Row],[F'#]],'v1 Achieved Features'!D:D,'v1 Achieved Features'!$B:B)","v":"Yes"},"Feature 87. Beauty And Design I"]
[null,null,{"$f":"IF(LEFT(Table13[[#This Row],[Feature and Parts]],3)=\"fea\",MID(Table13[[#This Row],[Feature and Parts]],9,2)+0,C287)","v":87},{"$f":"LOOKUP(Table13[[#This Row],[F'#]],'v1 Achieved Features'!D:D,'v1 Achieved Features'!$B:B)","v":"Yes"},"Beauty and Mindful Design","None",null,{"$f":"IF(Table13[[#This Row],[Recertification type]]=\"None unless a change to\",IF(OFFSET('v1 Project Information'!$C$14,MATCH(Table13[[#This Row],[Conditions for change]],'v1 Project Information'!$B$21:$B$44,0),0)=\"Yes\",\"Normal\",\"None\"),Table13[[#This Row],[Recertification type]])","v":"None"},"","Professional Narrative"]
[null,"P",{"$f":"IF(LEFT(Table13[[#This Row],[Feature and Parts]],3)=\"fea\",MID(Table13[[#This Row],[Feature and Parts]],9,2)+0,C288)","v":88},{"$f":"LOOKUP(Table13[[#This Row],[F'#]],'v1 Achieved Features'!D:D,'v1 Achieved Features'!$B:B)","v":"Yes"},"Feature 88. Biophilia I - Qualitative"]
[null,null,{"$f":"IF(LEFT(Table13[[#This Row],[Feature and Parts]],3)=\"fea\",MID(Table13[[#This Row],[Feature and Parts]],9,2)+0,C289)","v":88},{"$f":"LOOKUP(Table13[[#This Row],[F'#]],'v1 Achieved Features'!D:D,'v1 Achieved Features'!$B:B)","v":"Yes"},"Nature Incorporation","None","Interior design",{"$f":"IF(Table13[[#This Row],[Recertification type]]=\"None unless a change to\",IF(OFFSET('v1 Project Information'!$C$14,MATCH(Table13[[#This Row],[Conditions for change]],'v1 Project Information'!$B$21:$B$44,0),0)=\"Yes\",\"Normal\",\"None\"),Table13[[#This Row],[Recertification type]])","v":"None"},"","Professional Narrative"]
[null,null,{"$f":"IF(LEFT(Table13[[#This Row],[Feature and Parts]],3)=\"fea\",MID(Table13[[#This Row],[Feature and Parts]],9,2)+0,C290)","v":88},{"$f":"LOOKUP(Table13[[#This Row],[F'#]],'v1 Achieved Features'!D:D,'v1 Achieved Features'!$B:B)","v":"Yes"},"Pattern Incorporation","None","Interior design",{"$f":"IF(Table13[[#This Row],[Recertification type]]=\"None unless a change to\",IF(OFFSET('v1 Project Information'!$C$14,MATCH(Table13[[#This Row],[Conditions for change]],'v1 Project Information'!$B$21:$B$44,0),0)=\"Yes\",\"Normal\",\"None\"),Table13[[#This Row],[Recertification type]])","v":"None"},"","Professional Narrative"]
[null,null,{"$f":"IF(LEFT(Table13[[#This Row],[Feature and Parts]],3)=\"fea\",MID(Table13[[#This Row],[Feature and Parts]],9,2)+0,C291)","v":88},{"$f":"LOOKUP(Table13[[#This Row],[F'#]],'v1 Achieved Features'!D:D,'v1 Achieved Features'!$B:B)","v":"Yes"},"Nature Interaction","None","Interior design",{"$f":"IF(Table13[[#This Row],[Recertification type]]=\"None unless a change to\",IF(OFFSET('v1 Project Information'!$C$14,MATCH(Table13[[#This Row],[Conditions for change]],'v1 Project Information'!$B$21:$B$44,0),0)=\"Yes\",\"Normal\",\"None\"),Table13[[#This Row],[Recertification type]])","v":"None"},"","Professional Narrative"]
[null,"O",{"$f":"IF(LEFT(Table13[[#This Row],[Feature and Parts]],3)=\"fea\",MID(Table13[[#This Row],[Feature and Parts]],9,2)+0,C292)","v":89},{"$f":"LOOKUP(Table13[[#This Row],[F'#]],'v1 Achieved Features'!D:D,'v1 Achieved Features'!$B:B)","v":0},"Feature 89. Adaptable Spaces"]
[null,null,{"$f":"IF(LEFT(Table13[[#This Row],[Feature and Parts]],3)=\"fea\",MID(Table13[[#This Row],[Feature and Parts]],9,2)+0,C293)","v":89},{"$f":"LOOKUP(Table13[[#This Row],[F'#]],'v1 Achieved Features'!D:D,'v1 Achieved Features'!$B:B)","v":0},"Stimuli Management","None unless a change to","Interior design",{"$f":"IF(Table13[[#This Row],[Recertification type]]=\"None unless a change to\",IF(OFFSET('v1 Project Information'!$C$14,MATCH(Table13[[#This Row],[Conditions for change]],'v1 Project Information'!$B$21:$B$44,0),0)=\"Yes\",\"Normal\",\"None\"),Table13[[#This Row],[Recertification type]])","v":"None"},"Spot Check","","Architect"]
[null,null,{"$f":"IF(LEFT(Table13[[#This Row],[Feature and Parts]],3)=\"fea\",MID(Table13[[#This Row],[Feature and Parts]],9,2)+0,C294)","v":89},{"$f":"LOOKUP(Table13[[#This Row],[F'#]],'v1 Achieved Features'!D:D,'v1 Achieved Features'!$B:B)","v":0},"Privacy","None unless a change to","Interior design",{"$f":"IF(Table13[[#This Row],[Recertification type]]=\"None unless a change to\",IF(OFFSET('v1 Project Information'!$C$14,MATCH(Table13[[#This Row],[Conditions for change]],'v1 Project Information'!$B$21:$B$44,0),0)=\"Yes\",\"Normal\",\"None\"),Table13[[#This Row],[Recertification type]])","v":"None"},"Spot Check","","Architect"]
[null,null,{"$f":"IF(LEFT(Table13[[#This Row],[Feature and Parts]],3)=\"fea\",MID(Table13[[#This Row],[Feature and Parts]],9,2)+0,C295)","v":89},{"$f":"LOOKUP(Table13[[#This Row],[F'#]],'v1 Achieved Features'!D:D,'v1 Achieved Features'!$B:B)","v":0},"Space Management","None unless a change to","Interior design",{"$f":"IF(Table13[[#This Row],[Recertification type]]=\"None unless a change to\",IF(OFFSET('v1 Project Information'!$C$14,MATCH(Table13[[#This Row],[Conditions for change]],'v1 Project Information'!$B$21:$B$44,0),0)=\"Yes\",\"Normal\",\"None\"),Table13[[#This Row],[Recertification type]])","v":"None"},"Spot Check","","Owner"]
[null,null,{"$f":"IF(LEFT(Table13[[#This Row],[Feature and Parts]],3)=\"fea\",MID(Table13[[#This Row],[Feature and Parts]],9,2)+0,C296)","v":89},{"$f":"LOOKUP(Table13[[#This Row],[F'#]],'v1 Achieved Features'!D:D,'v1 Achieved Features'!$B:B)","v":0},"Workplace Sleep Support","None unless a change to","Interior design",{"$f":"IF(Table13[[#This Row],[Recertification type]]=\"None unless a change to\",IF(OFFSET('v1 Project Information'!$C$14,MATCH(Table13[[#This Row],[Conditions for change]],'v1 Project Information'!$B$21:$B$44,0),0)=\"Yes\",\"Normal\",\"None\"),Table13[[#This Row],[Recertification type]])","v":"None"},"Spot Check","","Owner"]
[null,"O",{"$f":"IF(LEFT(Table13[[#This Row],[Feature and Parts]],3)=\"fea\",MID(Table13[[#This Row],[Feature and Parts]],9,2)+0,C297)","v":90},{"$f":"LOOKUP(Table13[[#This Row],[F'#]],'v1 Achieved Features'!D:D,'v1 Achieved Features'!$B:B)","v":0},"Feature 90. Healthy Sleep Policy"]
[null,null,{"$f":"IF(LEFT(Table13[[#This Row],[Feature and Parts]],3)=\"fea\",MID(Table13[[#This Row],[Feature and Parts]],9,2)+0,C298)","v":90},{"$f":"LOOKUP(Table13[[#This Row],[F'#]],'v1 Achieved Features'!D:D,'v1 Achieved Features'!$B:B)","v":0},"Non-Workplace Sleep Support","None","Organizational policy",{"$f":"IF(Table13[[#This Row],[Recertification type]]=\"None unless a change to\",IF(OFFSET('v1 Project Information'!$C$14,MATCH(Table13[[#This Row],[Conditions for change]],'v1 Project Information'!$B$21:$B$44,0),0)=\"Yes\",\"Normal\",\"None\"),Table13[[#This Row],[Recertification type]])","v":"None"},"","Policy Document"]
[null,"O",{"$f":"IF(LEFT(Table13[[#This Row],[Feature and Parts]],3)=\"fea\",MID(Table13[[#This Row],[Feature and Parts]],9,2)+0,C299)","v":91},{"$f":"LOOKUP(Table13[[#This Row],[F'#]],'v1 Achieved Features'!D:D,'v1 Achieved Features'!$B:B)","v":0},"Feature 91. Business Travel"]
[null,null,{"$f":"IF(LEFT(Table13[[#This Row],[Feature and Parts]],3)=\"fea\",MID(Table13[[#This Row],[Feature and Parts]],9,2)+0,C300)","v":91},{"$f":"LOOKUP(Table13[[#This Row],[F'#]],'v1 Achieved Features'!D:D,'v1 Achieved Features'!$B:B)","v":0},"Travel Policy","None","Organizational policy",{"$f":"IF(Table13[[#This Row],[Recertification type]]=\"None unless a change to\",IF(OFFSET('v1 Project Information'!$C$14,MATCH(Table13[[#This Row],[Conditions for change]],'v1 Project Information'!$B$21:$B$44,0),0)=\"Yes\",\"Normal\",\"None\"),Table13[[#This Row],[Recertification type]])","v":"None"},"","Policy Document"]
[null,"O",{"$f":"IF(LEFT(Table13[[#This Row],[Feature and Parts]],3)=\"fea\",MID(Table13[[#This Row],[Feature and Parts]],9,2)+0,C301)","v":92},{"$f":"LOOKUP(Table13[[#This Row],[F'#]],'v1 Achieved Features'!D:D,'v1 Achieved Features'!$B:B)","v":0},"Feature 92. Building Health Policy"]
[null,null,{"$f":"IF(LEFT(Table13[[#This Row],[Feature and Parts]],3)=\"fea\",MID(Table13[[#This Row],[Feature and Parts]],9,2)+0,C302)","v":92},{"$f":"LOOKUP(Table13[[#This Row],[F'#]],'v1 Achieved Features'!D:D,'v1 Achieved Features'!$B:B)","v":0},"Health Benefits","None","Organizational policy",{"$f":"IF(Table13[[#This Row],[Recertification type]]=\"None unless a change to\",IF(OFFSET('v1 Project Information'!$C$14,MATCH(Table13[[#This Row],[Conditions for change]],'v1 Project Information'!$B$21:$B$44,0),0)=\"Yes\",\"Normal\",\"None\"),Table13[[#This Row],[Recertification type]])","v":"None"},"","Policy Document"]
[null,"O",{"$f":"IF(LEFT(Table13[[#This Row],[Feature and Parts]],3)=\"fea\",MID(Table13[[#This Row],[Feature and Parts]],9,2)+0,C303)","v":93},{"$f":"LOOKUP(Table13[[#This Row],[F'#]],'v1 Achieved Features'!D:D,'v1 Achieved Features'!$B:B)","v":0},"Feature 93. Workplace Family Support"]
[null,null,{"$f":"IF(LEFT(Table13[[#This Row],[Feature and Parts]],3)=\"fea\",MID(Table13[[#This Row],[Feature and Parts]],9,2)+0,C304)","v":93},{"$f":"LOOKUP(Table13[[#This Row],[F'#]],'v1 Achieved Features'!D:D,'v1 Achieved Features'!$B:B)","v":0},"Parental Leave","None","Organizational policy",{"$f":"IF(Table13[[#This Row],[Recertification type]]=\"None unless a change to\",IF(OFFSET('v1 Project Information'!$C$14,MATCH(Table13[[#This Row],[Conditions for change]],'v1 Project Information'!$B$21:$B$44,0),0)=\"Yes\",\"Normal\",\"None\"),Table13[[#This Row],[Recertification type]])","v":"None"},"","Policy Document"]
[null,null,{"$f":"IF(LEFT(Table13[[#This Row],[Feature and Parts]],3)=\"fea\",MID(Table13[[#This Row],[Feature and Parts]],9,2)+0,C305)","v":93},{"$f":"LOOKUP(Table13[[#This Row],[F'#]],'v1 Achieved Features'!D:D,'v1 Achieved Features'!$B:B)","v":0},"Employer Supported Child Care","None","Organizational policy",{"$f":"IF(Table13[[#This Row],[Recertification type]]=\"None unless a change to\",IF(OFFSET('v1 Project Information'!$C$14,MATCH(Table13[[#This Row],[Conditions for change]],'v1 Project Information'!$B$21:$B$44,0),0)=\"Yes\",\"Normal\",\"None\"),Table13[[#This Row],[Recertification type]])","v":"None"},"","Policy Document"]
[null,null,{"$f":"IF(LEFT(Table13[[#This Row],[Feature and Parts]],3)=\"fea\",MID(Table13[[#This Row],[Feature and Parts]],9,2)+0,C306)","v":93},{"$f":"LOOKUP(Table13[[#This Row],[F'#]],'v1 Achieved Features'!D:D,'v1 Achieved Features'!$B:B)","v":0},"Family Support","None","Organizational policy",{"$f":"IF(Table13[[#This Row],[Recertification type]]=\"None unless a change to\",IF(OFFSET('v1 Project Information'!$C$14,MATCH(Table13[[#This Row],[Conditions for change]],'v1 Project Information'!$B$21:$B$44,0),0)=\"Yes\",\"Normal\",\"None\"),Table13[[#This Row],[Recertification type]])","v":"None"},"","Policy Document"]
[null,"O",{"$f":"IF(LEFT(Table13[[#This Row],[Feature and Parts]],3)=\"fea\",MID(Table13[[#This Row],[Feature and Parts]],9,2)+0,C307)","v":94},{"$f":"LOOKUP(Table13[[#This Row],[F'#]],'v1 Achieved Features'!D:D,'v1 Achieved Features'!$B:B)","v":0},"Feature 94. Self-Monitoring"]
[null,null,{"$f":"IF(LEFT(Table13[[#This Row],[Feature and Parts]],3)=\"fea\",MID(Table13[[#This Row],[Feature and Parts]],9,2)+0,C308)","v":94},{"$f":"LOOKUP(Table13[[#This Row],[F'#]],'v1 Achieved Features'!D:D,'v1 Achieved Features'!$B:B)","v":0},"Sensors and Wearables","None","Organizational policy",{"$f":"IF(Table13[[#This Row],[Recertification type]]=\"None unless a change to\",IF(OFFSET('v1 Project Information'!$C$14,MATCH(Table13[[#This Row],[Conditions for change]],'v1 Project Information'!$B$21:$B$44,0),0)=\"Yes\",\"Normal\",\"None\"),Table13[[#This Row],[Recertification type]])","v":"None"},"","Policy Document"]
[null,"O",{"$f":"IF(LEFT(Table13[[#This Row],[Feature and Parts]],3)=\"fea\",MID(Table13[[#This Row],[Feature and Parts]],9,2)+0,C309)","v":95},{"$f":"LOOKUP(Table13[[#This Row],[F'#]],'v1 Achieved Features'!D:D,'v1 Achieved Features'!$B:B)","v":0},"Feature 95. Stress And Addiction Treatment"]
[null,null,{"$f":"IF(LEFT(Table13[[#This Row],[Feature and Parts]],3)=\"fea\",MID(Table13[[#This Row],[Feature and Parts]],9,2)+0,C310)","v":95},{"$f":"LOOKUP(Table13[[#This Row],[F'#]],'v1 Achieved Features'!D:D,'v1 Achieved Features'!$B:B)","v":0},"Mind and Behavior Support","None","Organizational policy",{"$f":"IF(Table13[[#This Row],[Recertification type]]=\"None unless a change to\",IF(OFFSET('v1 Project Information'!$C$14,MATCH(Table13[[#This Row],[Conditions for change]],'v1 Project Information'!$B$21:$B$44,0),0)=\"Yes\",\"Normal\",\"None\"),Table13[[#This Row],[Recertification type]])","v":"None"},"","Policy Document"]
[null,null,{"$f":"IF(LEFT(Table13[[#This Row],[Feature and Parts]],3)=\"fea\",MID(Table13[[#This Row],[Feature and Parts]],9,2)+0,C311)","v":95},{"$f":"LOOKUP(Table13[[#This Row],[F'#]],'v1 Achieved Features'!D:D,'v1 Achieved Features'!$B:B)","v":0},"Stress Management","None","Organizational policy",{"$f":"IF(Table13[[#This Row],[Recertification type]]=\"None unless a change to\",IF(OFFSET('v1 Project Information'!$C$14,MATCH(Table13[[#This Row],[Conditions for change]],'v1 Project Information'!$B$21:$B$44,0),0)=\"Yes\",\"Normal\",\"None\"),Table13[[#This Row],[Recertification type]])","v":"None"},"","Policy Document"]
[null,"O",{"$f":"IF(LEFT(Table13[[#This Row],[Feature and Parts]],3)=\"fea\",MID(Table13[[#This Row],[Feature and Parts]],9,2)+0,C312)","v":96},{"$f":"LOOKUP(Table13[[#This Row],[F'#]],'v1 Achieved Features'!D:D,'v1 Achieved Features'!$B:B)","v":0},"Feature 96. Altruism"]
[null,null,{"$f":"IF(LEFT(Table13[[#This Row],[Feature and Parts]],3)=\"fea\",MID(Table13[[#This Row],[Feature and Parts]],9,2)+0,C313)","v":96},{"$f":"LOOKUP(Table13[[#This Row],[F'#]],'v1 Achieved Features'!D:D,'v1 Achieved Features'!$B:B)","v":0},"Charitable Activities","None","Organizational policy",{"$f":"IF(Table13[[#This Row],[Recertification type]]=\"None unless a change to\",IF(OFFSET('v1 Project Information'!$C$14,MATCH(Table13[[#This Row],[Conditions for change]],'v1 Project Information'!$B$21:$B$44,0),0)=\"Yes\",\"Normal\",\"None\"),Table13[[#This Row],[Recertification type]])","v":"None"},"","Policy Document"]
[null,null,{"$f":"IF(LEFT(Table13[[#This Row],[Feature and Parts]],3)=\"fea\",MID(Table13[[#This Row],[Feature and Parts]],9,2)+0,C314)","v":96},{"$f":"LOOKUP(Table13[[#This Row],[F'#]],'v1 Achieved Features'!D:D,'v1 Achieved Features'!$B:B)","v":0},"Charitable Contributions","None","Organizational policy",{"$f":"IF(Table13[[#This Row],[Recertification type]]=\"None unless a change to\",IF(OFFSET('v1 Project Information'!$C$14,MATCH(Table13[[#This Row],[Conditions for change]],'v1 Project Information'!$B$21:$B$44,0),0)=\"Yes\",\"Normal\",\"None\"),Table13[[#This Row],[Recertification type]])","v":"None"},"","Policy Document"]
[null,"O",{"$f":"IF(LEFT(Table13[[#This Row],[Feature and Parts]],3)=\"fea\",MID(Table13[[#This Row],[Feature and Parts]],9,2)+0,C315)","v":97},{"$f":"LOOKUP(Table13[[#This Row],[F'#]],'v1 Achieved Features'!D:D,'v1 Achieved Features'!$B:B)","v":0},"Feature 97. Material Transparency"]
[null,null,{"$f":"IF(LEFT(Table13[[#This Row],[Feature and Parts]],3)=\"fea\",MID(Table13[[#This Row],[Feature and Parts]],9,2)+0,C316)","v":97},{"$f":"LOOKUP(Table13[[#This Row],[F'#]],'v1 Achieved Features'!D:D,'v1 Achieved Features'!$B:B)","v":0},"Material Information","None",null,{"$f":"IF(Table13[[#This Row],[Recertification type]]=\"None unless a change to\",IF(OFFSET('v1 Project Information'!$C$14,MATCH(Table13[[#This Row],[Conditions for change]],'v1 Project Information'!$B$21:$B$44,0),0)=\"Yes\",\"Normal\",\"None\"),Table13[[#This Row],[Recertification type]])","v":"None"},"","","Architect, Contractor, & Owner"]
[null,null,{"$f":"IF(LEFT(Table13[[#This Row],[Feature and Parts]],3)=\"fea\",MID(Table13[[#This Row],[Feature and Parts]],9,2)+0,C317)","v":97},{"$f":"LOOKUP(Table13[[#This Row],[F'#]],'v1 Achieved Features'!D:D,'v1 Achieved Features'!$B:B)","v":0},"Accessible Information","Normal",null,{"$f":"IF(Table13[[#This Row],[Recertification type]]=\"None unless a change to\",IF(OFFSET('v1 Project Information'!$C$14,MATCH(Table13[[#This Row],[Conditions for change]],'v1 Project Information'!$B$21:$B$44,0),0)=\"Yes\",\"Normal\",\"None\"),Table13[[#This Row],[Recertification type]])","v":"Normal"},"Visual Inspection",""]
[null,"O",{"$f":"IF(LEFT(Table13[[#This Row],[Feature and Parts]],3)=\"fea\",MID(Table13[[#This Row],[Feature and Parts]],9,2)+0,C318)","v":98},{"$f":"LOOKUP(Table13[[#This Row],[F'#]],'v1 Achieved Features'!D:D,'v1 Achieved Features'!$B:B)","v":0},"Feature 98. Organizational Transparency"]
[null,null,{"$f":"IF(LEFT(Table13[[#This Row],[Feature and Parts]],3)=\"fea\",MID(Table13[[#This Row],[Feature and Parts]],9,2)+0,C319)","v":98},{"$f":"LOOKUP(Table13[[#This Row],[F'#]],'v1 Achieved Features'!D:D,'v1 Achieved Features'!$B:B)","v":0},"Transparency Program Participation","None unless a change to","Organizational policy",{"$f":"IF(Table13[[#This Row],[Recertification type]]=\"None unless a change to\",IF(OFFSET('v1 Project Information'!$C$14,MATCH(Table13[[#This Row],[Conditions for change]],'v1 Project Information'!$B$21:$B$44,0),0)=\"Yes\",\"Normal\",\"None\"),Table13[[#This Row],[Recertification type]])","v":"None"},"Spot Check","Policy Document"]
[null,"O",{"$f":"IF(LEFT(Table13[[#This Row],[Feature and Parts]],3)=\"fea\",MID(Table13[[#This Row],[Feature and Parts]],9,2)+0,C320)","v":99},{"$f":"LOOKUP(Table13[[#This Row],[F'#]],'v1 Achieved Features'!D:D,'v1 Achieved Features'!$B:B)","v":0},"Feature 99. Beauty And Design II"]
[null,null,{"$f":"IF(LEFT(Table13[[#This Row],[Feature and Parts]],3)=\"fea\",MID(Table13[[#This Row],[Feature and Parts]],9,2)+0,C321)","v":99},{"$f":"LOOKUP(Table13[[#This Row],[F'#]],'v1 Achieved Features'!D:D,'v1 Achieved Features'!$B:B)","v":0},"Ceiling Height","None unless a change to","Overall structure",{"$f":"IF(Table13[[#This Row],[Recertification type]]=\"None unless a change to\",IF(OFFSET('v1 Project Information'!$C$14,MATCH(Table13[[#This Row],[Conditions for change]],'v1 Project Information'!$B$21:$B$44,0),0)=\"Yes\",\"Normal\",\"None\"),Table13[[#This Row],[Recertification type]])","v":"None"},"Spot Check","Architectural Drawing"]
[null,null,{"$f":"IF(LEFT(Table13[[#This Row],[Feature and Parts]],3)=\"fea\",MID(Table13[[#This Row],[Feature and Parts]],9,2)+0,C322)","v":99},{"$f":"LOOKUP(Table13[[#This Row],[F'#]],'v1 Achieved Features'!D:D,'v1 Achieved Features'!$B:B)","v":0},"Artwork","None unless a change to","Interior design",{"$f":"IF(Table13[[#This Row],[Recertification type]]=\"None unless a change to\",IF(OFFSET('v1 Project Information'!$C$14,MATCH(Table13[[#This Row],[Conditions for change]],'v1 Project Information'!$B$21:$B$44,0),0)=\"Yes\",\"Normal\",\"None\"),Table13[[#This Row],[Recertification type]])","v":"None"},"Visual Inspection",""]
[null,null,{"$f":"IF(LEFT(Table13[[#This Row],[Feature and Parts]],3)=\"fea\",MID(Table13[[#This Row],[Feature and Parts]],9,2)+0,C323)","v":99},{"$f":"LOOKUP(Table13[[#This Row],[F'#]],'v1 Achieved Features'!D:D,'v1 Achieved Features'!$B:B)","v":0},"Spatial Familiarity","None unless a change to","Interior design",{"$f":"IF(Table13[[#This Row],[Recertification type]]=\"None unless a change to\",IF(OFFSET('v1 Project Information'!$C$14,MATCH(Table13[[#This Row],[Conditions for change]],'v1 Project Information'!$B$21:$B$44,0),0)=\"Yes\",\"Normal\",\"None\"),Table13[[#This Row],[Recertification type]])","v":"None"},"Visual Inspection",""]
[null,"O",{"$f":"IF(LEFT(Table13[[#This Row],[Feature and Parts]],3)=\"fea\",MID(Table13[[#This Row],[Feature and Parts]],9,2)+0,C324)","v":10},{"$f":"LOOKUP(Table13[[#This Row],[F'#]],'v1 Achieved Features'!D:D,'v1 Achieved Features'!$B:B)","v":"Yes"},"Feature 100. Biophilia II - Quantitative"]
[null,null,{"$f":"IF(LEFT(Table13[[#This Row],[Feature and Parts]],3)=\"fea\",MID(Table13[[#This Row],[Feature and Parts]],9,2)+0,C325)","v":10},{"$f":"LOOKUP(Table13[[#This Row],[F'#]],'v1 Achieved Features'!D:D,'v1 Achieved Features'!$B:B)","v":"Yes"},"Outdoor Biophilia","None unless a change to","Exterior design",{"$f":"IF(Table13[[#This Row],[Recertification type]]=\"None unless a change to\",IF(OFFSET('v1 Project Information'!$C$14,MATCH(Table13[[#This Row],[Conditions for change]],'v1 Project Information'!$B$21:$B$44,0),0)=\"Yes\",\"Normal\",\"None\"),Table13[[#This Row],[Recertification type]])","v":"None"},"Spot Check","","Owner"]
[null,null,{"$f":"IF(LEFT(Table13[[#This Row],[Feature and Parts]],3)=\"fea\",MID(Table13[[#This Row],[Feature and Parts]],9,2)+0,C326)","v":10},{"$f":"LOOKUP(Table13[[#This Row],[F'#]],'v1 Achieved Features'!D:D,'v1 Achieved Features'!$B:B)","v":"Yes"},"Indoor Biophilia","None unless a change to","Interior design",{"$f":"IF(Table13[[#This Row],[Recertification type]]=\"None unless a change to\",IF(OFFSET('v1 Project Information'!$C$14,MATCH(Table13[[#This Row],[Conditions for change]],'v1 Project Information'!$B$21:$B$44,0),0)=\"Yes\",\"Normal\",\"None\"),Table13[[#This Row],[Recertification type]])","v":"None"},"Spot Check","","Architect"]
[null,null,{"$f":"IF(LEFT(Table13[[#This Row],[Feature and Parts]],3)=\"fea\",MID(Table13[[#This Row],[Feature and Parts]],9,2)+0,C327)","v":10},{"$f":"LOOKUP(Table13[[#This Row],[F'#]],'v1 Achieved Features'!D:D,'v1 Achieved Features'!$B:B)","v":"Yes"},"Water Feature","None unless a change to","Interior design",{"$f":"IF(Table13[[#This Row],[Recertification type]]=\"None unless a change to\",IF(OFFSET('v1 Project Information'!$C$14,MATCH(Table13[[#This Row],[Conditions for change]],'v1 Project Information'!$B$21:$B$44,0),0)=\"Yes\",\"Normal\",\"None\"),Table13[[#This Row],[Recertification type]])","v":"None"},"Spot Check","","Architect"]

{"sheet":"v1 Documentation","index":4,"n_rows":345,"n_cols":11,"rows_kept":345,"cut":false,"hidden":false,"merged":[[15,4,15,10],[19,0,116,0],[117,0,143,0],[185,0,215,0],[330,0,344,0],[144,0,184,0],[278,0,329,0],[216,0,240,0],[241,0,277,0],[17,8,17,10]]}
[]
[]
[" "]
[]
[]
[]
[]
[]
[null,null,"Filtered",1]
[]
[]
[null,"P",null,null,null,"Rows F & G would be hidden from user"]
[null,"O"]
[]
[null,null,null,null,"WELL v1 Recertification Documentation Checklist"]
[null,null,null,null,"The Recertification Documentation Checklist below shows documentation type at the WELL v1 feature level based on the information entered by the project team on the previous Project Information tab, including changes to verification requirements at recertification based on extent of alterations since initial WELL Certification.\n\nVerification Required:\nNormal - Full documentation that was submitted at initial certification should be re-submitted for recertification.\nNormal (for new products) - Full documentation is required for all new products installed since initial certification\nNormal (for new construction) -  Full documentation is required for all new products installed since initial certification\nSome features indicate documentation is required \"for new products/construction only\"; if there has not been any relevant new products or construction since initial certification within the WELL project boundary, no documentation is required for these features.\n\nAnnual Submission - WELL v1 Features that require annual submissions will be checked at recertification. Please upload all three (3) annual submissions (each year following Certification) to your v1 Documents Tab. If you were unable to obtain or record all three (3) annual submissions, please let our team know through your Suport tab and share the following information: the features where ongoing reporting documentation has not been uploaded to date, the reasons why these documents were not collected, and the measures that have been or will be taken to ensure ongoing data will be collected and uploaded correctly in the future. IWBI will evaluate this on a case by case basis and provide a decision to the project team regarding next steps for recertification.\n\nTo show all features and parts, even those not being pursued or requiring documentation, click the \"Show/hide\" button below."]
[]
[null,null,null,null,null,null,null,null,"Documentation Type"]
[null,"O/P","F#","Pursuing","Feature and Parts","Recertification type","Conditions for change","Verification Required","On-Site","Annotated Documents","Letter of Assurance"]
["AIR","P",{"$f":"IF(LEFT(Table1[[#This Row],[Feature and Parts]],3)=\"fea\",MID(Table1[[#This Row],[Feature and Parts]],9,3)+0,C19)","v":1},{"$f":"LOOKUP(Table1[[#This Row],[F'#]],'v1 Achieved Features'!D:D,'v1 Achieved Features'!$B:B)","v":"Yes"},"Feature 01. Air quality standards"]
[null,null,{"$f":"IF(LEFT(Table1[[#This Row],[Feature and Parts]],3)=\"fea\",MID(Table1[[#This Row],[Feature and Parts]],9,3)+0,C20)","v":1},{"$f":"LOOKUP(Table1[[#This Row],[F'#]],'v1 Achieved Features'!D:D,'v1 Achieved Features'!$B:B)","v":"Yes"},"Standards For Volatile Substances","None",null,"See 'Performance Verification'","Performance Test",""]
[null,null,{"$f":"IF(LEFT(Table1[[#This Row],[Feature and Parts]],3)=\"fea\",MID(Table1[[#This Row],[Feature and Parts]],9,3)+0,C21)","v":1},{"$f":"LOOKUP(Table1[[#This Row],[F'#]],'v1 Achieved Features'!D:D,'v1 Achieved Features'!$B:B)","v":"Yes"},"Standards For Particulate Matter And Inorganic Gases","None",null,"See 'Performance Verification'","Performance Test",""]
[null,null,{"$f":"IF(LEFT(Table1[[#This Row],[Feature and Parts]],3)=\"fea\",MID(Table1[[#This Row],[Feature and Parts]],9,3)+0,C22)","v":1},{"$f":"LOOKUP(Table1[[#This Row],[F'#]],'v1 Achieved Features'!D:D,'v1 Achieved Features'!$B:B)","v":"Yes"},"Radon","None",null,"See 'Performance Verification'","Performance Test",""]
[null,"P",{"$f":"IF(LEFT(Table1[[#This Row],[Feature and Parts]],3)=\"fea\",MID(Table1[[#This Row],[Feature and Parts]],9,3)+0,C23)","v":2},{"$f":"LOOKUP(Table1[[#This Row],[F'#]],'v1 Achieved Features'!D:D,'v1 Achieved Features'!$B:B)","v":"Yes"},"Feature 02. Smoking Ban"]
[null,null,{"$f":"IF(LEFT(Table1[[#This Row],[Feature and Parts]],3)=\"fea\",MID(Table1[[#This Row],[Feature and Parts]],9,3)+0,C24)","v":2},{"$f":"LOOKUP(Table1[[#This Row],[F'#]],'v1 Achieved Features'!D:D,'v1 Achieved Features'!$B:B)","v":"Yes"},"Indoor Smoking Ban","None unless a change to","Organizational policy",{"$f":"IF(Table1[[#This Row],[Recertification type]]=\"None unless a change to\",IF(OFFSET('v1 Project Information'!$C$20,MATCH(Table1[[#This Row],[Conditions for change]],'v1 Project Information'!$B$21:$B$44,0),0)=\"Yes\",\"Normal\",\"None\"),Table1[[#This Row],[Recertification type]])","v":"None"},"","Policy Document"]
[null,null,{"$f":"IF(LEFT(Table1[[#This Row],[Feature and Parts]],3)=\"fea\",MID(Table1[[#This Row],[Feature and Parts]],9,3)+0,C25)","v":2},{"$f":"LOOKUP(Table1[[#This Row],[F'#]],'v1 Achieved Features'!D:D,'v1 Achieved Features'!$B:B)","v":"Yes"},"Outdoor Smoking Ban","None",null,{"$f":"IF(Table1[[#This Row],[Recertification type]]=\"None unless a change to\",IF(OFFSET('v1 Project Information'!$C$20,MATCH(Table1[[#This Row],[Conditions for change]],'v1 Project Information'!$B$21:$B$44,0),0)=\"Yes\",\"Normal\",\"None\"),Table1[[#This Row],[Recertification type]])","v":"None"},"Visual Inspection","","-"]
[null,"P",{"$f":"IF(LEFT(Table1[[#This Row],[Feature and Parts]],3)=\"fea\",MID(Table1[[#This Row],[Feature and Parts]],9,3)+0,C26)","v":3},{"$f":"LOOKUP(Table1[[#This Row],[F'#]],'v1 Achieved Features'!D:D,'v1 Achieved Features'!$B:B)","v":"Yes"},"Feature 03. Ventilation Effectiveness"]
[null,null,{"$f":"IF(LEFT(Table1[[#This Row],[Feature and Parts]],3)=\"fea\",MID(Table1[[#This Row],[Feature and Parts]],9,3)+0,C27)","v":3},{"$f":"LOOKUP(Table1[[#This Row],[F'#]],'v1 Achieved Features'!D:D,'v1 Achieved Features'!$B:B)","v":"Yes"},"Ventilation Design","None unless a change to","Mechanical system",{"$f":"IF(Table1[[#This Row],[Recertification type]]=\"None unless a change to\",IF(OFFSET('v1 Project Information'!$C$20,MATCH(Table1[[#This Row],[Conditions for change]],'v1 Project Information'!$B$21:$B$44,0),0)=\"Yes\",\"Normal\",\"None\"),Table1[[#This Row],[Recertification type]])","v":"None"},"","","MEP"]
[null,null,{"$f":"IF(LEFT(Table1[[#This Row],[Feature and Parts]],3)=\"fea\",MID(Table1[[#This Row],[Feature and Parts]],9,3)+0,C28)","v":3},{"$f":"LOOKUP(Table1[[#This Row],[F'#]],'v1 Achieved Features'!D:D,'v1 Achieved Features'!$B:B)","v":"Yes"},"Demand Controlled Ventilation","None unless a change to","Mechanical system",{"$f":"IF(Table1[[#This Row],[Recertification type]]=\"None unless a change to\",IF(OFFSET('v1 Project Information'!$C$20,MATCH(Table1[[#This Row],[Conditions for change]],'v1 Project Information'!$B$21:$B$44,0),0)=\"Yes\",\"Normal\",\"None\"),Table1[[#This Row],[Recertification type]])","v":"None"},"","","MEP"]
[null,null,{"$f":"IF(LEFT(Table1[[#This Row],[Feature and Parts]],3)=\"fea\",MID(Table1[[#This Row],[Feature and Parts]],9,3)+0,C29)","v":3},{"$f":"LOOKUP(Table1[[#This Row],[F'#]],'v1 Achieved Features'!D:D,'v1 Achieved Features'!$B:B)","v":"Yes"},"System Balancing","Normal",null,{"$f":"IF(Table1[[#This Row],[Recertification type]]=\"None unless a change to\",IF(OFFSET('v1 Project Information'!$C$20,MATCH(Table1[[#This Row],[Conditions for change]],'v1 Project Information'!$B$21:$B$44,0),0)=\"Yes\",\"Normal\",\"None\"),Table1[[#This Row],[Recertification type]])","v":"Normal"},"","Testing and Balancing Report"]
[null,"P",{"$f":"IF(LEFT(Table1[[#This Row],[Feature and Parts]],3)=\"fea\",MID(Table1[[#This Row],[Feature and Parts]],9,3)+0,C30)","v":4},{"$f":"LOOKUP(Table1[[#This Row],[F'#]],'v1 Achieved Features'!D:D,'v1 Achieved Features'!$B:B)","v":"Yes"},"Feature 04. VOC Reduction"]
[null,null,{"$f":"IF(LEFT(Table1[[#This Row],[Feature and Parts]],3)=\"fea\",MID(Table1[[#This Row],[Feature and Parts]],9,3)+0,C31)","v":4},{"$f":"LOOKUP(Table1[[#This Row],[F'#]],'v1 Achieved Features'!D:D,'v1 Achieved Features'!$B:B)","v":"Yes"},"Interior Paints and Coatings","Normal (for new products)",null,{"$f":"IF(Table1[[#This Row],[Recertification type]]=\"None unless a change to\",IF(OFFSET('v1 Project Information'!$C$20,MATCH(Table1[[#This Row],[Conditions for change]],'v1 Project Information'!$B$21:$B$44,0),0)=\"Yes\",\"Normal\",\"None\"),Table1[[#This Row],[Recertification type]])","v":"Normal (for new products)"},"","","Architect & Contractor"]
[null,null,{"$f":"IF(LEFT(Table1[[#This Row],[Feature and Parts]],3)=\"fea\",MID(Table1[[#This Row],[Feature and Parts]],9,3)+0,C32)","v":4},{"$f":"LOOKUP(Table1[[#This Row],[F'#]],'v1 Achieved Features'!D:D,'v1 Achieved Features'!$B:B)","v":"Yes"},"Interior Adhesives and Sealants","Normal (for new products)",null,{"$f":"IF(Table1[[#This Row],[Recertification type]]=\"None unless a change to\",IF(OFFSET('v1 Project Information'!$C$20,MATCH(Table1[[#This Row],[Conditions for change]],'v1 Project Information'!$B$21:$B$44,0),0)=\"Yes\",\"Normal\",\"None\"),Table1[[#This Row],[Recertification type]])","v":"Normal (for new products)"},"","","Architect & Contractor"]
[null,null,{"$f":"IF(LEFT(Table1[[#This Row],[Feature and Parts]],3)=\"fea\",MID(Table1[[#This Row],[Feature and Parts]],9,3)+0,C33)","v":4},{"$f":"LOOKUP(Table1[[#This Row],[F'#]],'v1 Achieved Features'!D:D,'v1 Achieved Features'!$B:B)","v":"Yes"},"Flooring","Normal (for new products)",null,{"$f":"IF(Table1[[#This Row],[Recertification type]]=\"None unless a change to\",IF(OFFSET('v1 Project Information'!$C$20,MATCH(Table1[[#This Row],[Conditions for change]],'v1 Project Information'!$B$21:$B$44,0),0)=\"Yes\",\"Normal\",\"None\"),Table1[[#This Row],[Recertification type]])","v":"Normal (for new products)"},"","","Architect & Contractor"]
[null,null,{"$f":"IF(LEFT(Table1[[#This Row],[Feature and Parts]],3)=\"fea\",MID(Table1[[#This Row],[Feature and Parts]],9,3)+0,C34)","v":4},{"$f":"LOOKUP(Table1[[#This Row],[F'#]],'v1 Achieved Features'!D:D,'v1 Achieved Features'!$B:B)","v":"Yes"},"Insulation","Normal (for new products)",null,{"$f":"IF(Table1[[#This Row],[Recertification type]]=\"None unless a change to\",IF(OFFSET('v1 Project Information'!$C$20,MATCH(Table1[[#This Row],[Conditions for change]],'v1 Project Information'!$B$21:$B$44,0),0)=\"Yes\",\"Normal\",\"None\"),Table1[[#This Row],[Recertification type]])","v":"Normal (for new products)"},"","","Architect & Contractor"]
[null,null,{"$f":"IF(LEFT(Table1[[#This Row],[Feature and Parts]],3)=\"fea\",MID(Table1[[#This Row],[Feature and Parts]],9,3)+0,C35)","v":4},{"$f":"LOOKUP(Table1[[#This Row],[F'#]],'v1 Achieved Features'!D:D,'v1 Achieved Features'!$B:B)","v":"Yes"},"Furniture and Furnishings","Normal (for new products)",null,{"$f":"IF(Table1[[#This Row],[Recertification type]]=\"None unless a change to\",IF(OFFSET('v1 Project Information'!$C$20,MATCH(Table1[[#This Row],[Conditions for change]],'v1 Project Information'!$B$21:$B$44,0),0)=\"Yes\",\"Normal\",\"None\"),Table1[[#This Row],[Recertification type]])","v":"Normal (for new products)"},"","","Architect & Owner"]
[null,"P",{"$f":"IF(LEFT(Table1[[#This Row],[Feature and Parts]],3)=\"fea\",MID(Table1[[#This Row],[Feature and Parts]],9,3)+0,C36)","v":5},{"$f":"LOOKUP(Table1[[#This Row],[F'#]],'v1 Achieved Features'!D:D,'v1 Achieved Features'!$B:B)","v":"Yes"},"Feature 05. Air Filtration"]
[null,null,{"$f":"IF(LEFT(Table1[[#This Row],[Feature and Parts]],3)=\"fea\",MID(Table1[[#This Row],[Feature and Parts]],9,3)+0,C37)","v":5},{"$f":"LOOKUP(Table1[[#This Row],[F'#]],'v1 Achieved Features'!D:D,'v1 Achieved Features'!$B:B)","v":"Yes"},"Filter Accommodation","None unless a change to","Mechanical system",{"$f":"IF(Table1[[#This Row],[Recertification type]]=\"None unless a change to\",IF(OFFSET('v1 Project Information'!$C$20,MATCH(Table1[[#This Row],[Conditions for change]],'v1 Project Information'!$B$21:$B$44,0),0)=\"Yes\",\"Normal\",\"None\"),Table1[[#This Row],[Recertification type]])","v":"None"},"Spot Check","","MEP"]
[null,null,{"$f":"IF(LEFT(Table1[[#This Row],[Feature and Parts]],3)=\"fea\",MID(Table1[[#This Row],[Feature and Parts]],9,3)+0,C38)","v":5},{"$f":"LOOKUP(Table1[[#This Row],[F'#]],'v1 Achieved Features'!D:D,'v1 Achieved Features'!$B:B)","v":"Yes"},"Particle Filtration","None unless a change to","Mechanical system",{"$f":"IF(Table1[[#This Row],[Recertification type]]=\"None unless a change to\",IF(OFFSET('v1 Project Information'!$C$20,MATCH(Table1[[#This Row],[Conditions for change]],'v1 Project Information'!$B$21:$B$44,0),0)=\"Yes\",\"Normal\",\"None\"),Table1[[#This Row],[Recertification type]])","v":"None"},"Spot Check","","MEP"]
[null,null,{"$f":"IF(LEFT(Table1[[#This Row],[Feature and Parts]],3)=\"fea\",MID(Table1[[#This Row],[Feature and Parts]],9,3)+0,C39)","v":5},{"$f":"LOOKUP(Table1[[#This Row],[F'#]],'v1 Achieved Features'!D:D,'v1 Achieved Features'!$B:B)","v":"Yes"},"Air Filtration Maintenance","Annual Submission",null,{"$f":"IF(Table1[[#This Row],[Recertification type]]=\"None unless a change to\",IF(OFFSET('v1 Project Information'!$C$20,MATCH(Table1[[#This Row],[Conditions for change]],'v1 Project Information'!$B$21:$B$44,0),0)=\"Yes\",\"Normal\",\"None\"),Table1[[#This Row],[Recertification type]])","v":"Annual Submission"},"","Operations Schedule"]
[null,"P",{"$f":"IF(LEFT(Table1[[#This Row],[Feature and Parts]],3)=\"fea\",MID(Table1[[#This Row],[Feature and Parts]],9,3)+0,C40)","v":6},{"$f":"LOOKUP(Table1[[#This Row],[F'#]],'v1 Achieved Features'!D:D,'v1 Achieved Features'!$B:B)","v":"Yes"},"Feature 06. Microbe And Mold Control"]
[null,null,{"$f":"IF(LEFT(Table1[[#This Row],[Feature and Parts]],3)=\"fea\",MID(Table1[[#This Row],[Feature and Parts]],9,3)+0,C41)","v":6},{"$f":"LOOKUP(Table1[[#This Row],[F'#]],'v1 Achieved Features'!D:D,'v1 Achieved Features'!$B:B)","v":"Yes"},"Cooling Coil Mold Reduction","Annual Submission",null,{"$f":"IF(Table1[[#This Row],[Recertification type]]=\"None unless a change to\",IF(OFFSET('v1 Project Information'!$C$20,MATCH(Table1[[#This Row],[Conditions for change]],'v1 Project Information'!$B$21:$B$44,0),0)=\"Yes\",\"Normal\",\"None\"),Table1[[#This Row],[Recertification type]])","v":"Annual Submission"},"","MEP Drawing or Operations Schedule"]
[null,null,{"$f":"IF(LEFT(Table1[[#This Row],[Feature and Parts]],3)=\"fea\",MID(Table1[[#This Row],[Feature and Parts]],9,3)+0,C42)","v":6},{"$f":"LOOKUP(Table1[[#This Row],[F'#]],'v1 Achieved Features'!D:D,'v1 Achieved Features'!$B:B)","v":"Yes"},"Mold Inspections","None",null,{"$f":"IF(Table1[[#This Row],[Recertification type]]=\"None unless a change to\",IF(OFFSET('v1 Project Information'!$C$20,MATCH(Table1[[#This Row],[Conditions for change]],'v1 Project Information'!$B$21:$B$44,0),0)=\"Yes\",\"Normal\",\"None\"),Table1[[#This Row],[Recertification type]])","v":"None"},"Visual Inspection","","-"]
[null,"P",{"$f":"IF(LEFT(Table1[[#This Row],[Feature and Parts]],3)=\"fea\",MID(Table1[[#This Row],[Feature and Parts]],9,3)+0,C43)","v":7},{"$f":"LOOKUP(Table1[[#This Row],[F'#]],'v1 Achieved Features'!D:D,'v1 Achieved Features'!$B:B)","v":"Yes"},"Feature 07. Construction Pollution Management"]
[null,null,{"$f":"IF(LEFT(Table1[[#This Row],[Feature and Parts]],3)=\"fea\",MID(Table1[[#This Row],[Feature and Parts]],9,3)+0,C44)","v":7},{"$f":"LOOKUP(Table1[[#This Row],[F'#]],'v1 Achieved Features'!D:D,'v1 Achieved Features'!$B:B)","v":"Yes"},"Duct Protection","Normal (for new construction only)",null,{"$f":"IF(Table1[[#This Row],[Recertification type]]=\"None unless a change to\",IF(OFFSET('v1 Project Information'!$C$20,MATCH(Table1[[#This Row],[Conditions for change]],'v1 Project Information'!$B$21:$B$44,0),0)=\"Yes\",\"Normal\",\"None\"),Table1[[#This Row],[Recertification type]])","v":"Normal (for new construction only)"},"","","Contractor"]
[null,null,{"$f":"IF(LEFT(Table1[[#This Row],[Feature and Parts]],3)=\"fea\",MID(Table1[[#This Row],[Feature and Parts]],9,3)+0,C45)","v":7},{"$f":"LOOKUP(Table1[[#This Row],[F'#]],'v1 Achieved Features'!D:D,'v1 Achieved Features'!$B:B)","v":"Yes"},"Filter Replacement","Normal (for new construction only)",null,{"$f":"IF(Table1[[#This Row],[Recertification type]]=\"None unless a change to\",IF(OFFSET('v1 Project Information'!$C$20,MATCH(Table1[[#This Row],[Conditions for change]],'v1 Project Information'!$B$21:$B$44,0),0)=\"Yes\",\"Normal\",\"None\"),Table1[[#This Row],[Recertification type]])","v":"Normal (for new construction only)"},"","","Contractor"]
[null,null,{"$f":"IF(LEFT(Table1[[#This Row],[Feature and Parts]],3)=\"fea\",MID(Table1[[#This Row],[Feature and Parts]],9,3)+0,C46)","v":7},{"$f":"LOOKUP(Table1[[#This Row],[F'#]],'v1 Achieved Features'!D:D,'v1 Achieved Features'!$B:B)","v":"Yes"},"Moisture Absorption Management","Normal (for new construction only)",null,{"$f":"IF(Table1[[#This Row],[Recertification type]]=\"None unless a change to\",IF(OFFSET('v1 Project Information'!$C$20,MATCH(Table1[[#This Row],[Conditions for change]],'v1 Project Information'!$B$21:$B$44,0),0)=\"Yes\",\"Normal\",\"None\"),Table1[[#This Row],[Recertification type]])","v":"Normal (for new construction only)"},"","","Contractor"]
[null,null,{"$f":"IF(LEFT(Table1[[#This Row],[Feature and Parts]],3)=\"fea\",MID(Table1[[#This Row],[Feature and Parts]],9,3)+0,C47)","v":7},{"$f":"LOOKUP(Table1[[#This Row],[F'#]],'v1 Achieved Features'!D:D,'v1 Achieved Features'!$B:B)","v":"Yes"},"Dust Containment and Removal","Normal (for new construction only)",null,{"$f":"IF(Table1[[#This Row],[Recertification type]]=\"None unless a change to\",IF(OFFSET('v1 Project Information'!$C$20,MATCH(Table1[[#This Row],[Conditions for change]],'v1 Project Information'!$B$21:$B$44,0),0)=\"Yes\",\"Normal\",\"None\"),Table1[[#This Row],[Recertification type]])","v":"Normal (for new construction only)"},"","","Contractor"]
[null,"P",{"$f":"IF(LEFT(Table1[[#This Row],[Feature and Parts]],3)=\"fea\",MID(Table1[[#This Row],[Feature and Parts]],9,3)+0,C48)","v":8},{"$f":"LOOKUP(Table1[[#This Row],[F'#]],'v1 Achieved Features'!D:D,'v1 Achieved Features'!$B:B)","v":"Yes"},"Feature 08. Healthy Entrance"]
[null,null,{"$f":"IF(LEFT(Table1[[#This Row],[Feature and Parts]],3)=\"fea\",MID(Table1[[#This Row],[Feature and Parts]],9,3)+0,C49)","v":8},{"$f":"LOOKUP(Table1[[#This Row],[F'#]],'v1 Achieved Features'!D:D,'v1 Achieved Features'!$B:B)","v":"Yes"},"Entryway Walk-Off Systems","None unless a change to","Overall structure",{"$f":"IF(Table1[[#This Row],[Recertification type]]=\"None unless a change to\",IF(OFFSET('v1 Project Information'!$C$20,MATCH(Table1[[#This Row],[Conditions for change]],'v1 Project Information'!$B$21:$B$44,0),0)=\"Yes\",\"Normal\",\"None\"),Table1[[#This Row],[Recertification type]])","v":"None"},"Visual Inspection",""]
[null,null,{"$f":"IF(LEFT(Table1[[#This Row],[Feature and Parts]],3)=\"fea\",MID(Table1[[#This Row],[Feature and Parts]],9,3)+0,C50)","v":8},{"$f":"LOOKUP(Table1[[#This Row],[F'#]],'v1 Achieved Features'!D:D,'v1 Achieved Features'!$B:B)","v":"Yes"},"Entryway Air Seal","None unless a change to","Overall structure",{"$f":"IF(Table1[[#This Row],[Recertification type]]=\"None unless a change to\",IF(OFFSET('v1 Project Information'!$C$20,MATCH(Table1[[#This Row],[Conditions for change]],'v1 Project Information'!$B$21:$B$44,0),0)=\"Yes\",\"Normal\",\"None\"),Table1[[#This Row],[Recertification type]])","v":"None"},"Visual Inspection",""]
[null,"P",{"$f":"IF(LEFT(Table1[[#This Row],[Feature and Parts]],3)=\"fea\",MID(Table1[[#This Row],[Feature and Parts]],9,3)+0,C51)","v":9},{"$f":"LOOKUP(Table1[[#This Row],[F'#]],'v1 Achieved Features'!D:D,'v1 Achieved Features'!$B:B)","v":"Yes"},"Feature 09. Cleaning Protocol"]
[null,null,{"$f":"IF(LEFT(Table1[[#This Row],[Feature and Parts]],3)=\"fea\",MID(Table1[[#This Row],[Feature and Parts]],9,3)+0,C52)","v":9},{"$f":"LOOKUP(Table1[[#This Row],[F'#]],'v1 Achieved Features'!D:D,'v1 Achieved Features'!$B:B)","v":"Yes"},"Cleaning Plan for Occupied Spaces","None unless a change to","Cleaning protocol",{"$f":"IF(Table1[[#This Row],[Recertification type]]=\"None unless a change to\",IF(OFFSET('v1 Project Information'!$C$20,MATCH(Table1[[#This Row],[Conditions for change]],'v1 Project Information'!$B$21:$B$44,0),0)=\"Yes\",\"Normal\",\"None\"),Table1[[#This Row],[Recertification type]])","v":"None"},"","Operations Schedule"]
[null,"P",{"$f":"IF(LEFT(Table1[[#This Row],[Feature and Parts]],3)=\"fea\",MID(Table1[[#This Row],[Feature and Parts]],9,3)+0,C53)","v":10},{"$f":"LOOKUP(Table1[[#This Row],[F'#]],'v1 Achieved Features'!D:D,'v1 Achieved Features'!$B:B)","v":"Yes"},"Feature 10. Pesticide Management"]
[null,null,{"$f":"IF(LEFT(Table1[[#This Row],[Feature and Parts]],3)=\"fea\",MID(Table1[[#This Row],[Feature and Parts]],9,3)+0,C54)","v":10},{"$f":"LOOKUP(Table1[[#This Row],[F'#]],'v1 Achieved Features'!D:D,'v1 Achieved Features'!$B:B)","v":"Yes"},"Pesticide Use","None unless a change to","Cleaning protocol",{"$f":"IF(Table1[[#This Row],[Recertification type]]=\"None unless a change to\",IF(OFFSET('v1 Project Information'!$C$20,MATCH(Table1[[#This Row],[Conditions for change]],'v1 Project Information'!$B$21:$B$44,0),0)=\"Yes\",\"Normal\",\"None\"),Table1[[#This Row],[Recertification type]])","v":"None"},"","Operations Schedule"]
[null,"P",{"$f":"IF(LEFT(Table1[[#This Row],[Feature and Parts]],3)=\"fea\",MID(Table1[[#This Row],[Feature and Parts]],9,3)+0,C55)","v":11},{"$f":"LOOKUP(Table1[[#This Row],[F'#]],'v1 Achieved Features'!D:D,'v1 Achieved Features'!$B:B)","v":"Yes"},"Feature 11. Fundamental Material Safety"]
[null,null,{"$f":"IF(LEFT(Table1[[#This Row],[Feature and Parts]],3)=\"fea\",MID(Table1[[#This Row],[Feature and Parts]],9,3)+0,C56)","v":11},{"$f":"LOOKUP(Table1[[#This Row],[F'#]],'v1 Achieved Features'!D:D,'v1 Achieved Features'!$B:B)","v":"Yes"},"Asbestos and Lead Restriction","Normal (for new products)",null,{"$f":"IF(Table1[[#This Row],[Recertification type]]=\"None unless a change to\",IF(OFFSET('v1 Project Information'!$C$20,MATCH(Table1[[#This Row],[Conditions for change]],'v1 Project Information'!$B$21:$B$44,0),0)=\"Yes\",\"Normal\",\"None\"),Table1[[#This Row],[Recertification type]])","v":"Normal (for new products)"},"","","Architect & MEP"]
[null,null,{"$f":"IF(LEFT(Table1[[#This Row],[Feature and Parts]],3)=\"fea\",MID(Table1[[#This Row],[Feature and Parts]],9,3)+0,C57)","v":11},{"$f":"LOOKUP(Table1[[#This Row],[F'#]],'v1 Achieved Features'!D:D,'v1 Achieved Features'!$B:B)","v":"Yes"},"Lead Abatement","Normal (for new construction only)",null,{"$f":"IF(Table1[[#This Row],[Recertification type]]=\"None unless a change to\",IF(OFFSET('v1 Project Information'!$C$20,MATCH(Table1[[#This Row],[Conditions for change]],'v1 Project Information'!$B$21:$B$44,0),0)=\"Yes\",\"Normal\",\"None\"),Table1[[#This Row],[Recertification type]])","v":"Normal (for new construction only)"},"","Remediation Report"]
[null,null,{"$f":"IF(LEFT(Table1[[#This Row],[Feature and Parts]],3)=\"fea\",MID(Table1[[#This Row],[Feature and Parts]],9,3)+0,C58)","v":11},{"$f":"LOOKUP(Table1[[#This Row],[F'#]],'v1 Achieved Features'!D:D,'v1 Achieved Features'!$B:B)","v":"Yes"},"Asbestos Abatement","Normal (for new construction only)",null,{"$f":"IF(Table1[[#This Row],[Recertification type]]=\"None unless a change to\",IF(OFFSET('v1 Project Information'!$C$20,MATCH(Table1[[#This Row],[Conditions for change]],'v1 Project Information'!$B$21:$B$44,0),0)=\"Yes\",\"Normal\",\"None\"),Table1[[#This Row],[Recertification type]])","v":"Normal (for new construction only)"},"","Remediation Report"]
[null,null,{"$f":"IF(LEFT(Table1[[#This Row],[Feature and Parts]],3)=\"fea\",MID(Table1[[#This Row],[Feature and Parts]],9,3)+0,C59)","v":11},{"$f":"LOOKUP(Table1[[#This Row],[F'#]],'v1 Achieved Features'!D:D,'v1 Achieved Features'!$B:B)","v":"Yes"},"Polychlorinated Biphenyl Abatement","Normal (for new construction only)",null,{"$f":"IF(Table1[[#This Row],[Recertification type]]=\"None unless a change to\",IF(OFFSET('v1 Project Information'!$C$20,MATCH(Table1[[#This Row],[Conditions for change]],'v1 Project Information'!$B$21:$B$44,0),0)=\"Yes\",\"Normal\",\"None\"),Table1[[#This Row],[Recertification type]])","v":"Normal (for new construction only)"},"","Remediation Report"]
[null,null,{"$f":"IF(LEFT(Table1[[#This Row],[Feature and Parts]],3)=\"fea\",MID(Table1[[#This Row],[Feature and Parts]],9,3)+0,C60)","v":11},{"$f":"LOOKUP(Table1[[#This Row],[F'#]],'v1 Achieved Features'!D:D,'v1 Achieved Features'!$B:B)","v":"Yes"},"Mercury Limitation","Normal (for new construction only)",null,{"$f":"IF(Table1[[#This Row],[Recertification type]]=\"None unless a change to\",IF(OFFSET('v1 Project Information'!$C$20,MATCH(Table1[[#This Row],[Conditions for change]],'v1 Project Information'!$B$21:$B$44,0),0)=\"Yes\",\"Normal\",\"None\"),Table1[[#This Row],[Recertification type]])","v":"Normal (for new construction only)"},"","Policy Document"]
[null,"P",{"$f":"IF(LEFT(Table1[[#This Row],[Feature and Parts]],3)=\"fea\",MID(Table1[[#This Row],[Feature and Parts]],9,3)+0,C61)","v":12},{"$f":"LOOKUP(Table1[[#This Row],[F'#]],'v1 Achieved Features'!D:D,'v1 Achieved Features'!$B:B)","v":"Yes"},"Feature 12. Moisture Management"]
[null,null,{"$f":"IF(LEFT(Table1[[#This Row],[Feature and Parts]],3)=\"fea\",MID(Table1[[#This Row],[Feature and Parts]],9,3)+0,C62)","v":12},{"$f":"LOOKUP(Table1[[#This Row],[F'#]],'v1 Achieved Features'!D:D,'v1 Achieved Features'!$B:B)","v":"Yes"},"Exterior Liquid Water Management","None unless a change to","Overall structure",{"$f":"IF(Table1[[#This Row],[Recertification type]]=\"None unless a change to\",IF(OFFSET('v1 Project Information'!$C$20,MATCH(Table1[[#This Row],[Conditions for change]],'v1 Project Information'!$B$21:$B$44,0),0)=\"Yes\",\"Normal\",\"None\"),Table1[[#This Row],[Recertification type]])","v":"None"},"","Professional Narrative"]
[null,null,{"$f":"IF(LEFT(Table1[[#This Row],[Feature and Parts]],3)=\"fea\",MID(Table1[[#This Row],[Feature and Parts]],9,3)+0,C63)","v":12},{"$f":"LOOKUP(Table1[[#This Row],[F'#]],'v1 Achieved Features'!D:D,'v1 Achieved Features'!$B:B)","v":"Yes"},"Interior Liquid Water Management","None unless a change to","Plumbing system",{"$f":"IF(Table1[[#This Row],[Recertification type]]=\"None unless a change to\",IF(OFFSET('v1 Project Information'!$C$20,MATCH(Table1[[#This Row],[Conditions for change]],'v1 Project Information'!$B$21:$B$44,0),0)=\"Yes\",\"Normal\",\"None\"),Table1[[#This Row],[Recertification type]])","v":"None"},"","Professional Narrative"]
[null,null,{"$f":"IF(LEFT(Table1[[#This Row],[Feature and Parts]],3)=\"fea\",MID(Table1[[#This Row],[Feature and Parts]],9,3)+0,C64)","v":12},{"$f":"LOOKUP(Table1[[#This Row],[F'#]],'v1 Achieved Features'!D:D,'v1 Achieved Features'!$B:B)","v":"Yes"},"Condensation Management","None unless a change to","Overall structure",{"$f":"IF(Table1[[#This Row],[Recertification type]]=\"None unless a change to\",IF(OFFSET('v1 Project Information'!$C$20,MATCH(Table1[[#This Row],[Conditions for change]],'v1 Project Information'!$B$21:$B$44,0),0)=\"Yes\",\"Normal\",\"None\"),Table1[[#This Row],[Recertification type]])","v":"None"},"","Professional Narrative"]
[null,null,{"$f":"IF(LEFT(Table1[[#This Row],[Feature and Parts]],3)=\"fea\",MID(Table1[[#This Row],[Feature and Parts]],9,3)+0,C65)","v":12},{"$f":"LOOKUP(Table1[[#This Row],[F'#]],'v1 Achieved Features'!D:D,'v1 Achieved Features'!$B:B)","v":"Yes"},"Material Selection and Protection","None unless a change to","Overall structure",{"$f":"IF(Table1[[#This Row],[Recertification type]]=\"None unless a change to\",IF(OFFSET('v1 Project Information'!$C$20,MATCH(Table1[[#This Row],[Conditions for change]],'v1 Project Information'!$B$21:$B$44,0),0)=\"Yes\",\"Normal\",\"None\"),Table1[[#This Row],[Recertification type]])","v":"None"},"","Professional Narrative"]
[null,"O",{"$f":"IF(LEFT(Table1[[#This Row],[Feature and Parts]],3)=\"fea\",MID(Table1[[#This Row],[Feature and Parts]],9,3)+0,C66)","v":13},{"$f":"LOOKUP(Table1[[#This Row],[F'#]],'v1 Achieved Features'!D:D,'v1 Achieved Features'!$B:B)","v":0},"Feature 13. Air Flush"]
[null,null,{"$f":"IF(LEFT(Table1[[#This Row],[Feature and Parts]],3)=\"fea\",MID(Table1[[#This Row],[Feature and Parts]],9,3)+0,C67)","v":13},{"$f":"LOOKUP(Table1[[#This Row],[F'#]],'v1 Achieved Features'!D:D,'v1 Achieved Features'!$B:B)","v":0},"Air Flush","None",null,{"$f":"IF(Table1[[#This Row],[Recertification type]]=\"None unless a change to\",IF(OFFSET('v1 Project Information'!$C$20,MATCH(Table1[[#This Row],[Conditions for change]],'v1 Project Information'!$B$21:$B$44,0),0)=\"Yes\",\"Normal\",\"None\"),Table1[[#This Row],[Recertification type]])","v":"None"},"","","Contractor"]
[null,"O",{"$f":"IF(LEFT(Table1[[#This Row],[Feature and Parts]],3)=\"fea\",MID(Table1[[#This Row],[Feature and Parts]],9,3)+0,C68)","v":14},{"$f":"LOOKUP(Table1[[#This Row],[F'#]],'v1 Achieved Features'!D:D,'v1 Achieved Features'!$B:B)","v":0},"Feature 14. Air Infiltration Management"]
[null,null,{"$f":"IF(LEFT(Table1[[#This Row],[Feature and Parts]],3)=\"fea\",MID(Table1[[#This Row],[Feature and Parts]],9,3)+0,C69)","v":14},{"$f":"LOOKUP(Table1[[#This Row],[F'#]],'v1 Achieved Features'!D:D,'v1 Achieved Features'!$B:B)","v":0},"Air Leakage Testing","None unless a change to","Overall structure",{"$f":"IF(Table1[[#This Row],[Recertification type]]=\"None unless a change to\",IF(OFFSET('v1 Project Information'!$C$20,MATCH(Table1[[#This Row],[Conditions for change]],'v1 Project Information'!$B$21:$B$44,0),0)=\"Yes\",\"Normal\",\"None\"),Table1[[#This Row],[Recertification type]])","v":"None"},"","Commissioning Report"]
[null,"O",{"$f":"IF(LEFT(Table1[[#This Row],[Feature and Parts]],3)=\"fea\",MID(Table1[[#This Row],[Feature and Parts]],9,3)+0,C70)","v":15},{"$f":"LOOKUP(Table1[[#This Row],[F'#]],'v1 Achieved Features'!D:D,'v1 Achieved Features'!$B:B)","v":0},"Feature 15. Increased Ventilation"]
[null,null,{"$f":"IF(LEFT(Table1[[#This Row],[Feature and Parts]],3)=\"fea\",MID(Table1[[#This Row],[Feature and Parts]],9,3)+0,C71)","v":15},{"$f":"LOOKUP(Table1[[#This Row],[F'#]],'v1 Achieved Features'!D:D,'v1 Achieved Features'!$B:B)","v":0},"Increased Outdoor Air Supply","None unless a change to","Mechanical system",{"$f":"IF(Table1[[#This Row],[Recertification type]]=\"None unless a change to\",IF(OFFSET('v1 Project Information'!$C$20,MATCH(Table1[[#This Row],[Conditions for change]],'v1 Project Information'!$B$21:$B$44,0),0)=\"Yes\",\"Normal\",\"None\"),Table1[[#This Row],[Recertification type]])","v":"None"},"","","MEP"]
[null,"O",{"$f":"IF(LEFT(Table1[[#This Row],[Feature and Parts]],3)=\"fea\",MID(Table1[[#This Row],[Feature and Parts]],9,3)+0,C72)","v":16},{"$f":"LOOKUP(Table1[[#This Row],[F'#]],'v1 Achieved Features'!D:D,'v1 Achieved Features'!$B:B)","v":0},"Feature 16. Humidity Control"]
[null,null,{"$f":"IF(LEFT(Table1[[#This Row],[Feature and Parts]],3)=\"fea\",MID(Table1[[#This Row],[Feature and Parts]],9,3)+0,C73)","v":16},{"$f":"LOOKUP(Table1[[#This Row],[F'#]],'v1 Achieved Features'!D:D,'v1 Achieved Features'!$B:B)","v":0},"Relative Humidity","None unless a change to","Mechanical system",{"$f":"IF(Table1[[#This Row],[Recertification type]]=\"None unless a change to\",IF(OFFSET('v1 Project Information'!$C$20,MATCH(Table1[[#This Row],[Conditions for change]],'v1 Project Information'!$B$21:$B$44,0),0)=\"Yes\",\"Normal\",\"None\"),Table1[[#This Row],[Recertification type]])","v":"None"},"Spot Measurement","","MEP"]
[null,"O",{"$f":"IF(LEFT(Table1[[#This Row],[Feature and Parts]],3)=\"fea\",MID(Table1[[#This Row],[Feature and Parts]],9,3)+0,C74)","v":17},{"$f":"LOOKUP(Table1[[#This Row],[F'#]],'v1 Achieved Features'!D:D,'v1 Achieved Features'!$B:B)","v":0},"Feature 17. Direct Source Ventilation"]
[null,null,{"$f":"IF(LEFT(Table1[[#This Row],[Feature and Parts]],3)=\"fea\",MID(Table1[[#This Row],[Feature and Parts]],9,3)+0,C75)","v":17},{"$f":"LOOKUP(Table1[[#This Row],[F'#]],'v1 Achieved Features'!D:D,'v1 Achieved Features'!$B:B)","v":0},"Pollution Isolation and Exhaust","None unless a change to","Interior design",{"$f":"IF(Table1[[#This Row],[Recertification type]]=\"None unless a change to\",IF(OFFSET('v1 Project Information'!$C$20,MATCH(Table1[[#This Row],[Conditions for change]],'v1 Project Information'!$B$21:$B$44,0),0)=\"Yes\",\"Normal\",\"None\"),Table1[[#This Row],[Recertification type]])","v":"None"},"","Mechanical and Architectural Drawings"]
[null,"O",{"$f":"IF(LEFT(Table1[[#This Row],[Feature and Parts]],3)=\"fea\",MID(Table1[[#This Row],[Feature and Parts]],9,3)+0,C76)","v":18},{"$f":"LOOKUP(Table1[[#This Row],[F'#]],'v1 Achieved Features'!D:D,'v1 Achieved Features'!$B:B)","v":0},"Feature 18. Air Quality Monitoring And Feedback"]
[null,null,{"$f":"IF(LEFT(Table1[[#This Row],[Feature and Parts]],3)=\"fea\",MID(Table1[[#This Row],[Feature and Parts]],9,3)+0,C77)","v":18},{"$f":"LOOKUP(Table1[[#This Row],[F'#]],'v1 Achieved Features'!D:D,'v1 Achieved Features'!$B:B)","v":0},"Indoor Air Monitoring","Annual Submission",null,{"$f":"IF(Table1[[#This Row],[Recertification type]]=\"None unless a change to\",IF(OFFSET('v1 Project Information'!$C$20,MATCH(Table1[[#This Row],[Conditions for change]],'v1 Project Information'!$B$21:$B$44,0),0)=\"Yes\",\"Normal\",\"None\"),Table1[[#This Row],[Recertification type]])","v":"Annual Submission"},"Spot Check","","MEP"]
[null,null,{"$f":"IF(LEFT(Table1[[#This Row],[Feature and Parts]],3)=\"fea\",MID(Table1[[#This Row],[Feature and Parts]],9,3)+0,C78)","v":18},{"$f":"LOOKUP(Table1[[#This Row],[F'#]],'v1 Achieved Features'!D:D,'v1 Achieved Features'!$B:B)","v":0},"Air Data Record Keeping and Response","None",null,{"$f":"IF(Table1[[#This Row],[Recertification type]]=\"None unless a change to\",IF(OFFSET('v1 Project Information'!$C$20,MATCH(Table1[[#This Row],[Conditions for change]],'v1 Project Information'!$B$21:$B$44,0),0)=\"Yes\",\"Normal\",\"None\"),Table1[[#This Row],[Recertification type]])","v":"None"},"","Operations Schedule"]
[null,null,{"$f":"IF(LEFT(Table1[[#This Row],[Feature and Parts]],3)=\"fea\",MID(Table1[[#This Row],[Feature and Parts]],9,3)+0,C79)","v":18},{"$f":"LOOKUP(Table1[[#This Row],[F'#]],'v1 Achieved Features'!D:D,'v1 Achieved Features'!$B:B)","v":0},"Environmental Measures Display","None unless a change to","Interior design",{"$f":"IF(Table1[[#This Row],[Recertification type]]=\"None unless a change to\",IF(OFFSET('v1 Project Information'!$C$20,MATCH(Table1[[#This Row],[Conditions for change]],'v1 Project Information'!$B$21:$B$44,0),0)=\"Yes\",\"Normal\",\"None\"),Table1[[#This Row],[Recertification type]])","v":"None"},"Visual Inspection","","-"]
[null,"O",{"$f":"IF(LEFT(Table1[[#This Row],[Feature and Parts]],3)=\"fea\",MID(Table1[[#This Row],[Feature and Parts]],9,3)+0,C80)","v":19},{"$f":"LOOKUP(Table1[[#This Row],[F'#]],'v1 Achieved Features'!D:D,'v1 Achieved Features'!$B:B)","v":0},"Feature 19. Operable Windows"]
[null,null,{"$f":"IF(LEFT(Table1[[#This Row],[Feature and Parts]],3)=\"fea\",MID(Table1[[#This Row],[Feature and Parts]],9,3)+0,C81)","v":19},{"$f":"LOOKUP(Table1[[#This Row],[F'#]],'v1 Achieved Features'!D:D,'v1 Achieved Features'!$B:B)","v":0},"Full Control","None unless a change to","Overall structure",{"$f":"IF(Table1[[#This Row],[Recertification type]]=\"None unless a change to\",IF(OFFSET('v1 Project Information'!$C$20,MATCH(Table1[[#This Row],[Conditions for change]],'v1 Project Information'!$B$21:$B$44,0),0)=\"Yes\",\"Normal\",\"None\"),Table1[[#This Row],[Recertification type]])","v":"None"},"Spot Check","","Architect"]
[null,null,{"$f":"IF(LEFT(Table1[[#This Row],[Feature and Parts]],3)=\"fea\",MID(Table1[[#This Row],[Feature and Parts]],9,3)+0,C82)","v":19},{"$f":"LOOKUP(Table1[[#This Row],[F'#]],'v1 Achieved Features'!D:D,'v1 Achieved Features'!$B:B)","v":0},"Outdoor Air Measurement","Normal",null,{"$f":"IF(Table1[[#This Row],[Recertification type]]=\"None unless a change to\",IF(OFFSET('v1 Project Information'!$C$20,MATCH(Table1[[#This Row],[Conditions for change]],'v1 Project Information'!$B$21:$B$44,0),0)=\"Yes\",\"Normal\",\"None\"),Table1[[#This Row],[Recertification type]])","v":"Normal"},"","Policy Document"]
[null,null,{"$f":"IF(LEFT(Table1[[#This Row],[Feature and Parts]],3)=\"fea\",MID(Table1[[#This Row],[Feature and Parts]],9,3)+0,C83)","v":19},{"$f":"LOOKUP(Table1[[#This Row],[F'#]],'v1 Achieved Features'!D:D,'v1 Achieved Features'!$B:B)","v":0},"Window Operation Management","None unless a change to","Interior design",{"$f":"IF(Table1[[#This Row],[Recertification type]]=\"None unless a change to\",IF(OFFSET('v1 Project Information'!$C$20,MATCH(Table1[[#This Row],[Conditions for change]],'v1 Project Information'!$B$21:$B$44,0),0)=\"Yes\",\"Normal\",\"None\"),Table1[[#This Row],[Recertification type]])","v":"None"},"Spot Check","","Owner"]
[null,"O",{"$f":"IF(LEFT(Table1[[#This Row],[Feature and Parts]],3)=\"fea\",MID(Table1[[#This Row],[Feature and Parts]],9,3)+0,C84)","v":20},{"$f":"LOOKUP(Table1[[#This Row],[F'#]],'v1 Achieved Features'!D:D,'v1 Achieved Features'!$B:B)","v":0},"Feature 20. Outdoor Air Systems"]
[null,null,{"$f":"IF(LEFT(Table1[[#This Row],[Feature and Parts]],3)=\"fea\",MID(Table1[[#This Row],[Feature and Parts]],9,3)+0,C85)","v":20},{"$f":"LOOKUP(Table1[[#This Row],[F'#]],'v1 Achieved Features'!D:D,'v1 Achieved Features'!$B:B)","v":0},"Dedicated Outdoor Air Systems","None unless a change to","Mechanical system",{"$f":"IF(Table1[[#This Row],[Recertification type]]=\"None unless a change to\",IF(OFFSET('v1 Project Information'!$C$20,MATCH(Table1[[#This Row],[Conditions for change]],'v1 Project Information'!$B$21:$B$44,0),0)=\"Yes\",\"Normal\",\"None\"),Table1[[#This Row],[Recertification type]])","v":"None"},"","","MEP"]
[null,"O",{"$f":"IF(LEFT(Table1[[#This Row],[Feature and Parts]],3)=\"fea\",MID(Table1[[#This Row],[Feature and Parts]],9,3)+0,C86)","v":21},{"$f":"LOOKUP(Table1[[#This Row],[F'#]],'v1 Achieved Features'!D:D,'v1 Achieved Features'!$B:B)","v":0},"Feature 21. Displacement Ventilation"]
[null,null,{"$f":"IF(LEFT(Table1[[#This Row],[Feature and Parts]],3)=\"fea\",MID(Table1[[#This Row],[Feature and Parts]],9,3)+0,C87)","v":21},{"$f":"LOOKUP(Table1[[#This Row],[F'#]],'v1 Achieved Features'!D:D,'v1 Achieved Features'!$B:B)","v":0},"Displacement Ventilation Design and Application","None unless a change to","Mechanical system",{"$f":"IF(Table1[[#This Row],[Recertification type]]=\"None unless a change to\",IF(OFFSET('v1 Project Information'!$C$20,MATCH(Table1[[#This Row],[Conditions for change]],'v1 Project Information'!$B$21:$B$44,0),0)=\"Yes\",\"Normal\",\"None\"),Table1[[#This Row],[Recertification type]])","v":"None"},"","","MEP"]
[null,null,{"$f":"IF(LEFT(Table1[[#This Row],[Feature and Parts]],3)=\"fea\",MID(Table1[[#This Row],[Feature and Parts]],9,3)+0,C88)","v":21},{"$f":"LOOKUP(Table1[[#This Row],[F'#]],'v1 Achieved Features'!D:D,'v1 Achieved Features'!$B:B)","v":0},"System Performance","None unless a change to","Mechanical system",{"$f":"IF(Table1[[#This Row],[Recertification type]]=\"None unless a change to\",IF(OFFSET('v1 Project Information'!$C$20,MATCH(Table1[[#This Row],[Conditions for change]],'v1 Project Information'!$B$21:$B$44,0),0)=\"Yes\",\"Normal\",\"None\"),Table1[[#This Row],[Recertification type]])","v":"None"},"","","MEP"]
[null,"O",{"$f":"IF(LEFT(Table1[[#This Row],[Feature and Parts]],3)=\"fea\",MID(Table1[[#This Row],[Feature and Parts]],9,3)+0,C89)","v":22},{"$f":"LOOKUP(Table1[[#This Row],[F'#]],'v1 Achieved Features'!D:D,'v1 Achieved Features'!$B:B)","v":0},"Feature 22. Pest Control"]
[null,null,{"$f":"IF(LEFT(Table1[[#This Row],[Feature and Parts]],3)=\"fea\",MID(Table1[[#This Row],[Feature and Parts]],9,3)+0,C90)","v":22},{"$f":"LOOKUP(Table1[[#This Row],[F'#]],'v1 Achieved Features'!D:D,'v1 Achieved Features'!$B:B)","v":0},"Pest Reduction","None unless a change to","Interior design",{"$f":"IF(Table1[[#This Row],[Recertification type]]=\"None unless a change to\",IF(OFFSET('v1 Project Information'!$C$20,MATCH(Table1[[#This Row],[Conditions for change]],'v1 Project Information'!$B$21:$B$44,0),0)=\"Yes\",\"Normal\",\"None\"),Table1[[#This Row],[Recertification type]])","v":"None"},"Spot Check","Operations Schedule","-"]
[null,null,{"$f":"IF(LEFT(Table1[[#This Row],[Feature and Parts]],3)=\"fea\",MID(Table1[[#This Row],[Feature and Parts]],9,3)+0,C91)","v":22},{"$f":"LOOKUP(Table1[[#This Row],[F'#]],'v1 Achieved Features'!D:D,'v1 Achieved Features'!$B:B)","v":0},"Pest Inspection","None",null,{"$f":"IF(Table1[[#This Row],[Recertification type]]=\"None unless a change to\",IF(OFFSET('v1 Project Information'!$C$20,MATCH(Table1[[#This Row],[Conditions for change]],'v1 Project Information'!$B$21:$B$44,0),0)=\"Yes\",\"Normal\",\"None\"),Table1[[#This Row],[Recertification type]])","v":"None"},"Visual Inspection","","-"]
[null,"O",{"$f":"IF(LEFT(Table1[[#This Row],[Feature and Parts]],3)=\"fea\",MID(Table1[[#This Row],[Feature and Parts]],9,3)+0,C92)","v":23},{"$f":"LOOKUP(Table1[[#This Row],[F'#]],'v1 Achieved Features'!D:D,'v1 Achieved Features'!$B:B)","v":0},"Feature 23. Advanced Air Purification"]
[null,null,{"$f":"IF(LEFT(Table1[[#This Row],[Feature and Parts]],3)=\"fea\",MID(Table1[[#This Row],[Feature and Parts]],9,3)+0,C93)","v":23},{"$f":"LOOKUP(Table1[[#This Row],[F'#]],'v1 Achieved Features'!D:D,'v1 Achieved Features'!$B:B)","v":0},"Carbon Filtration","None unless a change to","Mechanical system",{"$f":"IF(Table1[[#This Row],[Recertification type]]=\"None unless a change to\",IF(OFFSET('v1 Project Information'!$C$20,MATCH(Table1[[#This Row],[Conditions for change]],'v1 Project Information'!$B$21:$B$44,0),0)=\"Yes\",\"Normal\",\"None\"),Table1[[#This Row],[Recertification type]])","v":"None"},"Spot Check","","MEP"]
[null,null,{"$f":"IF(LEFT(Table1[[#This Row],[Feature and Parts]],3)=\"fea\",MID(Table1[[#This Row],[Feature and Parts]],9,3)+0,C94)","v":23},{"$f":"LOOKUP(Table1[[#This Row],[F'#]],'v1 Achieved Features'!D:D,'v1 Achieved Features'!$B:B)","v":0},"Air Sanitization","None unless a change to","Mechanical system",{"$f":"IF(Table1[[#This Row],[Recertification type]]=\"None unless a change to\",IF(OFFSET('v1 Project Information'!$C$20,MATCH(Table1[[#This Row],[Conditions for change]],'v1 Project Information'!$B$21:$B$44,0),0)=\"Yes\",\"Normal\",\"None\"),Table1[[#This Row],[Recertification type]])","v":"None"},"Spot Check","","MEP"]
[null,null,{"$f":"IF(LEFT(Table1[[#This Row],[Feature and Parts]],3)=\"fea\",MID(Table1[[#This Row],[Feature and Parts]],9,3)+0,C95)","v":23},{"$f":"LOOKUP(Table1[[#This Row],[F'#]],'v1 Achieved Features'!D:D,'v1 Achieved Features'!$B:B)","v":0},"Air Quality Maintenance","Annual Submission",null,{"$f":"IF(Table1[[#This Row],[Recertification type]]=\"None unless a change to\",IF(OFFSET('v1 Project Information'!$C$20,MATCH(Table1[[#This Row],[Conditions for change]],'v1 Project Information'!$B$21:$B$44,0),0)=\"Yes\",\"Normal\",\"None\"),Table1[[#This Row],[Recertification type]])","v":"Annual Submission"},"","Operations Schedule"]
[null,"O",{"$f":"IF(LEFT(Table1[[#This Row],[Feature and Parts]],3)=\"fea\",MID(Table1[[#This Row],[Feature and Parts]],9,3)+0,C96)","v":24},{"$f":"LOOKUP(Table1[[#This Row],[F'#]],'v1 Achieved Features'!D:D,'v1 Achieved Features'!$B:B)","v":0},"Feature 24. Combustion Minimization"]
[null,null,{"$f":"IF(LEFT(Table1[[#This Row],[Feature and Parts]],3)=\"fea\",MID(Table1[[#This Row],[Feature and Parts]],9,3)+0,C97)","v":24},{"$f":"LOOKUP(Table1[[#This Row],[F'#]],'v1 Achieved Features'!D:D,'v1 Achieved Features'!$B:B)","v":0},"Appliance and Heater Combustion Ban","None unless a change to","Interior design",{"$f":"IF(Table1[[#This Row],[Recertification type]]=\"None unless a change to\",IF(OFFSET('v1 Project Information'!$C$20,MATCH(Table1[[#This Row],[Conditions for change]],'v1 Project Information'!$B$21:$B$44,0),0)=\"Yes\",\"Normal\",\"None\"),Table1[[#This Row],[Recertification type]])","v":"None"},"Spot Check","","Owner"]
[null,null,{"$f":"IF(LEFT(Table1[[#This Row],[Feature and Parts]],3)=\"fea\",MID(Table1[[#This Row],[Feature and Parts]],9,3)+0,C98)","v":24},{"$f":"LOOKUP(Table1[[#This Row],[F'#]],'v1 Achieved Features'!D:D,'v1 Achieved Features'!$B:B)","v":0},"Low-Emission Combustion Sources","None unless a change to","Mechanical system",{"$f":"IF(Table1[[#This Row],[Recertification type]]=\"None unless a change to\",IF(OFFSET('v1 Project Information'!$C$20,MATCH(Table1[[#This Row],[Conditions for change]],'v1 Project Information'!$B$21:$B$44,0),0)=\"Yes\",\"Normal\",\"None\"),Table1[[#This Row],[Recertification type]])","v":"None"},"","","MEP"]
[null,null,{"$f":"IF(LEFT(Table1[[#This Row],[Feature and Parts]],3)=\"fea\",MID(Table1[[#This Row],[Feature and Parts]],9,3)+0,C99)","v":24},{"$f":"LOOKUP(Table1[[#This Row],[F'#]],'v1 Achieved Features'!D:D,'v1 Achieved Features'!$B:B)","v":0},"Engine Exhaust Reduction","None",null,{"$f":"IF(Table1[[#This Row],[Recertification type]]=\"None unless a change to\",IF(OFFSET('v1 Project Information'!$C$20,MATCH(Table1[[#This Row],[Conditions for change]],'v1 Project Information'!$B$21:$B$44,0),0)=\"Yes\",\"Normal\",\"None\"),Table1[[#This Row],[Recertification type]])","v":"None"},"Visual Inspection","","-"]
[null,null,{"$f":"IF(LEFT(Table1[[#This Row],[Feature and Parts]],3)=\"fea\",MID(Table1[[#This Row],[Feature and Parts]],9,3)+0,C100)","v":24},{"$f":"LOOKUP(Table1[[#This Row],[F'#]],'v1 Achieved Features'!D:D,'v1 Achieved Features'!$B:B)","v":0},"Construction Equipment","None unless a change to","Overall structure",{"$f":"IF(Table1[[#This Row],[Recertification type]]=\"None unless a change to\",IF(OFFSET('v1 Project Information'!$C$20,MATCH(Table1[[#This Row],[Conditions for change]],'v1 Project Information'!$B$21:$B$44,0),0)=\"Yes\",\"Normal\",\"None\"),Table1[[#This Row],[Recertification type]])","v":"None"},"","","Contractor"]
[null,"O",{"$f":"IF(LEFT(Table1[[#This Row],[Feature and Parts]],3)=\"fea\",MID(Table1[[#This Row],[Feature and Parts]],9,3)+0,C101)","v":25},{"$f":"LOOKUP(Table1[[#This Row],[F'#]],'v1 Achieved Features'!D:D,'v1 Achieved Features'!$B:B)","v":0},"Feature 25. Toxic Material Reduction"]
[null,null,{"$f":"IF(LEFT(Table1[[#This Row],[Feature and Parts]],3)=\"fea\",MID(Table1[[#This Row],[Feature and Parts]],9,3)+0,C102)","v":25},{"$f":"LOOKUP(Table1[[#This Row],[F'#]],'v1 Achieved Features'!D:D,'v1 Achieved Features'!$B:B)","v":0},"Perfluorinated Compound Limitation","Normal (for new products)",null,{"$f":"IF(Table1[[#This Row],[Recertification type]]=\"None unless a change to\",IF(OFFSET('v1 Project Information'!$C$20,MATCH(Table1[[#This Row],[Conditions for change]],'v1 Project Information'!$B$21:$B$44,0),0)=\"Yes\",\"Normal\",\"None\"),Table1[[#This Row],[Recertification type]])","v":"Normal (for new products)"},"","","Architect & Owner"]
[null,null,{"$f":"IF(LEFT(Table1[[#This Row],[Feature and Parts]],3)=\"fea\",MID(Table1[[#This Row],[Feature and Parts]],9,3)+0,C103)","v":25},{"$f":"LOOKUP(Table1[[#This Row],[F'#]],'v1 Achieved Features'!D:D,'v1 Achieved Features'!$B:B)","v":0},"Flame Retardant Limitation","Normal (for new products)",null,{"$f":"IF(Table1[[#This Row],[Recertification type]]=\"None unless a change to\",IF(OFFSET('v1 Project Information'!$C$20,MATCH(Table1[[#This Row],[Conditions for change]],'v1 Project Information'!$B$21:$B$44,0),0)=\"Yes\",\"Normal\",\"None\"),Table1[[#This Row],[Recertification type]])","v":"Normal (for new products)"},"","","Architect & Contractor"]
[null,null,{"$f":"IF(LEFT(Table1[[#This Row],[Feature and Parts]],3)=\"fea\",MID(Table1[[#This Row],[Feature and Parts]],9,3)+0,C104)","v":25},{"$f":"LOOKUP(Table1[[#This Row],[F'#]],'v1 Achieved Features'!D:D,'v1 Achieved Features'!$B:B)","v":0},"Phthalate (Plasticizers) Limitation","Normal (for new products)",null,{"$f":"IF(Table1[[#This Row],[Recertification type]]=\"None unless a change to\",IF(OFFSET('v1 Project Information'!$C$20,MATCH(Table1[[#This Row],[Conditions for change]],'v1 Project Information'!$B$21:$B$44,0),0)=\"Yes\",\"Normal\",\"None\"),Table1[[#This Row],[Recertification type]])","v":"Normal (for new products)"},"","","Architect & Contractor"]
[null,null,{"$f":"IF(LEFT(Table1[[#This Row],[Feature and Parts]],3)=\"fea\",MID(Table1[[#This Row],[Feature and Parts]],9,3)+0,C105)","v":25},{"$f":"LOOKUP(Table1[[#This Row],[F'#]],'v1 Achieved Features'!D:D,'v1 Achieved Features'!$B:B)","v":0},"Isocyanate-Based Polyurethane Limitation","Normal (for new products)",null,{"$f":"IF(Table1[[#This Row],[Recertification type]]=\"None unless a change to\",IF(OFFSET('v1 Project Information'!$C$20,MATCH(Table1[[#This Row],[Conditions for change]],'v1 Project Information'!$B$21:$B$44,0),0)=\"Yes\",\"Normal\",\"None\"),Table1[[#This Row],[Recertification type]])","v":"Normal (for new products)"},"","","Architect & Contractor"]
[null,null,{"$f":"IF(LEFT(Table1[[#This Row],[Feature and Parts]],3)=\"fea\",MID(Table1[[#This Row],[Feature and Parts]],9,3)+0,C106)","v":25},{"$f":"LOOKUP(Table1[[#This Row],[F'#]],'v1 Achieved Features'!D:D,'v1 Achieved Features'!$B:B)","v":0},"Urea-Formaldehyde Restriction","Normal (for new products)",null,{"$f":"IF(Table1[[#This Row],[Recertification type]]=\"None unless a change to\",IF(OFFSET('v1 Project Information'!$C$20,MATCH(Table1[[#This Row],[Conditions for change]],'v1 Project Information'!$B$21:$B$44,0),0)=\"Yes\",\"Normal\",\"None\"),Table1[[#This Row],[Recertification type]])","v":"Normal (for new products)"},"","","Architect & Contractor"]
[null,"O",{"$f":"IF(LEFT(Table1[[#This Row],[Feature and Parts]],3)=\"fea\",MID(Table1[[#This Row],[Feature and Parts]],9,3)+0,C107)","v":26},{"$f":"LOOKUP(Table1[[#This Row],[F'#]],'v1 Achieved Features'!D:D,'v1 Achieved Features'!$B:B)","v":0},"Feature 26. Enhanced Material Safety"]
[null,null,{"$f":"IF(LEFT(Table1[[#This Row],[Feature and Parts]],3)=\"fea\",MID(Table1[[#This Row],[Feature and Parts]],9,3)+0,C108)","v":26},{"$f":"LOOKUP(Table1[[#This Row],[F'#]],'v1 Achieved Features'!D:D,'v1 Achieved Features'!$B:B)","v":0},"Precautionary Material Selection","Normal (for new products)",null,{"$f":"IF(Table1[[#This Row],[Recertification type]]=\"None unless a change to\",IF(OFFSET('v1 Project Information'!$C$20,MATCH(Table1[[#This Row],[Conditions for change]],'v1 Project Information'!$B$21:$B$44,0),0)=\"Yes\",\"Normal\",\"None\"),Table1[[#This Row],[Recertification type]])","v":"Normal (for new products)"},"","","Architect, Contractor, & Owner"]
[null,"O",{"$f":"IF(LEFT(Table1[[#This Row],[Feature and Parts]],3)=\"fea\",MID(Table1[[#This Row],[Feature and Parts]],9,3)+0,C109)","v":27},{"$f":"LOOKUP(Table1[[#This Row],[F'#]],'v1 Achieved Features'!D:D,'v1 Achieved Features'!$B:B)","v":0},"Feature 27. Antimicrobial Activity For Surfaces"]
[null,null,{"$f":"IF(LEFT(Table1[[#This Row],[Feature and Parts]],3)=\"fea\",MID(Table1[[#This Row],[Feature and Parts]],9,3)+0,C110)","v":27},{"$f":"LOOKUP(Table1[[#This Row],[F'#]],'v1 Achieved Features'!D:D,'v1 Achieved Features'!$B:B)","v":0},"High-Touch Surfaces","Normal (for new products)",null,{"$f":"IF(Table1[[#This Row],[Recertification type]]=\"None unless a change to\",IF(OFFSET('v1 Project Information'!$C$20,MATCH(Table1[[#This Row],[Conditions for change]],'v1 Project Information'!$B$21:$B$44,0),0)=\"Yes\",\"Normal\",\"None\"),Table1[[#This Row],[Recertification type]])","v":"Normal (for new products)"},"","Architectural Drawing or Operations Schedule"]
[null,"O",{"$f":"IF(LEFT(Table1[[#This Row],[Feature and Parts]],3)=\"fea\",MID(Table1[[#This Row],[Feature and Parts]],9,3)+0,C111)","v":28},{"$f":"LOOKUP(Table1[[#This Row],[F'#]],'v1 Achieved Features'!D:D,'v1 Achieved Features'!$B:B)","v":0},"Feature 28. Cleanable Environment"]
[null,null,{"$f":"IF(LEFT(Table1[[#This Row],[Feature and Parts]],3)=\"fea\",MID(Table1[[#This Row],[Feature and Parts]],9,3)+0,C112)","v":28},{"$f":"LOOKUP(Table1[[#This Row],[F'#]],'v1 Achieved Features'!D:D,'v1 Achieved Features'!$B:B)","v":0},"Material Properties","None unless a change to","Interior design",{"$f":"IF(Table1[[#This Row],[Recertification type]]=\"None unless a change to\",IF(OFFSET('v1 Project Information'!$C$20,MATCH(Table1[[#This Row],[Conditions for change]],'v1 Project Information'!$B$21:$B$44,0),0)=\"Yes\",\"Normal\",\"None\"),Table1[[#This Row],[Recertification type]])","v":"None"},"Spot Check","","Architect & Contractor"]
[null,null,{"$f":"IF(LEFT(Table1[[#This Row],[Feature and Parts]],3)=\"fea\",MID(Table1[[#This Row],[Feature and Parts]],9,3)+0,C113)","v":28},{"$f":"LOOKUP(Table1[[#This Row],[F'#]],'v1 Achieved Features'!D:D,'v1 Achieved Features'!$B:B)","v":0},"Cleanability","None unless a change to","Interior design",{"$f":"IF(Table1[[#This Row],[Recertification type]]=\"None unless a change to\",IF(OFFSET('v1 Project Information'!$C$20,MATCH(Table1[[#This Row],[Conditions for change]],'v1 Project Information'!$B$21:$B$44,0),0)=\"Yes\",\"Normal\",\"None\"),Table1[[#This Row],[Recertification type]])","v":"None"},"Spot Check","","Architect & Contractor"]
[null,"O",{"$f":"IF(LEFT(Table1[[#This Row],[Feature and Parts]],3)=\"fea\",MID(Table1[[#This Row],[Feature and Parts]],9,3)+0,C114)","v":29},{"$f":"LOOKUP(Table1[[#This Row],[F'#]],'v1 Achieved Features'!D:D,'v1 Achieved Features'!$B:B)","v":0},"Feature 29. Cleaning Equipment"]
[null,null,{"$f":"IF(LEFT(Table1[[#This Row],[Feature and Parts]],3)=\"fea\",MID(Table1[[#This Row],[Feature and Parts]],9,3)+0,C115)","v":29},{"$f":"LOOKUP(Table1[[#This Row],[F'#]],'v1 Achieved Features'!D:D,'v1 Achieved Features'!$B:B)","v":0},"Equipment and Cleaning Agents","None unless a change to","Cleaning protocol",{"$f":"IF(Table1[[#This Row],[Recertification type]]=\"None unless a change to\",IF(OFFSET('v1 Project Information'!$C$20,MATCH(Table1[[#This Row],[Conditions for change]],'v1 Project Information'!$B$21:$B$44,0),0)=\"Yes\",\"Normal\",\"None\"),Table1[[#This Row],[Recertification type]])","v":"None"},"","Operations Schedule"]
[null,null,{"$f":"IF(LEFT(Table1[[#This Row],[Feature and Parts]],3)=\"fea\",MID(Table1[[#This Row],[Feature and Parts]],9,3)+0,C116)","v":29},{"$f":"LOOKUP(Table1[[#This Row],[F'#]],'v1 Achieved Features'!D:D,'v1 Achieved Features'!$B:B)","v":0},"Chemical Storage","None unless a change to","Cleaning protocol",{"$f":"IF(Table1[[#This Row],[Recertification type]]=\"None unless a change to\",IF(OFFSET('v1 Project Information'!$C$20,MATCH(Table1[[#This Row],[Conditions for change]],'v1 Project Information'!$B$21:$B$44,0),0)=\"Yes\",\"Normal\",\"None\"),Table1[[#This Row],[Recertification type]])","v":"None"},"Visual Inspection","","-"]
["WATER","P",{"$f":"IF(LEFT(Table1[[#This Row],[Feature and Parts]],3)=\"fea\",MID(Table1[[#This Row],[Feature and Parts]],9,3)+0,C117)","v":30},{"$f":"LOOKUP(Table1[[#This Row],[F'#]],'v1 Achieved Features'!D:D,'v1 Achieved Features'!$B:B)","v":"Yes"},"Feature 30. Fundamental Water Quality"]
[null,null,{"$f":"IF(LEFT(Table1[[#This Row],[Feature and Parts]],3)=\"fea\",MID(Table1[[#This Row],[Feature and Parts]],9,3)+0,C118)","v":30},{"$f":"LOOKUP(Table1[[#This Row],[F'#]],'v1 Achieved Features'!D:D,'v1 Achieved Features'!$B:B)","v":"Yes"},"Sediment","None",null,"See 'Performance Verification'","Performance Test","","-"]
[null,null,{"$f":"IF(LEFT(Table1[[#This Row],[Feature and Parts]],3)=\"fea\",MID(Table1[[#This Row],[Feature and Parts]],9,3)+0,C119)","v":30},{"$f":"LOOKUP(Table1[[#This Row],[F'#]],'v1 Achieved Features'!D:D,'v1 Achieved Features'!$B:B)","v":"Yes"},"Microorganisms","None",null,"See 'Performance Verification'","Performance Test","","-"]
[null,"P",{"$f":"IF(LEFT(Table1[[#This Row],[Feature and Parts]],3)=\"fea\",MID(Table1[[#This Row],[Feature and Parts]],9,3)+0,C120)","v":31},{"$f":"LOOKUP(Table1[[#This Row],[F'#]],'v1 Achieved Features'!D:D,'v1 Achieved Features'!$B:B)","v":"Yes"},"Feature 31. Inorganic Contaminants"]
[null,null,{"$f":"IF(LEFT(Table1[[#This Row],[Feature and Parts]],3)=\"fea\",MID(Table1[[#This Row],[Feature and Parts]],9,3)+0,C121)","v":31},{"$f":"LOOKUP(Table1[[#This Row],[F'#]],'v1 Achieved Features'!D:D,'v1 Achieved Features'!$B:B)","v":"Yes"},"Dissolved Metals","None",null,"See 'Performance Verification'","Performance Test","","-"]
[null,"P",{"$f":"IF(LEFT(Table1[[#This Row],[Feature and Parts]],3)=\"fea\",MID(Table1[[#This Row],[Feature and Parts]],9,3)+0,C122)","v":32},{"$f":"LOOKUP(Table1[[#This Row],[F'#]],'v1 Achieved Features'!D:D,'v1 Achieved Features'!$B:B)","v":"Yes"},"Feature 32. Organic Contaminants"]
[null,null,{"$f":"IF(LEFT(Table1[[#This Row],[Feature and Parts]],3)=\"fea\",MID(Table1[[#This Row],[Feature and Parts]],9,3)+0,C123)","v":32},{"$f":"LOOKUP(Table1[[#This Row],[F'#]],'v1 Achieved Features'!D:D,'v1 Achieved Features'!$B:B)","v":"Yes"},"Organic Pollutants","None",null,"See 'Performance Verification'","Performance Test","","-"]
[null,"P",{"$f":"IF(LEFT(Table1[[#This Row],[Feature and Parts]],3)=\"fea\",MID(Table1[[#This Row],[Feature and Parts]],9,3)+0,C124)","v":33},{"$f":"LOOKUP(Table1[[#This Row],[F'#]],'v1 Achieved Features'!D:D,'v1 Achieved Features'!$B:B)","v":"Yes"},"Feature 33. Agricultural Contaminants"]
[null,null,{"$f":"IF(LEFT(Table1[[#This Row],[Feature and Parts]],3)=\"fea\",MID(Table1[[#This Row],[Feature and Parts]],9,3)+0,C125)","v":33},{"$f":"LOOKUP(Table1[[#This Row],[F'#]],'v1 Achieved Features'!D:D,'v1 Achieved Features'!$B:B)","v":"Yes"},"Herbicides and Pesticides","None",null,"See 'Performance Verification'","Performance Test","","-"]
[null,null,{"$f":"IF(LEFT(Table1[[#This Row],[Feature and Parts]],3)=\"fea\",MID(Table1[[#This Row],[Feature and Parts]],9,3)+0,C126)","v":33},{"$f":"LOOKUP(Table1[[#This Row],[F'#]],'v1 Achieved Features'!D:D,'v1 Achieved Features'!$B:B)","v":"Yes"},"Fertilizers","None",null,"See 'Performance Verification'","Performance Test","","-"]
[null,"P",{"$f":"IF(LEFT(Table1[[#This Row],[Feature and Parts]],3)=\"fea\",MID(Table1[[#This Row],[Feature and Parts]],9,3)+0,C127)","v":34},{"$f":"LOOKUP(Table1[[#This Row],[F'#]],'v1 Achieved Features'!D:D,'v1 Achieved Features'!$B:B)","v":"Yes"},"Feature 34. Public Water Additives"]
[null,null,{"$f":"IF(LEFT(Table1[[#This Row],[Feature and Parts]],3)=\"fea\",MID(Table1[[#This Row],[Feature and Parts]],9,3)+0,C128)","v":34},{"$f":"LOOKUP(Table1[[#This Row],[F'#]],'v1 Achieved Features'!D:D,'v1 Achieved Features'!$B:B)","v":"Yes"},"Disinfectants","None",null,"See 'Performance Verification'","Performance Test","","-"]
[null,null,{"$f":"IF(LEFT(Table1[[#This Row],[Feature and Parts]],3)=\"fea\",MID(Table1[[#This Row],[Feature and Parts]],9,3)+0,C129)","v":34},{"$f":"LOOKUP(Table1[[#This Row],[F'#]],'v1 Achieved Features'!D:D,'v1 Achieved Features'!$B:B)","v":"Yes"},"Disinfectant Byproducts","None",null,"See 'Performance Verification'","Performance Test","","-"]
[null,null,{"$f":"IF(LEFT(Table1[[#This Row],[Feature and Parts]],3)=\"fea\",MID(Table1[[#This Row],[Feature and Parts]],9,3)+0,C130)","v":34},{"$f":"LOOKUP(Table1[[#This Row],[F'#]],'v1 Achieved Features'!D:D,'v1 Achieved Features'!$B:B)","v":"Yes"},"Fluoride","None",null,"See 'Performance Verification'","Performance Test","","-"]
[null,"O",{"$f":"IF(LEFT(Table1[[#This Row],[Feature and Parts]],3)=\"fea\",MID(Table1[[#This Row],[Feature and Parts]],9,3)+0,C131)","v":35},{"$f":"LOOKUP(Table1[[#This Row],[F'#]],'v1 Achieved Features'!D:D,'v1 Achieved Features'!$B:B)","v":0},"Feature 35. Periodic Water Quality Testing"]
[null,null,{"$f":"IF(LEFT(Table1[[#This Row],[Feature and Parts]],3)=\"fea\",MID(Table1[[#This Row],[Feature and Parts]],9,3)+0,C132)","v":35},{"$f":"LOOKUP(Table1[[#This Row],[F'#]],'v1 Achieved Features'!D:D,'v1 Achieved Features'!$B:B)","v":0},"Quarterly Testing","Annual Submission",null,{"$f":"IF(Table1[[#This Row],[Recertification type]]=\"None unless a change to\",IF(OFFSET('v1 Project Information'!$C$20,MATCH(Table1[[#This Row],[Conditions for change]],'v1 Project Information'!$B$21:$B$44,0),0)=\"Yes\",\"Normal\",\"None\"),Table1[[#This Row],[Recertification type]])","v":"Annual Submission"},"","Operations Schedule"]
[null,null,{"$f":"IF(LEFT(Table1[[#This Row],[Feature and Parts]],3)=\"fea\",MID(Table1[[#This Row],[Feature and Parts]],9,3)+0,C133)","v":35},{"$f":"LOOKUP(Table1[[#This Row],[F'#]],'v1 Achieved Features'!D:D,'v1 Achieved Features'!$B:B)","v":0},"Water Data Record Keeping and Response","None",null,{"$f":"IF(Table1[[#This Row],[Recertification type]]=\"None unless a change to\",IF(OFFSET('v1 Project Information'!$C$20,MATCH(Table1[[#This Row],[Conditions for change]],'v1 Project Information'!$B$21:$B$44,0),0)=\"Yes\",\"Normal\",\"None\"),Table1[[#This Row],[Recertification type]])","v":"None"},"","Operations Schedule","-"]
[null,"O",{"$f":"IF(LEFT(Table1[[#This Row],[Feature and Parts]],3)=\"fea\",MID(Table1[[#This Row],[Feature and Parts]],9,3)+0,C134)","v":36},{"$f":"LOOKUP(Table1[[#This Row],[F'#]],'v1 Achieved Features'!D:D,'v1 Achieved Features'!$B:B)","v":0},"Feature 36. Water Treatment"]
[null,null,{"$f":"IF(LEFT(Table1[[#This Row],[Feature and Parts]],3)=\"fea\",MID(Table1[[#This Row],[Feature and Parts]],9,3)+0,C135)","v":36},{"$f":"LOOKUP(Table1[[#This Row],[F'#]],'v1 Achieved Features'!D:D,'v1 Achieved Features'!$B:B)","v":0},"Organic Chemical Removal","None unless a change to","Plumbing system",{"$f":"IF(Table1[[#This Row],[Recertification type]]=\"None unless a change to\",IF(OFFSET('v1 Project Information'!$C$20,MATCH(Table1[[#This Row],[Conditions for change]],'v1 Project Information'!$B$21:$B$44,0),0)=\"Yes\",\"Normal\",\"None\"),Table1[[#This Row],[Recertification type]])","v":"None"},"Spot Check","","MEP"]
[null,null,{"$f":"IF(LEFT(Table1[[#This Row],[Feature and Parts]],3)=\"fea\",MID(Table1[[#This Row],[Feature and Parts]],9,3)+0,C136)","v":36},{"$f":"LOOKUP(Table1[[#This Row],[F'#]],'v1 Achieved Features'!D:D,'v1 Achieved Features'!$B:B)","v":0},"Sediment Filter","None unless a change to","Plumbing system",{"$f":"IF(Table1[[#This Row],[Recertification type]]=\"None unless a change to\",IF(OFFSET('v1 Project Information'!$C$20,MATCH(Table1[[#This Row],[Conditions for change]],'v1 Project Information'!$B$21:$B$44,0),0)=\"Yes\",\"Normal\",\"None\"),Table1[[#This Row],[Recertification type]])","v":"None"},"Spot Check","","MEP"]
[null,null,{"$f":"IF(LEFT(Table1[[#This Row],[Feature and Parts]],3)=\"fea\",MID(Table1[[#This Row],[Feature and Parts]],9,3)+0,C137)","v":36},{"$f":"LOOKUP(Table1[[#This Row],[F'#]],'v1 Achieved Features'!D:D,'v1 Achieved Features'!$B:B)","v":0},"Microbial Elimination","None unless a change to","Plumbing system",{"$f":"IF(Table1[[#This Row],[Recertification type]]=\"None unless a change to\",IF(OFFSET('v1 Project Information'!$C$20,MATCH(Table1[[#This Row],[Conditions for change]],'v1 Project Information'!$B$21:$B$44,0),0)=\"Yes\",\"Normal\",\"None\"),Table1[[#This Row],[Recertification type]])","v":"None"},"Spot Check","","MEP"]
[null,null,{"$f":"IF(LEFT(Table1[[#This Row],[Feature and Parts]],3)=\"fea\",MID(Table1[[#This Row],[Feature and Parts]],9,3)+0,C138)","v":36},{"$f":"LOOKUP(Table1[[#This Row],[F'#]],'v1 Achieved Features'!D:D,'v1 Achieved Features'!$B:B)","v":0},"Water Quality Maintenance","Annual Submission",null,{"$f":"IF(Table1[[#This Row],[Recertification type]]=\"None unless a change to\",IF(OFFSET('v1 Project Information'!$C$20,MATCH(Table1[[#This Row],[Conditions for change]],'v1 Project Information'!$B$21:$B$44,0),0)=\"Yes\",\"Normal\",\"None\"),Table1[[#This Row],[Recertification type]])","v":"Annual Submission"},"","Operations Schedule"]
[null,null,{"$f":"IF(LEFT(Table1[[#This Row],[Feature and Parts]],3)=\"fea\",MID(Table1[[#This Row],[Feature and Parts]],9,3)+0,C139)","v":36},{"$f":"LOOKUP(Table1[[#This Row],[F'#]],'v1 Achieved Features'!D:D,'v1 Achieved Features'!$B:B)","v":0},"Legionella Control","None unless a change to","Mechanical system",{"$f":"IF(Table1[[#This Row],[Recertification type]]=\"None unless a change to\",IF(OFFSET('v1 Project Information'!$C$20,MATCH(Table1[[#This Row],[Conditions for change]],'v1 Project Information'!$B$21:$B$44,0),0)=\"Yes\",\"Normal\",\"None\"),Table1[[#This Row],[Recertification type]])","v":"None"},"","Professional Narrative"]
[null,"O",{"$f":"IF(LEFT(Table1[[#This Row],[Feature and Parts]],3)=\"fea\",MID(Table1[[#This Row],[Feature and Parts]],9,3)+0,C140)","v":37},{"$f":"LOOKUP(Table1[[#This Row],[F'#]],'v1 Achieved Features'!D:D,'v1 Achieved Features'!$B:B)","v":0},"Feature 37. Drinking Water Promotion"]
[null,null,{"$f":"IF(LEFT(Table1[[#This Row],[Feature and Parts]],3)=\"fea\",MID(Table1[[#This Row],[Feature and Parts]],9,3)+0,C141)","v":37},{"$f":"LOOKUP(Table1[[#This Row],[F'#]],'v1 Achieved Features'!D:D,'v1 Achieved Features'!$B:B)","v":0},"Drinking Water Taste Properties","None",null,"See 'Performance Verification'","Performance Test","","-"]
[null,null,{"$f":"IF(LEFT(Table1[[#This Row],[Feature and Parts]],3)=\"fea\",MID(Table1[[#This Row],[Feature and Parts]],9,3)+0,C142)","v":37},{"$f":"LOOKUP(Table1[[#This Row],[F'#]],'v1 Achieved Features'!D:D,'v1 Achieved Features'!$B:B)","v":0},"Drinking Water Access","None unless a change to","Interior design",{"$f":"IF(Table1[[#This Row],[Recertification type]]=\"None unless a change to\",IF(OFFSET('v1 Project Information'!$C$20,MATCH(Table1[[#This Row],[Conditions for change]],'v1 Project Information'!$B$21:$B$44,0),0)=\"Yes\",\"Normal\",\"None\"),Table1[[#This Row],[Recertification type]])","v":"None"},"Spot Check","","Architect"]
[null,null,{"$f":"IF(LEFT(Table1[[#This Row],[Feature and Parts]],3)=\"fea\",MID(Table1[[#This Row],[Feature and Parts]],9,3)+0,C143)","v":37},{"$f":"LOOKUP(Table1[[#This Row],[F'#]],'v1 Achieved Features'!D:D,'v1 Achieved Features'!$B:B)","v":0},"Water Dispenser Maintenance","None unless a change to","Cleaning protocol",{"$f":"IF(Table1[[#This Row],[Recertification type]]=\"None unless a change to\",IF(OFFSET('v1 Project Information'!$C$20,MATCH(Table1[[#This Row],[Conditions for change]],'v1 Project Information'!$B$21:$B$44,0),0)=\"Yes\",\"Normal\",\"None\"),Table1[[#This Row],[Recertification type]])","v":"None"},"","Operations Schedule"]
["NOURISHMENT","P",{"$f":"IF(LEFT(Table1[[#This Row],[Feature and Parts]],3)=\"fea\",MID(Table1[[#This Row],[Feature and Parts]],9,3)+0,C144)","v":38},{"$f":"LOOKUP(Table1[[#This Row],[F'#]],'v1 Achieved Features'!D:D,'v1 Achieved Features'!$B:B)","v":"Yes"},"Feature 38. Fruits And Vegetables"]
[null,null,{"$f":"IF(LEFT(Table1[[#This Row],[Feature and Parts]],3)=\"fea\",MID(Table1[[#This Row],[Feature and Parts]],9,3)+0,C145)","v":38},{"$f":"LOOKUP(Table1[[#This Row],[F'#]],'v1 Achieved Features'!D:D,'v1 Achieved Features'!$B:B)","v":"Yes"},"Fruit and Vegetable Variety","None unless a change to","Food service",{"$f":"IF(Table1[[#This Row],[Recertification type]]=\"None unless a change to\",IF(OFFSET('v1 Project Information'!$C$20,MATCH(Table1[[#This Row],[Conditions for change]],'v1 Project Information'!$B$21:$B$44,0),0)=\"Yes\",\"Normal\",\"None\"),Table1[[#This Row],[Recertification type]])","v":"None"},"Spot Check","Operations Schedule","-"]
[null,null,{"$f":"IF(LEFT(Table1[[#This Row],[Feature and Parts]],3)=\"fea\",MID(Table1[[#This Row],[Feature and Parts]],9,3)+0,C146)","v":38},{"$f":"LOOKUP(Table1[[#This Row],[F'#]],'v1 Achieved Features'!D:D,'v1 Achieved Features'!$B:B)","v":"Yes"},"Fruit and Vegetable Promotion","None unless a change to","Food service",{"$f":"IF(Table1[[#This Row],[Recertification type]]=\"None unless a change to\",IF(OFFSET('v1 Project Information'!$C$20,MATCH(Table1[[#This Row],[Conditions for change]],'v1 Project Information'!$B$21:$B$44,0),0)=\"Yes\",\"Normal\",\"None\"),Table1[[#This Row],[Recertification type]])","v":"None"},"Spot Check","Operations Schedule","-"]
[null,"P",{"$f":"IF(LEFT(Table1[[#This Row],[Feature and Parts]],3)=\"fea\",MID(Table1[[#This Row],[Feature and Parts]],9,3)+0,C147)","v":39},{"$f":"LOOKUP(Table1[[#This Row],[F'#]],'v1 Achieved Features'!D:D,'v1 Achieved Features'!$B:B)","v":"Yes"},"Feature 39. Processed Foods"]
[null,null,{"$f":"IF(LEFT(Table1[[#This Row],[Feature and Parts]],3)=\"fea\",MID(Table1[[#This Row],[Feature and Parts]],9,3)+0,C148)","v":39},{"$f":"LOOKUP(Table1[[#This Row],[F'#]],'v1 Achieved Features'!D:D,'v1 Achieved Features'!$B:B)","v":"Yes"},"Refined Ingredient Restrictions","None unless a change to","Food service",{"$f":"IF(Table1[[#This Row],[Recertification type]]=\"None unless a change to\",IF(OFFSET('v1 Project Information'!$C$20,MATCH(Table1[[#This Row],[Conditions for change]],'v1 Project Information'!$B$21:$B$44,0),0)=\"Yes\",\"Normal\",\"None\"),Table1[[#This Row],[Recertification type]])","v":"None"},"Spot Check","Operations Schedule","-"]
[null,null,{"$f":"IF(LEFT(Table1[[#This Row],[Feature and Parts]],3)=\"fea\",MID(Table1[[#This Row],[Feature and Parts]],9,3)+0,C149)","v":39},{"$f":"LOOKUP(Table1[[#This Row],[F'#]],'v1 Achieved Features'!D:D,'v1 Achieved Features'!$B:B)","v":"Yes"},"Trans Fat Ban","None unless a change to","Food service",{"$f":"IF(Table1[[#This Row],[Recertification type]]=\"None unless a change to\",IF(OFFSET('v1 Project Information'!$C$20,MATCH(Table1[[#This Row],[Conditions for change]],'v1 Project Information'!$B$21:$B$44,0),0)=\"Yes\",\"Normal\",\"None\"),Table1[[#This Row],[Recertification type]])","v":"None"},"Spot Check","Operations Schedule","-"]
[null,"P",{"$f":"IF(LEFT(Table1[[#This Row],[Feature and Parts]],3)=\"fea\",MID(Table1[[#This Row],[Feature and Parts]],9,3)+0,C150)","v":40},{"$f":"LOOKUP(Table1[[#This Row],[F'#]],'v1 Achieved Features'!D:D,'v1 Achieved Features'!$B:B)","v":"Yes"},"Feature 40. Food Allergies"]
[null,null,{"$f":"IF(LEFT(Table1[[#This Row],[Feature and Parts]],3)=\"fea\",MID(Table1[[#This Row],[Feature and Parts]],9,3)+0,C151)","v":40},{"$f":"LOOKUP(Table1[[#This Row],[F'#]],'v1 Achieved Features'!D:D,'v1 Achieved Features'!$B:B)","v":"Yes"},"Food Allergy Labeling","None unless a change to","Food service",{"$f":"IF(Table1[[#This Row],[Recertification type]]=\"None unless a change to\",IF(OFFSET('v1 Project Information'!$C$20,MATCH(Table1[[#This Row],[Conditions for change]],'v1 Project Information'!$B$21:$B$44,0),0)=\"Yes\",\"Normal\",\"None\"),Table1[[#This Row],[Recertification type]])","v":"None"},"Spot Check","Operations Schedule","-"]
[null,"P",{"$f":"IF(LEFT(Table1[[#This Row],[Feature and Parts]],3)=\"fea\",MID(Table1[[#This Row],[Feature and Parts]],9,3)+0,C152)","v":41},{"$f":"LOOKUP(Table1[[#This Row],[F'#]],'v1 Achieved Features'!D:D,'v1 Achieved Features'!$B:B)","v":"Yes"},"Feature 41. Hand Washing"]
[null,null,{"$f":"IF(LEFT(Table1[[#This Row],[Feature and Parts]],3)=\"fea\",MID(Table1[[#This Row],[Feature and Parts]],9,3)+0,C153)","v":41},{"$f":"LOOKUP(Table1[[#This Row],[F'#]],'v1 Achieved Features'!D:D,'v1 Achieved Features'!$B:B)","v":"Yes"},"Hand Washing Supplies","None unless a change to","Cleaning protocol",{"$f":"IF(Table1[[#This Row],[Recertification type]]=\"None unless a change to\",IF(OFFSET('v1 Project Information'!$C$20,MATCH(Table1[[#This Row],[Conditions for change]],'v1 Project Information'!$B$21:$B$44,0),0)=\"Yes\",\"Normal\",\"None\"),Table1[[#This Row],[Recertification type]])","v":"None"},"Spot Check","Operations Schedule","-"]
[null,null,{"$f":"IF(LEFT(Table1[[#This Row],[Feature and Parts]],3)=\"fea\",MID(Table1[[#This Row],[Feature and Parts]],9,3)+0,C154)","v":41},{"$f":"LOOKUP(Table1[[#This Row],[F'#]],'v1 Achieved Features'!D:D,'v1 Achieved Features'!$B:B)","v":"Yes"},"Contamination Reduction","None",null,{"$f":"IF(Table1[[#This Row],[Recertification type]]=\"None unless a change to\",IF(OFFSET('v1 Project Information'!$C$20,MATCH(Table1[[#This Row],[Conditions for change]],'v1 Project Information'!$B$21:$B$44,0),0)=\"Yes\",\"Normal\",\"None\"),Table1[[#This Row],[Recertification type]])","v":"None"},"Visual Inspection","","-"]
[null,null,{"$f":"IF(LEFT(Table1[[#This Row],[Feature and Parts]],3)=\"fea\",MID(Table1[[#This Row],[Feature and Parts]],9,3)+0,C155)","v":41},{"$f":"LOOKUP(Table1[[#This Row],[F'#]],'v1 Achieved Features'!D:D,'v1 Achieved Features'!$B:B)","v":"Yes"},"Sink Dimensions","None unless a change to","Interior design",{"$f":"IF(Table1[[#This Row],[Recertification type]]=\"None unless a change to\",IF(OFFSET('v1 Project Information'!$C$20,MATCH(Table1[[#This Row],[Conditions for change]],'v1 Project Information'!$B$21:$B$44,0),0)=\"Yes\",\"Normal\",\"None\"),Table1[[#This Row],[Recertification type]])","v":"None"},"Spot Check","","Architect"]
[null,"P",{"$f":"IF(LEFT(Table1[[#This Row],[Feature and Parts]],3)=\"fea\",MID(Table1[[#This Row],[Feature and Parts]],9,3)+0,C156)","v":42},{"$f":"LOOKUP(Table1[[#This Row],[F'#]],'v1 Achieved Features'!D:D,'v1 Achieved Features'!$B:B)","v":"Yes"},"Feature 42. Food Contamination"]
[null,null,{"$f":"IF(LEFT(Table1[[#This Row],[Feature and Parts]],3)=\"fea\",MID(Table1[[#This Row],[Feature and Parts]],9,3)+0,C157)","v":42},{"$f":"LOOKUP(Table1[[#This Row],[F'#]],'v1 Achieved Features'!D:D,'v1 Achieved Features'!$B:B)","v":"Yes"},"Cold Storage","None unless a change to","Interior design",{"$f":"IF(Table1[[#This Row],[Recertification type]]=\"None unless a change to\",IF(OFFSET('v1 Project Information'!$C$20,MATCH(Table1[[#This Row],[Conditions for change]],'v1 Project Information'!$B$21:$B$44,0),0)=\"Yes\",\"Normal\",\"None\"),Table1[[#This Row],[Recertification type]])","v":"None"},"Spot Check","","Owner"]
[null,null,{"$f":"IF(LEFT(Table1[[#This Row],[Feature and Parts]],3)=\"fea\",MID(Table1[[#This Row],[Feature and Parts]],9,3)+0,C158)","v":42},{"$f":"LOOKUP(Table1[[#This Row],[F'#]],'v1 Achieved Features'!D:D,'v1 Achieved Features'!$B:B)","v":"Yes"},"Residential Kitchen Sinks","None unless a change to","Interior design",{"$f":"IF(Table1[[#This Row],[Recertification type]]=\"None unless a change to\",IF(OFFSET('v1 Project Information'!$C$20,MATCH(Table1[[#This Row],[Conditions for change]],'v1 Project Information'!$B$21:$B$44,0),0)=\"Yes\",\"Normal\",\"None\"),Table1[[#This Row],[Recertification type]])","v":"None"},"Visual Inspection","","-"]
[null,"P",{"$f":"IF(LEFT(Table1[[#This Row],[Feature and Parts]],3)=\"fea\",MID(Table1[[#This Row],[Feature and Parts]],9,3)+0,C159)","v":43},{"$f":"LOOKUP(Table1[[#This Row],[F'#]],'v1 Achieved Features'!D:D,'v1 Achieved Features'!$B:B)","v":"Yes"},"Feature 43. Artificial Ingredients"]
[null,null,{"$f":"IF(LEFT(Table1[[#This Row],[Feature and Parts]],3)=\"fea\",MID(Table1[[#This Row],[Feature and Parts]],9,3)+0,C160)","v":43},{"$f":"LOOKUP(Table1[[#This Row],[F'#]],'v1 Achieved Features'!D:D,'v1 Achieved Features'!$B:B)","v":"Yes"},"Artificial Substance Labeling","None unless a change to","Food service",{"$f":"IF(Table1[[#This Row],[Recertification type]]=\"None unless a change to\",IF(OFFSET('v1 Project Information'!$C$20,MATCH(Table1[[#This Row],[Conditions for change]],'v1 Project Information'!$B$21:$B$44,0),0)=\"Yes\",\"Normal\",\"None\"),Table1[[#This Row],[Recertification type]])","v":"None"},"Spot Check","Operations Schedule","-"]
[null,"P",{"$f":"IF(LEFT(Table1[[#This Row],[Feature and Parts]],3)=\"fea\",MID(Table1[[#This Row],[Feature and Parts]],9,3)+0,C161)","v":44},{"$f":"LOOKUP(Table1[[#This Row],[F'#]],'v1 Achieved Features'!D:D,'v1 Achieved Features'!$B:B)","v":"Yes"},"Feature 44. Nutritional Information"]
[null,null,{"$f":"IF(LEFT(Table1[[#This Row],[Feature and Parts]],3)=\"fea\",MID(Table1[[#This Row],[Feature and Parts]],9,3)+0,C162)","v":44},{"$f":"LOOKUP(Table1[[#This Row],[F'#]],'v1 Achieved Features'!D:D,'v1 Achieved Features'!$B:B)","v":"Yes"},"Detailed Nutritional Information","None unless a change to","Food service",{"$f":"IF(Table1[[#This Row],[Recertification type]]=\"None unless a change to\",IF(OFFSET('v1 Project Information'!$C$20,MATCH(Table1[[#This Row],[Conditions for change]],'v1 Project Information'!$B$21:$B$44,0),0)=\"Yes\",\"Normal\",\"None\"),Table1[[#This Row],[Recertification type]])","v":"None"},"Visual Inspection","","-"]
[null,"P",{"$f":"IF(LEFT(Table1[[#This Row],[Feature and Parts]],3)=\"fea\",MID(Table1[[#This Row],[Feature and Parts]],9,3)+0,C163)","v":45},{"$f":"LOOKUP(Table1[[#This Row],[F'#]],'v1 Achieved Features'!D:D,'v1 Achieved Features'!$B:B)","v":"Yes"},"Feature 45. Food Advertising"]
[null,null,{"$f":"IF(LEFT(Table1[[#This Row],[Feature and Parts]],3)=\"fea\",MID(Table1[[#This Row],[Feature and Parts]],9,3)+0,C164)","v":45},{"$f":"LOOKUP(Table1[[#This Row],[F'#]],'v1 Achieved Features'!D:D,'v1 Achieved Features'!$B:B)","v":"Yes"},"Advertising and Environmental Cues","None",null,{"$f":"IF(Table1[[#This Row],[Recertification type]]=\"None unless a change to\",IF(OFFSET('v1 Project Information'!$C$20,MATCH(Table1[[#This Row],[Conditions for change]],'v1 Project Information'!$B$21:$B$44,0),0)=\"Yes\",\"Normal\",\"None\"),Table1[[#This Row],[Recertification type]])","v":"None"},"Visual Inspection","","-"]
[null,null,{"$f":"IF(LEFT(Table1[[#This Row],[Feature and Parts]],3)=\"fea\",MID(Table1[[#This Row],[Feature and Parts]],9,3)+0,C165)","v":45},{"$f":"LOOKUP(Table1[[#This Row],[F'#]],'v1 Achieved Features'!D:D,'v1 Achieved Features'!$B:B)","v":"Yes"},"Nutritional Messaging","None",null,{"$f":"IF(Table1[[#This Row],[Recertification type]]=\"None unless a change to\",IF(OFFSET('v1 Project Information'!$C$20,MATCH(Table1[[#This Row],[Conditions for change]],'v1 Project Information'!$B$21:$B$44,0),0)=\"Yes\",\"Normal\",\"None\"),Table1[[#This Row],[Recertification type]])","v":"None"},"Visual Inspection","","-"]
[null,"O",{"$f":"IF(LEFT(Table1[[#This Row],[Feature and Parts]],3)=\"fea\",MID(Table1[[#This Row],[Feature and Parts]],9,3)+0,C166)","v":46},{"$f":"LOOKUP(Table1[[#This Row],[F'#]],'v1 Achieved Features'!D:D,'v1 Achieved Features'!$B:B)","v":0},"Feature 46. Safe Food Preparation Materials"]
[null,null,{"$f":"IF(LEFT(Table1[[#This Row],[Feature and Parts]],3)=\"fea\",MID(Table1[[#This Row],[Feature and Parts]],9,3)+0,C167)","v":46},{"$f":"LOOKUP(Table1[[#This Row],[F'#]],'v1 Achieved Features'!D:D,'v1 Achieved Features'!$B:B)","v":0},"Cooking Material","None unless a change to","Food service",{"$f":"IF(Table1[[#This Row],[Recertification type]]=\"None unless a change to\",IF(OFFSET('v1 Project Information'!$C$20,MATCH(Table1[[#This Row],[Conditions for change]],'v1 Project Information'!$B$21:$B$44,0),0)=\"Yes\",\"Normal\",\"None\"),Table1[[#This Row],[Recertification type]])","v":"None"},"Spot Check","Operations Schedule","-"]
[null,null,{"$f":"IF(LEFT(Table1[[#This Row],[Feature and Parts]],3)=\"fea\",MID(Table1[[#This Row],[Feature and Parts]],9,3)+0,C168)","v":46},{"$f":"LOOKUP(Table1[[#This Row],[F'#]],'v1 Achieved Features'!D:D,'v1 Achieved Features'!$B:B)","v":0},"Cutting Surfaces","None unless a change to","Food service",{"$f":"IF(Table1[[#This Row],[Recertification type]]=\"None unless a change to\",IF(OFFSET('v1 Project Information'!$C$20,MATCH(Table1[[#This Row],[Conditions for change]],'v1 Project Information'!$B$21:$B$44,0),0)=\"Yes\",\"Normal\",\"None\"),Table1[[#This Row],[Recertification type]])","v":"None"},"Spot Check","Operations Schedule","-"]
[null,"O",{"$f":"IF(LEFT(Table1[[#This Row],[Feature and Parts]],3)=\"fea\",MID(Table1[[#This Row],[Feature and Parts]],9,3)+0,C169)","v":47},{"$f":"LOOKUP(Table1[[#This Row],[F'#]],'v1 Achieved Features'!D:D,'v1 Achieved Features'!$B:B)","v":0},"Feature 47. Serving Sizes"]
[null,null,{"$f":"IF(LEFT(Table1[[#This Row],[Feature and Parts]],3)=\"fea\",MID(Table1[[#This Row],[Feature and Parts]],9,3)+0,C170)","v":47},{"$f":"LOOKUP(Table1[[#This Row],[F'#]],'v1 Achieved Features'!D:D,'v1 Achieved Features'!$B:B)","v":0},"Meal Sizes","None unless a change to","Food service",{"$f":"IF(Table1[[#This Row],[Recertification type]]=\"None unless a change to\",IF(OFFSET('v1 Project Information'!$C$20,MATCH(Table1[[#This Row],[Conditions for change]],'v1 Project Information'!$B$21:$B$44,0),0)=\"Yes\",\"Normal\",\"None\"),Table1[[#This Row],[Recertification type]])","v":"None"},"Spot Check","Operations Schedule","-"]
[null,null,{"$f":"IF(LEFT(Table1[[#This Row],[Feature and Parts]],3)=\"fea\",MID(Table1[[#This Row],[Feature and Parts]],9,3)+0,C171)","v":47},{"$f":"LOOKUP(Table1[[#This Row],[F'#]],'v1 Achieved Features'!D:D,'v1 Achieved Features'!$B:B)","v":0},"Dinnerware Sizes","None unless a change to","Food service",{"$f":"IF(Table1[[#This Row],[Recertification type]]=\"None unless a change to\",IF(OFFSET('v1 Project Information'!$C$20,MATCH(Table1[[#This Row],[Conditions for change]],'v1 Project Information'!$B$21:$B$44,0),0)=\"Yes\",\"Normal\",\"None\"),Table1[[#This Row],[Recertification type]])","v":"None"},"Spot Check","Operations Schedule","-"]
[null,"O",{"$f":"IF(LEFT(Table1[[#This Row],[Feature and Parts]],3)=\"fea\",MID(Table1[[#This Row],[Feature and Parts]],9,3)+0,C172)","v":48},{"$f":"LOOKUP(Table1[[#This Row],[F'#]],'v1 Achieved Features'!D:D,'v1 Achieved Features'!$B:B)","v":0},"Feature 48. Special Diets"]
[null,null,{"$f":"IF(LEFT(Table1[[#This Row],[Feature and Parts]],3)=\"fea\",MID(Table1[[#This Row],[Feature and Parts]],9,3)+0,C173)","v":48},{"$f":"LOOKUP(Table1[[#This Row],[F'#]],'v1 Achieved Features'!D:D,'v1 Achieved Features'!$B:B)","v":0},"Food Alternatives","None unless a change to","Food service",{"$f":"IF(Table1[[#This Row],[Recertification type]]=\"None unless a change to\",IF(OFFSET('v1 Project Information'!$C$20,MATCH(Table1[[#This Row],[Conditions for change]],'v1 Project Information'!$B$21:$B$44,0),0)=\"Yes\",\"Normal\",\"None\"),Table1[[#This Row],[Recertification type]])","v":"None"},"","Operations Schedule"]
[null,"O",{"$f":"IF(LEFT(Table1[[#This Row],[Feature and Parts]],3)=\"fea\",MID(Table1[[#This Row],[Feature and Parts]],9,3)+0,C174)","v":49},{"$f":"LOOKUP(Table1[[#This Row],[F'#]],'v1 Achieved Features'!D:D,'v1 Achieved Features'!$B:B)","v":0},"Feature 49. Responsible Food Production"]
[null,null,{"$f":"IF(LEFT(Table1[[#This Row],[Feature and Parts]],3)=\"fea\",MID(Table1[[#This Row],[Feature and Parts]],9,3)+0,C175)","v":49},{"$f":"LOOKUP(Table1[[#This Row],[F'#]],'v1 Achieved Features'!D:D,'v1 Achieved Features'!$B:B)","v":0},"Sustainable Agriculture","None unless a change to","Food service",{"$f":"IF(Table1[[#This Row],[Recertification type]]=\"None unless a change to\",IF(OFFSET('v1 Project Information'!$C$20,MATCH(Table1[[#This Row],[Conditions for change]],'v1 Project Information'!$B$21:$B$44,0),0)=\"Yes\",\"Normal\",\"None\"),Table1[[#This Row],[Recertification type]])","v":"None"},"","Operations Schedule"]
[null,null,{"$f":"IF(LEFT(Table1[[#This Row],[Feature and Parts]],3)=\"fea\",MID(Table1[[#This Row],[Feature and Parts]],9,3)+0,C176)","v":49},{"$f":"LOOKUP(Table1[[#This Row],[F'#]],'v1 Achieved Features'!D:D,'v1 Achieved Features'!$B:B)","v":0},"Humane Agriculture","None unless a change to","Food service",{"$f":"IF(Table1[[#This Row],[Recertification type]]=\"None unless a change to\",IF(OFFSET('v1 Project Information'!$C$20,MATCH(Table1[[#This Row],[Conditions for change]],'v1 Project Information'!$B$21:$B$44,0),0)=\"Yes\",\"Normal\",\"None\"),Table1[[#This Row],[Recertification type]])","v":"None"},"","Operations Schedule"]
[null,"O",{"$f":"IF(LEFT(Table1[[#This Row],[Feature and Parts]],3)=\"fea\",MID(Table1[[#This Row],[Feature and Parts]],9,3)+0,C177)","v":50},{"$f":"LOOKUP(Table1[[#This Row],[F'#]],'v1 Achieved Features'!D:D,'v1 Achieved Features'!$B:B)","v":0},"Feature 50. Food Storage"]
[null,null,{"$f":"IF(LEFT(Table1[[#This Row],[Feature and Parts]],3)=\"fea\",MID(Table1[[#This Row],[Feature and Parts]],9,3)+0,C178)","v":50},{"$f":"LOOKUP(Table1[[#This Row],[F'#]],'v1 Achieved Features'!D:D,'v1 Achieved Features'!$B:B)","v":0},"Storage Capacity","None unless a change to","Interior design",{"$f":"IF(Table1[[#This Row],[Recertification type]]=\"None unless a change to\",IF(OFFSET('v1 Project Information'!$C$20,MATCH(Table1[[#This Row],[Conditions for change]],'v1 Project Information'!$B$21:$B$44,0),0)=\"Yes\",\"Normal\",\"None\"),Table1[[#This Row],[Recertification type]])","v":"None"},"Spot Check","","Owner"]
[null,"O",{"$f":"IF(LEFT(Table1[[#This Row],[Feature and Parts]],3)=\"fea\",MID(Table1[[#This Row],[Feature and Parts]],9,3)+0,C179)","v":51},{"$f":"LOOKUP(Table1[[#This Row],[F'#]],'v1 Achieved Features'!D:D,'v1 Achieved Features'!$B:B)","v":0},"Feature 51. Food Production"]
[null,null,{"$f":"IF(LEFT(Table1[[#This Row],[Feature and Parts]],3)=\"fea\",MID(Table1[[#This Row],[Feature and Parts]],9,3)+0,C180)","v":51},{"$f":"LOOKUP(Table1[[#This Row],[F'#]],'v1 Achieved Features'!D:D,'v1 Achieved Features'!$B:B)","v":0},"Gardening Space","None unless a change to","Interior design",{"$f":"IF(Table1[[#This Row],[Recertification type]]=\"None unless a change to\",IF(OFFSET('v1 Project Information'!$C$20,MATCH(Table1[[#This Row],[Conditions for change]],'v1 Project Information'!$B$21:$B$44,0),0)=\"Yes\",\"Normal\",\"None\"),Table1[[#This Row],[Recertification type]])","v":"None"},"Spot Check","","Owner"]
[null,null,{"$f":"IF(LEFT(Table1[[#This Row],[Feature and Parts]],3)=\"fea\",MID(Table1[[#This Row],[Feature and Parts]],9,3)+0,C181)","v":51},{"$f":"LOOKUP(Table1[[#This Row],[F'#]],'v1 Achieved Features'!D:D,'v1 Achieved Features'!$B:B)","v":0},"Planting Support","None unless a change to","Interior design",{"$f":"IF(Table1[[#This Row],[Recertification type]]=\"None unless a change to\",IF(OFFSET('v1 Project Information'!$C$20,MATCH(Table1[[#This Row],[Conditions for change]],'v1 Project Information'!$B$21:$B$44,0),0)=\"Yes\",\"Normal\",\"None\"),Table1[[#This Row],[Recertification type]])","v":"None"},"Spot Check","","Owner"]
[null,"O",{"$f":"IF(LEFT(Table1[[#This Row],[Feature and Parts]],3)=\"fea\",MID(Table1[[#This Row],[Feature and Parts]],9,3)+0,C182)","v":52},{"$f":"LOOKUP(Table1[[#This Row],[F'#]],'v1 Achieved Features'!D:D,'v1 Achieved Features'!$B:B)","v":0},"Feature 52. Mindful Eating"]
[null,null,{"$f":"IF(LEFT(Table1[[#This Row],[Feature and Parts]],3)=\"fea\",MID(Table1[[#This Row],[Feature and Parts]],9,3)+0,C183)","v":52},{"$f":"LOOKUP(Table1[[#This Row],[F'#]],'v1 Achieved Features'!D:D,'v1 Achieved Features'!$B:B)","v":0},"Eating Spaces","None unless a change to","Interior design",{"$f":"IF(Table1[[#This Row],[Recertification type]]=\"None unless a change to\",IF(OFFSET('v1 Project Information'!$C$20,MATCH(Table1[[#This Row],[Conditions for change]],'v1 Project Information'!$B$21:$B$44,0),0)=\"Yes\",\"Normal\",\"None\"),Table1[[#This Row],[Recertification type]])","v":"None"},"","Architectural Drawing"]
[null,null,{"$f":"IF(LEFT(Table1[[#This Row],[Feature and Parts]],3)=\"fea\",MID(Table1[[#This Row],[Feature and Parts]],9,3)+0,C184)","v":52},{"$f":"LOOKUP(Table1[[#This Row],[F'#]],'v1 Achieved Features'!D:D,'v1 Achieved Features'!$B:B)","v":0},"Break Area Furnishings","None unless a change to","Interior design",{"$f":"IF(Table1[[#This Row],[Recertification type]]=\"None unless a change to\",IF(OFFSET('v1 Project Information'!$C$20,MATCH(Table1[[#This Row],[Conditions for change]],'v1 Project Information'!$B$21:$B$44,0),0)=\"Yes\",\"Normal\",\"None\"),Table1[[#This Row],[Recertification type]])","v":"None"},"Spot Check","","Owner"]
["LIGHT","P",{"$f":"IF(LEFT(Table1[[#This Row],[Feature and Parts]],3)=\"fea\",MID(Table1[[#This Row],[Feature and Parts]],9,3)+0,C185)","v":53},{"$f":"LOOKUP(Table1[[#This Row],[F'#]],'v1 Achieved Features'!D:D,'v1 Achieved Features'!$B:B)","v":"Yes"},"Feature 53. Visual Lighting Design"]
[null,null,{"$f":"IF(LEFT(Table1[[#This Row],[Feature and Parts]],3)=\"fea\",MID(Table1[[#This Row],[Feature and Parts]],9,3)+0,C186)","v":53},{"$f":"LOOKUP(Table1[[#This Row],[F'#]],'v1 Achieved Features'!D:D,'v1 Achieved Features'!$B:B)","v":"Yes"},"Visual Acuity for Focus","None unless a change to","Interior design",{"$f":"IF(Table1[[#This Row],[Recertification type]]=\"None unless a change to\",IF(OFFSET('v1 Project Information'!$C$20,MATCH(Table1[[#This Row],[Conditions for change]],'v1 Project Information'!$B$21:$B$44,0),0)=\"Yes\",\"Normal\",\"None\"),Table1[[#This Row],[Recertification type]])","v":"None"},"Spot Measurement","Policy Document","Architect"]
[null,null,{"$f":"IF(LEFT(Table1[[#This Row],[Feature and Parts]],3)=\"fea\",MID(Table1[[#This Row],[Feature and Parts]],9,3)+0,C187)","v":53},{"$f":"LOOKUP(Table1[[#This Row],[F'#]],'v1 Achieved Features'!D:D,'v1 Achieved Features'!$B:B)","v":"Yes"},"Brightness Management Strategies","None unless a change to","Interior design",{"$f":"IF(Table1[[#This Row],[Recertification type]]=\"None unless a change to\",IF(OFFSET('v1 Project Information'!$C$20,MATCH(Table1[[#This Row],[Conditions for change]],'v1 Project Information'!$B$21:$B$44,0),0)=\"Yes\",\"Normal\",\"None\"),Table1[[#This Row],[Recertification type]])","v":"None"},"","Professional Narrative"]
[null,"P",{"$f":"IF(LEFT(Table1[[#This Row],[Feature and Parts]],3)=\"fea\",MID(Table1[[#This Row],[Feature and Parts]],9,3)+0,C188)","v":54},{"$f":"LOOKUP(Table1[[#This Row],[F'#]],'v1 Achieved Features'!D:D,'v1 Achieved Features'!$B:B)","v":"Yes"},"Feature 54. Circadian Lighting Design"]
[null,null,{"$f":"IF(LEFT(Table1[[#This Row],[Feature and Parts]],3)=\"fea\",MID(Table1[[#This Row],[Feature and Parts]],9,3)+0,C189)","v":54},{"$f":"LOOKUP(Table1[[#This Row],[F'#]],'v1 Achieved Features'!D:D,'v1 Achieved Features'!$B:B)","v":"Yes"},"Melanopic Light Intensity for Work Areas","None unless a change to","Interior design","See 'Performance Verification'","Spot Measurement","","Architect"]
[null,"P",{"$f":"IF(LEFT(Table1[[#This Row],[Feature and Parts]],3)=\"fea\",MID(Table1[[#This Row],[Feature and Parts]],9,3)+0,C190)","v":55},{"$f":"LOOKUP(Table1[[#This Row],[F'#]],'v1 Achieved Features'!D:D,'v1 Achieved Features'!$B:B)","v":"Yes"},"Feature 55. Electric Light Glare Control"]
[null,null,{"$f":"IF(LEFT(Table1[[#This Row],[Feature and Parts]],3)=\"fea\",MID(Table1[[#This Row],[Feature and Parts]],9,3)+0,C191)","v":55},{"$f":"LOOKUP(Table1[[#This Row],[F'#]],'v1 Achieved Features'!D:D,'v1 Achieved Features'!$B:B)","v":"Yes"},"Lamp Shielding","Normal (for new products)",null,{"$f":"IF(Table1[[#This Row],[Recertification type]]=\"None unless a change to\",IF(OFFSET('v1 Project Information'!$C$20,MATCH(Table1[[#This Row],[Conditions for change]],'v1 Project Information'!$B$21:$B$44,0),0)=\"Yes\",\"Normal\",\"None\"),Table1[[#This Row],[Recertification type]])","v":"Normal (for new products)"},"","","Architect"]
[null,null,{"$f":"IF(LEFT(Table1[[#This Row],[Feature and Parts]],3)=\"fea\",MID(Table1[[#This Row],[Feature and Parts]],9,3)+0,C192)","v":55},{"$f":"LOOKUP(Table1[[#This Row],[F'#]],'v1 Achieved Features'!D:D,'v1 Achieved Features'!$B:B)","v":"Yes"},"Glare Minimization","Normal (for new products)",null,{"$f":"IF(Table1[[#This Row],[Recertification type]]=\"None unless a change to\",IF(OFFSET('v1 Project Information'!$C$20,MATCH(Table1[[#This Row],[Conditions for change]],'v1 Project Information'!$B$21:$B$44,0),0)=\"Yes\",\"Normal\",\"None\"),Table1[[#This Row],[Recertification type]])","v":"Normal (for new products)"},"","","Architect"]
[null,"P",{"$f":"IF(LEFT(Table1[[#This Row],[Feature and Parts]],3)=\"fea\",MID(Table1[[#This Row],[Feature and Parts]],9,3)+0,C193)","v":56},{"$f":"LOOKUP(Table1[[#This Row],[F'#]],'v1 Achieved Features'!D:D,'v1 Achieved Features'!$B:B)","v":"Yes"},"Feature 56. Solar Glare Control"]
[null,null,{"$f":"IF(LEFT(Table1[[#This Row],[Feature and Parts]],3)=\"fea\",MID(Table1[[#This Row],[Feature and Parts]],9,3)+0,C194)","v":56},{"$f":"LOOKUP(Table1[[#This Row],[F'#]],'v1 Achieved Features'!D:D,'v1 Achieved Features'!$B:B)","v":"Yes"},"View Window Shading","None unless a change to","Interior design",{"$f":"IF(Table1[[#This Row],[Recertification type]]=\"None unless a change to\",IF(OFFSET('v1 Project Information'!$C$20,MATCH(Table1[[#This Row],[Conditions for change]],'v1 Project Information'!$B$21:$B$44,0),0)=\"Yes\",\"Normal\",\"None\"),Table1[[#This Row],[Recertification type]])","v":"None"},"Spot Check","","Architect"]
[null,null,{"$f":"IF(LEFT(Table1[[#This Row],[Feature and Parts]],3)=\"fea\",MID(Table1[[#This Row],[Feature and Parts]],9,3)+0,C195)","v":56},{"$f":"LOOKUP(Table1[[#This Row],[F'#]],'v1 Achieved Features'!D:D,'v1 Achieved Features'!$B:B)","v":"Yes"},"Daylight Management","None unless a change to","Interior design",{"$f":"IF(Table1[[#This Row],[Recertification type]]=\"None unless a change to\",IF(OFFSET('v1 Project Information'!$C$20,MATCH(Table1[[#This Row],[Conditions for change]],'v1 Project Information'!$B$21:$B$44,0),0)=\"Yes\",\"Normal\",\"None\"),Table1[[#This Row],[Recertification type]])","v":"None"},"Spot Check","","Architect"]
[null,"O",{"$f":"IF(LEFT(Table1[[#This Row],[Feature and Parts]],3)=\"fea\",MID(Table1[[#This Row],[Feature and Parts]],9,3)+0,C196)","v":57},{"$f":"LOOKUP(Table1[[#This Row],[F'#]],'v1 Achieved Features'!D:D,'v1 Achieved Features'!$B:B)","v":0},"Feature 57. Low-Glare Workstation Design"]
[null,null,{"$f":"IF(LEFT(Table1[[#This Row],[Feature and Parts]],3)=\"fea\",MID(Table1[[#This Row],[Feature and Parts]],9,3)+0,C197)","v":57},{"$f":"LOOKUP(Table1[[#This Row],[F'#]],'v1 Achieved Features'!D:D,'v1 Achieved Features'!$B:B)","v":0},"Glare Avoidance","None unless a change to","Interior design",{"$f":"IF(Table1[[#This Row],[Recertification type]]=\"None unless a change to\",IF(OFFSET('v1 Project Information'!$C$20,MATCH(Table1[[#This Row],[Conditions for change]],'v1 Project Information'!$B$21:$B$44,0),0)=\"Yes\",\"Normal\",\"None\"),Table1[[#This Row],[Recertification type]])","v":"None"},"Visual Inspection","","-"]
[null,"O",{"$f":"IF(LEFT(Table1[[#This Row],[Feature and Parts]],3)=\"fea\",MID(Table1[[#This Row],[Feature and Parts]],9,3)+0,C198)","v":58},{"$f":"LOOKUP(Table1[[#This Row],[F'#]],'v1 Achieved Features'!D:D,'v1 Achieved Features'!$B:B)","v":0},"Feature 58. Color Quality"]
[null,null,{"$f":"IF(LEFT(Table1[[#This Row],[Feature and Parts]],3)=\"fea\",MID(Table1[[#This Row],[Feature and Parts]],9,3)+0,C199)","v":58},{"$f":"LOOKUP(Table1[[#This Row],[F'#]],'v1 Achieved Features'!D:D,'v1 Achieved Features'!$B:B)","v":0},"Color Rendering Index","Normal (for new products)",null,{"$f":"IF(Table1[[#This Row],[Recertification type]]=\"None unless a change to\",IF(OFFSET('v1 Project Information'!$C$20,MATCH(Table1[[#This Row],[Conditions for change]],'v1 Project Information'!$B$21:$B$44,0),0)=\"Yes\",\"Normal\",\"None\"),Table1[[#This Row],[Recertification type]])","v":"Normal (for new products)"},"","","Architect"]
[null,"O",{"$f":"IF(LEFT(Table1[[#This Row],[Feature and Parts]],3)=\"fea\",MID(Table1[[#This Row],[Feature and Parts]],9,3)+0,C200)","v":59},{"$f":"LOOKUP(Table1[[#This Row],[F'#]],'v1 Achieved Features'!D:D,'v1 Achieved Features'!$B:B)","v":0},"Feature 59. Surface Design"]
[null,null,{"$f":"IF(LEFT(Table1[[#This Row],[Feature and Parts]],3)=\"fea\",MID(Table1[[#This Row],[Feature and Parts]],9,3)+0,C201)","v":59},{"$f":"LOOKUP(Table1[[#This Row],[F'#]],'v1 Achieved Features'!D:D,'v1 Achieved Features'!$B:B)","v":0},"Working and Learning Area Surface Reflectivity","None unless a change to","Interior design",{"$f":"IF(Table1[[#This Row],[Recertification type]]=\"None unless a change to\",IF(OFFSET('v1 Project Information'!$C$20,MATCH(Table1[[#This Row],[Conditions for change]],'v1 Project Information'!$B$21:$B$44,0),0)=\"Yes\",\"Normal\",\"None\"),Table1[[#This Row],[Recertification type]])","v":"None"},"","","Architect"]
[null,null,{"$f":"IF(LEFT(Table1[[#This Row],[Feature and Parts]],3)=\"fea\",MID(Table1[[#This Row],[Feature and Parts]],9,3)+0,C202)","v":59},{"$f":"LOOKUP(Table1[[#This Row],[F'#]],'v1 Achieved Features'!D:D,'v1 Achieved Features'!$B:B)","v":0},"Bedroom Wall and Ceiling Lightness","None unless a change to","Interior design",{"$f":"IF(Table1[[#This Row],[Recertification type]]=\"None unless a change to\",IF(OFFSET('v1 Project Information'!$C$20,MATCH(Table1[[#This Row],[Conditions for change]],'v1 Project Information'!$B$21:$B$44,0),0)=\"Yes\",\"Normal\",\"None\"),Table1[[#This Row],[Recertification type]])","v":"None"},"","","Architect"]
[null,null,{"$f":"IF(LEFT(Table1[[#This Row],[Feature and Parts]],3)=\"fea\",MID(Table1[[#This Row],[Feature and Parts]],9,3)+0,C203)","v":59},{"$f":"LOOKUP(Table1[[#This Row],[F'#]],'v1 Achieved Features'!D:D,'v1 Achieved Features'!$B:B)","v":0},"Living Space Wall and Ceiling Lightness","None unless a change to","Interior design",{"$f":"IF(Table1[[#This Row],[Recertification type]]=\"None unless a change to\",IF(OFFSET('v1 Project Information'!$C$20,MATCH(Table1[[#This Row],[Conditions for change]],'v1 Project Information'!$B$21:$B$44,0),0)=\"Yes\",\"Normal\",\"None\"),Table1[[#This Row],[Recertification type]])","v":"None"},"","","Architect"]
[null,"O",{"$f":"IF(LEFT(Table1[[#This Row],[Feature and Parts]],3)=\"fea\",MID(Table1[[#This Row],[Feature and Parts]],9,3)+0,C204)","v":60},{"$f":"LOOKUP(Table1[[#This Row],[F'#]],'v1 Achieved Features'!D:D,'v1 Achieved Features'!$B:B)","v":0},"Feature 60. Automated Shading And Dimming Controls"]
[null,null,{"$f":"IF(LEFT(Table1[[#This Row],[Feature and Parts]],3)=\"fea\",MID(Table1[[#This Row],[Feature and Parts]],9,3)+0,C205)","v":60},{"$f":"LOOKUP(Table1[[#This Row],[F'#]],'v1 Achieved Features'!D:D,'v1 Achieved Features'!$B:B)","v":0},"Automated Sunlight Control","None unless a change to","Interior design",{"$f":"IF(Table1[[#This Row],[Recertification type]]=\"None unless a change to\",IF(OFFSET('v1 Project Information'!$C$20,MATCH(Table1[[#This Row],[Conditions for change]],'v1 Project Information'!$B$21:$B$44,0),0)=\"Yes\",\"Normal\",\"None\"),Table1[[#This Row],[Recertification type]])","v":"None"},"","","MEP"]
[null,null,{"$f":"IF(LEFT(Table1[[#This Row],[Feature and Parts]],3)=\"fea\",MID(Table1[[#This Row],[Feature and Parts]],9,3)+0,C206)","v":60},{"$f":"LOOKUP(Table1[[#This Row],[F'#]],'v1 Achieved Features'!D:D,'v1 Achieved Features'!$B:B)","v":0},"Responsive Light Control","None unless a change to","Interior design",{"$f":"IF(Table1[[#This Row],[Recertification type]]=\"None unless a change to\",IF(OFFSET('v1 Project Information'!$C$20,MATCH(Table1[[#This Row],[Conditions for change]],'v1 Project Information'!$B$21:$B$44,0),0)=\"Yes\",\"Normal\",\"None\"),Table1[[#This Row],[Recertification type]])","v":"None"},"","","MEP"]
[null,"O",{"$f":"IF(LEFT(Table1[[#This Row],[Feature and Parts]],3)=\"fea\",MID(Table1[[#This Row],[Feature and Parts]],9,3)+0,C207)","v":61},{"$f":"LOOKUP(Table1[[#This Row],[F'#]],'v1 Achieved Features'!D:D,'v1 Achieved Features'!$B:B)","v":0},"Feature 61. Right To Light"]
[null,null,{"$f":"IF(LEFT(Table1[[#This Row],[Feature and Parts]],3)=\"fea\",MID(Table1[[#This Row],[Feature and Parts]],9,3)+0,C208)","v":61},{"$f":"LOOKUP(Table1[[#This Row],[F'#]],'v1 Achieved Features'!D:D,'v1 Achieved Features'!$B:B)","v":0},"Lease Depth","None unless a change to","Overall structure",{"$f":"IF(Table1[[#This Row],[Recertification type]]=\"None unless a change to\",IF(OFFSET('v1 Project Information'!$C$20,MATCH(Table1[[#This Row],[Conditions for change]],'v1 Project Information'!$B$21:$B$44,0),0)=\"Yes\",\"Normal\",\"None\"),Table1[[#This Row],[Recertification type]])","v":"None"},"Spot Check","Architectural Drawing","-"]
[null,null,{"$f":"IF(LEFT(Table1[[#This Row],[Feature and Parts]],3)=\"fea\",MID(Table1[[#This Row],[Feature and Parts]],9,3)+0,C209)","v":61},{"$f":"LOOKUP(Table1[[#This Row],[F'#]],'v1 Achieved Features'!D:D,'v1 Achieved Features'!$B:B)","v":0},"Window Access","None unless a change to","Interior design",{"$f":"IF(Table1[[#This Row],[Recertification type]]=\"None unless a change to\",IF(OFFSET('v1 Project Information'!$C$20,MATCH(Table1[[#This Row],[Conditions for change]],'v1 Project Information'!$B$21:$B$44,0),0)=\"Yes\",\"Normal\",\"None\"),Table1[[#This Row],[Recertification type]])","v":"None"},"Spot Check","Architectural Drawing","-"]
[null,"O",{"$f":"IF(LEFT(Table1[[#This Row],[Feature and Parts]],3)=\"fea\",MID(Table1[[#This Row],[Feature and Parts]],9,3)+0,C210)","v":62},{"$f":"LOOKUP(Table1[[#This Row],[F'#]],'v1 Achieved Features'!D:D,'v1 Achieved Features'!$B:B)","v":0},"Feature 62. Daylight Modeling"]
[null,null,{"$f":"IF(LEFT(Table1[[#This Row],[Feature and Parts]],3)=\"fea\",MID(Table1[[#This Row],[Feature and Parts]],9,3)+0,C211)","v":62},{"$f":"LOOKUP(Table1[[#This Row],[F'#]],'v1 Achieved Features'!D:D,'v1 Achieved Features'!$B:B)","v":0},"Healthy Sunlight Exposure","None unless a change to","Interior design",{"$f":"IF(Table1[[#This Row],[Recertification type]]=\"None unless a change to\",IF(OFFSET('v1 Project Information'!$C$20,MATCH(Table1[[#This Row],[Conditions for change]],'v1 Project Information'!$B$21:$B$44,0),0)=\"Yes\",\"Normal\",\"None\"),Table1[[#This Row],[Recertification type]])","v":"None"},"","Modeling Report","-"]
[null,"O",{"$f":"IF(LEFT(Table1[[#This Row],[Feature and Parts]],3)=\"fea\",MID(Table1[[#This Row],[Feature and Parts]],9,3)+0,C212)","v":63},{"$f":"LOOKUP(Table1[[#This Row],[F'#]],'v1 Achieved Features'!D:D,'v1 Achieved Features'!$B:B)","v":0},"Feature 63. Daylighting Fenestration"]
[null,null,{"$f":"IF(LEFT(Table1[[#This Row],[Feature and Parts]],3)=\"fea\",MID(Table1[[#This Row],[Feature and Parts]],9,3)+0,C213)","v":63},{"$f":"LOOKUP(Table1[[#This Row],[F'#]],'v1 Achieved Features'!D:D,'v1 Achieved Features'!$B:B)","v":0},"Window Sizes for Working and Learning Spaces","None unless a change to","Overall structure",{"$f":"IF(Table1[[#This Row],[Recertification type]]=\"None unless a change to\",IF(OFFSET('v1 Project Information'!$C$20,MATCH(Table1[[#This Row],[Conditions for change]],'v1 Project Information'!$B$21:$B$44,0),0)=\"Yes\",\"Normal\",\"None\"),Table1[[#This Row],[Recertification type]])","v":"None"},"Spot Check","Architectural Drawing","-"]
[null,null,{"$f":"IF(LEFT(Table1[[#This Row],[Feature and Parts]],3)=\"fea\",MID(Table1[[#This Row],[Feature and Parts]],9,3)+0,C214)","v":63},{"$f":"LOOKUP(Table1[[#This Row],[F'#]],'v1 Achieved Features'!D:D,'v1 Achieved Features'!$B:B)","v":0},"Window Transmittance in Working and Learning Areas","None unless a change to","Overall structure",{"$f":"IF(Table1[[#This Row],[Recertification type]]=\"None unless a change to\",IF(OFFSET('v1 Project Information'!$C$20,MATCH(Table1[[#This Row],[Conditions for change]],'v1 Project Information'!$B$21:$B$44,0),0)=\"Yes\",\"Normal\",\"None\"),Table1[[#This Row],[Recertification type]])","v":"None"},"","","Architect"]
[null,null,{"$f":"IF(LEFT(Table1[[#This Row],[Feature and Parts]],3)=\"fea\",MID(Table1[[#This Row],[Feature and Parts]],9,3)+0,C215)","v":63},{"$f":"LOOKUP(Table1[[#This Row],[F'#]],'v1 Achieved Features'!D:D,'v1 Achieved Features'!$B:B)","v":0},"Uniform Color Transmittance","None unless a change to","Overall structure",{"$f":"IF(Table1[[#This Row],[Recertification type]]=\"None unless a change to\",IF(OFFSET('v1 Project Information'!$C$20,MATCH(Table1[[#This Row],[Conditions for change]],'v1 Project Information'!$B$21:$B$44,0),0)=\"Yes\",\"Normal\",\"None\"),Table1[[#This Row],[Recertification type]])","v":"None"},"","","Architect"]
["FITNESS","P",{"$f":"IF(LEFT(Table1[[#This Row],[Feature and Parts]],3)=\"fea\",MID(Table1[[#This Row],[Feature and Parts]],9,3)+0,C216)","v":64},{"$f":"LOOKUP(Table1[[#This Row],[F'#]],'v1 Achieved Features'!D:D,'v1 Achieved Features'!$B:B)","v":"Yes"},"Feature 64. Interior Fitness Circulation"]
[null,null,{"$f":"IF(LEFT(Table1[[#This Row],[Feature and Parts]],3)=\"fea\",MID(Table1[[#This Row],[Feature and Parts]],9,3)+0,C217)","v":64},{"$f":"LOOKUP(Table1[[#This Row],[F'#]],'v1 Achieved Features'!D:D,'v1 Achieved Features'!$B:B)","v":"Yes"},"Stair Accessibility","None unless a change to","Interior design",{"$f":"IF(Table1[[#This Row],[Recertification type]]=\"None unless a change to\",IF(OFFSET('v1 Project Information'!$C$20,MATCH(Table1[[#This Row],[Conditions for change]],'v1 Project Information'!$B$21:$B$44,0),0)=\"Yes\",\"Normal\",\"None\"),Table1[[#This Row],[Recertification type]])","v":"None"},"Visual Inspection","","-"]
[null,null,{"$f":"IF(LEFT(Table1[[#This Row],[Feature and Parts]],3)=\"fea\",MID(Table1[[#This Row],[Feature and Parts]],9,3)+0,C218)","v":64},{"$f":"LOOKUP(Table1[[#This Row],[F'#]],'v1 Achieved Features'!D:D,'v1 Achieved Features'!$B:B)","v":"Yes"},"Stair Promotion","None unless a change to","Overall structure",{"$f":"IF(Table1[[#This Row],[Recertification type]]=\"None unless a change to\",IF(OFFSET('v1 Project Information'!$C$20,MATCH(Table1[[#This Row],[Conditions for change]],'v1 Project Information'!$B$21:$B$44,0),0)=\"Yes\",\"Normal\",\"None\"),Table1[[#This Row],[Recertification type]])","v":"None"},"Visual Inspection","","-"]
[null,null,{"$f":"IF(LEFT(Table1[[#This Row],[Feature and Parts]],3)=\"fea\",MID(Table1[[#This Row],[Feature and Parts]],9,3)+0,C219)","v":64},{"$f":"LOOKUP(Table1[[#This Row],[F'#]],'v1 Achieved Features'!D:D,'v1 Achieved Features'!$B:B)","v":"Yes"},"Facilitative Aesthetics","None unless a change to","Interior design",{"$f":"IF(Table1[[#This Row],[Recertification type]]=\"None unless a change to\",IF(OFFSET('v1 Project Information'!$C$20,MATCH(Table1[[#This Row],[Conditions for change]],'v1 Project Information'!$B$21:$B$44,0),0)=\"Yes\",\"Normal\",\"None\"),Table1[[#This Row],[Recertification type]])","v":"None"},"Visual Inspection","","-"]
[null,"P",{"$f":"IF(LEFT(Table1[[#This Row],[Feature and Parts]],3)=\"fea\",MID(Table1[[#This Row],[Feature and Parts]],9,3)+0,C220)","v":65},{"$f":"LOOKUP(Table1[[#This Row],[F'#]],'v1 Achieved Features'!D:D,'v1 Achieved Features'!$B:B)","v":"Yes"},"Feature 65. Activity Incentive Programs"]
[null,null,{"$f":"IF(LEFT(Table1[[#This Row],[Feature and Parts]],3)=\"fea\",MID(Table1[[#This Row],[Feature and Parts]],9,3)+0,C221)","v":65},{"$f":"LOOKUP(Table1[[#This Row],[F'#]],'v1 Achieved Features'!D:D,'v1 Achieved Features'!$B:B)","v":"Yes"},"Activity Incentive Programs","None unless a change to","Organizational policy",{"$f":"IF(Table1[[#This Row],[Recertification type]]=\"None unless a change to\",IF(OFFSET('v1 Project Information'!$C$20,MATCH(Table1[[#This Row],[Conditions for change]],'v1 Project Information'!$B$21:$B$44,0),0)=\"Yes\",\"Normal\",\"None\"),Table1[[#This Row],[Recertification type]])","v":"None"},"","Policy Document"]
[null,"O",{"$f":"IF(LEFT(Table1[[#This Row],[Feature and Parts]],3)=\"fea\",MID(Table1[[#This Row],[Feature and Parts]],9,3)+0,C222)","v":66},{"$f":"LOOKUP(Table1[[#This Row],[F'#]],'v1 Achieved Features'!D:D,'v1 Achieved Features'!$B:B)","v":0},"Feature 66. Structured Fitness Opportunities"]
[null,null,{"$f":"IF(LEFT(Table1[[#This Row],[Feature and Parts]],3)=\"fea\",MID(Table1[[#This Row],[Feature and Parts]],9,3)+0,C223)","v":66},{"$f":"LOOKUP(Table1[[#This Row],[F'#]],'v1 Achieved Features'!D:D,'v1 Achieved Features'!$B:B)","v":0},"Professional Fitness Programs","None unless a change to","Organizational policy",{"$f":"IF(Table1[[#This Row],[Recertification type]]=\"None unless a change to\",IF(OFFSET('v1 Project Information'!$C$20,MATCH(Table1[[#This Row],[Conditions for change]],'v1 Project Information'!$B$21:$B$44,0),0)=\"Yes\",\"Normal\",\"None\"),Table1[[#This Row],[Recertification type]])","v":"None"},"","Policy Document"]
[null,null,{"$f":"IF(LEFT(Table1[[#This Row],[Feature and Parts]],3)=\"fea\",MID(Table1[[#This Row],[Feature and Parts]],9,3)+0,C224)","v":66},{"$f":"LOOKUP(Table1[[#This Row],[F'#]],'v1 Achieved Features'!D:D,'v1 Achieved Features'!$B:B)","v":0},"Fitness Education","None unless a change to","Organizational policy",{"$f":"IF(Table1[[#This Row],[Recertification type]]=\"None unless a change to\",IF(OFFSET('v1 Project Information'!$C$20,MATCH(Table1[[#This Row],[Conditions for change]],'v1 Project Information'!$B$21:$B$44,0),0)=\"Yes\",\"Normal\",\"None\"),Table1[[#This Row],[Recertification type]])","v":"None"},"","Policy Document"]
[null,"O",{"$f":"IF(LEFT(Table1[[#This Row],[Feature and Parts]],3)=\"fea\",MID(Table1[[#This Row],[Feature and Parts]],9,3)+0,C225)","v":67},{"$f":"LOOKUP(Table1[[#This Row],[F'#]],'v1 Achieved Features'!D:D,'v1 Achieved Features'!$B:B)","v":0},"Feature 67. Exterior Active Design"]
[null,null,{"$f":"IF(LEFT(Table1[[#This Row],[Feature and Parts]],3)=\"fea\",MID(Table1[[#This Row],[Feature and Parts]],9,3)+0,C226)","v":67},{"$f":"LOOKUP(Table1[[#This Row],[F'#]],'v1 Achieved Features'!D:D,'v1 Achieved Features'!$B:B)","v":0},"Pedestrian Amenities","None unless a change to","Exterior design",{"$f":"IF(Table1[[#This Row],[Recertification type]]=\"None unless a change to\",IF(OFFSET('v1 Project Information'!$C$20,MATCH(Table1[[#This Row],[Conditions for change]],'v1 Project Information'!$B$21:$B$44,0),0)=\"Yes\",\"Normal\",\"None\"),Table1[[#This Row],[Recertification type]])","v":"None"},"Spot Check","","Owner"]
[null,null,{"$f":"IF(LEFT(Table1[[#This Row],[Feature and Parts]],3)=\"fea\",MID(Table1[[#This Row],[Feature and Parts]],9,3)+0,C227)","v":67},{"$f":"LOOKUP(Table1[[#This Row],[F'#]],'v1 Achieved Features'!D:D,'v1 Achieved Features'!$B:B)","v":0},"Pedestrian Promotion","None unless a change to","Exterior design",{"$f":"IF(Table1[[#This Row],[Recertification type]]=\"None unless a change to\",IF(OFFSET('v1 Project Information'!$C$20,MATCH(Table1[[#This Row],[Conditions for change]],'v1 Project Information'!$B$21:$B$44,0),0)=\"Yes\",\"Normal\",\"None\"),Table1[[#This Row],[Recertification type]])","v":"None"},"Spot Check","","Owner"]
[null,null,{"$f":"IF(LEFT(Table1[[#This Row],[Feature and Parts]],3)=\"fea\",MID(Table1[[#This Row],[Feature and Parts]],9,3)+0,C228)","v":67},{"$f":"LOOKUP(Table1[[#This Row],[F'#]],'v1 Achieved Features'!D:D,'v1 Achieved Features'!$B:B)","v":0},"Neighborhood Connectivity","None",null,{"$f":"IF(Table1[[#This Row],[Recertification type]]=\"None unless a change to\",IF(OFFSET('v1 Project Information'!$C$20,MATCH(Table1[[#This Row],[Conditions for change]],'v1 Project Information'!$B$21:$B$44,0),0)=\"Yes\",\"Normal\",\"None\"),Table1[[#This Row],[Recertification type]])","v":"None"},"","Annotated Map","-"]
[null,"O",{"$f":"IF(LEFT(Table1[[#This Row],[Feature and Parts]],3)=\"fea\",MID(Table1[[#This Row],[Feature and Parts]],9,3)+0,C229)","v":68},{"$f":"LOOKUP(Table1[[#This Row],[F'#]],'v1 Achieved Features'!D:D,'v1 Achieved Features'!$B:B)","v":0},"Feature 68. Physical Activity Spaces"]
[null,null,{"$f":"IF(LEFT(Table1[[#This Row],[Feature and Parts]],3)=\"fea\",MID(Table1[[#This Row],[Feature and Parts]],9,3)+0,C230)","v":68},{"$f":"LOOKUP(Table1[[#This Row],[F'#]],'v1 Achieved Features'!D:D,'v1 Achieved Features'!$B:B)","v":0},"Site Space Designation for Offices","None unless a change to","Interior design",{"$f":"IF(Table1[[#This Row],[Recertification type]]=\"None unless a change to\",IF(OFFSET('v1 Project Information'!$C$20,MATCH(Table1[[#This Row],[Conditions for change]],'v1 Project Information'!$B$21:$B$44,0),0)=\"Yes\",\"Normal\",\"None\"),Table1[[#This Row],[Recertification type]])","v":"None"},"","Architectural Drawing"]
[null,null,{"$f":"IF(LEFT(Table1[[#This Row],[Feature and Parts]],3)=\"fea\",MID(Table1[[#This Row],[Feature and Parts]],9,3)+0,C231)","v":68},{"$f":"LOOKUP(Table1[[#This Row],[F'#]],'v1 Achieved Features'!D:D,'v1 Achieved Features'!$B:B)","v":0},"External Exercise Spaces","None",null,{"$f":"IF(Table1[[#This Row],[Recertification type]]=\"None unless a change to\",IF(OFFSET('v1 Project Information'!$C$20,MATCH(Table1[[#This Row],[Conditions for change]],'v1 Project Information'!$B$21:$B$44,0),0)=\"Yes\",\"Normal\",\"None\"),Table1[[#This Row],[Recertification type]])","v":"None"},"","Annotated Map","-"]
[null,"O",{"$f":"IF(LEFT(Table1[[#This Row],[Feature and Parts]],3)=\"fea\",MID(Table1[[#This Row],[Feature and Parts]],9,3)+0,C232)","v":69},{"$f":"LOOKUP(Table1[[#This Row],[F'#]],'v1 Achieved Features'!D:D,'v1 Achieved Features'!$B:B)","v":0},"Feature 69. Active Transportation Support"]
[null,null,{"$f":"IF(LEFT(Table1[[#This Row],[Feature and Parts]],3)=\"fea\",MID(Table1[[#This Row],[Feature and Parts]],9,3)+0,C233)","v":69},{"$f":"LOOKUP(Table1[[#This Row],[F'#]],'v1 Achieved Features'!D:D,'v1 Achieved Features'!$B:B)","v":0},"Bicycle Storage and Support","None unless a change to","Interior design",{"$f":"IF(Table1[[#This Row],[Recertification type]]=\"None unless a change to\",IF(OFFSET('v1 Project Information'!$C$20,MATCH(Table1[[#This Row],[Conditions for change]],'v1 Project Information'!$B$21:$B$44,0),0)=\"Yes\",\"Normal\",\"None\"),Table1[[#This Row],[Recertification type]])","v":"None"},"Spot Check","","Owner"]
[null,null,{"$f":"IF(LEFT(Table1[[#This Row],[Feature and Parts]],3)=\"fea\",MID(Table1[[#This Row],[Feature and Parts]],9,3)+0,C234)","v":69},{"$f":"LOOKUP(Table1[[#This Row],[F'#]],'v1 Achieved Features'!D:D,'v1 Achieved Features'!$B:B)","v":0},"Post Commute and Workout Facilities","None unless a change to","Interior design",{"$f":"IF(Table1[[#This Row],[Recertification type]]=\"None unless a change to\",IF(OFFSET('v1 Project Information'!$C$20,MATCH(Table1[[#This Row],[Conditions for change]],'v1 Project Information'!$B$21:$B$44,0),0)=\"Yes\",\"Normal\",\"None\"),Table1[[#This Row],[Recertification type]])","v":"None"},"Spot Check","","Architect"]
[null,"O",{"$f":"IF(LEFT(Table1[[#This Row],[Feature and Parts]],3)=\"fea\",MID(Table1[[#This Row],[Feature and Parts]],9,3)+0,C235)","v":70},{"$f":"LOOKUP(Table1[[#This Row],[F'#]],'v1 Achieved Features'!D:D,'v1 Achieved Features'!$B:B)","v":0},"Feature 70. Fitness Equipment"]
[null,null,{"$f":"IF(LEFT(Table1[[#This Row],[Feature and Parts]],3)=\"fea\",MID(Table1[[#This Row],[Feature and Parts]],9,3)+0,C236)","v":70},{"$f":"LOOKUP(Table1[[#This Row],[F'#]],'v1 Achieved Features'!D:D,'v1 Achieved Features'!$B:B)","v":0},"Cardiorespiratory Exercise Equipment","None unless a change to","Interior design",{"$f":"IF(Table1[[#This Row],[Recertification type]]=\"None unless a change to\",IF(OFFSET('v1 Project Information'!$C$20,MATCH(Table1[[#This Row],[Conditions for change]],'v1 Project Information'!$B$21:$B$44,0),0)=\"Yes\",\"Normal\",\"None\"),Table1[[#This Row],[Recertification type]])","v":"None"},"Spot Check","","Owner"]
[null,null,{"$f":"IF(LEFT(Table1[[#This Row],[Feature and Parts]],3)=\"fea\",MID(Table1[[#This Row],[Feature and Parts]],9,3)+0,C237)","v":70},{"$f":"LOOKUP(Table1[[#This Row],[F'#]],'v1 Achieved Features'!D:D,'v1 Achieved Features'!$B:B)","v":0},"Muscle-strengthening Exercise Equipment","None unless a change to","Interior design",{"$f":"IF(Table1[[#This Row],[Recertification type]]=\"None unless a change to\",IF(OFFSET('v1 Project Information'!$C$20,MATCH(Table1[[#This Row],[Conditions for change]],'v1 Project Information'!$B$21:$B$44,0),0)=\"Yes\",\"Normal\",\"None\"),Table1[[#This Row],[Recertification type]])","v":"None"},"Spot Check","","Owner"]
[null,"O",{"$f":"IF(LEFT(Table1[[#This Row],[Feature and Parts]],3)=\"fea\",MID(Table1[[#This Row],[Feature and Parts]],9,3)+0,C238)","v":71},{"$f":"LOOKUP(Table1[[#This Row],[F'#]],'v1 Achieved Features'!D:D,'v1 Achieved Features'!$B:B)","v":0},"Feature 71. Active Furnishings"]
[null,null,{"$f":"IF(LEFT(Table1[[#This Row],[Feature and Parts]],3)=\"fea\",MID(Table1[[#This Row],[Feature and Parts]],9,3)+0,C239)","v":71},{"$f":"LOOKUP(Table1[[#This Row],[F'#]],'v1 Achieved Features'!D:D,'v1 Achieved Features'!$B:B)","v":0},"Active Workstations","None unless a change to","Interior design",{"$f":"IF(Table1[[#This Row],[Recertification type]]=\"None unless a change to\",IF(OFFSET('v1 Project Information'!$C$20,MATCH(Table1[[#This Row],[Conditions for change]],'v1 Project Information'!$B$21:$B$44,0),0)=\"Yes\",\"Normal\",\"None\"),Table1[[#This Row],[Recertification type]])","v":"None"},"Spot Check","","Owner"]
[null,null,{"$f":"IF(LEFT(Table1[[#This Row],[Feature and Parts]],3)=\"fea\",MID(Table1[[#This Row],[Feature and Parts]],9,3)+0,C240)","v":71},{"$f":"LOOKUP(Table1[[#This Row],[F'#]],'v1 Achieved Features'!D:D,'v1 Achieved Features'!$B:B)","v":0},"Prevalent Standing Desks","None unless a change to","Interior design",{"$f":"IF(Table1[[#This Row],[Recertification type]]=\"None unless a change to\",IF(OFFSET('v1 Project Information'!$C$20,MATCH(Table1[[#This Row],[Conditions for change]],'v1 Project Information'!$B$21:$B$44,0),0)=\"Yes\",\"Normal\",\"None\"),Table1[[#This Row],[Recertification type]])","v":"None"},"Spot Check","","Owner"]
["COMFORT","P",{"$f":"IF(LEFT(Table1[[#This Row],[Feature and Parts]],3)=\"fea\",MID(Table1[[#This Row],[Feature and Parts]],9,3)+0,C241)","v":72},{"$f":"LOOKUP(Table1[[#This Row],[F'#]],'v1 Achieved Features'!D:D,'v1 Achieved Features'!$B:B)","v":"Yes"},"Feature 72. Accessible Design"]
[null,null,{"$f":"IF(LEFT(Table1[[#This Row],[Feature and Parts]],3)=\"fea\",MID(Table1[[#This Row],[Feature and Parts]],9,3)+0,C242)","v":72},{"$f":"LOOKUP(Table1[[#This Row],[F'#]],'v1 Achieved Features'!D:D,'v1 Achieved Features'!$B:B)","v":"Yes"},"Accessibility and Usability","None unless a change to","Interior design",{"$f":"IF(Table1[[#This Row],[Recertification type]]=\"None unless a change to\",IF(OFFSET('v1 Project Information'!$C$20,MATCH(Table1[[#This Row],[Conditions for change]],'v1 Project Information'!$B$21:$B$44,0),0)=\"Yes\",\"Normal\",\"None\"),Table1[[#This Row],[Recertification type]])","v":"None"},"","","Architect"]
[null,"P",{"$f":"IF(LEFT(Table1[[#This Row],[Feature and Parts]],3)=\"fea\",MID(Table1[[#This Row],[Feature and Parts]],9,3)+0,C243)","v":73},{"$f":"LOOKUP(Table1[[#This Row],[F'#]],'v1 Achieved Features'!D:D,'v1 Achieved Features'!$B:B)","v":"Yes"},"Feature 73. Ergonomics: Visual And Physical"]
[null,null,{"$f":"IF(LEFT(Table1[[#This Row],[Feature and Parts]],3)=\"fea\",MID(Table1[[#This Row],[Feature and Parts]],9,3)+0,C244)","v":73},{"$f":"LOOKUP(Table1[[#This Row],[F'#]],'v1 Achieved Features'!D:D,'v1 Achieved Features'!$B:B)","v":"Yes"},"Visual Ergonomics","None unless a change to","Interior design",{"$f":"IF(Table1[[#This Row],[Recertification type]]=\"None unless a change to\",IF(OFFSET('v1 Project Information'!$C$20,MATCH(Table1[[#This Row],[Conditions for change]],'v1 Project Information'!$B$21:$B$44,0),0)=\"Yes\",\"Normal\",\"None\"),Table1[[#This Row],[Recertification type]])","v":"None"},"Spot Check","","Owner"]
[null,null,{"$f":"IF(LEFT(Table1[[#This Row],[Feature and Parts]],3)=\"fea\",MID(Table1[[#This Row],[Feature and Parts]],9,3)+0,C245)","v":73},{"$f":"LOOKUP(Table1[[#This Row],[F'#]],'v1 Achieved Features'!D:D,'v1 Achieved Features'!$B:B)","v":"Yes"},"Desk Height Flexibility","None unless a change to","Interior design",{"$f":"IF(Table1[[#This Row],[Recertification type]]=\"None unless a change to\",IF(OFFSET('v1 Project Information'!$C$20,MATCH(Table1[[#This Row],[Conditions for change]],'v1 Project Information'!$B$21:$B$44,0),0)=\"Yes\",\"Normal\",\"None\"),Table1[[#This Row],[Recertification type]])","v":"None"},"Spot Check","","Owner"]
[null,null,{"$f":"IF(LEFT(Table1[[#This Row],[Feature and Parts]],3)=\"fea\",MID(Table1[[#This Row],[Feature and Parts]],9,3)+0,C246)","v":73},{"$f":"LOOKUP(Table1[[#This Row],[F'#]],'v1 Achieved Features'!D:D,'v1 Achieved Features'!$B:B)","v":"Yes"},"Seat Flexibility","None unless a change to","Interior design",{"$f":"IF(Table1[[#This Row],[Recertification type]]=\"None unless a change to\",IF(OFFSET('v1 Project Information'!$C$20,MATCH(Table1[[#This Row],[Conditions for change]],'v1 Project Information'!$B$21:$B$44,0),0)=\"Yes\",\"Normal\",\"None\"),Table1[[#This Row],[Recertification type]])","v":"None"},"Spot Check","","Owner"]
[null,"P",{"$f":"IF(LEFT(Table1[[#This Row],[Feature and Parts]],3)=\"fea\",MID(Table1[[#This Row],[Feature and Parts]],9,3)+0,C247)","v":74},{"$f":"LOOKUP(Table1[[#This Row],[F'#]],'v1 Achieved Features'!D:D,'v1 Achieved Features'!$B:B)","v":"Yes"},"Feature 74. Exterior Noise Intrusion"]
[null,null,{"$f":"IF(LEFT(Table1[[#This Row],[Feature and Parts]],3)=\"fea\",MID(Table1[[#This Row],[Feature and Parts]],9,3)+0,C248)","v":74},{"$f":"LOOKUP(Table1[[#This Row],[F'#]],'v1 Achieved Features'!D:D,'v1 Achieved Features'!$B:B)","v":"Yes"},"Sound Pressure Level","None",null,"See 'Performance Verification'","Performance Test","","-"]
[null,null,{"$f":"IF(LEFT(Table1[[#This Row],[Feature and Parts]],3)=\"fea\",MID(Table1[[#This Row],[Feature and Parts]],9,3)+0,C249)","v":74},{"$f":"LOOKUP(Table1[[#This Row],[F'#]],'v1 Achieved Features'!D:D,'v1 Achieved Features'!$B:B)","v":"Yes"},"Acoustical Narrative","None unless a change to","Overall structure",{"$f":"IF(Table1[[#This Row],[Recertification type]]=\"None unless a change to\",IF(OFFSET('v1 Project Information'!$C$20,MATCH(Table1[[#This Row],[Conditions for change]],'v1 Project Information'!$B$21:$B$44,0),0)=\"Yes\",\"Normal\",\"None\"),Table1[[#This Row],[Recertification type]])","v":"None"},"","Professional Narrative","-"]
[null,"P",{"$f":"IF(LEFT(Table1[[#This Row],[Feature and Parts]],3)=\"fea\",MID(Table1[[#This Row],[Feature and Parts]],9,3)+0,C250)","v":75},{"$f":"LOOKUP(Table1[[#This Row],[F'#]],'v1 Achieved Features'!D:D,'v1 Achieved Features'!$B:B)","v":"Yes"},"Feature 75. Internally Generated Noise"]
[null,null,{"$f":"IF(LEFT(Table1[[#This Row],[Feature and Parts]],3)=\"fea\",MID(Table1[[#This Row],[Feature and Parts]],9,3)+0,C251)","v":75},{"$f":"LOOKUP(Table1[[#This Row],[F'#]],'v1 Achieved Features'!D:D,'v1 Achieved Features'!$B:B)","v":"Yes"},"Acoustic Planning","None unless a change to","Interior design",{"$f":"IF(Table1[[#This Row],[Recertification type]]=\"None unless a change to\",IF(OFFSET('v1 Project Information'!$C$20,MATCH(Table1[[#This Row],[Conditions for change]],'v1 Project Information'!$B$21:$B$44,0),0)=\"Yes\",\"Normal\",\"None\"),Table1[[#This Row],[Recertification type]])","v":"None"},"","","Architect"]
[null,null,{"$f":"IF(LEFT(Table1[[#This Row],[Feature and Parts]],3)=\"fea\",MID(Table1[[#This Row],[Feature and Parts]],9,3)+0,C252)","v":75},{"$f":"LOOKUP(Table1[[#This Row],[F'#]],'v1 Achieved Features'!D:D,'v1 Achieved Features'!$B:B)","v":"Yes"},"Mechanical Equipment Sound Levels","None",null,"See 'Performance Verification'","Performance Test","","-"]
[null,null,{"$f":"IF(LEFT(Table1[[#This Row],[Feature and Parts]],3)=\"fea\",MID(Table1[[#This Row],[Feature and Parts]],9,3)+0,C253)","v":75},{"$f":"LOOKUP(Table1[[#This Row],[F'#]],'v1 Achieved Features'!D:D,'v1 Achieved Features'!$B:B)","v":"Yes"},"Mechanical Equipment Sound Levels in Sensitive Rooms","None",null,"See 'Performance Verification'","Performance Test","","-"]
[null,"P",{"$f":"IF(LEFT(Table1[[#This Row],[Feature and Parts]],3)=\"fea\",MID(Table1[[#This Row],[Feature and Parts]],9,3)+0,C254)","v":76},{"$f":"LOOKUP(Table1[[#This Row],[F'#]],'v1 Achieved Features'!D:D,'v1 Achieved Features'!$B:B)","v":"Yes"},"Feature 76. Thermal Comfort"]
[null,null,{"$f":"IF(LEFT(Table1[[#This Row],[Feature and Parts]],3)=\"fea\",MID(Table1[[#This Row],[Feature and Parts]],9,3)+0,C255)","v":76},{"$f":"LOOKUP(Table1[[#This Row],[F'#]],'v1 Achieved Features'!D:D,'v1 Achieved Features'!$B:B)","v":"Yes"},"Ventilated Thermal Environment","None unless a change to","Mechanical system","See 'Performance Verification'","Spot Measurement","","MEP"]
[null,null,{"$f":"IF(LEFT(Table1[[#This Row],[Feature and Parts]],3)=\"fea\",MID(Table1[[#This Row],[Feature and Parts]],9,3)+0,C256)","v":76},{"$f":"LOOKUP(Table1[[#This Row],[F'#]],'v1 Achieved Features'!D:D,'v1 Achieved Features'!$B:B)","v":"Yes"},"Natural Thermal Adaptation","None unless a change to","Mechanical system","See 'Performance Verification'","Spot Measurement","","MEP"]
[null,"O",{"$f":"IF(LEFT(Table1[[#This Row],[Feature and Parts]],3)=\"fea\",MID(Table1[[#This Row],[Feature and Parts]],9,3)+0,C257)","v":77},{"$f":"LOOKUP(Table1[[#This Row],[F'#]],'v1 Achieved Features'!D:D,'v1 Achieved Features'!$B:B)","v":0},"Feature 77. Olfactory Comfort"]
[null,null,{"$f":"IF(LEFT(Table1[[#This Row],[Feature and Parts]],3)=\"fea\",MID(Table1[[#This Row],[Feature and Parts]],9,3)+0,C258)","v":77},{"$f":"LOOKUP(Table1[[#This Row],[F'#]],'v1 Achieved Features'!D:D,'v1 Achieved Features'!$B:B)","v":0},"Source Separation","None unless a change to","Interior design",{"$f":"IF(Table1[[#This Row],[Recertification type]]=\"None unless a change to\",IF(OFFSET('v1 Project Information'!$C$20,MATCH(Table1[[#This Row],[Conditions for change]],'v1 Project Information'!$B$21:$B$44,0),0)=\"Yes\",\"Normal\",\"None\"),Table1[[#This Row],[Recertification type]])","v":"None"},"","Architectural Drawing"]
[null,"O",{"$f":"IF(LEFT(Table1[[#This Row],[Feature and Parts]],3)=\"fea\",MID(Table1[[#This Row],[Feature and Parts]],9,3)+0,C259)","v":78},{"$f":"LOOKUP(Table1[[#This Row],[F'#]],'v1 Achieved Features'!D:D,'v1 Achieved Features'!$B:B)","v":0},"Feature 78. Reverberation Time"]
[null,null,{"$f":"IF(LEFT(Table1[[#This Row],[Feature and Parts]],3)=\"fea\",MID(Table1[[#This Row],[Feature and Parts]],9,3)+0,C260)","v":78},{"$f":"LOOKUP(Table1[[#This Row],[F'#]],'v1 Achieved Features'!D:D,'v1 Achieved Features'!$B:B)","v":0},"Reverberation Time","None",null,"See 'Performance Verification'","Performance Test","","-"]
[null,"O",{"$f":"IF(LEFT(Table1[[#This Row],[Feature and Parts]],3)=\"fea\",MID(Table1[[#This Row],[Feature and Parts]],9,3)+0,C261)","v":79},{"$f":"LOOKUP(Table1[[#This Row],[F'#]],'v1 Achieved Features'!D:D,'v1 Achieved Features'!$B:B)","v":0},"Feature 79. Sound Masking"]
[null,null,{"$f":"IF(LEFT(Table1[[#This Row],[Feature and Parts]],3)=\"fea\",MID(Table1[[#This Row],[Feature and Parts]],9,3)+0,C262)","v":79},{"$f":"LOOKUP(Table1[[#This Row],[F'#]],'v1 Achieved Features'!D:D,'v1 Achieved Features'!$B:B)","v":0},"Sound Masking Use","None",null,{"$f":"IF(Table1[[#This Row],[Recertification type]]=\"None unless a change to\",IF(OFFSET('v1 Project Information'!$C$20,MATCH(Table1[[#This Row],[Conditions for change]],'v1 Project Information'!$B$21:$B$44,0),0)=\"Yes\",\"Normal\",\"None\"),Table1[[#This Row],[Recertification type]])","v":"None"},"","","MEP"]
[null,null,{"$f":"IF(LEFT(Table1[[#This Row],[Feature and Parts]],3)=\"fea\",MID(Table1[[#This Row],[Feature and Parts]],9,3)+0,C263)","v":79},{"$f":"LOOKUP(Table1[[#This Row],[F'#]],'v1 Achieved Features'!D:D,'v1 Achieved Features'!$B:B)","v":0},"Sound Masking Limits","None",null,"See 'Performance Verification'","Performance Test","","-"]
[null,"O",{"$f":"IF(LEFT(Table1[[#This Row],[Feature and Parts]],3)=\"fea\",MID(Table1[[#This Row],[Feature and Parts]],9,3)+0,C264)","v":80},{"$f":"LOOKUP(Table1[[#This Row],[F'#]],'v1 Achieved Features'!D:D,'v1 Achieved Features'!$B:B)","v":0},"Feature 80. Sound Reducing Surfaces"]
[null,null,{"$f":"IF(LEFT(Table1[[#This Row],[Feature and Parts]],3)=\"fea\",MID(Table1[[#This Row],[Feature and Parts]],9,3)+0,C265)","v":80},{"$f":"LOOKUP(Table1[[#This Row],[F'#]],'v1 Achieved Features'!D:D,'v1 Achieved Features'!$B:B)","v":0},"Ceilings","None unless a change to","Interior design",{"$f":"IF(Table1[[#This Row],[Recertification type]]=\"None unless a change to\",IF(OFFSET('v1 Project Information'!$C$20,MATCH(Table1[[#This Row],[Conditions for change]],'v1 Project Information'!$B$21:$B$44,0),0)=\"Yes\",\"Normal\",\"None\"),Table1[[#This Row],[Recertification type]])","v":"None"},"","","Architect"]
[null,null,{"$f":"IF(LEFT(Table1[[#This Row],[Feature and Parts]],3)=\"fea\",MID(Table1[[#This Row],[Feature and Parts]],9,3)+0,C266)","v":80},{"$f":"LOOKUP(Table1[[#This Row],[F'#]],'v1 Achieved Features'!D:D,'v1 Achieved Features'!$B:B)","v":0},"Walls","None unless a change to","Interior design",{"$f":"IF(Table1[[#This Row],[Recertification type]]=\"None unless a change to\",IF(OFFSET('v1 Project Information'!$C$20,MATCH(Table1[[#This Row],[Conditions for change]],'v1 Project Information'!$B$21:$B$44,0),0)=\"Yes\",\"Normal\",\"None\"),Table1[[#This Row],[Recertification type]])","v":"None"},"","","Architect"]
[null,"O",{"$f":"IF(LEFT(Table1[[#This Row],[Feature and Parts]],3)=\"fea\",MID(Table1[[#This Row],[Feature and Parts]],9,3)+0,C267)","v":81},{"$f":"LOOKUP(Table1[[#This Row],[F'#]],'v1 Achieved Features'!D:D,'v1 Achieved Features'!$B:B)","v":0},"Feature 81. Sound Barriers"]
[null,null,{"$f":"IF(LEFT(Table1[[#This Row],[Feature and Parts]],3)=\"fea\",MID(Table1[[#This Row],[Feature and Parts]],9,3)+0,C268)","v":81},{"$f":"LOOKUP(Table1[[#This Row],[F'#]],'v1 Achieved Features'!D:D,'v1 Achieved Features'!$B:B)","v":0},"Wall Construction Specifications","None unless a change to","Interior design",{"$f":"IF(Table1[[#This Row],[Recertification type]]=\"None unless a change to\",IF(OFFSET('v1 Project Information'!$C$20,MATCH(Table1[[#This Row],[Conditions for change]],'v1 Project Information'!$B$21:$B$44,0),0)=\"Yes\",\"Normal\",\"None\"),Table1[[#This Row],[Recertification type]])","v":"None"},"","","Architect"]
[null,null,{"$f":"IF(LEFT(Table1[[#This Row],[Feature and Parts]],3)=\"fea\",MID(Table1[[#This Row],[Feature and Parts]],9,3)+0,C269)","v":81},{"$f":"LOOKUP(Table1[[#This Row],[F'#]],'v1 Achieved Features'!D:D,'v1 Achieved Features'!$B:B)","v":0},"Doorway Specifications","None unless a change to","Interior design",{"$f":"IF(Table1[[#This Row],[Recertification type]]=\"None unless a change to\",IF(OFFSET('v1 Project Information'!$C$20,MATCH(Table1[[#This Row],[Conditions for change]],'v1 Project Information'!$B$21:$B$44,0),0)=\"Yes\",\"Normal\",\"None\"),Table1[[#This Row],[Recertification type]])","v":"None"},"","","Architect & Contractor"]
[null,null,{"$f":"IF(LEFT(Table1[[#This Row],[Feature and Parts]],3)=\"fea\",MID(Table1[[#This Row],[Feature and Parts]],9,3)+0,C270)","v":81},{"$f":"LOOKUP(Table1[[#This Row],[F'#]],'v1 Achieved Features'!D:D,'v1 Achieved Features'!$B:B)","v":0},"Wall Construction Methodology","None unless a change to","Interior design",{"$f":"IF(Table1[[#This Row],[Recertification type]]=\"None unless a change to\",IF(OFFSET('v1 Project Information'!$C$20,MATCH(Table1[[#This Row],[Conditions for change]],'v1 Project Information'!$B$21:$B$44,0),0)=\"Yes\",\"Normal\",\"None\"),Table1[[#This Row],[Recertification type]])","v":"None"},"","","Contractor"]
[null,null,{"$f":"IF(LEFT(Table1[[#This Row],[Feature and Parts]],3)=\"fea\",MID(Table1[[#This Row],[Feature and Parts]],9,3)+0,C271)","v":81},{"$f":"LOOKUP(Table1[[#This Row],[F'#]],'v1 Achieved Features'!D:D,'v1 Achieved Features'!$B:B)","v":0},"Noise Intrusion Mitigation","None unless a change to","Exterior design",{"$f":"IF(Table1[[#This Row],[Recertification type]]=\"None unless a change to\",IF(OFFSET('v1 Project Information'!$C$20,MATCH(Table1[[#This Row],[Conditions for change]],'v1 Project Information'!$B$21:$B$44,0),0)=\"Yes\",\"Normal\",\"None\"),Table1[[#This Row],[Recertification type]])","v":"None"},"Spot Check","","Architect & Contractor"]
[null,"O",{"$f":"IF(LEFT(Table1[[#This Row],[Feature and Parts]],3)=\"fea\",MID(Table1[[#This Row],[Feature and Parts]],9,3)+0,C272)","v":82},{"$f":"LOOKUP(Table1[[#This Row],[F'#]],'v1 Achieved Features'!D:D,'v1 Achieved Features'!$B:B)","v":0},"Feature 82.  Individual Thermal Control"]
[null,null,{"$f":"IF(LEFT(Table1[[#This Row],[Feature and Parts]],3)=\"fea\",MID(Table1[[#This Row],[Feature and Parts]],9,3)+0,C273)","v":82},{"$f":"LOOKUP(Table1[[#This Row],[F'#]],'v1 Achieved Features'!D:D,'v1 Achieved Features'!$B:B)","v":0},"Free Address","None unless a change to","Interior design",{"$f":"IF(Table1[[#This Row],[Recertification type]]=\"None unless a change to\",IF(OFFSET('v1 Project Information'!$C$20,MATCH(Table1[[#This Row],[Conditions for change]],'v1 Project Information'!$B$21:$B$44,0),0)=\"Yes\",\"Normal\",\"None\"),Table1[[#This Row],[Recertification type]])","v":"None"},"","Policy Document"]
[null,null,{"$f":"IF(LEFT(Table1[[#This Row],[Feature and Parts]],3)=\"fea\",MID(Table1[[#This Row],[Feature and Parts]],9,3)+0,C274)","v":82},{"$f":"LOOKUP(Table1[[#This Row],[F'#]],'v1 Achieved Features'!D:D,'v1 Achieved Features'!$B:B)","v":0},"Personal Thermal Comfort Devices","None unless a change to","Interior design",{"$f":"IF(Table1[[#This Row],[Recertification type]]=\"None unless a change to\",IF(OFFSET('v1 Project Information'!$C$20,MATCH(Table1[[#This Row],[Conditions for change]],'v1 Project Information'!$B$21:$B$44,0),0)=\"Yes\",\"Normal\",\"None\"),Table1[[#This Row],[Recertification type]])","v":"None"},"Spot Check","","Owner"]
[null,"O",{"$f":"IF(LEFT(Table1[[#This Row],[Feature and Parts]],3)=\"fea\",MID(Table1[[#This Row],[Feature and Parts]],9,3)+0,C275)","v":83},{"$f":"LOOKUP(Table1[[#This Row],[F'#]],'v1 Achieved Features'!D:D,'v1 Achieved Features'!$B:B)","v":0},"Feature 83. Radiant Thermal Comfort"]
[null,null,{"$f":"IF(LEFT(Table1[[#This Row],[Feature and Parts]],3)=\"fea\",MID(Table1[[#This Row],[Feature and Parts]],9,3)+0,C276)","v":83},{"$f":"LOOKUP(Table1[[#This Row],[F'#]],'v1 Achieved Features'!D:D,'v1 Achieved Features'!$B:B)","v":0},"Lobbies and Other Common Spaces","None unless a change to","Mechanical system",{"$f":"IF(Table1[[#This Row],[Recertification type]]=\"None unless a change to\",IF(OFFSET('v1 Project Information'!$C$20,MATCH(Table1[[#This Row],[Conditions for change]],'v1 Project Information'!$B$21:$B$44,0),0)=\"Yes\",\"Normal\",\"None\"),Table1[[#This Row],[Recertification type]])","v":"None"},"","","MEP"]
[null,null,{"$f":"IF(LEFT(Table1[[#This Row],[Feature and Parts]],3)=\"fea\",MID(Table1[[#This Row],[Feature and Parts]],9,3)+0,C277)","v":83},{"$f":"LOOKUP(Table1[[#This Row],[F'#]],'v1 Achieved Features'!D:D,'v1 Achieved Features'!$B:B)","v":0},"Offices and Other Regularly Occupied Spaces","None unless a change to","Mechanical system",{"$f":"IF(Table1[[#This Row],[Recertification type]]=\"None unless a change to\",IF(OFFSET('v1 Project Information'!$C$20,MATCH(Table1[[#This Row],[Conditions for change]],'v1 Project Information'!$B$21:$B$44,0),0)=\"Yes\",\"Normal\",\"None\"),Table1[[#This Row],[Recertification type]])","v":"None"},"","","MEP"]
["MIND","P",{"$f":"IF(LEFT(Table1[[#This Row],[Feature and Parts]],3)=\"fea\",MID(Table1[[#This Row],[Feature and Parts]],9,3)+0,C278)","v":84},{"$f":"LOOKUP(Table1[[#This Row],[F'#]],'v1 Achieved Features'!D:D,'v1 Achieved Features'!$B:B)","v":"Yes"},"Feature 84. Health And Wellness Awareness"]
[null,null,{"$f":"IF(LEFT(Table1[[#This Row],[Feature and Parts]],3)=\"fea\",MID(Table1[[#This Row],[Feature and Parts]],9,3)+0,C279)","v":84},{"$f":"LOOKUP(Table1[[#This Row],[F'#]],'v1 Achieved Features'!D:D,'v1 Achieved Features'!$B:B)","v":"Yes"},"WELL Building Standard® Guide","None",null,{"$f":"IF(Table1[[#This Row],[Recertification type]]=\"None unless a change to\",IF(OFFSET('v1 Project Information'!$C$20,MATCH(Table1[[#This Row],[Conditions for change]],'v1 Project Information'!$B$21:$B$44,0),0)=\"Yes\",\"Normal\",\"None\"),Table1[[#This Row],[Recertification type]])","v":"None"},"Visual Inspection","","-"]
[null,null,{"$f":"IF(LEFT(Table1[[#This Row],[Feature and Parts]],3)=\"fea\",MID(Table1[[#This Row],[Feature and Parts]],9,3)+0,C280)","v":84},{"$f":"LOOKUP(Table1[[#This Row],[F'#]],'v1 Achieved Features'!D:D,'v1 Achieved Features'!$B:B)","v":"Yes"},"Health and Wellness Library","None",null,{"$f":"IF(Table1[[#This Row],[Recertification type]]=\"None unless a change to\",IF(OFFSET('v1 Project Information'!$C$20,MATCH(Table1[[#This Row],[Conditions for change]],'v1 Project Information'!$B$21:$B$44,0),0)=\"Yes\",\"Normal\",\"None\"),Table1[[#This Row],[Recertification type]])","v":"None"},"Visual Inspection","","-"]
[null,"P",{"$f":"IF(LEFT(Table1[[#This Row],[Feature and Parts]],3)=\"fea\",MID(Table1[[#This Row],[Feature and Parts]],9,3)+0,C281)","v":85},{"$f":"LOOKUP(Table1[[#This Row],[F'#]],'v1 Achieved Features'!D:D,'v1 Achieved Features'!$B:B)","v":"Yes"},"Feature 85. Integrative Design"]
[null,null,{"$f":"IF(LEFT(Table1[[#This Row],[Feature and Parts]],3)=\"fea\",MID(Table1[[#This Row],[Feature and Parts]],9,3)+0,C282)","v":85},{"$f":"LOOKUP(Table1[[#This Row],[F'#]],'v1 Achieved Features'!D:D,'v1 Achieved Features'!$B:B)","v":"Yes"},"Stakeholder Charrette","None",null,{"$f":"IF(Table1[[#This Row],[Recertification type]]=\"None unless a change to\",IF(OFFSET('v1 Project Information'!$C$20,MATCH(Table1[[#This Row],[Conditions for change]],'v1 Project Information'!$B$21:$B$44,0),0)=\"Yes\",\"Normal\",\"None\"),Table1[[#This Row],[Recertification type]])","v":"None"},"","Policy Document","-"]
[null,null,{"$f":"IF(LEFT(Table1[[#This Row],[Feature and Parts]],3)=\"fea\",MID(Table1[[#This Row],[Feature and Parts]],9,3)+0,C283)","v":85},{"$f":"LOOKUP(Table1[[#This Row],[F'#]],'v1 Achieved Features'!D:D,'v1 Achieved Features'!$B:B)","v":"Yes"},"Development Plan","None",null,{"$f":"IF(Table1[[#This Row],[Recertification type]]=\"None unless a change to\",IF(OFFSET('v1 Project Information'!$C$20,MATCH(Table1[[#This Row],[Conditions for change]],'v1 Project Information'!$B$21:$B$44,0),0)=\"Yes\",\"Normal\",\"None\"),Table1[[#This Row],[Recertification type]])","v":"None"},"","Policy Document","-"]
[null,null,{"$f":"IF(LEFT(Table1[[#This Row],[Feature and Parts]],3)=\"fea\",MID(Table1[[#This Row],[Feature and Parts]],9,3)+0,C284)","v":85},{"$f":"LOOKUP(Table1[[#This Row],[F'#]],'v1 Achieved Features'!D:D,'v1 Achieved Features'!$B:B)","v":"Yes"},"Stakeholder Orientation","None",null,{"$f":"IF(Table1[[#This Row],[Recertification type]]=\"None unless a change to\",IF(OFFSET('v1 Project Information'!$C$20,MATCH(Table1[[#This Row],[Conditions for change]],'v1 Project Information'!$B$21:$B$44,0),0)=\"Yes\",\"Normal\",\"None\"),Table1[[#This Row],[Recertification type]])","v":"None"},"","Policy Document","-"]
[null,"P",{"$f":"IF(LEFT(Table1[[#This Row],[Feature and Parts]],3)=\"fea\",MID(Table1[[#This Row],[Feature and Parts]],9,3)+0,C285)","v":86},{"$f":"LOOKUP(Table1[[#This Row],[F'#]],'v1 Achieved Features'!D:D,'v1 Achieved Features'!$B:B)","v":"Yes"},"Feature 86. Post-Occupancy Surveys"]
[null,null,{"$f":"IF(LEFT(Table1[[#This Row],[Feature and Parts]],3)=\"fea\",MID(Table1[[#This Row],[Feature and Parts]],9,3)+0,C286)","v":86},{"$f":"LOOKUP(Table1[[#This Row],[F'#]],'v1 Achieved Features'!D:D,'v1 Achieved Features'!$B:B)","v":"Yes"},"Occupant Survey Content","None",null,{"$f":"IF(Table1[[#This Row],[Recertification type]]=\"None unless a change to\",IF(OFFSET('v1 Project Information'!$C$20,MATCH(Table1[[#This Row],[Conditions for change]],'v1 Project Information'!$B$21:$B$44,0),0)=\"Yes\",\"Normal\",\"None\"),Table1[[#This Row],[Recertification type]])","v":"None"},"","Policy Document"]
[null,null,{"$f":"IF(LEFT(Table1[[#This Row],[Feature and Parts]],3)=\"fea\",MID(Table1[[#This Row],[Feature and Parts]],9,3)+0,C287)","v":86},{"$f":"LOOKUP(Table1[[#This Row],[F'#]],'v1 Achieved Features'!D:D,'v1 Achieved Features'!$B:B)","v":"Yes"},"Information Reporting","Annual Submission",null,{"$f":"IF(Table1[[#This Row],[Recertification type]]=\"None unless a change to\",IF(OFFSET('v1 Project Information'!$C$20,MATCH(Table1[[#This Row],[Conditions for change]],'v1 Project Information'!$B$21:$B$44,0),0)=\"Yes\",\"Normal\",\"None\"),Table1[[#This Row],[Recertification type]])","v":"Annual Submission"},"","Policy Document"]
[null,"P",{"$f":"IF(LEFT(Table1[[#This Row],[Feature and Parts]],3)=\"fea\",MID(Table1[[#This Row],[Feature and Parts]],9,3)+0,C288)","v":87},{"$f":"LOOKUP(Table1[[#This Row],[F'#]],'v1 Achieved Features'!D:D,'v1 Achieved Features'!$B:B)","v":"Yes"},"Feature 87. Beauty And Design I"]
[null,null,{"$f":"IF(LEFT(Table1[[#This Row],[Feature and Parts]],3)=\"fea\",MID(Table1[[#This Row],[Feature and Parts]],9,3)+0,C289)","v":87},{"$f":"LOOKUP(Table1[[#This Row],[F'#]],'v1 Achieved Features'!D:D,'v1 Achieved Features'!$B:B)","v":"Yes"},"Beauty and Mindful Design","None unless a change to","Interior design",{"$f":"IF(Table1[[#This Row],[Recertification type]]=\"None unless a change to\",IF(OFFSET('v1 Project Information'!$C$20,MATCH(Table1[[#This Row],[Conditions for change]],'v1 Project Information'!$B$21:$B$44,0),0)=\"Yes\",\"Normal\",\"None\"),Table1[[#This Row],[Recertification type]])","v":"None"},"","Professional Narrative"]
[null,"P",{"$f":"IF(LEFT(Table1[[#This Row],[Feature and Parts]],3)=\"fea\",MID(Table1[[#This Row],[Feature and Parts]],9,3)+0,C290)","v":88},{"$f":"LOOKUP(Table1[[#This Row],[F'#]],'v1 Achieved Features'!D:D,'v1 Achieved Features'!$B:B)","v":"Yes"},"Feature 88. Biophilia I - Qualitative"]
[null,null,{"$f":"IF(LEFT(Table1[[#This Row],[Feature and Parts]],3)=\"fea\",MID(Table1[[#This Row],[Feature and Parts]],9,3)+0,C291)","v":88},{"$f":"LOOKUP(Table1[[#This Row],[F'#]],'v1 Achieved Features'!D:D,'v1 Achieved Features'!$B:B)","v":"Yes"},"Nature Incorporation","None unless a change to","Interior design",{"$f":"IF(Table1[[#This Row],[Recertification type]]=\"None unless a change to\",IF(OFFSET('v1 Project Information'!$C$20,MATCH(Table1[[#This Row],[Conditions for change]],'v1 Project Information'!$B$21:$B$44,0),0)=\"Yes\",\"Normal\",\"None\"),Table1[[#This Row],[Recertification type]])","v":"None"},"","Professional Narrative"]
[null,null,{"$f":"IF(LEFT(Table1[[#This Row],[Feature and Parts]],3)=\"fea\",MID(Table1[[#This Row],[Feature and Parts]],9,3)+0,C292)","v":88},{"$f":"LOOKUP(Table1[[#This Row],[F'#]],'v1 Achieved Features'!D:D,'v1 Achieved Features'!$B:B)","v":"Yes"},"Pattern Incorporation","None unless a change to","Interior design",{"$f":"IF(Table1[[#This Row],[Recertification type]]=\"None unless a change to\",IF(OFFSET('v1 Project Information'!$C$20,MATCH(Table1[[#This Row],[Conditions for change]],'v1 Project Information'!$B$21:$B$44,0),0)=\"Yes\",\"Normal\",\"None\"),Table1[[#This Row],[Recertification type]])","v":"None"},"","Professional Narrative"]
[null,null,{"$f":"IF(LEFT(Table1[[#This Row],[Feature and Parts]],3)=\"fea\",MID(Table1[[#This Row],[Feature and Parts]],9,3)+0,C293)","v":88},{"$f":"LOOKUP(Table1[[#This Row],[F'#]],'v1 Achieved Features'!D:D,'v1 Achieved Features'!$B:B)","v":"Yes"},"Nature Interaction","None unless a change to","Interior design",{"$f":"IF(Table1[[#This Row],[Recertification type]]=\"None unless a change to\",IF(OFFSET('v1 Project Information'!$C$20,MATCH(Table1[[#This Row],[Conditions for change]],'v1 Project Information'!$B$21:$B$44,0),0)=\"Yes\",\"Normal\",\"None\"),Table1[[#This Row],[Recertification type]])","v":"None"},"","Professional Narrative"]
[null,"O",{"$f":"IF(LEFT(Table1[[#This Row],[Feature and Parts]],3)=\"fea\",MID(Table1[[#This Row],[Feature and Parts]],9,3)+0,C294)","v":89},{"$f":"LOOKUP(Table1[[#This Row],[F'#]],'v1 Achieved Features'!D:D,'v1 Achieved Features'!$B:B)","v":0},"Feature 89. Adaptable Spaces"]
[null,null,{"$f":"IF(LEFT(Table1[[#This Row],[Feature and Parts]],3)=\"fea\",MID(Table1[[#This Row],[Feature and Parts]],9,3)+0,C295)","v":89},{"$f":"LOOKUP(Table1[[#This Row],[F'#]],'v1 Achieved Features'!D:D,'v1 Achieved Features'!$B:B)","v":0},"Stimuli Management","None unless a change to","Interior design",{"$f":"IF(Table1[[#This Row],[Recertification type]]=\"None unless a change to\",IF(OFFSET('v1 Project Information'!$C$20,MATCH(Table1[[#This Row],[Conditions for change]],'v1 Project Information'!$B$21:$B$44,0),0)=\"Yes\",\"Normal\",\"None\"),Table1[[#This Row],[Recertification type]])","v":"None"},"Spot Check","","Architect"]
[null,null,{"$f":"IF(LEFT(Table1[[#This Row],[Feature and Parts]],3)=\"fea\",MID(Table1[[#This Row],[Feature and Parts]],9,3)+0,C296)","v":89},{"$f":"LOOKUP(Table1[[#This Row],[F'#]],'v1 Achieved Features'!D:D,'v1 Achieved Features'!$B:B)","v":0},"Privacy","None unless a change to","Interior design",{"$f":"IF(Table1[[#This Row],[Recertification type]]=\"None unless a change to\",IF(OFFSET('v1 Project Information'!$C$20,MATCH(Table1[[#This Row],[Conditions for change]],'v1 Project Information'!$B$21:$B$44,0),0)=\"Yes\",\"Normal\",\"None\"),Table1[[#This Row],[Recertification type]])","v":"None"},"Spot Check","","Architect"]
[null,null,{"$f":"IF(LEFT(Table1[[#This Row],[Feature and Parts]],3)=\"fea\",MID(Table1[[#This Row],[Feature and Parts]],9,3)+0,C297)","v":89},{"$f":"LOOKUP(Table1[[#This Row],[F'#]],'v1 Achieved Features'!D:D,'v1 Achieved Features'!$B:B)","v":0},"Space Management","None unless a change to","Interior design",{"$f":"IF(Table1[[#This Row],[Recertification type]]=\"None unless a change to\",IF(OFFSET('v1 Project Information'!$C$20,MATCH(Table1[[#This Row],[Conditions for change]],'v1 Project Information'!$B$21:$B$44,0),0)=\"Yes\",\"Normal\",\"None\"),Table1[[#This Row],[Recertification type]])","v":"None"},"Spot Check","","Owner"]
[null,null,{"$f":"IF(LEFT(Table1[[#This Row],[Feature and Parts]],3)=\"fea\",MID(Table1[[#This Row],[Feature and Parts]],9,3)+0,C298)","v":89},{"$f":"LOOKUP(Table1[[#This Row],[F'#]],'v1 Achieved Features'!D:D,'v1 Achieved Features'!$B:B)","v":0},"Workplace Sleep Support","None unless a change to","Interior design",{"$f":"IF(Table1[[#This Row],[Recertification type]]=\"None unless a change to\",IF(OFFSET('v1 Project Information'!$C$20,MATCH(Table1[[#This Row],[Conditions for change]],'v1 Project Information'!$B$21:$B$44,0),0)=\"Yes\",\"Normal\",\"None\"),Table1[[#This Row],[Recertification type]])","v":"None"},"Spot Check","","Owner"]
[null,"O",{"$f":"IF(LEFT(Table1[[#This Row],[Feature and Parts]],3)=\"fea\",MID(Table1[[#This Row],[Feature and Parts]],9,3)+0,C299)","v":90},{"$f":"LOOKUP(Table1[[#This Row],[F'#]],'v1 Achieved Features'!D:D,'v1 Achieved Features'!$B:B)","v":0},"Feature 90. Healthy Sleep Policy"]
[null,null,{"$f":"IF(LEFT(Table1[[#This Row],[Feature and Parts]],3)=\"fea\",MID(Table1[[#This Row],[Feature and Parts]],9,3)+0,C300)","v":90},{"$f":"LOOKUP(Table1[[#This Row],[F'#]],'v1 Achieved Features'!D:D,'v1 Achieved Features'!$B:B)","v":0},"Non-Workplace Sleep Support","None unless a change to","Organizational policy",{"$f":"IF(Table1[[#This Row],[Recertification type]]=\"None unless a change to\",IF(OFFSET('v1 Project Information'!$C$20,MATCH(Table1[[#This Row],[Conditions for change]],'v1 Project Information'!$B$21:$B$44,0),0)=\"Yes\",\"Normal\",\"None\"),Table1[[#This Row],[Recertification type]])","v":"None"},"","Policy Document"]
[null,"O",{"$f":"IF(LEFT(Table1[[#This Row],[Feature and Parts]],3)=\"fea\",MID(Table1[[#This Row],[Feature and Parts]],9,3)+0,C301)","v":91},{"$f":"LOOKUP(Table1[[#This Row],[F'#]],'v1 Achieved Features'!D:D,'v1 Achieved Features'!$B:B)","v":0},"Feature 91. Business Travel"]
[null,null,{"$f":"IF(LEFT(Table1[[#This Row],[Feature and Parts]],3)=\"fea\",MID(Table1[[#This Row],[Feature and Parts]],9,3)+0,C302)","v":91},{"$f":"LOOKUP(Table1[[#This Row],[F'#]],'v1 Achieved Features'!D:D,'v1 Achieved Features'!$B:B)","v":0},"Travel Policy","None unless a change to","Organizational policy",{"$f":"IF(Table1[[#This Row],[Recertification type]]=\"None unless a change to\",IF(OFFSET('v1 Project Information'!$C$20,MATCH(Table1[[#This Row],[Conditions for change]],'v1 Project Information'!$B$21:$B$44,0),0)=\"Yes\",\"Normal\",\"None\"),Table1[[#This Row],[Recertification type]])","v":"None"},"","Policy Document"]
[null,"O",{"$f":"IF(LEFT(Table1[[#This Row],[Feature and Parts]],3)=\"fea\",MID(Table1[[#This Row],[Feature and Parts]],9,3)+0,C303)","v":92},{"$f":"LOOKUP(Table1[[#This Row],[F'#]],'v1 Achieved Features'!D:D,'v1 Achieved Features'!$B:B)","v":0},"Feature 92. Building Health Policy"]
[null,null,{"$f":"IF(LEFT(Table1[[#This Row],[Feature and Parts]],3)=\"fea\",MID(Table1[[#This Row],[Feature and Parts]],9,3)+0,C304)","v":92},{"$f":"LOOKUP(Table1[[#This Row],[F'#]],'v1 Achieved Features'!D:D,'v1 Achieved Features'!$B:B)","v":0},"Health Benefits","None unless a change to","Organizational policy",{"$f":"IF(Table1[[#This Row],[Recertification type]]=\"None unless a change to\",IF(OFFSET('v1 Project Information'!$C$20,MATCH(Table1[[#This Row],[Conditions for change]],'v1 Project Information'!$B$21:$B$44,0),0)=\"Yes\",\"Normal\",\"None\"),Table1[[#This Row],[Recertification type]])","v":"None"},"","Policy Document"]
[null,"O",{"$f":"IF(LEFT(Table1[[#This Row],[Feature and Parts]],3)=\"fea\",MID(Table1[[#This Row],[Feature and Parts]],9,3)+0,C305)","v":93},{"$f":"LOOKUP(Table1[[#This Row],[F'#]],'v1 Achieved Features'!D:D,'v1 Achieved Features'!$B:B)","v":0},"Feature 93. Workplace Family Support"]
[null,null,{"$f":"IF(LEFT(Table1[[#This Row],[Feature and Parts]],3)=\"fea\",MID(Table1[[#This Row],[Feature and Parts]],9,3)+0,C306)","v":93},{"$f":"LOOKUP(Table1[[#This Row],[F'#]],'v1 Achieved Features'!D:D,'v1 Achieved Features'!$B:B)","v":0},"Parental Leave","None unless a change to","Organizational policy",{"$f":"IF(Table1[[#This Row],[Recertification type]]=\"None unless a change to\",IF(OFFSET('v1 Project Information'!$C$20,MATCH(Table1[[#This Row],[Conditions for change]],'v1 Project Information'!$B$21:$B$44,0),0)=\"Yes\",\"Normal\",\"None\"),Table1[[#This Row],[Recertification type]])","v":"None"},"","Policy Document"]
[null,null,{"$f":"IF(LEFT(Table1[[#This Row],[Feature and Parts]],3)=\"fea\",MID(Table1[[#This Row],[Feature and Parts]],9,3)+0,C307)","v":93},{"$f":"LOOKUP(Table1[[#This Row],[F'#]],'v1 Achieved Features'!D:D,'v1 Achieved Features'!$B:B)","v":0},"Employer Supported Child Care","None unless a change to","Organizational policy",{"$f":"IF(Table1[[#This Row],[Recertification type]]=\"None unless a change to\",IF(OFFSET('v1 Project Information'!$C$20,MATCH(Table1[[#This Row],[Conditions for change]],'v1 Project Information'!$B$21:$B$44,0),0)=\"Yes\",\"Normal\",\"None\"),Table1[[#This Row],[Recertification type]])","v":"None"},"","Policy Document"]
[null,null,{"$f":"IF(LEFT(Table1[[#This Row],[Feature and Parts]],3)=\"fea\",MID(Table1[[#This Row],[Feature and Parts]],9,3)+0,C308)","v":93},{"$f":"LOOKUP(Table1[[#This Row],[F'#]],'v1 Achieved Features'!D:D,'v1 Achieved Features'!$B:B)","v":0},"Family Support","None unless a change to","Organizational policy",{"$f":"IF(Table1[[#This Row],[Recertification type]]=\"None unless a change to\",IF(OFFSET('v1 Project Information'!$C$20,MATCH(Table1[[#This Row],[Conditions for change]],'v1 Project Information'!$B$21:$B$44,0),0)=\"Yes\",\"Normal\",\"None\"),Table1[[#This Row],[Recertification type]])","v":"None"},"","Policy Document"]
[null,"O",{"$f":"IF(LEFT(Table1[[#This Row],[Feature and Parts]],3)=\"fea\",MID(Table1[[#This Row],[Feature and Parts]],9,3)+0,C309)","v":94},{"$f":"LOOKUP(Table1[[#This Row],[F'#]],'v1 Achieved Features'!D:D,'v1 Achieved Features'!$B:B)","v":0},"Feature 94. Self-Monitoring"]
[null,null,{"$f":"IF(LEFT(Table1[[#This Row],[Feature and Parts]],3)=\"fea\",MID(Table1[[#This Row],[Feature and Parts]],9,3)+0,C310)","v":94},{"$f":"LOOKUP(Table1[[#This Row],[F'#]],'v1 Achieved Features'!D:D,'v1 Achieved Features'!$B:B)","v":0},"Sensors and Wearables","None unless a change to","Organizational policy",{"$f":"IF(Table1[[#This Row],[Recertification type]]=\"None unless a change to\",IF(OFFSET('v1 Project Information'!$C$20,MATCH(Table1[[#This Row],[Conditions for change]],'v1 Project Information'!$B$21:$B$44,0),0)=\"Yes\",\"Normal\",\"None\"),Table1[[#This Row],[Recertification type]])","v":"None"},"","Policy Document"]
[null,"O",{"$f":"IF(LEFT(Table1[[#This Row],[Feature and Parts]],3)=\"fea\",MID(Table1[[#This Row],[Feature and Parts]],9,3)+0,C311)","v":95},{"$f":"LOOKUP(Table1[[#This Row],[F'#]],'v1 Achieved Features'!D:D,'v1 Achieved Features'!$B:B)","v":0},"Feature 95. Stress And Addiction Treatment"]
[null,null,{"$f":"IF(LEFT(Table1[[#This Row],[Feature and Parts]],3)=\"fea\",MID(Table1[[#This Row],[Feature and Parts]],9,3)+0,C312)","v":95},{"$f":"LOOKUP(Table1[[#This Row],[F'#]],'v1 Achieved Features'!D:D,'v1 Achieved Features'!$B:B)","v":0},"Mind and Behavior Support","None unless a change to","Organizational policy",{"$f":"IF(Table1[[#This Row],[Recertification type]]=\"None unless a change to\",IF(OFFSET('v1 Project Information'!$C$20,MATCH(Table1[[#This Row],[Conditions for change]],'v1 Project Information'!$B$21:$B$44,0),0)=\"Yes\",\"Normal\",\"None\"),Table1[[#This Row],[Recertification type]])","v":"None"},"","Policy Document"]
[null,null,{"$f":"IF(LEFT(Table1[[#This Row],[Feature and Parts]],3)=\"fea\",MID(Table1[[#This Row],[Feature and Parts]],9,3)+0,C313)","v":95},{"$f":"LOOKUP(Table1[[#This Row],[F'#]],'v1 Achieved Features'!D:D,'v1 Achieved Features'!$B:B)","v":0},"Stress Management","None unless a change to","Organizational policy",{"$f":"IF(Table1[[#This Row],[Recertification type]]=\"None unless a change to\",IF(OFFSET('v1 Project Information'!$C$20,MATCH(Table1[[#This Row],[Conditions for change]],'v1 Project Information'!$B$21:$B$44,0),0)=\"Yes\",\"Normal\",\"None\"),Table1[[#This Row],[Recertification type]])","v":"None"},"","Policy Document"]
[null,"O",{"$f":"IF(LEFT(Table1[[#This Row],[Feature and Parts]],3)=\"fea\",MID(Table1[[#This Row],[Feature and Parts]],9,3)+0,C314)","v":96},{"$f":"LOOKUP(Table1[[#This Row],[F'#]],'v1 Achieved Features'!D:D,'v1 Achieved Features'!$B:B)","v":0},"Feature 96. Altruism"]
[null,null,{"$f":"IF(LEFT(Table1[[#This Row],[Feature and Parts]],3)=\"fea\",MID(Table1[[#This Row],[Feature and Parts]],9,3)+0,C315)","v":96},{"$f":"LOOKUP(Table1[[#This Row],[F'#]],'v1 Achieved Features'!D:D,'v1 Achieved Features'!$B:B)","v":0},"Charitable Activities","None unless a change to","Organizational policy",{"$f":"IF(Table1[[#This Row],[Recertification type]]=\"None unless a change to\",IF(OFFSET('v1 Project Information'!$C$20,MATCH(Table1[[#This Row],[Conditions for change]],'v1 Project Information'!$B$21:$B$44,0),0)=\"Yes\",\"Normal\",\"None\"),Table1[[#This Row],[Recertification type]])","v":"None"},"","Policy Document"]
[null,null,{"$f":"IF(LEFT(Table1[[#This Row],[Feature and Parts]],3)=\"fea\",MID(Table1[[#This Row],[Feature and Parts]],9,3)+0,C316)","v":96},{"$f":"LOOKUP(Table1[[#This Row],[F'#]],'v1 Achieved Features'!D:D,'v1 Achieved Features'!$B:B)","v":0},"Charitable Contributions","None unless a change to","Organizational policy",{"$f":"IF(Table1[[#This Row],[Recertification type]]=\"None unless a change to\",IF(OFFSET('v1 Project Information'!$C$20,MATCH(Table1[[#This Row],[Conditions for change]],'v1 Project Information'!$B$21:$B$44,0),0)=\"Yes\",\"Normal\",\"None\"),Table1[[#This Row],[Recertification type]])","v":"None"},"","Policy Document"]
[null,"O",{"$f":"IF(LEFT(Table1[[#This Row],[Feature and Parts]],3)=\"fea\",MID(Table1[[#This Row],[Feature and Parts]],9,3)+0,C317)","v":97},{"$f":"LOOKUP(Table1[[#This Row],[F'#]],'v1 Achieved Features'!D:D,'v1 Achieved Features'!$B:B)","v":0},"Feature 97. Material Transparency"]
[null,null,{"$f":"IF(LEFT(Table1[[#This Row],[Feature and Parts]],3)=\"fea\",MID(Table1[[#This Row],[Feature and Parts]],9,3)+0,C318)","v":97},{"$f":"LOOKUP(Table1[[#This Row],[F'#]],'v1 Achieved Features'!D:D,'v1 Achieved Features'!$B:B)","v":0},"Material Information","Normal (for new products)",null,{"$f":"IF(Table1[[#This Row],[Recertification type]]=\"None unless a change to\",IF(OFFSET('v1 Project Information'!$C$20,MATCH(Table1[[#This Row],[Conditions for change]],'v1 Project Information'!$B$21:$B$44,0),0)=\"Yes\",\"Normal\",\"None\"),Table1[[#This Row],[Recertification type]])","v":"Normal (for new products)"},"","","Architect, Contractor, & Owner"]
[null,null,{"$f":"IF(LEFT(Table1[[#This Row],[Feature and Parts]],3)=\"fea\",MID(Table1[[#This Row],[Feature and Parts]],9,3)+0,C319)","v":97},{"$f":"LOOKUP(Table1[[#This Row],[F'#]],'v1 Achieved Features'!D:D,'v1 Achieved Features'!$B:B)","v":0},"Accessible Information","None",null,{"$f":"IF(Table1[[#This Row],[Recertification type]]=\"None unless a change to\",IF(OFFSET('v1 Project Information'!$C$20,MATCH(Table1[[#This Row],[Conditions for change]],'v1 Project Information'!$B$21:$B$44,0),0)=\"Yes\",\"Normal\",\"None\"),Table1[[#This Row],[Recertification type]])","v":"None"},"Visual Inspection","","-"]
[null,"O",{"$f":"IF(LEFT(Table1[[#This Row],[Feature and Parts]],3)=\"fea\",MID(Table1[[#This Row],[Feature and Parts]],9,3)+0,C320)","v":98},{"$f":"LOOKUP(Table1[[#This Row],[F'#]],'v1 Achieved Features'!D:D,'v1 Achieved Features'!$B:B)","v":0},"Feature 98. Organizational Transparency"]
[null,null,{"$f":"IF(LEFT(Table1[[#This Row],[Feature and Parts]],3)=\"fea\",MID(Table1[[#This Row],[Feature and Parts]],9,3)+0,C321)","v":98},{"$f":"LOOKUP(Table1[[#This Row],[F'#]],'v1 Achieved Features'!D:D,'v1 Achieved Features'!$B:B)","v":0},"Transparency Program Participation","None unless a change to","Organizational policy",{"$f":"IF(Table1[[#This Row],[Recertification type]]=\"None unless a change to\",IF(OFFSET('v1 Project Information'!$C$20,MATCH(Table1[[#This Row],[Conditions for change]],'v1 Project Information'!$B$21:$B$44,0),0)=\"Yes\",\"Normal\",\"None\"),Table1[[#This Row],[Recertification type]])","v":"None"},"Spot Check","Policy Document"]
[null,"O",{"$f":"IF(LEFT(Table1[[#This Row],[Feature and Parts]],3)=\"fea\",MID(Table1[[#This Row],[Feature and Parts]],9,3)+0,C322)","v":99},{"$f":"LOOKUP(Table1[[#This Row],[F'#]],'v1 Achieved Features'!D:D,'v1 Achieved Features'!$B:B)","v":0},"Feature 99. Beauty And Design II"]
[null,null,{"$f":"IF(LEFT(Table1[[#This Row],[Feature and Parts]],3)=\"fea\",MID(Table1[[#This Row],[Feature and Parts]],9,3)+0,C323)","v":99},{"$f":"LOOKUP(Table1[[#This Row],[F'#]],'v1 Achieved Features'!D:D,'v1 Achieved Features'!$B:B)","v":0},"Ceiling Height","None unless a change to","Overall structure",{"$f":"IF(Table1[[#This Row],[Recertification type]]=\"None unless a change to\",IF(OFFSET('v1 Project Information'!$C$20,MATCH(Table1[[#This Row],[Conditions for change]],'v1 Project Information'!$B$21:$B$44,0),0)=\"Yes\",\"Normal\",\"None\"),Table1[[#This Row],[Recertification type]])","v":"None"},"Spot Check","Architectural Drawing","-"]
[null,null,{"$f":"IF(LEFT(Table1[[#This Row],[Feature and Parts]],3)=\"fea\",MID(Table1[[#This Row],[Feature and Parts]],9,3)+0,C324)","v":99},{"$f":"LOOKUP(Table1[[#This Row],[F'#]],'v1 Achieved Features'!D:D,'v1 Achieved Features'!$B:B)","v":0},"Artwork","None unless a change to","Interior design",{"$f":"IF(Table1[[#This Row],[Recertification type]]=\"None unless a change to\",IF(OFFSET('v1 Project Information'!$C$20,MATCH(Table1[[#This Row],[Conditions for change]],'v1 Project Information'!$B$21:$B$44,0),0)=\"Yes\",\"Normal\",\"None\"),Table1[[#This Row],[Recertification type]])","v":"None"},"Visual Inspection","","-"]
[null,null,{"$f":"IF(LEFT(Table1[[#This Row],[Feature and Parts]],3)=\"fea\",MID(Table1[[#This Row],[Feature and Parts]],9,3)+0,C325)","v":99},{"$f":"LOOKUP(Table1[[#This Row],[F'#]],'v1 Achieved Features'!D:D,'v1 Achieved Features'!$B:B)","v":0},"Spatial Familiarity","None unless a change to","Interior design",{"$f":"IF(Table1[[#This Row],[Recertification type]]=\"None unless a change to\",IF(OFFSET('v1 Project Information'!$C$20,MATCH(Table1[[#This Row],[Conditions for change]],'v1 Project Information'!$B$21:$B$44,0),0)=\"Yes\",\"Normal\",\"None\"),Table1[[#This Row],[Recertification type]])","v":"None"},"Visual Inspection","","-"]
[null,"O",{"$f":"IF(LEFT(Table1[[#This Row],[Feature and Parts]],3)=\"fea\",MID(Table1[[#This Row],[Feature and Parts]],9,3)+0,C326)","v":100},{"$f":"LOOKUP(Table1[[#This Row],[F'#]],'v1 Achieved Features'!D:D,'v1 Achieved Features'!$B:B)","v":0},"Feature 100. Biophilia II - Quantitative"]
[null,null,{"$f":"IF(LEFT(Table1[[#This Row],[Feature and Parts]],3)=\"fea\",MID(Table1[[#This Row],[Feature and Parts]],9,3)+0,C327)","v":100},{"$f":"LOOKUP(Table1[[#This Row],[F'#]],'v1 Achieved Features'!D:D,'v1 Achieved Features'!$B:B)","v":0},"Outdoor Biophilia","None unless a change to","Exterior design",{"$f":"IF(Table1[[#This Row],[Recertification type]]=\"None unless a change to\",IF(OFFSET('v1 Project Information'!$C$20,MATCH(Table1[[#This Row],[Conditions for change]],'v1 Project Information'!$B$21:$B$44,0),0)=\"Yes\",\"Normal\",\"None\"),Table1[[#This Row],[Recertification type]])","v":"None"},"Spot Check","","Owner"]
[null,null,{"$f":"IF(LEFT(Table1[[#This Row],[Feature and Parts]],3)=\"fea\",MID(Table1[[#This Row],[Feature and Parts]],9,3)+0,C328)","v":100},{"$f":"LOOKUP(Table1[[#This Row],[F'#]],'v1 Achieved Features'!D:D,'v1 Achieved Features'!$B:B)","v":0},"Indoor Biophilia","None unless a change to","Interior design",{"$f":"IF(Table1[[#This Row],[Recertification type]]=\"None unless a change to\",IF(OFFSET('v1 Project Information'!$C$20,MATCH(Table1[[#This Row],[Conditions for change]],'v1 Project Information'!$B$21:$B$44,0),0)=\"Yes\",\"Normal\",\"None\"),Table1[[#This Row],[Recertification type]])","v":"None"},"Spot Check","","Architect"]
[null,null,{"$f":"IF(LEFT(Table1[[#This Row],[Feature and Parts]],3)=\"fea\",MID(Table1[[#This Row],[Feature and Parts]],9,3)+0,C329)","v":100},{"$f":"LOOKUP(Table1[[#This Row],[F'#]],'v1 Achieved Features'!D:D,'v1 Achieved Features'!$B:B)","v":0},"Water Feature","None unless a change to","Interior design",{"$f":"IF(Table1[[#This Row],[Recertification type]]=\"None unless a change to\",IF(OFFSET('v1 Project Information'!$C$20,MATCH(Table1[[#This Row],[Conditions for change]],'v1 Project Information'!$B$21:$B$44,0),0)=\"Yes\",\"Normal\",\"None\"),Table1[[#This Row],[Recertification type]])","v":"None"},"Spot Check","","Architect"]
["INNOVATION","O",{"$f":"IF(LEFT(Table1[[#This Row],[Feature and Parts]],3)=\"fea\",MID(Table1[[#This Row],[Feature and Parts]],9,3)+0,C330)","v":101},{"$f":"LOOKUP(Table1[[#This Row],[F'#]],'v1 Achieved Features'!D:D,'v1 Achieved Features'!$B:B)","v":0},"Feature 101. Innovation I"]
[null,null,{"$f":"IF(LEFT(Table1[[#This Row],[Feature and Parts]],3)=\"fea\",MID(Table1[[#This Row],[Feature and Parts]],9,3)+0,C331)","v":101},{"$f":"LOOKUP(Table1[[#This Row],[F'#]],'v1 Achieved Features'!D:D,'v1 Achieved Features'!$B:B)","v":0},"Innovation Proposal","Normal",null,{"$f":"IF(Table1[[#This Row],[Recertification type]]=\"None unless a change to\",IF(OFFSET('v1 Project Information'!$C$14,MATCH(Table1[[#This Row],[Conditions for change]],'v1 Project Information'!$B$21:$B$44,0),0)=\"Yes\",\"Normal\",\"None\"),Table1[[#This Row],[Recertification type]])","v":"Normal"},null,"Innovation Proposal"]
[null,null,{"$f":"IF(LEFT(Table1[[#This Row],[Feature and Parts]],3)=\"fea\",MID(Table1[[#This Row],[Feature and Parts]],9,3)+0,C332)","v":101},{"$f":"LOOKUP(Table1[[#This Row],[F'#]],'v1 Achieved Features'!D:D,'v1 Achieved Features'!$B:B)","v":0},"Innovation Support","Normal",null,{"$f":"IF(Table1[[#This Row],[Recertification type]]=\"None unless a change to\",IF(OFFSET('v1 Project Information'!$C$14,MATCH(Table1[[#This Row],[Conditions for change]],'v1 Project Information'!$B$21:$B$44,0),0)=\"Yes\",\"Normal\",\"None\"),Table1[[#This Row],[Recertification type]])","v":"Normal"},null,"Innovation Proposal"]
[null,"O",{"$f":"IF(LEFT(Table1[[#This Row],[Feature and Parts]],3)=\"fea\",MID(Table1[[#This Row],[Feature and Parts]],9,3)+0,C333)","v":102},{"$f":"LOOKUP(Table1[[#This Row],[F'#]],'v1 Achieved Features'!D:D,'v1 Achieved Features'!$B:B)","v":0},"Feature 102. Innovation II"]
[null,null,{"$f":"IF(LEFT(Table1[[#This Row],[Feature and Parts]],3)=\"fea\",MID(Table1[[#This Row],[Feature and Parts]],9,3)+0,C334)","v":102},{"$f":"LOOKUP(Table1[[#This Row],[F'#]],'v1 Achieved Features'!D:D,'v1 Achieved Features'!$B:B)","v":0},"Innovation Proposal","Normal",null,{"$f":"IF(Table1[[#This Row],[Recertification type]]=\"None unless a change to\",IF(OFFSET('v1 Project Information'!$C$14,MATCH(Table1[[#This Row],[Conditions for change]],'v1 Project Information'!$B$21:$B$44,0),0)=\"Yes\",\"Normal\",\"None\"),Table1[[#This Row],[Recertification type]])","v":"Normal"},null,"Innovation Proposal"]
[null,null,{"$f":"IF(LEFT(Table1[[#This Row],[Feature and Parts]],3)=\"fea\",MID(Table1[[#This Row],[Feature and Parts]],9,3)+0,C335)","v":102},{"$f":"LOOKUP(Table1[[#This Row],[F'#]],'v1 Achieved Features'!D:D,'v1 Achieved Features'!$B:B)","v":0},"Innovation Support","Normal",null,{"$f":"IF(Table1[[#This Row],[Recertification type]]=\"None unless a change to\",IF(OFFSET('v1 Project Information'!$C$14,MATCH(Table1[[#This Row],[Conditions for change]],'v1 Project Information'!$B$21:$B$44,0),0)=\"Yes\",\"Normal\",\"None\"),Table1[[#This Row],[Recertification type]])","v":"Normal"},null,"Innovation Proposal"]
[null,"O",{"$f":"IF(LEFT(Table1[[#This Row],[Feature and Parts]],3)=\"fea\",MID(Table1[[#This Row],[Feature and Parts]],9,3)+0,C336)","v":103},{"$f":"LOOKUP(Table1[[#This Row],[F'#]],'v1 Achieved Features'!D:D,'v1 Achieved Features'!$B:B)","v":0},"Feature 103. Innovation III"]
[null,null,{"$f":"IF(LEFT(Table1[[#This Row],[Feature and Parts]],3)=\"fea\",MID(Table1[[#This Row],[Feature and Parts]],9,3)+0,C337)","v":103},{"$f":"LOOKUP(Table1[[#This Row],[F'#]],'v1 Achieved Features'!D:D,'v1 Achieved Features'!$B:B)","v":0},"Innovation Proposal","Normal",null,{"$f":"IF(Table1[[#This Row],[Recertification type]]=\"None unless a change to\",IF(OFFSET('v1 Project Information'!$C$14,MATCH(Table1[[#This Row],[Conditions for change]],'v1 Project Information'!$B$21:$B$44,0),0)=\"Yes\",\"Normal\",\"None\"),Table1[[#This Row],[Recertification type]])","v":"Normal"},null,"Innovation Proposal"]
[null,null,{"$f":"IF(LEFT(Table1[[#This Row],[Feature and Parts]],3)=\"fea\",MID(Table1[[#This Row],[Feature and Parts]],9,3)+0,C338)","v":103},{"$f":"LOOKUP(Table1[[#This Row],[F'#]],'v1 Achieved Features'!D:D,'v1 Achieved Features'!$B:B)","v":0},"Innovation Support","Normal",null,{"$f":"IF(Table1[[#This Row],[Recertification type]]=\"None unless a change to\",IF(OFFSET('v1 Project Information'!$C$14,MATCH(Table1[[#This Row],[Conditions for change]],'v1 Project Information'!$B$21:$B$44,0),0)=\"Yes\",\"Normal\",\"None\"),Table1[[#This Row],[Recertification type]])","v":"Normal"},null,"Innovation Proposal"]
[null,"O",{"$f":"IF(LEFT(Table1[[#This Row],[Feature and Parts]],3)=\"fea\",MID(Table1[[#This Row],[Feature and Parts]],9,3)+0,C339)","v":104},{"$f":"LOOKUP(Table1[[#This Row],[F'#]],'v1 Achieved Features'!D:D,'v1 Achieved Features'!$B:B)","v":0},"Feature 104. Innovation IV"]
[null,null,{"$f":"IF(LEFT(Table1[[#This Row],[Feature and Parts]],3)=\"fea\",MID(Table1[[#This Row],[Feature and Parts]],9,3)+0,C340)","v":104},{"$f":"LOOKUP(Table1[[#This Row],[F'#]],'v1 Achieved Features'!D:D,'v1 Achieved Features'!$B:B)","v":0},"Innovation Proposal","Normal",null,{"$f":"IF(Table1[[#This Row],[Recertification type]]=\"None unless a change to\",IF(OFFSET('v1 Project Information'!$C$14,MATCH(Table1[[#This Row],[Conditions for change]],'v1 Project Information'!$B$21:$B$44,0),0)=\"Yes\",\"Normal\",\"None\"),Table1[[#This Row],[Recertification type]])","v":"Normal"},null,"Innovation Proposal"]
[null,null,{"$f":"IF(LEFT(Table1[[#This Row],[Feature and Parts]],3)=\"fea\",MID(Table1[[#This Row],[Feature and Parts]],9,3)+0,C341)","v":104},{"$f":"LOOKUP(Table1[[#This Row],[F'#]],'v1 Achieved Features'!D:D,'v1 Achieved Features'!$B:B)","v":0},"Innovation Support","Normal",null,{"$f":"IF(Table1[[#This Row],[Recertification type]]=\"None unless a change to\",IF(OFFSET('v1 Project Information'!$C$14,MATCH(Table1[[#This Row],[Conditions for change]],'v1 Project Information'!$B$21:$B$44,0),0)=\"Yes\",\"Normal\",\"None\"),Table1[[#This Row],[Recertification type]])","v":"Normal"},null,"Innovation Proposal"]
[null,"O",{"$f":"IF(LEFT(Table1[[#This Row],[Feature and Parts]],3)=\"fea\",MID(Table1[[#This Row],[Feature and Parts]],9,3)+0,C342)","v":105},{"$f":"LOOKUP(Table1[[#This Row],[F'#]],'v1 Achieved Features'!D:D,'v1 Achieved Features'!$B:B)","v":0},"Feature 105. Innovation V"]
[null,null,{"$f":"IF(LEFT(Table1[[#This Row],[Feature and Parts]],3)=\"fea\",MID(Table1[[#This Row],[Feature and Parts]],9,3)+0,C343)","v":105},{"$f":"LOOKUP(Table1[[#This Row],[F'#]],'v1 Achieved Features'!D:D,'v1 Achieved Features'!$B:B)","v":0},"Innovation Proposal","Normal",null,{"$f":"IF(Table1[[#This Row],[Recertification type]]=\"None unless a change to\",IF(OFFSET('v1 Project Information'!$C$14,MATCH(Table1[[#This Row],[Conditions for change]],'v1 Project Information'!$B$21:$B$44,0),0)=\"Yes\",\"Normal\",\"None\"),Table1[[#This Row],[Recertification type]])","v":"Normal"},null,"Innovation Proposal"]
[null,null,{"$f":"IF(LEFT(Table1[[#This Row],[Feature and Parts]],3)=\"fea\",MID(Table1[[#This Row],[Feature and Parts]],9,3)+0,C344)","v":105},{"$f":"LOOKUP(Table1[[#This Row],[F'#]],'v1 Achieved Features'!D:D,'v1 Achieved Features'!$B:B)","v":0},"Innovation Support","Normal",null,{"$f":"IF(Table1[[#This Row],[Recertification type]]=\"None unless a change to\",IF(OFFSET('v1 Project Information'!$C$14,MATCH(Table1[[#This Row],[Conditions for change]],'v1 Project Information'!$B$21:$B$44,0),0)=\"Yes\",\"Normal\",\"None\"),Table1[[#This Row],[Recertification type]])","v":"Normal"},null,"Innovation Proposal"]

{"sheet":"Performance Verification","index":5,"n_rows":35,"n_cols":23,"rows_kept":35,"cut":false,"hidden":false,"merged":[[2,1,2,4],[4,22,5,22],[3,20,3,22],[4,21,5,21],[6,1,13,1],[4,20,5,20],[2,6,2,19],[1,1,1,22],[19,1,20,1],[21,1,23,1],[24,1,30,1],[3,1,5,1],[3,2,5,2],[14,1,18,1],[3,5,3,19],[4,5,4,10],[4,11,4,12],[4,13,4,15],[4,16,4,17],[4,18,4,19],[3,3,5,3],[3,4,5,4]]}
[]
[null,"Performance Verification at Recertification"]
[null,"The table below shows the scope of testing required based on the types of alterations that the project has listed in the Project Information tab. Testing for different parameters will either be listed as \"Full,\" \"Reduced,\" or \"None.\" \n\nFull - Testing will occur at the same rate as at initial certification for that parameters.\nReduced - Testing will occur at 50% of the sampling locations.\nNone - No additional testing is required for recertification.  ",null,null,null,null,"Note: this table only applies for features that\n-for WELL v1 projects: were previously achieved \n-for projects that are upgrading to WELL v2: are listed as Expected on the Upgrade - v2 Features tab. \nFull testing is required for features that\n-for WELL v1 projects: were not previously achieved\n-for projects that are upgrading to WELL v2: are listed as Needs Achievement or Not Pursued on the Upgrade - v2 Features tab. "]
[null,"Concept","Parameter","Relevant WELL v1 Features","Relevant WELL v2 Features","Extent of alterations",null,null,null,null,null,null,null,null,null,null,null,null,null,null,"Level of testing"]
[null,null,null,null,null,"Interior Design",null,null,null,null,null,"Exterior Design",null,"Mechanical System",null,null,"Overall Structure",null,"Plumbing System",null,"No relevant alteration","With relevant alteration","For project \n(if feature pursued)"]
[null,null,null,null,null,"Doors","Appliances","Furniture","Finishes","Layout","Lighting","Building Grounds","Exterior Lighting","Heating","Ventilating","Air Conditioning","Building Envelope","Fenestration","Water Distribution","Treatment"]
[null,"Air","PM2.5 and PM10","Feature 01, Part 2","A01.1, A05.1",null,null,null,null,null,null,null,null,null,"ü",null,"ü",null,null,null,"Reduced","Full",{"$f":"IF(COUNTIFS(F7:T7,\"*\",$F$33:$T$33,\"Yes\")>0,V7,U7)","v":"Reduced"}]
[null,null,"Carbon Monoxide","Feature 01, Part 2","A01.3, A05.3",null,null,null,null,null,null,null,null,null,"ü",null,"ü",null,null,null,"Reduced","Full",{"$f":"IF(COUNTIFS(F8:T8,\"*\",$F$33:$T$33,\"Yes\")>0,V8,U8)","v":"Reduced"}]
[null,null,"Total VOCs (other than Formaldehyde)","Feature 01, Part 1","--",null,null,"ü","ü",null,null,null,null,null,"ü",null,null,null,null,null,"Reduced","Full",{"$f":"IF(COUNTIFS(F9:T9,\"*\",$F$33:$T$33,\"Yes\")>0,V9,U9)","v":"Reduced"}]
[null,null,"Component VOCs (other than Formaldehyde)","Feature 01, Part 1 (AAP)","A01.2, A05.2",null,null,"ü","ü",null,null,null,null,null,"ü",null,null,null,null,null,"Reduced","Full","Reduced"]
[null,null,"Formaldehyde","Feature 01, Part 1","A01.2, A05.2",null,null,"ü","ü",null,null,null,null,null,"ü",null,null,null,null,null,"Reduced","Full","Reduced"]
[null,null,"Ozone","Feature 01, Part 2","A01.3",null,null,null,null,null,null,null,null,null,"ü",null,"ü",null,null,null,"Reduced","Full","Reduced"]
[null,null,"Nitrogen Dioxide","--","A05.3",null,null,null,null,null,null,null,null,null,null,null,null,null,null,null,"Reduced","Full",{"$f":"IF(COUNTIFS(F13:T13,\"*\",$F$33:$T$33,\"Yes\")>0,V13,U13)","v":"Reduced"}]
[null,null,"Radon","Feature 01, Part 3","--",null,null,null,null,null,null,null,null,null,null,null,"ü",null,null,null,"None","Full","None"]
[null,"Water","Turbidity","Feature 30, Part 1","W01.1",null,null,null,null,null,null,null,null,null,null,null,null,null,null,null,"Full","Full","Full"]
[null,null,"Coliforms","Feature 30, Part 2","W01.1",null,null,null,null,null,null,null,null,null,null,null,null,null,null,null,"Full","Full","Full"]
[null,null,"Disinfectants","Feature 34, Part 1","W02.1",null,null,null,null,null,null,null,null,null,null,null,null,null,null,null,"Full","Full","Full"]
[null,null,"Lead","Feature 31, Part 1a","W02.1",null,null,null,null,null,null,null,null,null,null,null,null,null,"ü","ü","Reduced","Full",{"$f":"IF(COUNTIFS(F18:T18,\"*\",$F$33:$T$33,\"Yes\")>0,V18,U18)","v":"Reduced"}]
[null,null,"Lab-Based Contaminants (except Lead)","Feature 31, Part 1\nFeature 32, Part 1\nFeature 33, Parts 1 and 2\nFeature 34, Part 3\nFeature 37, Part 1 ","W02.1, W04.1",null,null,null,null,null,null,null,null,null,null,null,null,null,"ü","ü","Reduced","Full","Reduced"]
[null,"Light","Visual Lighting","Feature 53, Part 1","L02.1",null,null,"ü","ü","ü","ü",null,"ü",null,null,null,null,null,null,null,"None","Full","None"]
[null,null,"Circadian Lighting","Feature 54, Part 1","L03.1",null,null,"ü","ü","ü","ü",null,null,null,null,null,null,null,null,null,"None","Full","None"]
[null,"Thermal Comfort","Dry-bulb Temperature","Feature 76, Parts 1, 2 and 3","T01.1",null,null,null,null,null,null,null,null,"ü","ü","ü","ü","ü",null,null,"Reduced","Full","Reduced"]
[null,null,"Mean Radiant Temperature","Feature 76, Parts 1, 2 and 3","T01.1",null,null,null,null,null,null,null,null,"ü","ü","ü","ü","ü",null,null,"Reduced","Full","Reduced"]
[null,null,"Relative Humidity","Feature 76, Parts 1 and 2","T01.1, T07.1",null,null,null,null,null,null,null,null,"ü","ü","ü","ü","ü",null,null,"Reduced","Full","Reduced"]
[null,"Sound","Exterior Noise Intrusion","Feature 74, Part 1","--",null,null,null,null,null,null,"ü",null,"ü","ü","ü","ü","ü",null,null,"None","Full","None"]
[null,null,"Disruptive Noise Limitation","Feature 75, Part 7","--",null,null,null,null,null,null,"ü",null,"ü","ü","ü","ü","ü",null,null,"None","Full","None"]
[null,null,"Internally Generated Noise","Feature 75, Part 2","--",null,"ü",null,null,"ü",null,null,null,"ü","ü","ü","ü","ü","ü",null,"None","Full","None"]
[null,null,"Background Noise Level","--","S02.1",null,"ü",null,null,"ü",null,"ü",null,"ü","ü","ü","ü","ü","ü",null,"Reduced","Full","Reduced"]
[null,null,"Reverberation Time","Feature 78, Parts 1 and 2","S04.1",null,null,"ü","ü",null,null,null,null,null,null,null,null,null,null,null,"None","Full","None"]
[null,null,"Sound Insulation","--","S03.2","ü",null,null,null,null,null,null,null,"ü","ü","ü",null,null,null,null,"None","Full","None"]
[null,null,"Sound Masking","Feature 79, Part 2","--",null,null,null,"ü","ü",null,null,null,"ü","ü","ü",null,null,null,null,"None","Full","None"]
[]
[null,null,null,null,"Change in project?*",{"$f":"VLOOKUP(F6,'v1 Project Information'!$B$21:$C$46,2,0)","v":0},{"$f":"VLOOKUP(G6,'v1 Project Information'!$B$21:$C$46,2,0)","v":0},{"$f":"VLOOKUP(H6,'v1 Project Information'!$B$21:$C$46,2,0)","v":0},{"$f":"VLOOKUP(I6,'v1 Project Information'!$B$21:$C$46,2,0)","v":0},{"$f":"VLOOKUP(J6,'v1 Project Information'!$B$21:$C$46,2,0)","v":0},{"$f":"VLOOKUP(K6,'v1 Project Information'!$B$21:$C$46,2,0)","v":0},{"$f":"VLOOKUP(L6,'v1 Project Information'!$B$21:$C$46,2,0)","v":0},{"$f":"VLOOKUP(M6,'v1 Project Information'!$B$21:$C$46,2,0)","v":0},{"$f":"VLOOKUP(N6,'v1 Project Information'!$B$21:$C$46,2,0)","v":0},{"$f":"VLOOKUP(O6,'v1 Project Information'!$B$21:$C$46,2,0)","v":0},{"$f":"VLOOKUP(P6,'v1 Project Information'!$B$21:$C$46,2,0)","v":0},{"$f":"VLOOKUP(Q6,'v1 Project Information'!$B$21:$C$46,2,0)","v":0},{"$f":"VLOOKUP(R6,'v1 Project Information'!$B$21:$C$46,2,0)","v":0},{"$f":"VLOOKUP(S6,'v1 Project Information'!$B$21:$C$46,2,0)","v":0},{"$f":"VLOOKUP(T6,'v1 Project Information'!$B$21:$C$46,2,0)","v":0}]
[]
[null,null,null,null,"*Information derived from data entered in the Project Information tab. "]

{"sheet":"Upgrade - v2 Features","index":6,"n_rows":229,"n_cols":14,"rows_kept":229,"cut":false,"hidden":false,"merged":[[2,1,2,5],[1,1,1,5]]}
[]
[null,"Information for Projects Upgrading to WELL v2"]
[null,"This tab shows the extent to which features achieved through initial WELL v1 certification are transferrable to the WELL v2 rating system. Before reviewing, select \"Yes\" or \"No\" in the \"WELL v2 Innovations\" table as it applies to your project. Options for WELL v2 achievement are indicated in Column E as either \"Expected,\" \"Not Pursued,\" or \"Needs Achievement.\" \n\nExpected -  An alignment exists between the WELL v1 feature already achieved by the project and the corresponding WELL v2 feature. Note that an Achievement Status of \"Exptected\" does not gaurantee achievement and all relevant information resubmitted during recertificaiton will be reviewed prior to award of achievement, based on the extent of alterations noted in the v1 Project Information tab. \n*Note: T01 will always require documentation during recertification even if the status shows as \"Expected\". More information can be found in the 'Upgrade - v2 Documentation' tab. \nNot Pursued - The WELL v1 feature was not pursued during initial certification or a WELL v2 feature is not aligned with the previously achieved WELL v1 feature. \nNeeds Achievement - An alignment between WELL v1 and WELL v2 feature does not exist and the project should meet the WELL v2 feature requirements."]
[]
[null,null,null,null,null,"v1 Status",{"$f":"IF(ISBLANK('v1 Project Information'!C8),\"\",'v1 Project Information'!C8)","v":""}]
[null,null,null,null,null,"Preconditions achieved",{"$f":"COUNTIFS(Table4[Precondition],\"P\",Table4[Attainment],\"Y\")","v":41}]
[null,null,null,null,null,"Total features achieved",{"$f":"COUNTIF(Table4[Attainment],\"Y\")","v":41}]
[null,null,null,null,null,"v2 Preconditions parts expected",{"$f":"COUNTIF(Table9[v2 atttainment],\"Y\")","v":37}]
[null,null,null,null,null,"v2 Preconditions parts that need achievement",{"$f":"COUNTIFS(Table9[Part attained in v2?],FALSE,Table9[Type],\"Precondition\")","v":11}]
[null,null,null,null,null,"v2 points projected",{"$f":"ROUNDDOWN(SUM(N16:N26),0)","v":34}]
[]
[null,null,null,null,null,"NOTE: Performance-based features are still required to complete on-site verification to achieve recertification."]
[]
[]
[null,"Feature","Code","Concept","Part","Part Name","Type","Achievement Status","Points Expected","Corresponding v1 Feature(s)",null,"Concept","Points (raw)","Points (w/ concept cap)"]
[null,"A01",{"$f":"_xlfn.CONCAT(UpgradeTable[[#This Row],[Feature]],\".\",UpgradeTable[[#This Row],[Part]])","v":"A01.1"},{"$f":"VLOOKUP(UpgradeTable[[#This Row],[Feature]],Table5[],12,0)","v":"Air"},1,{"$f":"VLOOKUP(UpgradeTable[[#This Row],[Code]],Table5[[Feature.Part]:[Part Description]],2,0)","v":"Meet Thresholds for Particulate Matter"},{"$f":"VLOOKUP(UpgradeTable[[#This Row],[Code]],Table9[[Feature.Part]:[v2 atttainment]],2,FALSE)","v":"Precondition"},{"$f":"IF(VLOOKUP(B16&\".\"&E16,Table9[[Feature.Part]:[v2 atttainment]],4,FALSE),\"Expected\",IF(G16=\"Precondition\",\"Needs achievement\",\"Not Pursued\"))","v":"Expected"},{"$f":"IF(G16=\"Optimization\",VLOOKUP(B16&\".\"&E16,Table9[[Feature.Part]:[v2 atttainment]],6,),\"\")","v":""},{"$f":"IFERROR(_xlfn.TEXTJOIN(\", \",,_xlfn._xlws.FILTER(Table6[WELL v1 Feature 1],Table6[v2 Feature.Part]=UpgradeTable[[#This Row],[Code]],)),\"N/A\")","v":"1"},null,"Air",{"$f":"SUMIF(UpgradeTable[Concept],L16,UpgradeTable[Points Expected])","v":3},{"$f":"MIN(M16,12)","v":3}]
[null,"A01",{"$f":"_xlfn.CONCAT(UpgradeTable[[#This Row],[Feature]],\".\",UpgradeTable[[#This Row],[Part]])","v":"A01.2"},{"$f":"VLOOKUP(UpgradeTable[[#This Row],[Feature]],Table5[],12,0)","v":"Air"},2,{"$f":"VLOOKUP(UpgradeTable[[#This Row],[Code]],Table5[[Feature.Part]:[Part Description]],2,0)","v":"Meet Thresholds for Organic Gases"},{"$f":"VLOOKUP(UpgradeTable[[#This Row],[Code]],Table9[[Feature.Part]:[v2 atttainment]],2,FALSE)","v":"Precondition"},{"$f":"IF(VLOOKUP(B17&\".\"&E17,Table9[[Feature.Part]:[v2 atttainment]],4,FALSE),\"Expected\",IF(G17=\"Precondition\",\"Needs achievement\",\"Not Pursued\"))","v":"Expected"},{"$f":"IF(G17=\"Optimization\",VLOOKUP(B17&\".\"&E17,Table9[[Feature.Part]:[v2 atttainment]],6,),\"\")","v":""},{"$f":"IFERROR(_xlfn.TEXTJOIN(\", \",,_xlfn._xlws.FILTER(Table6[WELL v1 Feature 1],Table6[v2 Feature.Part]=UpgradeTable[[#This Row],[Code]],)),\"N/A\")","v":"1"},null,"Water",{"$f":"SUMIF(UpgradeTable[Concept],L17,UpgradeTable[Points Expected])","v":5},{"$f":"MIN(M17,12)","v":5}]
[null,"A01",{"$f":"_xlfn.CONCAT(UpgradeTable[[#This Row],[Feature]],\".\",UpgradeTable[[#This Row],[Part]])","v":"A01.3"},{"$f":"VLOOKUP(UpgradeTable[[#This Row],[Feature]],Table5[],12,0)","v":"Air"},3,{"$f":"VLOOKUP(UpgradeTable[[#This Row],[Code]],Table5[[Feature.Part]:[Part Description]],2,0)","v":"Meet Thresholds for Inorganic Gases"},{"$f":"VLOOKUP(UpgradeTable[[#This Row],[Code]],Table9[[Feature.Part]:[v2 atttainment]],2,FALSE)","v":"Precondition"},{"$f":"IF(VLOOKUP(B18&\".\"&E18,Table9[[Feature.Part]:[v2 atttainment]],4,FALSE),\"Expected\",IF(G18=\"Precondition\",\"Needs achievement\",\"Not Pursued\"))","v":"Expected"},{"$f":"IF(G18=\"Optimization\",VLOOKUP(B18&\".\"&E18,Table9[[Feature.Part]:[v2 atttainment]],6,),\"\")","v":""},{"$f":"IFERROR(_xlfn.TEXTJOIN(\", \",,_xlfn._xlws.FILTER(Table6[WELL v1 Feature 1],Table6[v2 Feature.Part]=UpgradeTable[[#This Row],[Code]],)),\"N/A\")","v":"1"},null,"Nourishment",{"$f":"SUMIF(UpgradeTable[Concept],L18,UpgradeTable[Points Expected])","v":6},6]
[null,"A01",{"$f":"_xlfn.CONCAT(UpgradeTable[[#This Row],[Feature]],\".\",UpgradeTable[[#This Row],[Part]])","v":"A01.4"},{"$f":"VLOOKUP(UpgradeTable[[#This Row],[Feature]],Table5[],12,0)","v":"Air"},4,{"$f":"VLOOKUP(UpgradeTable[[#This Row],[Code]],Table5[[Feature.Part]:[Part Description]],2,0)","v":"Meet Thresholds for Radon"},{"$f":"VLOOKUP(UpgradeTable[[#This Row],[Code]],Table9[[Feature.Part]:[v2 atttainment]],2,FALSE)","v":"Precondition"},{"$f":"IF(VLOOKUP(B19&\".\"&E19,Table9[[Feature.Part]:[v2 atttainment]],4,FALSE),\"Expected\",IF(G19=\"Precondition\",\"Needs achievement\",\"Not Pursued\"))","v":"Expected"},{"$f":"IF(G19=\"Optimization\",VLOOKUP(B19&\".\"&E19,Table9[[Feature.Part]:[v2 atttainment]],6,),\"\")","v":""},{"$f":"IFERROR(_xlfn.TEXTJOIN(\", \",,_xlfn._xlws.FILTER(Table6[WELL v1 Feature 1],Table6[v2 Feature.Part]=UpgradeTable[[#This Row],[Code]],)),\"N/A\")","v":"1"},null,"Light",{"$f":"SUMIF(UpgradeTable[Concept],L19,UpgradeTable[Points Expected])","v":5},5]
[null,"A01",{"$f":"_xlfn.CONCAT(UpgradeTable[[#This Row],[Feature]],\".\",UpgradeTable[[#This Row],[Part]])","v":"A01.5"},{"$f":"VLOOKUP(UpgradeTable[[#This Row],[Feature]],Table5[],12,0)","v":"Air"},5,{"$f":"VLOOKUP(UpgradeTable[[#This Row],[Code]],Table5[[Feature.Part]:[Part Description]],2,0)","v":"Monitor Air Parameters"},{"$f":"VLOOKUP(UpgradeTable[[#This Row],[Code]],Table9[[Feature.Part]:[v2 atttainment]],2,FALSE)","v":"Precondition"},{"$f":"IF(VLOOKUP(B20&\".\"&E20,Table9[[Feature.Part]:[v2 atttainment]],4,FALSE),\"Expected\",IF(G20=\"Precondition\",\"Needs achievement\",\"Not Pursued\"))","v":"Needs achievement"},{"$f":"IF(G20=\"Optimization\",VLOOKUP(B20&\".\"&E20,Table9[[Feature.Part]:[v2 atttainment]],6,),\"\")","v":""},{"$f":"IFERROR(_xlfn.TEXTJOIN(\", \",,_xlfn._xlws.FILTER(Table6[WELL v1 Feature 1],Table6[v2 Feature.Part]=UpgradeTable[[#This Row],[Code]],)),\"N/A\")","v":"18"},null,"Movement",{"$f":"SUMIF(UpgradeTable[Concept],L20,UpgradeTable[Points Expected])","v":4},4]
[null,"A02",{"$f":"_xlfn.CONCAT(UpgradeTable[[#This Row],[Feature]],\".\",UpgradeTable[[#This Row],[Part]])","v":"A02.1"},{"$f":"VLOOKUP(UpgradeTable[[#This Row],[Feature]],Table5[],12,0)","v":"Air"},1,{"$f":"VLOOKUP(UpgradeTable[[#This Row],[Code]],Table5[[Feature.Part]:[Part Description]],2,0)","v":"Prohibit Indoor Smoking"},{"$f":"VLOOKUP(UpgradeTable[[#This Row],[Code]],Table9[[Feature.Part]:[v2 atttainment]],2,FALSE)","v":"Precondition"},{"$f":"IF(VLOOKUP(B21&\".\"&E21,Table9[[Feature.Part]:[v2 atttainment]],4,FALSE),\"Expected\",IF(G21=\"Precondition\",\"Needs achievement\",\"Not Pursued\"))","v":"Expected"},{"$f":"IF(G21=\"Optimization\",VLOOKUP(B21&\".\"&E21,Table9[[Feature.Part]:[v2 atttainment]],6,),\"\")","v":""},{"$f":"IFERROR(_xlfn.TEXTJOIN(\", \",,_xlfn._xlws.FILTER(Table6[WELL v1 Feature 1],Table6[v2 Feature.Part]=UpgradeTable[[#This Row],[Code]],)),\"N/A\")","v":"2"},null,"Thermal Comfort",{"$f":"SUMIF(UpgradeTable[Concept],L21,UpgradeTable[Points Expected])","v":0},0]
[null,"A02",{"$f":"_xlfn.CONCAT(UpgradeTable[[#This Row],[Feature]],\".\",UpgradeTable[[#This Row],[Part]])","v":"A02.2"},{"$f":"VLOOKUP(UpgradeTable[[#This Row],[Feature]],Table5[],12,0)","v":"Air"},2,{"$f":"VLOOKUP(UpgradeTable[[#This Row],[Code]],Table5[[Feature.Part]:[Part Description]],2,0)","v":"Prohibit Outdoor Smoking"},{"$f":"VLOOKUP(UpgradeTable[[#This Row],[Code]],Table9[[Feature.Part]:[v2 atttainment]],2,FALSE)","v":"Precondition"},{"$f":"IF(VLOOKUP(B22&\".\"&E22,Table9[[Feature.Part]:[v2 atttainment]],4,FALSE),\"Expected\",IF(G22=\"Precondition\",\"Needs achievement\",\"Not Pursued\"))","v":"Expected"},{"$f":"IF(G22=\"Optimization\",VLOOKUP(B22&\".\"&E22,Table9[[Feature.Part]:[v2 atttainment]],6,),\"\")","v":""},{"$f":"IFERROR(_xlfn.TEXTJOIN(\", \",,_xlfn._xlws.FILTER(Table6[WELL v1 Feature 1],Table6[v2 Feature.Part]=UpgradeTable[[#This Row],[Code]],)),\"N/A\")","v":"2"},null,"Sound",{"$f":"SUMIF(UpgradeTable[Concept],L22,UpgradeTable[Points Expected])","v":3},3]
[null,"A03",{"$f":"_xlfn.CONCAT(UpgradeTable[[#This Row],[Feature]],\".\",UpgradeTable[[#This Row],[Part]])","v":"A03.1"},{"$f":"VLOOKUP(UpgradeTable[[#This Row],[Feature]],Table5[],12,0)","v":"Air"},1,{"$f":"VLOOKUP(UpgradeTable[[#This Row],[Code]],Table5[[Feature.Part]:[Part Description]],2,0)","v":"Ensure Adequate Ventilation"},{"$f":"VLOOKUP(UpgradeTable[[#This Row],[Code]],Table9[[Feature.Part]:[v2 atttainment]],2,FALSE)","v":"Precondition"},{"$f":"IF(VLOOKUP(B23&\".\"&E23,Table9[[Feature.Part]:[v2 atttainment]],4,FALSE),\"Expected\",IF(G23=\"Precondition\",\"Needs achievement\",\"Not Pursued\"))","v":"Expected"},{"$f":"IF(G23=\"Optimization\",VLOOKUP(B23&\".\"&E23,Table9[[Feature.Part]:[v2 atttainment]],6,),\"\")","v":""},{"$f":"IFERROR(_xlfn.TEXTJOIN(\", \",,_xlfn._xlws.FILTER(Table6[WELL v1 Feature 1],Table6[v2 Feature.Part]=UpgradeTable[[#This Row],[Code]],)),\"N/A\")","v":"3"},null,"Materials",{"$f":"SUMIF(UpgradeTable[Concept],L23,UpgradeTable[Points Expected])","v":7},7]
[null,"A04",{"$f":"_xlfn.CONCAT(UpgradeTable[[#This Row],[Feature]],\".\",UpgradeTable[[#This Row],[Part]])","v":"A04.1"},{"$f":"VLOOKUP(UpgradeTable[[#This Row],[Feature]],Table5[],12,0)","v":"Air"},1,{"$f":"VLOOKUP(UpgradeTable[[#This Row],[Code]],Table5[[Feature.Part]:[Part Description]],2,0)","v":"Mitigate Construction Pollution"},{"$f":"VLOOKUP(UpgradeTable[[#This Row],[Code]],Table9[[Feature.Part]:[v2 atttainment]],2,FALSE)","v":"Precondition"},{"$f":"IF(VLOOKUP(B24&\".\"&E24,Table9[[Feature.Part]:[v2 atttainment]],4,FALSE),\"Expected\",IF(G24=\"Precondition\",\"Needs achievement\",\"Not Pursued\"))","v":"Expected"},{"$f":"IF(G24=\"Optimization\",VLOOKUP(B24&\".\"&E24,Table9[[Feature.Part]:[v2 atttainment]],6,),\"\")","v":""},{"$f":"IFERROR(_xlfn.TEXTJOIN(\", \",,_xlfn._xlws.FILTER(Table6[WELL v1 Feature 1],Table6[v2 Feature.Part]=UpgradeTable[[#This Row],[Code]],)),\"N/A\")","v":"7, 24"},null,"Mind",{"$f":"SUMIF(UpgradeTable[Concept],L24,UpgradeTable[Points Expected])","v":0},0]
[null,"A05",{"$f":"_xlfn.CONCAT(UpgradeTable[[#This Row],[Feature]],\".\",UpgradeTable[[#This Row],[Part]])","v":"A05.1"},{"$f":"VLOOKUP(UpgradeTable[[#This Row],[Feature]],Table5[],12,0)","v":"Air"},1,{"$f":"VLOOKUP(UpgradeTable[[#This Row],[Code]],Table5[[Feature.Part]:[Part Description]],2,0)","v":"Meet Enhanced Thresholds for Particulate Matter"},{"$f":"VLOOKUP(UpgradeTable[[#This Row],[Code]],Table9[[Feature.Part]:[v2 atttainment]],2,FALSE)","v":"Optimization"},{"$f":"IF(VLOOKUP(B25&\".\"&E25,Table9[[Feature.Part]:[v2 atttainment]],4,FALSE),\"Expected\",IF(G25=\"Precondition\",\"Needs achievement\",\"Not Pursued\"))","v":"Not Pursued"},{"$f":"IF(G25=\"Optimization\",VLOOKUP(B25&\".\"&E25,Table9[[Feature.Part]:[v2 atttainment]],6,),\"\")","v":0},{"$f":"IFERROR(_xlfn.TEXTJOIN(\", \",,_xlfn._xlws.FILTER(Table6[WELL v1 Feature 1],Table6[v2 Feature.Part]=UpgradeTable[[#This Row],[Code]],)),\"N/A\")","v":"N/A"},null,"Community",{"$f":"SUMIF(UpgradeTable[Concept],L25,UpgradeTable[Points Expected])","v":0},0]
[null,"A05",{"$f":"_xlfn.CONCAT(UpgradeTable[[#This Row],[Feature]],\".\",UpgradeTable[[#This Row],[Part]])","v":"A05.2"},{"$f":"VLOOKUP(UpgradeTable[[#This Row],[Feature]],Table5[],12,0)","v":"Air"},2,{"$f":"VLOOKUP(UpgradeTable[[#This Row],[Code]],Table5[[Feature.Part]:[Part Description]],2,0)","v":"Meet Enhanced Thresholds for Organic Gases"},{"$f":"VLOOKUP(UpgradeTable[[#This Row],[Code]],Table9[[Feature.Part]:[v2 atttainment]],2,FALSE)","v":"Optimization"},{"$f":"IF(VLOOKUP(B26&\".\"&E26,Table9[[Feature.Part]:[v2 atttainment]],4,FALSE),\"Expected\",IF(G26=\"Precondition\",\"Needs achievement\",\"Not Pursued\"))","v":"Not Pursued"},{"$f":"IF(G26=\"Optimization\",VLOOKUP(B26&\".\"&E26,Table9[[Feature.Part]:[v2 atttainment]],6,),\"\")","v":0},{"$f":"IFERROR(_xlfn.TEXTJOIN(\", \",,_xlfn._xlws.FILTER(Table6[WELL v1 Feature 1],Table6[v2 Feature.Part]=UpgradeTable[[#This Row],[Code]],)),\"N/A\")","v":"N/A"},null,"Innovations",{"$f":"SUMIF(UpgradeTable[Concept],L26,UpgradeTable[Points Expected])+SUMIFS(Table4[Innovation-Legacy Points],Table4[Attainment],\"Y\",Table4[Legacy Concept],'Upgrade - v2 Features'!L26)","v":1},{"$f":"MIN(M26,10)","v":1}]
[null,"A05",{"$f":"_xlfn.CONCAT(UpgradeTable[[#This Row],[Feature]],\".\",UpgradeTable[[#This Row],[Part]])","v":"A05.3"},{"$f":"VLOOKUP(UpgradeTable[[#This Row],[Feature]],Table5[],12,0)","v":"Air"},3,{"$f":"VLOOKUP(UpgradeTable[[#This Row],[Code]],Table5[[Feature.Part]:[Part Description]],2,0)","v":"Meet Enhanced Thresholds for Inorganic Gases"},{"$f":"VLOOKUP(UpgradeTable[[#This Row],[Code]],Table9[[Feature.Part]:[v2 atttainment]],2,FALSE)","v":"Optimization"},{"$f":"IF(VLOOKUP(B27&\".\"&E27,Table9[[Feature.Part]:[v2 atttainment]],4,FALSE),\"Expected\",IF(G27=\"Precondition\",\"Needs achievement\",\"Not Pursued\"))","v":"Not Pursued"},{"$f":"IF(G27=\"Optimization\",VLOOKUP(B27&\".\"&E27,Table9[[Feature.Part]:[v2 atttainment]],6,),\"\")","v":0},{"$f":"IFERROR(_xlfn.TEXTJOIN(\", \",,_xlfn._xlws.FILTER(Table6[WELL v1 Feature 1],Table6[v2 Feature.Part]=UpgradeTable[[#This Row],[Code]],)),\"N/A\")","v":"N/A"}]
[null,"A06",{"$f":"_xlfn.CONCAT(UpgradeTable[[#This Row],[Feature]],\".\",UpgradeTable[[#This Row],[Part]])","v":"A06.1"},{"$f":"VLOOKUP(UpgradeTable[[#This Row],[Feature]],Table5[],12,0)","v":"Air"},1,{"$f":"VLOOKUP(UpgradeTable[[#This Row],[Code]],Table5[[Feature.Part]:[Part Description]],2,0)","v":"Increase Outdoor Air Supply"},{"$f":"VLOOKUP(UpgradeTable[[#This Row],[Code]],Table9[[Feature.Part]:[v2 atttainment]],2,FALSE)","v":"Optimization"},{"$f":"IF(VLOOKUP(B28&\".\"&E28,Table9[[Feature.Part]:[v2 atttainment]],4,FALSE),\"Expected\",IF(G28=\"Precondition\",\"Needs achievement\",\"Not Pursued\"))","v":"Not Pursued"},{"$f":"IF(G28=\"Optimization\",VLOOKUP(B28&\".\"&E28,Table9[[Feature.Part]:[v2 atttainment]],6,),\"\")","v":0},{"$f":"IFERROR(_xlfn.TEXTJOIN(\", \",,_xlfn._xlws.FILTER(Table6[WELL v1 Feature 1],Table6[v2 Feature.Part]=UpgradeTable[[#This Row],[Code]],)),\"N/A\")","v":"15"}]
[null,"A06",{"$f":"_xlfn.CONCAT(UpgradeTable[[#This Row],[Feature]],\".\",UpgradeTable[[#This Row],[Part]])","v":"A06.2"},{"$f":"VLOOKUP(UpgradeTable[[#This Row],[Feature]],Table5[],12,0)","v":"Air"},2,{"$f":"VLOOKUP(UpgradeTable[[#This Row],[Code]],Table5[[Feature.Part]:[Part Description]],2,0)","v":"Improve Ventilation Effectiveness"},{"$f":"VLOOKUP(UpgradeTable[[#This Row],[Code]],Table9[[Feature.Part]:[v2 atttainment]],2,FALSE)","v":"Optimization"},{"$f":"IF(VLOOKUP(B29&\".\"&E29,Table9[[Feature.Part]:[v2 atttainment]],4,FALSE),\"Expected\",IF(G29=\"Precondition\",\"Needs achievement\",\"Not Pursued\"))","v":"Not Pursued"},{"$f":"IF(G29=\"Optimization\",VLOOKUP(B29&\".\"&E29,Table9[[Feature.Part]:[v2 atttainment]],6,),\"\")","v":0},{"$f":"IFERROR(_xlfn.TEXTJOIN(\", \",,_xlfn._xlws.FILTER(Table6[WELL v1 Feature 1],Table6[v2 Feature.Part]=UpgradeTable[[#This Row],[Code]],)),\"N/A\")","v":"21"},null,"WELL v2 Innovations","(Yes/No)"]
[null,"A07",{"$f":"_xlfn.CONCAT(UpgradeTable[[#This Row],[Feature]],\".\",UpgradeTable[[#This Row],[Part]])","v":"A07.1"},{"$f":"VLOOKUP(UpgradeTable[[#This Row],[Feature]],Table5[],12,0)","v":"Air"},1,{"$f":"VLOOKUP(UpgradeTable[[#This Row],[Code]],Table5[[Feature.Part]:[Part Description]],2,0)","v":"Provide Operable Windows"},{"$f":"VLOOKUP(UpgradeTable[[#This Row],[Code]],Table9[[Feature.Part]:[v2 atttainment]],2,FALSE)","v":"Optimization"},{"$f":"IF(VLOOKUP(B30&\".\"&E30,Table9[[Feature.Part]:[v2 atttainment]],4,FALSE),\"Expected\",IF(G30=\"Precondition\",\"Needs achievement\",\"Not Pursued\"))","v":"Not Pursued"},{"$f":"IF(G30=\"Optimization\",VLOOKUP(B30&\".\"&E30,Table9[[Feature.Part]:[v2 atttainment]],6,),\"\")","v":0},{"$f":"IFERROR(_xlfn.TEXTJOIN(\", \",,_xlfn._xlws.FILTER(Table6[WELL v1 Feature 1],Table6[v2 Feature.Part]=UpgradeTable[[#This Row],[Code]],)),\"N/A\")","v":"19"},null,"I02: WELL AP"]
[null,"A07",{"$f":"_xlfn.CONCAT(UpgradeTable[[#This Row],[Feature]],\".\",UpgradeTable[[#This Row],[Part]])","v":"A07.2"},{"$f":"VLOOKUP(UpgradeTable[[#This Row],[Feature]],Table5[],12,0)","v":"Air"},2,{"$f":"VLOOKUP(UpgradeTable[[#This Row],[Code]],Table5[[Feature.Part]:[Part Description]],2,0)","v":"Manage Window Use"},{"$f":"VLOOKUP(UpgradeTable[[#This Row],[Code]],Table9[[Feature.Part]:[v2 atttainment]],2,FALSE)","v":"Optimization"},{"$f":"IF(VLOOKUP(B31&\".\"&E31,Table9[[Feature.Part]:[v2 atttainment]],4,FALSE),\"Expected\",IF(G31=\"Precondition\",\"Needs achievement\",\"Not Pursued\"))","v":"Not Pursued"},{"$f":"IF(G31=\"Optimization\",VLOOKUP(B31&\".\"&E31,Table9[[Feature.Part]:[v2 atttainment]],6,),\"\")","v":0},{"$f":"IFERROR(_xlfn.TEXTJOIN(\", \",,_xlfn._xlws.FILTER(Table6[WELL v1 Feature 1],Table6[v2 Feature.Part]=UpgradeTable[[#This Row],[Code]],)),\"N/A\")","v":"19"},null,"I03: WELL Tours"]
[null,"A08",{"$f":"_xlfn.CONCAT(UpgradeTable[[#This Row],[Feature]],\".\",UpgradeTable[[#This Row],[Part]])","v":"A08.1"},{"$f":"VLOOKUP(UpgradeTable[[#This Row],[Feature]],Table5[],12,0)","v":"Air"},1,{"$f":"VLOOKUP(UpgradeTable[[#This Row],[Code]],Table5[[Feature.Part]:[Part Description]],2,0)","v":"Install Indoor Air Monitors"},{"$f":"VLOOKUP(UpgradeTable[[#This Row],[Code]],Table9[[Feature.Part]:[v2 atttainment]],2,FALSE)","v":"Optimization"},{"$f":"IF(VLOOKUP(B32&\".\"&E32,Table9[[Feature.Part]:[v2 atttainment]],4,FALSE),\"Expected\",IF(G32=\"Precondition\",\"Needs achievement\",\"Not Pursued\"))","v":"Not Pursued"},{"$f":"IF(G32=\"Optimization\",VLOOKUP(B32&\".\"&E32,Table9[[Feature.Part]:[v2 atttainment]],6,),\"\")","v":0},{"$f":"IFERROR(_xlfn.TEXTJOIN(\", \",,_xlfn._xlws.FILTER(Table6[WELL v1 Feature 1],Table6[v2 Feature.Part]=UpgradeTable[[#This Row],[Code]],)),\"N/A\")","v":"18"},null,"I04: Health & Wellness Program"]
[null,"A08",{"$f":"_xlfn.CONCAT(UpgradeTable[[#This Row],[Feature]],\".\",UpgradeTable[[#This Row],[Part]])","v":"A08.2"},{"$f":"VLOOKUP(UpgradeTable[[#This Row],[Feature]],Table5[],12,0)","v":"Air"},2,{"$f":"VLOOKUP(UpgradeTable[[#This Row],[Code]],Table5[[Feature.Part]:[Part Description]],2,0)","v":"Promote Air Quality Awareness"},{"$f":"VLOOKUP(UpgradeTable[[#This Row],[Code]],Table9[[Feature.Part]:[v2 atttainment]],2,FALSE)","v":"Optimization"},{"$f":"IF(VLOOKUP(B33&\".\"&E33,Table9[[Feature.Part]:[v2 atttainment]],4,FALSE),\"Expected\",IF(G33=\"Precondition\",\"Needs achievement\",\"Not Pursued\"))","v":"Not Pursued"},{"$f":"IF(G33=\"Optimization\",VLOOKUP(B33&\".\"&E33,Table9[[Feature.Part]:[v2 atttainment]],6,),\"\")","v":0},{"$f":"IFERROR(_xlfn.TEXTJOIN(\", \",,_xlfn._xlws.FILTER(Table6[WELL v1 Feature 1],Table6[v2 Feature.Part]=UpgradeTable[[#This Row],[Code]],)),\"N/A\")","v":"18"},null,"I05: Green Building Rating System"]
[null,"A09",{"$f":"_xlfn.CONCAT(UpgradeTable[[#This Row],[Feature]],\".\",UpgradeTable[[#This Row],[Part]])","v":"A09.1"},{"$f":"VLOOKUP(UpgradeTable[[#This Row],[Feature]],Table5[],12,0)","v":"Air"},1,{"$f":"VLOOKUP(UpgradeTable[[#This Row],[Code]],Table5[[Feature.Part]:[Part Description]],2,0)","v":"Design Healthy Entryways"},{"$f":"VLOOKUP(UpgradeTable[[#This Row],[Code]],Table9[[Feature.Part]:[v2 atttainment]],2,FALSE)","v":"Optimization"},{"$f":"IF(VLOOKUP(B34&\".\"&E34,Table9[[Feature.Part]:[v2 atttainment]],4,FALSE),\"Expected\",IF(G34=\"Precondition\",\"Needs achievement\",\"Not Pursued\"))","v":"Expected"},{"$f":"IF(G34=\"Optimization\",VLOOKUP(B34&\".\"&E34,Table9[[Feature.Part]:[v2 atttainment]],6,),\"\")","v":1},{"$f":"IFERROR(_xlfn.TEXTJOIN(\", \",,_xlfn._xlws.FILTER(Table6[WELL v1 Feature 1],Table6[v2 Feature.Part]=UpgradeTable[[#This Row],[Code]],)),\"N/A\")","v":"8"}]
[null,"A09",{"$f":"_xlfn.CONCAT(UpgradeTable[[#This Row],[Feature]],\".\",UpgradeTable[[#This Row],[Part]])","v":"A09.2"},{"$f":"VLOOKUP(UpgradeTable[[#This Row],[Feature]],Table5[],12,0)","v":"Air"},2,{"$f":"VLOOKUP(UpgradeTable[[#This Row],[Code]],Table5[[Feature.Part]:[Part Description]],2,0)","v":"Perform Envelope Commissioning"},{"$f":"VLOOKUP(UpgradeTable[[#This Row],[Code]],Table9[[Feature.Part]:[v2 atttainment]],2,FALSE)","v":"Optimization"},{"$f":"IF(VLOOKUP(B35&\".\"&E35,Table9[[Feature.Part]:[v2 atttainment]],4,FALSE),\"Expected\",IF(G35=\"Precondition\",\"Needs achievement\",\"Not Pursued\"))","v":"Not Pursued"},{"$f":"IF(G35=\"Optimization\",VLOOKUP(B35&\".\"&E35,Table9[[Feature.Part]:[v2 atttainment]],6,),\"\")","v":0},{"$f":"IFERROR(_xlfn.TEXTJOIN(\", \",,_xlfn._xlws.FILTER(Table6[WELL v1 Feature 1],Table6[v2 Feature.Part]=UpgradeTable[[#This Row],[Code]],)),\"N/A\")","v":"14"}]
[null,"A10",{"$f":"_xlfn.CONCAT(UpgradeTable[[#This Row],[Feature]],\".\",UpgradeTable[[#This Row],[Part]])","v":"A10.1"},{"$f":"VLOOKUP(UpgradeTable[[#This Row],[Feature]],Table5[],12,0)","v":"Air"},1,{"$f":"VLOOKUP(UpgradeTable[[#This Row],[Code]],Table5[[Feature.Part]:[Part Description]],2,0)","v":"Manage Combustion"},{"$f":"VLOOKUP(UpgradeTable[[#This Row],[Code]],Table9[[Feature.Part]:[v2 atttainment]],2,FALSE)","v":"Optimization"},{"$f":"IF(VLOOKUP(B36&\".\"&E36,Table9[[Feature.Part]:[v2 atttainment]],4,FALSE),\"Expected\",IF(G36=\"Precondition\",\"Needs achievement\",\"Not Pursued\"))","v":"Not Pursued"},{"$f":"IF(G36=\"Optimization\",VLOOKUP(B36&\".\"&E36,Table9[[Feature.Part]:[v2 atttainment]],6,),\"\")","v":0},{"$f":"IFERROR(_xlfn.TEXTJOIN(\", \",,_xlfn._xlws.FILTER(Table6[WELL v1 Feature 1],Table6[v2 Feature.Part]=UpgradeTable[[#This Row],[Code]],)),\"N/A\")","v":"24"}]
[null,"A11",{"$f":"_xlfn.CONCAT(UpgradeTable[[#This Row],[Feature]],\".\",UpgradeTable[[#This Row],[Part]])","v":"A11.1"},{"$f":"VLOOKUP(UpgradeTable[[#This Row],[Feature]],Table5[],12,0)","v":"Air"},1,{"$f":"VLOOKUP(UpgradeTable[[#This Row],[Code]],Table5[[Feature.Part]:[Part Description]],2,0)","v":"Manage Pollution and Exhaust"},{"$f":"VLOOKUP(UpgradeTable[[#This Row],[Code]],Table9[[Feature.Part]:[v2 atttainment]],2,FALSE)","v":"Optimization"},{"$f":"IF(VLOOKUP(B37&\".\"&E37,Table9[[Feature.Part]:[v2 atttainment]],4,FALSE),\"Expected\",IF(G37=\"Precondition\",\"Needs achievement\",\"Not Pursued\"))","v":"Not Pursued"},{"$f":"IF(G37=\"Optimization\",VLOOKUP(B37&\".\"&E37,Table9[[Feature.Part]:[v2 atttainment]],6,),\"\")","v":0},{"$f":"IFERROR(_xlfn.TEXTJOIN(\", \",,_xlfn._xlws.FILTER(Table6[WELL v1 Feature 1],Table6[v2 Feature.Part]=UpgradeTable[[#This Row],[Code]],)),\"N/A\")","v":"17, 77"}]
[null,"A12",{"$f":"_xlfn.CONCAT(UpgradeTable[[#This Row],[Feature]],\".\",UpgradeTable[[#This Row],[Part]])","v":"A12.1"},{"$f":"VLOOKUP(UpgradeTable[[#This Row],[Feature]],Table5[],12,0)","v":"Air"},1,{"$f":"VLOOKUP(UpgradeTable[[#This Row],[Code]],Table5[[Feature.Part]:[Part Description]],2,0)","v":"Implement Particle Filtration"},{"$f":"VLOOKUP(UpgradeTable[[#This Row],[Code]],Table9[[Feature.Part]:[v2 atttainment]],2,FALSE)","v":"Optimization"},{"$f":"IF(VLOOKUP(B38&\".\"&E38,Table9[[Feature.Part]:[v2 atttainment]],4,FALSE),\"Expected\",IF(G38=\"Precondition\",\"Needs achievement\",\"Not Pursued\"))","v":"Expected"},{"$f":"IF(G38=\"Optimization\",VLOOKUP(B38&\".\"&E38,Table9[[Feature.Part]:[v2 atttainment]],6,),\"\")","v":1},{"$f":"IFERROR(_xlfn.TEXTJOIN(\", \",,_xlfn._xlws.FILTER(Table6[WELL v1 Feature 1],Table6[v2 Feature.Part]=UpgradeTable[[#This Row],[Code]],)),\"N/A\")","v":"5"}]
[null,"A13",{"$f":"_xlfn.CONCAT(UpgradeTable[[#This Row],[Feature]],\".\",UpgradeTable[[#This Row],[Part]])","v":"A13.1"},{"$f":"VLOOKUP(UpgradeTable[[#This Row],[Feature]],Table5[],12,0)","v":"Air"},1,{"$f":"VLOOKUP(UpgradeTable[[#This Row],[Code]],Table5[[Feature.Part]:[Part Description]],2,0)","v":"Improve Supply Air"},{"$f":"VLOOKUP(UpgradeTable[[#This Row],[Code]],Table9[[Feature.Part]:[v2 atttainment]],2,FALSE)","v":"Optimization"},{"$f":"IF(VLOOKUP(B39&\".\"&E39,Table9[[Feature.Part]:[v2 atttainment]],4,FALSE),\"Expected\",IF(G39=\"Precondition\",\"Needs achievement\",\"Not Pursued\"))","v":"Not Pursued"},{"$f":"IF(G39=\"Optimization\",VLOOKUP(B39&\".\"&E39,Table9[[Feature.Part]:[v2 atttainment]],6,),\"\")","v":0},{"$f":"IFERROR(_xlfn.TEXTJOIN(\", \",,_xlfn._xlws.FILTER(Table6[WELL v1 Feature 1],Table6[v2 Feature.Part]=UpgradeTable[[#This Row],[Code]],)),\"N/A\")","v":"23"}]
[null,"A14",{"$f":"_xlfn.CONCAT(UpgradeTable[[#This Row],[Feature]],\".\",UpgradeTable[[#This Row],[Part]])","v":"A14.1"},{"$f":"VLOOKUP(UpgradeTable[[#This Row],[Feature]],Table5[],12,0)","v":"Air"},1,{"$f":"VLOOKUP(UpgradeTable[[#This Row],[Code]],Table5[[Feature.Part]:[Part Description]],2,0)","v":"Implement Ultraviolet Air Treatment"},{"$f":"VLOOKUP(UpgradeTable[[#This Row],[Code]],Table9[[Feature.Part]:[v2 atttainment]],2,FALSE)","v":"Optimization"},{"$f":"IF(VLOOKUP(B40&\".\"&E40,Table9[[Feature.Part]:[v2 atttainment]],4,FALSE),\"Expected\",IF(G40=\"Precondition\",\"Needs achievement\",\"Not Pursued\"))","v":"Expected"},{"$f":"IF(G40=\"Optimization\",VLOOKUP(B40&\".\"&E40,Table9[[Feature.Part]:[v2 atttainment]],6,),\"\")","v":1},{"$f":"IFERROR(_xlfn.TEXTJOIN(\", \",,_xlfn._xlws.FILTER(Table6[WELL v1 Feature 1],Table6[v2 Feature.Part]=UpgradeTable[[#This Row],[Code]],)),\"N/A\")","v":"6"}]
[null,"W01",{"$f":"_xlfn.CONCAT(UpgradeTable[[#This Row],[Feature]],\".\",UpgradeTable[[#This Row],[Part]])","v":"W01.1"},{"$f":"VLOOKUP(UpgradeTable[[#This Row],[Feature]],Table5[],12,0)","v":"Water"},1,{"$f":"VLOOKUP(UpgradeTable[[#This Row],[Code]],Table5[[Feature.Part]:[Part Description]],2,0)","v":"Verify Water Quality Indicators"},{"$f":"VLOOKUP(UpgradeTable[[#This Row],[Code]],Table9[[Feature.Part]:[v2 atttainment]],2,FALSE)","v":"Precondition"},{"$f":"IF(VLOOKUP(B41&\".\"&E41,Table9[[Feature.Part]:[v2 atttainment]],4,FALSE),\"Expected\",IF(G41=\"Precondition\",\"Needs achievement\",\"Not Pursued\"))","v":"Expected"},{"$f":"IF(G41=\"Optimization\",VLOOKUP(B41&\".\"&E41,Table9[[Feature.Part]:[v2 atttainment]],6,),\"\")","v":""},{"$f":"IFERROR(_xlfn.TEXTJOIN(\", \",,_xlfn._xlws.FILTER(Table6[WELL v1 Feature 1],Table6[v2 Feature.Part]=UpgradeTable[[#This Row],[Code]],)),\"N/A\")","v":"30"}]
[null,"W02",{"$f":"_xlfn.CONCAT(UpgradeTable[[#This Row],[Feature]],\".\",UpgradeTable[[#This Row],[Part]])","v":"W02.1"},{"$f":"VLOOKUP(UpgradeTable[[#This Row],[Feature]],Table5[],12,0)","v":"Water"},1,{"$f":"VLOOKUP(UpgradeTable[[#This Row],[Code]],Table5[[Feature.Part]:[Part Description]],2,0)","v":"Meet Chemical Thresholds"},{"$f":"VLOOKUP(UpgradeTable[[#This Row],[Code]],Table9[[Feature.Part]:[v2 atttainment]],2,FALSE)","v":"Precondition"},{"$f":"IF(VLOOKUP(B42&\".\"&E42,Table9[[Feature.Part]:[v2 atttainment]],4,FALSE),\"Expected\",IF(G42=\"Precondition\",\"Needs achievement\",\"Not Pursued\"))","v":"Expected"},{"$f":"IF(G42=\"Optimization\",VLOOKUP(B42&\".\"&E42,Table9[[Feature.Part]:[v2 atttainment]],6,),\"\")","v":""},{"$f":"IFERROR(_xlfn.TEXTJOIN(\", \",,_xlfn._xlws.FILTER(Table6[WELL v1 Feature 1],Table6[v2 Feature.Part]=UpgradeTable[[#This Row],[Code]],)),\"N/A\")","v":"31"}]
[null,"W02",{"$f":"_xlfn.CONCAT(UpgradeTable[[#This Row],[Feature]],\".\",UpgradeTable[[#This Row],[Part]])","v":"W02.2"},{"$f":"VLOOKUP(UpgradeTable[[#This Row],[Feature]],Table5[],12,0)","v":"Water"},2,{"$f":"VLOOKUP(UpgradeTable[[#This Row],[Code]],Table5[[Feature.Part]:[Part Description]],2,0)","v":"Meet Thresholds for Organics and Pesticides"},{"$f":"VLOOKUP(UpgradeTable[[#This Row],[Code]],Table9[[Feature.Part]:[v2 atttainment]],2,FALSE)","v":"Precondition"},{"$f":"IF(VLOOKUP(B43&\".\"&E43,Table9[[Feature.Part]:[v2 atttainment]],4,FALSE),\"Expected\",IF(G43=\"Precondition\",\"Needs achievement\",\"Not Pursued\"))","v":"Expected"},{"$f":"IF(G43=\"Optimization\",VLOOKUP(B43&\".\"&E43,Table9[[Feature.Part]:[v2 atttainment]],6,),\"\")","v":""},{"$f":"IFERROR(_xlfn.TEXTJOIN(\", \",,_xlfn._xlws.FILTER(Table6[WELL v1 Feature 1],Table6[v2 Feature.Part]=UpgradeTable[[#This Row],[Code]],)),\"N/A\")","v":"32"}]
[null,"W03",{"$f":"_xlfn.CONCAT(UpgradeTable[[#This Row],[Feature]],\".\",UpgradeTable[[#This Row],[Part]])","v":"W03.1"},{"$f":"VLOOKUP(UpgradeTable[[#This Row],[Feature]],Table5[],12,0)","v":"Water"},1,{"$f":"VLOOKUP(UpgradeTable[[#This Row],[Code]],Table5[[Feature.Part]:[Part Description]],2,0)","v":"Monitor Chemical and Biological Water Quality"},{"$f":"VLOOKUP(UpgradeTable[[#This Row],[Code]],Table9[[Feature.Part]:[v2 atttainment]],2,FALSE)","v":"Precondition"},{"$f":"IF(VLOOKUP(B44&\".\"&E44,Table9[[Feature.Part]:[v2 atttainment]],4,FALSE),\"Expected\",IF(G44=\"Precondition\",\"Needs achievement\",\"Not Pursued\"))","v":"Needs achievement"},{"$f":"IF(G44=\"Optimization\",VLOOKUP(B44&\".\"&E44,Table9[[Feature.Part]:[v2 atttainment]],6,),\"\")","v":""},{"$f":"IFERROR(_xlfn.TEXTJOIN(\", \",,_xlfn._xlws.FILTER(Table6[WELL v1 Feature 1],Table6[v2 Feature.Part]=UpgradeTable[[#This Row],[Code]],)),\"N/A\")","v":"35"}]
[null,"W03",{"$f":"_xlfn.CONCAT(UpgradeTable[[#This Row],[Feature]],\".\",UpgradeTable[[#This Row],[Part]])","v":"W03.2"},{"$f":"VLOOKUP(UpgradeTable[[#This Row],[Feature]],Table5[],12,0)","v":"Water"},2,{"$f":"VLOOKUP(UpgradeTable[[#This Row],[Code]],Table5[[Feature.Part]:[Part Description]],2,0)","v":"Implement Legionella Management Plan"},{"$f":"VLOOKUP(UpgradeTable[[#This Row],[Code]],Table9[[Feature.Part]:[v2 atttainment]],2,FALSE)","v":"Precondition"},{"$f":"IF(VLOOKUP(B45&\".\"&E45,Table9[[Feature.Part]:[v2 atttainment]],4,FALSE),\"Expected\",IF(G45=\"Precondition\",\"Needs achievement\",\"Not Pursued\"))","v":"Needs achievement"},{"$f":"IF(G45=\"Optimization\",VLOOKUP(B45&\".\"&E45,Table9[[Feature.Part]:[v2 atttainment]],6,),\"\")","v":""},{"$f":"IFERROR(_xlfn.TEXTJOIN(\", \",,_xlfn._xlws.FILTER(Table6[WELL v1 Feature 1],Table6[v2 Feature.Part]=UpgradeTable[[#This Row],[Code]],)),\"N/A\")","v":"36"}]
[null,"W04",{"$f":"_xlfn.CONCAT(UpgradeTable[[#This Row],[Feature]],\".\",UpgradeTable[[#This Row],[Part]])","v":"W04.1"},{"$f":"VLOOKUP(UpgradeTable[[#This Row],[Feature]],Table5[],12,0)","v":"Water"},1,{"$f":"VLOOKUP(UpgradeTable[[#This Row],[Code]],Table5[[Feature.Part]:[Part Description]],2,0)","v":"Meet Thresholds for Drinking Water Taste"},{"$f":"VLOOKUP(UpgradeTable[[#This Row],[Code]],Table9[[Feature.Part]:[v2 atttainment]],2,FALSE)","v":"Optimization"},{"$f":"IF(VLOOKUP(B46&\".\"&E46,Table9[[Feature.Part]:[v2 atttainment]],4,FALSE),\"Expected\",IF(G46=\"Precondition\",\"Needs achievement\",\"Not Pursued\"))","v":"Not Pursued"},{"$f":"IF(G46=\"Optimization\",VLOOKUP(B46&\".\"&E46,Table9[[Feature.Part]:[v2 atttainment]],6,),\"\")","v":0},{"$f":"IFERROR(_xlfn.TEXTJOIN(\", \",,_xlfn._xlws.FILTER(Table6[WELL v1 Feature 1],Table6[v2 Feature.Part]=UpgradeTable[[#This Row],[Code]],)),\"N/A\")","v":"37"}]
[null,"W05",{"$f":"_xlfn.CONCAT(UpgradeTable[[#This Row],[Feature]],\".\",UpgradeTable[[#This Row],[Part]])","v":"W05.1"},{"$f":"VLOOKUP(UpgradeTable[[#This Row],[Feature]],Table5[],12,0)","v":"Water"},1,{"$f":"VLOOKUP(UpgradeTable[[#This Row],[Code]],Table5[[Feature.Part]:[Part Description]],2,0)","v":"Assess and Maintain Drinking Water Quality"},{"$f":"VLOOKUP(UpgradeTable[[#This Row],[Code]],Table9[[Feature.Part]:[v2 atttainment]],2,FALSE)","v":"Optimization"},{"$f":"IF(VLOOKUP(B47&\".\"&E47,Table9[[Feature.Part]:[v2 atttainment]],4,FALSE),\"Expected\",IF(G47=\"Precondition\",\"Needs achievement\",\"Not Pursued\"))","v":"Not Pursued"},{"$f":"IF(G47=\"Optimization\",VLOOKUP(B47&\".\"&E47,Table9[[Feature.Part]:[v2 atttainment]],6,),\"\")","v":0},{"$f":"IFERROR(_xlfn.TEXTJOIN(\", \",,_xlfn._xlws.FILTER(Table6[WELL v1 Feature 1],Table6[v2 Feature.Part]=UpgradeTable[[#This Row],[Code]],)),\"N/A\")","v":"35"}]
[null,"W05",{"$f":"_xlfn.CONCAT(UpgradeTable[[#This Row],[Feature]],\".\",UpgradeTable[[#This Row],[Part]])","v":"W05.2"},{"$f":"VLOOKUP(UpgradeTable[[#This Row],[Feature]],Table5[],12,0)","v":"Water"},2,{"$f":"VLOOKUP(UpgradeTable[[#This Row],[Code]],Table5[[Feature.Part]:[Part Description]],2,0)","v":"Promote Drinking Water Transparency"},{"$f":"VLOOKUP(UpgradeTable[[#This Row],[Code]],Table9[[Feature.Part]:[v2 atttainment]],2,FALSE)","v":"Optimization"},{"$f":"IF(VLOOKUP(B48&\".\"&E48,Table9[[Feature.Part]:[v2 atttainment]],4,FALSE),\"Expected\",IF(G48=\"Precondition\",\"Needs achievement\",\"Not Pursued\"))","v":"Not Pursued"},{"$f":"IF(G48=\"Optimization\",VLOOKUP(B48&\".\"&E48,Table9[[Feature.Part]:[v2 atttainment]],6,),\"\")","v":0},{"$f":"IFERROR(_xlfn.TEXTJOIN(\", \",,_xlfn._xlws.FILTER(Table6[WELL v1 Feature 1],Table6[v2 Feature.Part]=UpgradeTable[[#This Row],[Code]],)),\"N/A\")","v":"N/A"}]
[null,"W06",{"$f":"_xlfn.CONCAT(UpgradeTable[[#This Row],[Feature]],\".\",UpgradeTable[[#This Row],[Part]])","v":"W06.1"},{"$f":"VLOOKUP(UpgradeTable[[#This Row],[Feature]],Table5[],12,0)","v":"Water"},1,{"$f":"VLOOKUP(UpgradeTable[[#This Row],[Code]],Table5[[Feature.Part]:[Part Description]],2,0)","v":"Ensure Drinking Water Access"},{"$f":"VLOOKUP(UpgradeTable[[#This Row],[Code]],Table9[[Feature.Part]:[v2 atttainment]],2,FALSE)","v":"Optimization"},{"$f":"IF(VLOOKUP(B49&\".\"&E49,Table9[[Feature.Part]:[v2 atttainment]],4,FALSE),\"Expected\",IF(G49=\"Precondition\",\"Needs achievement\",\"Not Pursued\"))","v":"Not Pursued"},{"$f":"IF(G49=\"Optimization\",VLOOKUP(B49&\".\"&E49,Table9[[Feature.Part]:[v2 atttainment]],6,),\"\")","v":0},{"$f":"IFERROR(_xlfn.TEXTJOIN(\", \",,_xlfn._xlws.FILTER(Table6[WELL v1 Feature 1],Table6[v2 Feature.Part]=UpgradeTable[[#This Row],[Code]],)),\"N/A\")","v":"37"}]
[null,"W07",{"$f":"_xlfn.CONCAT(UpgradeTable[[#This Row],[Feature]],\".\",UpgradeTable[[#This Row],[Part]])","v":"W07.1"},{"$f":"VLOOKUP(UpgradeTable[[#This Row],[Feature]],Table5[],12,0)","v":"Water"},1,{"$f":"VLOOKUP(UpgradeTable[[#This Row],[Code]],Table5[[Feature.Part]:[Part Description]],2,0)","v":"Design Envelope for Moisture Protection"},{"$f":"VLOOKUP(UpgradeTable[[#This Row],[Code]],Table9[[Feature.Part]:[v2 atttainment]],2,FALSE)","v":"Optimization"},{"$f":"IF(VLOOKUP(B50&\".\"&E50,Table9[[Feature.Part]:[v2 atttainment]],4,FALSE),\"Expected\",IF(G50=\"Precondition\",\"Needs achievement\",\"Not Pursued\"))","v":"Expected"},{"$f":"IF(G50=\"Optimization\",VLOOKUP(B50&\".\"&E50,Table9[[Feature.Part]:[v2 atttainment]],6,),\"\")","v":1},{"$f":"IFERROR(_xlfn.TEXTJOIN(\", \",,_xlfn._xlws.FILTER(Table6[WELL v1 Feature 1],Table6[v2 Feature.Part]=UpgradeTable[[#This Row],[Code]],)),\"N/A\")","v":"12"}]
[null,"W07",{"$f":"_xlfn.CONCAT(UpgradeTable[[#This Row],[Feature]],\".\",UpgradeTable[[#This Row],[Part]])","v":"W07.2"},{"$f":"VLOOKUP(UpgradeTable[[#This Row],[Feature]],Table5[],12,0)","v":"Water"},2,{"$f":"VLOOKUP(UpgradeTable[[#This Row],[Code]],Table5[[Feature.Part]:[Part Description]],2,0)","v":"Design Interiors for Moisture Management"},{"$f":"VLOOKUP(UpgradeTable[[#This Row],[Code]],Table9[[Feature.Part]:[v2 atttainment]],2,FALSE)","v":"Optimization"},{"$f":"IF(VLOOKUP(B51&\".\"&E51,Table9[[Feature.Part]:[v2 atttainment]],4,FALSE),\"Expected\",IF(G51=\"Precondition\",\"Needs achievement\",\"Not Pursued\"))","v":"Expected"},{"$f":"IF(G51=\"Optimization\",VLOOKUP(B51&\".\"&E51,Table9[[Feature.Part]:[v2 atttainment]],6,),\"\")","v":1},{"$f":"IFERROR(_xlfn.TEXTJOIN(\", \",,_xlfn._xlws.FILTER(Table6[WELL v1 Feature 1],Table6[v2 Feature.Part]=UpgradeTable[[#This Row],[Code]],)),\"N/A\")","v":"12"}]
[null,"W07",{"$f":"_xlfn.CONCAT(UpgradeTable[[#This Row],[Feature]],\".\",UpgradeTable[[#This Row],[Part]])","v":"W07.3"},{"$f":"VLOOKUP(UpgradeTable[[#This Row],[Feature]],Table5[],12,0)","v":"Water"},3,{"$f":"VLOOKUP(UpgradeTable[[#This Row],[Code]],Table5[[Feature.Part]:[Part Description]],2,0)","v":"Implement Mold and Moisture Management Plan"},{"$f":"VLOOKUP(UpgradeTable[[#This Row],[Code]],Table9[[Feature.Part]:[v2 atttainment]],2,FALSE)","v":"Optimization"},{"$f":"IF(VLOOKUP(B52&\".\"&E52,Table9[[Feature.Part]:[v2 atttainment]],4,FALSE),\"Expected\",IF(G52=\"Precondition\",\"Needs achievement\",\"Not Pursued\"))","v":"Expected"},{"$f":"IF(G52=\"Optimization\",VLOOKUP(B52&\".\"&E52,Table9[[Feature.Part]:[v2 atttainment]],6,),\"\")","v":1},{"$f":"IFERROR(_xlfn.TEXTJOIN(\", \",,_xlfn._xlws.FILTER(Table6[WELL v1 Feature 1],Table6[v2 Feature.Part]=UpgradeTable[[#This Row],[Code]],)),\"N/A\")","v":"6"}]
[null,"W08",{"$f":"_xlfn.CONCAT(UpgradeTable[[#This Row],[Feature]],\".\",UpgradeTable[[#This Row],[Part]])","v":"W08.1"},{"$f":"VLOOKUP(UpgradeTable[[#This Row],[Feature]],Table5[],12,0)","v":"Water"},1,{"$f":"VLOOKUP(UpgradeTable[[#This Row],[Code]],Table5[[Feature.Part]:[Part Description]],2,0)","v":"Provide Bathroom Accommodations"},{"$f":"VLOOKUP(UpgradeTable[[#This Row],[Code]],Table9[[Feature.Part]:[v2 atttainment]],2,FALSE)","v":"Optimization"},{"$f":"IF(VLOOKUP(B53&\".\"&E53,Table9[[Feature.Part]:[v2 atttainment]],4,FALSE),\"Expected\",IF(G53=\"Precondition\",\"Needs achievement\",\"Not Pursued\"))","v":"Not Pursued"},{"$f":"IF(G53=\"Optimization\",VLOOKUP(B53&\".\"&E53,Table9[[Feature.Part]:[v2 atttainment]],6,),\"\")","v":0},{"$f":"IFERROR(_xlfn.TEXTJOIN(\", \",,_xlfn._xlws.FILTER(Table6[WELL v1 Feature 1],Table6[v2 Feature.Part]=UpgradeTable[[#This Row],[Code]],)),\"N/A\")","v":"N/A"}]
[null,"W08",{"$f":"_xlfn.CONCAT(UpgradeTable[[#This Row],[Feature]],\".\",UpgradeTable[[#This Row],[Part]])","v":"W08.2"},{"$f":"VLOOKUP(UpgradeTable[[#This Row],[Feature]],Table5[],12,0)","v":"Water"},2,{"$f":"VLOOKUP(UpgradeTable[[#This Row],[Code]],Table5[[Feature.Part]:[Part Description]],2,0)","v":"Enhance Bathroom Accommodations"},{"$f":"VLOOKUP(UpgradeTable[[#This Row],[Code]],Table9[[Feature.Part]:[v2 atttainment]],2,FALSE)","v":"Optimization"},{"$f":"IF(VLOOKUP(B54&\".\"&E54,Table9[[Feature.Part]:[v2 atttainment]],4,FALSE),\"Expected\",IF(G54=\"Precondition\",\"Needs achievement\",\"Not Pursued\"))","v":"Not Pursued"},{"$f":"IF(G54=\"Optimization\",VLOOKUP(B54&\".\"&E54,Table9[[Feature.Part]:[v2 atttainment]],6,),\"\")","v":0},{"$f":"IFERROR(_xlfn.TEXTJOIN(\", \",,_xlfn._xlws.FILTER(Table6[WELL v1 Feature 1],Table6[v2 Feature.Part]=UpgradeTable[[#This Row],[Code]],)),\"N/A\")","v":"N/A"}]
[null,"W08",{"$f":"_xlfn.CONCAT(UpgradeTable[[#This Row],[Feature]],\".\",UpgradeTable[[#This Row],[Part]])","v":"W08.3"},{"$f":"VLOOKUP(UpgradeTable[[#This Row],[Feature]],Table5[],12,0)","v":"Water"},3,{"$f":"VLOOKUP(UpgradeTable[[#This Row],[Code]],Table5[[Feature.Part]:[Part Description]],2,0)","v":"Support Effective Handwashing"},{"$f":"VLOOKUP(UpgradeTable[[#This Row],[Code]],Table9[[Feature.Part]:[v2 atttainment]],2,FALSE)","v":"Optimization"},{"$f":"IF(VLOOKUP(B55&\".\"&E55,Table9[[Feature.Part]:[v2 atttainment]],4,FALSE),\"Expected\",IF(G55=\"Precondition\",\"Needs achievement\",\"Not Pursued\"))","v":"Expected"},{"$f":"IF(G55=\"Optimization\",VLOOKUP(B55&\".\"&E55,Table9[[Feature.Part]:[v2 atttainment]],6,),\"\")","v":1},{"$f":"IFERROR(_xlfn.TEXTJOIN(\", \",,_xlfn._xlws.FILTER(Table6[WELL v1 Feature 1],Table6[v2 Feature.Part]=UpgradeTable[[#This Row],[Code]],)),\"N/A\")","v":"41"}]
[null,"W08",{"$f":"_xlfn.CONCAT(UpgradeTable[[#This Row],[Feature]],\".\",UpgradeTable[[#This Row],[Part]])","v":"W08.4"},{"$f":"VLOOKUP(UpgradeTable[[#This Row],[Feature]],Table5[],12,0)","v":"Water"},4,{"$f":"VLOOKUP(UpgradeTable[[#This Row],[Code]],Table5[[Feature.Part]:[Part Description]],2,0)","v":"Provide Handwashing Supplies and Signage"},{"$f":"VLOOKUP(UpgradeTable[[#This Row],[Code]],Table9[[Feature.Part]:[v2 atttainment]],2,FALSE)","v":"Optimization"},{"$f":"IF(VLOOKUP(B56&\".\"&E56,Table9[[Feature.Part]:[v2 atttainment]],4,FALSE),\"Expected\",IF(G56=\"Precondition\",\"Needs achievement\",\"Not Pursued\"))","v":"Expected"},{"$f":"IF(G56=\"Optimization\",VLOOKUP(B56&\".\"&E56,Table9[[Feature.Part]:[v2 atttainment]],6,),\"\")","v":1},{"$f":"IFERROR(_xlfn.TEXTJOIN(\", \",,_xlfn._xlws.FILTER(Table6[WELL v1 Feature 1],Table6[v2 Feature.Part]=UpgradeTable[[#This Row],[Code]],)),\"N/A\")","v":"41"}]
[null,"W09",{"$f":"_xlfn.CONCAT(UpgradeTable[[#This Row],[Feature]],\".\",UpgradeTable[[#This Row],[Part]])","v":"W09.1"},{"$f":"VLOOKUP(UpgradeTable[[#This Row],[Feature]],Table5[],12,0)","v":"Water"},1,{"$f":"VLOOKUP(UpgradeTable[[#This Row],[Code]],Table5[[Feature.Part]:[Part Description]],2,0)","v":"Implement Safety Plan for Non-Potable Water Capture and Reuse"},{"$f":"VLOOKUP(UpgradeTable[[#This Row],[Code]],Table9[[Feature.Part]:[v2 atttainment]],2,FALSE)","v":"Optimization"},{"$f":"IF(VLOOKUP(B57&\".\"&E57,Table9[[Feature.Part]:[v2 atttainment]],4,FALSE),\"Expected\",IF(G57=\"Precondition\",\"Needs achievement\",\"Not Pursued\"))","v":"Not Pursued"},{"$f":"IF(G57=\"Optimization\",VLOOKUP(B57&\".\"&E57,Table9[[Feature.Part]:[v2 atttainment]],6,),\"\")","v":0},{"$f":"IFERROR(_xlfn.TEXTJOIN(\", \",,_xlfn._xlws.FILTER(Table6[WELL v1 Feature 1],Table6[v2 Feature.Part]=UpgradeTable[[#This Row],[Code]],)),\"N/A\")","v":"N/A"}]
[null,"N01",{"$f":"_xlfn.CONCAT(UpgradeTable[[#This Row],[Feature]],\".\",UpgradeTable[[#This Row],[Part]])","v":"N01.1"},{"$f":"VLOOKUP(UpgradeTable[[#This Row],[Feature]],Table5[],12,0)","v":"Nourishment"},1,{"$f":"VLOOKUP(UpgradeTable[[#This Row],[Code]],Table5[[Feature.Part]:[Part Description]],2,0)","v":"Provide Fruits and Vegetables"},{"$f":"VLOOKUP(UpgradeTable[[#This Row],[Code]],Table9[[Feature.Part]:[v2 atttainment]],2,FALSE)","v":"Precondition"},{"$f":"IF(VLOOKUP(B58&\".\"&E58,Table9[[Feature.Part]:[v2 atttainment]],4,FALSE),\"Expected\",IF(G58=\"Precondition\",\"Needs achievement\",\"Not Pursued\"))","v":"Expected"},{"$f":"IF(G58=\"Optimization\",VLOOKUP(B58&\".\"&E58,Table9[[Feature.Part]:[v2 atttainment]],6,),\"\")","v":""},{"$f":"IFERROR(_xlfn.TEXTJOIN(\", \",,_xlfn._xlws.FILTER(Table6[WELL v1 Feature 1],Table6[v2 Feature.Part]=UpgradeTable[[#This Row],[Code]],)),\"N/A\")","v":"38"}]
[null,"N01",{"$f":"_xlfn.CONCAT(UpgradeTable[[#This Row],[Feature]],\".\",UpgradeTable[[#This Row],[Part]])","v":"N01.2"},{"$f":"VLOOKUP(UpgradeTable[[#This Row],[Feature]],Table5[],12,0)","v":"Nourishment"},2,{"$f":"VLOOKUP(UpgradeTable[[#This Row],[Code]],Table5[[Feature.Part]:[Part Description]],2,0)","v":"Promote Fruit and Vegetable Visibility"},{"$f":"VLOOKUP(UpgradeTable[[#This Row],[Code]],Table9[[Feature.Part]:[v2 atttainment]],2,FALSE)","v":"Precondition"},{"$f":"IF(VLOOKUP(B59&\".\"&E59,Table9[[Feature.Part]:[v2 atttainment]],4,FALSE),\"Expected\",IF(G59=\"Precondition\",\"Needs achievement\",\"Not Pursued\"))","v":"Expected"},{"$f":"IF(G59=\"Optimization\",VLOOKUP(B59&\".\"&E59,Table9[[Feature.Part]:[v2 atttainment]],6,),\"\")","v":""},{"$f":"IFERROR(_xlfn.TEXTJOIN(\", \",,_xlfn._xlws.FILTER(Table6[WELL v1 Feature 1],Table6[v2 Feature.Part]=UpgradeTable[[#This Row],[Code]],)),\"N/A\")","v":"38"}]
[null,"N02",{"$f":"_xlfn.CONCAT(UpgradeTable[[#This Row],[Feature]],\".\",UpgradeTable[[#This Row],[Part]])","v":"N02.1"},{"$f":"VLOOKUP(UpgradeTable[[#This Row],[Feature]],Table5[],12,0)","v":"Nourishment"},1,{"$f":"VLOOKUP(UpgradeTable[[#This Row],[Code]],Table5[[Feature.Part]:[Part Description]],2,0)","v":"Provide Nutritional Information"},{"$f":"VLOOKUP(UpgradeTable[[#This Row],[Code]],Table9[[Feature.Part]:[v2 atttainment]],2,FALSE)","v":"Precondition"},{"$f":"IF(VLOOKUP(B60&\".\"&E60,Table9[[Feature.Part]:[v2 atttainment]],4,FALSE),\"Expected\",IF(G60=\"Precondition\",\"Needs achievement\",\"Not Pursued\"))","v":"Expected"},{"$f":"IF(G60=\"Optimization\",VLOOKUP(B60&\".\"&E60,Table9[[Feature.Part]:[v2 atttainment]],6,),\"\")","v":""},{"$f":"IFERROR(_xlfn.TEXTJOIN(\", \",,_xlfn._xlws.FILTER(Table6[WELL v1 Feature 1],Table6[v2 Feature.Part]=UpgradeTable[[#This Row],[Code]],)),\"N/A\")","v":"44"}]
[null,"N02",{"$f":"_xlfn.CONCAT(UpgradeTable[[#This Row],[Feature]],\".\",UpgradeTable[[#This Row],[Part]])","v":"N02.2"},{"$f":"VLOOKUP(UpgradeTable[[#This Row],[Feature]],Table5[],12,0)","v":"Nourishment"},2,{"$f":"VLOOKUP(UpgradeTable[[#This Row],[Code]],Table5[[Feature.Part]:[Part Description]],2,0)","v":"Address Food Allergens"},{"$f":"VLOOKUP(UpgradeTable[[#This Row],[Code]],Table9[[Feature.Part]:[v2 atttainment]],2,FALSE)","v":"Precondition"},{"$f":"IF(VLOOKUP(B61&\".\"&E61,Table9[[Feature.Part]:[v2 atttainment]],4,FALSE),\"Expected\",IF(G61=\"Precondition\",\"Needs achievement\",\"Not Pursued\"))","v":"Needs achievement"},{"$f":"IF(G61=\"Optimization\",VLOOKUP(B61&\".\"&E61,Table9[[Feature.Part]:[v2 atttainment]],6,),\"\")","v":""},{"$f":"IFERROR(_xlfn.TEXTJOIN(\", \",,_xlfn._xlws.FILTER(Table6[WELL v1 Feature 1],Table6[v2 Feature.Part]=UpgradeTable[[#This Row],[Code]],)),\"N/A\")","v":"N/A"}]
[null,"N02",{"$f":"_xlfn.CONCAT(UpgradeTable[[#This Row],[Feature]],\".\",UpgradeTable[[#This Row],[Part]])","v":"N02.3"},{"$f":"VLOOKUP(UpgradeTable[[#This Row],[Feature]],Table5[],12,0)","v":"Nourishment"},3,{"$f":"VLOOKUP(UpgradeTable[[#This Row],[Code]],Table5[[Feature.Part]:[Part Description]],2,0)","v":"Label Sugar Content"},{"$f":"VLOOKUP(UpgradeTable[[#This Row],[Code]],Table9[[Feature.Part]:[v2 atttainment]],2,FALSE)","v":"Precondition"},{"$f":"IF(VLOOKUP(B62&\".\"&E62,Table9[[Feature.Part]:[v2 atttainment]],4,FALSE),\"Expected\",IF(G62=\"Precondition\",\"Needs achievement\",\"Not Pursued\"))","v":"Expected"},{"$f":"IF(G62=\"Optimization\",VLOOKUP(B62&\".\"&E62,Table9[[Feature.Part]:[v2 atttainment]],6,),\"\")","v":""},{"$f":"IFERROR(_xlfn.TEXTJOIN(\", \",,_xlfn._xlws.FILTER(Table6[WELL v1 Feature 1],Table6[v2 Feature.Part]=UpgradeTable[[#This Row],[Code]],)),\"N/A\")","v":"44"}]
[null,"N03",{"$f":"_xlfn.CONCAT(UpgradeTable[[#This Row],[Feature]],\".\",UpgradeTable[[#This Row],[Part]])","v":"N03.1"},{"$f":"VLOOKUP(UpgradeTable[[#This Row],[Feature]],Table5[],12,0)","v":"Nourishment"},1,{"$f":"VLOOKUP(UpgradeTable[[#This Row],[Code]],Table5[[Feature.Part]:[Part Description]],2,0)","v":"Limit Total Sugars"},{"$f":"VLOOKUP(UpgradeTable[[#This Row],[Code]],Table9[[Feature.Part]:[v2 atttainment]],2,FALSE)","v":"Optimization"},{"$f":"IF(VLOOKUP(B63&\".\"&E63,Table9[[Feature.Part]:[v2 atttainment]],4,FALSE),\"Expected\",IF(G63=\"Precondition\",\"Needs achievement\",\"Not Pursued\"))","v":"Expected"},{"$f":"IF(G63=\"Optimization\",VLOOKUP(B63&\".\"&E63,Table9[[Feature.Part]:[v2 atttainment]],6,),\"\")","v":1},{"$f":"IFERROR(_xlfn.TEXTJOIN(\", \",,_xlfn._xlws.FILTER(Table6[WELL v1 Feature 1],Table6[v2 Feature.Part]=UpgradeTable[[#This Row],[Code]],)),\"N/A\")","v":"39"}]
[null,"N03",{"$f":"_xlfn.CONCAT(UpgradeTable[[#This Row],[Feature]],\".\",UpgradeTable[[#This Row],[Part]])","v":"N03.2"},{"$f":"VLOOKUP(UpgradeTable[[#This Row],[Feature]],Table5[],12,0)","v":"Nourishment"},2,{"$f":"VLOOKUP(UpgradeTable[[#This Row],[Code]],Table5[[Feature.Part]:[Part Description]],2,0)","v":"Promote Whole Grains"},{"$f":"VLOOKUP(UpgradeTable[[#This Row],[Code]],Table9[[Feature.Part]:[v2 atttainment]],2,FALSE)","v":"Optimization"},{"$f":"IF(VLOOKUP(B64&\".\"&E64,Table9[[Feature.Part]:[v2 atttainment]],4,FALSE),\"Expected\",IF(G64=\"Precondition\",\"Needs achievement\",\"Not Pursued\"))","v":"Expected"},{"$f":"IF(G64=\"Optimization\",VLOOKUP(B64&\".\"&E64,Table9[[Feature.Part]:[v2 atttainment]],6,),\"\")","v":1},{"$f":"IFERROR(_xlfn.TEXTJOIN(\", \",,_xlfn._xlws.FILTER(Table6[WELL v1 Feature 1],Table6[v2 Feature.Part]=UpgradeTable[[#This Row],[Code]],)),\"N/A\")","v":"39"}]
[null,"N04",{"$f":"_xlfn.CONCAT(UpgradeTable[[#This Row],[Feature]],\".\",UpgradeTable[[#This Row],[Part]])","v":"N04.1"},{"$f":"VLOOKUP(UpgradeTable[[#This Row],[Feature]],Table5[],12,0)","v":"Nourishment"},1,{"$f":"VLOOKUP(UpgradeTable[[#This Row],[Code]],Table5[[Feature.Part]:[Part Description]],2,0)","v":"Optimize Food Advertising"},{"$f":"VLOOKUP(UpgradeTable[[#This Row],[Code]],Table9[[Feature.Part]:[v2 atttainment]],2,FALSE)","v":"Optimization"},{"$f":"IF(VLOOKUP(B65&\".\"&E65,Table9[[Feature.Part]:[v2 atttainment]],4,FALSE),\"Expected\",IF(G65=\"Precondition\",\"Needs achievement\",\"Not Pursued\"))","v":"Expected"},{"$f":"IF(G65=\"Optimization\",VLOOKUP(B65&\".\"&E65,Table9[[Feature.Part]:[v2 atttainment]],6,),\"\")","v":1},{"$f":"IFERROR(_xlfn.TEXTJOIN(\", \",,_xlfn._xlws.FILTER(Table6[WELL v1 Feature 1],Table6[v2 Feature.Part]=UpgradeTable[[#This Row],[Code]],)),\"N/A\")","v":"45"}]
[null,"N05",{"$f":"_xlfn.CONCAT(UpgradeTable[[#This Row],[Feature]],\".\",UpgradeTable[[#This Row],[Part]])","v":"N05.1"},{"$f":"VLOOKUP(UpgradeTable[[#This Row],[Feature]],Table5[],12,0)","v":"Nourishment"},1,{"$f":"VLOOKUP(UpgradeTable[[#This Row],[Code]],Table5[[Feature.Part]:[Part Description]],2,0)","v":"Limit Artificial Ingredients"},{"$f":"VLOOKUP(UpgradeTable[[#This Row],[Code]],Table9[[Feature.Part]:[v2 atttainment]],2,FALSE)","v":"Optimization"},{"$f":"IF(VLOOKUP(B66&\".\"&E66,Table9[[Feature.Part]:[v2 atttainment]],4,FALSE),\"Expected\",IF(G66=\"Precondition\",\"Needs achievement\",\"Not Pursued\"))","v":"Expected"},{"$f":"IF(G66=\"Optimization\",VLOOKUP(B66&\".\"&E66,Table9[[Feature.Part]:[v2 atttainment]],6,),\"\")","v":1},{"$f":"IFERROR(_xlfn.TEXTJOIN(\", \",,_xlfn._xlws.FILTER(Table6[WELL v1 Feature 1],Table6[v2 Feature.Part]=UpgradeTable[[#This Row],[Code]],)),\"N/A\")","v":"43"}]
[null,"N06",{"$f":"_xlfn.CONCAT(UpgradeTable[[#This Row],[Feature]],\".\",UpgradeTable[[#This Row],[Part]])","v":"N06.1"},{"$f":"VLOOKUP(UpgradeTable[[#This Row],[Feature]],Table5[],12,0)","v":"Nourishment"},1,{"$f":"VLOOKUP(UpgradeTable[[#This Row],[Code]],Table5[[Feature.Part]:[Part Description]],2,0)","v":"Promote Healthy Portions"},{"$f":"VLOOKUP(UpgradeTable[[#This Row],[Code]],Table9[[Feature.Part]:[v2 atttainment]],2,FALSE)","v":"Optimization"},{"$f":"IF(VLOOKUP(B67&\".\"&E67,Table9[[Feature.Part]:[v2 atttainment]],4,FALSE),\"Expected\",IF(G67=\"Precondition\",\"Needs achievement\",\"Not Pursued\"))","v":"Not Pursued"},{"$f":"IF(G67=\"Optimization\",VLOOKUP(B67&\".\"&E67,Table9[[Feature.Part]:[v2 atttainment]],6,),\"\")","v":0},{"$f":"IFERROR(_xlfn.TEXTJOIN(\", \",,_xlfn._xlws.FILTER(Table6[WELL v1 Feature 1],Table6[v2 Feature.Part]=UpgradeTable[[#This Row],[Code]],)),\"N/A\")","v":"47"}]
[null,"N07",{"$f":"_xlfn.CONCAT(UpgradeTable[[#This Row],[Feature]],\".\",UpgradeTable[[#This Row],[Part]])","v":"N07.1"},{"$f":"VLOOKUP(UpgradeTable[[#This Row],[Feature]],Table5[],12,0)","v":"Nourishment"},1,{"$f":"VLOOKUP(UpgradeTable[[#This Row],[Code]],Table5[[Feature.Part]:[Part Description]],2,0)","v":"Provide Nutrition Education"},{"$f":"VLOOKUP(UpgradeTable[[#This Row],[Code]],Table9[[Feature.Part]:[v2 atttainment]],2,FALSE)","v":"Optimization"},{"$f":"IF(VLOOKUP(B68&\".\"&E68,Table9[[Feature.Part]:[v2 atttainment]],4,FALSE),\"Expected\",IF(G68=\"Precondition\",\"Needs achievement\",\"Not Pursued\"))","v":"Expected"},{"$f":"IF(G68=\"Optimization\",VLOOKUP(B68&\".\"&E68,Table9[[Feature.Part]:[v2 atttainment]],6,),\"\")","v":1},{"$f":"IFERROR(_xlfn.TEXTJOIN(\", \",,_xlfn._xlws.FILTER(Table6[WELL v1 Feature 1],Table6[v2 Feature.Part]=UpgradeTable[[#This Row],[Code]],)),\"N/A\")","v":"44"}]
[null,"N08",{"$f":"_xlfn.CONCAT(UpgradeTable[[#This Row],[Feature]],\".\",UpgradeTable[[#This Row],[Part]])","v":"N08.1"},{"$f":"VLOOKUP(UpgradeTable[[#This Row],[Feature]],Table5[],12,0)","v":"Nourishment"},1,{"$f":"VLOOKUP(UpgradeTable[[#This Row],[Code]],Table5[[Feature.Part]:[Part Description]],2,0)","v":"Support Mindful Eating"},{"$f":"VLOOKUP(UpgradeTable[[#This Row],[Code]],Table9[[Feature.Part]:[v2 atttainment]],2,FALSE)","v":"Optimization"},{"$f":"IF(VLOOKUP(B69&\".\"&E69,Table9[[Feature.Part]:[v2 atttainment]],4,FALSE),\"Expected\",IF(G69=\"Precondition\",\"Needs achievement\",\"Not Pursued\"))","v":"Not Pursued"},{"$f":"IF(G69=\"Optimization\",VLOOKUP(B69&\".\"&E69,Table9[[Feature.Part]:[v2 atttainment]],6,),\"\")","v":0},{"$f":"IFERROR(_xlfn.TEXTJOIN(\", \",,_xlfn._xlws.FILTER(Table6[WELL v1 Feature 1],Table6[v2 Feature.Part]=UpgradeTable[[#This Row],[Code]],)),\"N/A\")","v":"52"}]
[null,"N09",{"$f":"_xlfn.CONCAT(UpgradeTable[[#This Row],[Feature]],\".\",UpgradeTable[[#This Row],[Part]])","v":"N09.1"},{"$f":"VLOOKUP(UpgradeTable[[#This Row],[Feature]],Table5[],12,0)","v":"Nourishment"},1,{"$f":"VLOOKUP(UpgradeTable[[#This Row],[Code]],Table5[[Feature.Part]:[Part Description]],2,0)","v":"Accommodate Special Diets"},{"$f":"VLOOKUP(UpgradeTable[[#This Row],[Code]],Table9[[Feature.Part]:[v2 atttainment]],2,FALSE)","v":"Optimization"},{"$f":"IF(VLOOKUP(B70&\".\"&E70,Table9[[Feature.Part]:[v2 atttainment]],4,FALSE),\"Expected\",IF(G70=\"Precondition\",\"Needs achievement\",\"Not Pursued\"))","v":"Not Pursued"},{"$f":"IF(G70=\"Optimization\",VLOOKUP(B70&\".\"&E70,Table9[[Feature.Part]:[v2 atttainment]],6,),\"\")","v":0},{"$f":"IFERROR(_xlfn.TEXTJOIN(\", \",,_xlfn._xlws.FILTER(Table6[WELL v1 Feature 1],Table6[v2 Feature.Part]=UpgradeTable[[#This Row],[Code]],)),\"N/A\")","v":"48"}]
[null,"N09",{"$f":"_xlfn.CONCAT(UpgradeTable[[#This Row],[Feature]],\".\",UpgradeTable[[#This Row],[Part]])","v":"N09.2"},{"$f":"VLOOKUP(UpgradeTable[[#This Row],[Feature]],Table5[],12,0)","v":"Nourishment"},2,{"$f":"VLOOKUP(UpgradeTable[[#This Row],[Code]],Table5[[Feature.Part]:[Part Description]],2,0)","v":"Label Food Allergens"},{"$f":"VLOOKUP(UpgradeTable[[#This Row],[Code]],Table9[[Feature.Part]:[v2 atttainment]],2,FALSE)","v":"Optimization"},{"$f":"IF(VLOOKUP(B71&\".\"&E71,Table9[[Feature.Part]:[v2 atttainment]],4,FALSE),\"Expected\",IF(G71=\"Precondition\",\"Needs achievement\",\"Not Pursued\"))","v":"Expected"},{"$f":"IF(G71=\"Optimization\",VLOOKUP(B71&\".\"&E71,Table9[[Feature.Part]:[v2 atttainment]],6,),\"\")","v":1},{"$f":"IFERROR(_xlfn.TEXTJOIN(\", \",,_xlfn._xlws.FILTER(Table6[WELL v1 Feature 1],Table6[v2 Feature.Part]=UpgradeTable[[#This Row],[Code]],)),\"N/A\")","v":"40"}]
[null,"N10",{"$f":"_xlfn.CONCAT(UpgradeTable[[#This Row],[Feature]],\".\",UpgradeTable[[#This Row],[Part]])","v":"N10.1"},{"$f":"VLOOKUP(UpgradeTable[[#This Row],[Feature]],Table5[],12,0)","v":"Nourishment"},1,{"$f":"VLOOKUP(UpgradeTable[[#This Row],[Code]],Table5[[Feature.Part]:[Part Description]],2,0)","v":"Provide Meal Support"},{"$f":"VLOOKUP(UpgradeTable[[#This Row],[Code]],Table9[[Feature.Part]:[v2 atttainment]],2,FALSE)","v":"Optimization"},{"$f":"IF(VLOOKUP(B72&\".\"&E72,Table9[[Feature.Part]:[v2 atttainment]],4,FALSE),\"Expected\",IF(G72=\"Precondition\",\"Needs achievement\",\"Not Pursued\"))","v":"Not Pursued"},{"$f":"IF(G72=\"Optimization\",VLOOKUP(B72&\".\"&E72,Table9[[Feature.Part]:[v2 atttainment]],6,),\"\")","v":0},{"$f":"IFERROR(_xlfn.TEXTJOIN(\", \",,_xlfn._xlws.FILTER(Table6[WELL v1 Feature 1],Table6[v2 Feature.Part]=UpgradeTable[[#This Row],[Code]],)),\"N/A\")","v":"50"}]
[null,"N11",{"$f":"_xlfn.CONCAT(UpgradeTable[[#This Row],[Feature]],\".\",UpgradeTable[[#This Row],[Part]])","v":"N11.1"},{"$f":"VLOOKUP(UpgradeTable[[#This Row],[Feature]],Table5[],12,0)","v":"Nourishment"},1,{"$f":"VLOOKUP(UpgradeTable[[#This Row],[Code]],Table5[[Feature.Part]:[Part Description]],2,0)","v":"Implement Responsible Sourcing"},{"$f":"VLOOKUP(UpgradeTable[[#This Row],[Code]],Table9[[Feature.Part]:[v2 atttainment]],2,FALSE)","v":"Optimization"},{"$f":"IF(VLOOKUP(B73&\".\"&E73,Table9[[Feature.Part]:[v2 atttainment]],4,FALSE),\"Expected\",IF(G73=\"Precondition\",\"Needs achievement\",\"Not Pursued\"))","v":"Not Pursued"},{"$f":"IF(G73=\"Optimization\",VLOOKUP(B73&\".\"&E73,Table9[[Feature.Part]:[v2 atttainment]],6,),\"\")","v":0},{"$f":"IFERROR(_xlfn.TEXTJOIN(\", \",,_xlfn._xlws.FILTER(Table6[WELL v1 Feature 1],Table6[v2 Feature.Part]=UpgradeTable[[#This Row],[Code]],)),\"N/A\")","v":"49"}]
[null,"N12",{"$f":"_xlfn.CONCAT(UpgradeTable[[#This Row],[Feature]],\".\",UpgradeTable[[#This Row],[Part]])","v":"N12.1"},{"$f":"VLOOKUP(UpgradeTable[[#This Row],[Feature]],Table5[],12,0)","v":"Nourishment"},1,{"$f":"VLOOKUP(UpgradeTable[[#This Row],[Code]],Table5[[Feature.Part]:[Part Description]],2,0)","v":"Provide Gardening Space"},{"$f":"VLOOKUP(UpgradeTable[[#This Row],[Code]],Table9[[Feature.Part]:[v2 atttainment]],2,FALSE)","v":"Optimization"},{"$f":"IF(VLOOKUP(B74&\".\"&E74,Table9[[Feature.Part]:[v2 atttainment]],4,FALSE),\"Expected\",IF(G74=\"Precondition\",\"Needs achievement\",\"Not Pursued\"))","v":"Not Pursued"},{"$f":"IF(G74=\"Optimization\",VLOOKUP(B74&\".\"&E74,Table9[[Feature.Part]:[v2 atttainment]],6,),\"\")","v":0},{"$f":"IFERROR(_xlfn.TEXTJOIN(\", \",,_xlfn._xlws.FILTER(Table6[WELL v1 Feature 1],Table6[v2 Feature.Part]=UpgradeTable[[#This Row],[Code]],)),\"N/A\")","v":"51"}]
[null,"N13",{"$f":"_xlfn.CONCAT(UpgradeTable[[#This Row],[Feature]],\".\",UpgradeTable[[#This Row],[Part]])","v":"N13.1"},{"$f":"VLOOKUP(UpgradeTable[[#This Row],[Feature]],Table5[],12,0)","v":"Nourishment"},1,{"$f":"VLOOKUP(UpgradeTable[[#This Row],[Code]],Table5[[Feature.Part]:[Part Description]],2,0)","v":"Ensure Local Food Access"},{"$f":"VLOOKUP(UpgradeTable[[#This Row],[Code]],Table9[[Feature.Part]:[v2 atttainment]],2,FALSE)","v":"Optimization"},{"$f":"IF(VLOOKUP(B75&\".\"&E75,Table9[[Feature.Part]:[v2 atttainment]],4,FALSE),\"Expected\",IF(G75=\"Precondition\",\"Needs achievement\",\"Not Pursued\"))","v":"Not Pursued"},{"$f":"IF(G75=\"Optimization\",VLOOKUP(B75&\".\"&E75,Table9[[Feature.Part]:[v2 atttainment]],6,),\"\")","v":0},{"$f":"IFERROR(_xlfn.TEXTJOIN(\", \",,_xlfn._xlws.FILTER(Table6[WELL v1 Feature 1],Table6[v2 Feature.Part]=UpgradeTable[[#This Row],[Code]],)),\"N/A\")","v":"P1"}]
[null,"N14",{"$f":"_xlfn.CONCAT(UpgradeTable[[#This Row],[Feature]],\".\",UpgradeTable[[#This Row],[Part]])","v":"N14.1"},{"$f":"VLOOKUP(UpgradeTable[[#This Row],[Feature]],Table5[],12,0)","v":"Nourishment"},1,{"$f":"VLOOKUP(UpgradeTable[[#This Row],[Code]],Table5[[Feature.Part]:[Part Description]],2,0)","v":"Limit Red and Processed Meats"},{"$f":"VLOOKUP(UpgradeTable[[#This Row],[Code]],Table9[[Feature.Part]:[v2 atttainment]],2,FALSE)","v":"Optimization"},{"$f":"IF(VLOOKUP(B76&\".\"&E76,Table9[[Feature.Part]:[v2 atttainment]],4,FALSE),\"Expected\",IF(G76=\"Precondition\",\"Needs achievement\",\"Not Pursued\"))","v":"Not Pursued"},{"$f":"IF(G76=\"Optimization\",VLOOKUP(B76&\".\"&E76,Table9[[Feature.Part]:[v2 atttainment]],6,),\"\")","v":0},{"$f":"IFERROR(_xlfn.TEXTJOIN(\", \",,_xlfn._xlws.FILTER(Table6[WELL v1 Feature 1],Table6[v2 Feature.Part]=UpgradeTable[[#This Row],[Code]],)),\"N/A\")","v":"N/A"}]
[null,"L01",{"$f":"_xlfn.CONCAT(UpgradeTable[[#This Row],[Feature]],\".\",UpgradeTable[[#This Row],[Part]])","v":"L01.1"},{"$f":"VLOOKUP(UpgradeTable[[#This Row],[Feature]],Table5[],12,0)","v":"Light"},1,{"$f":"VLOOKUP(UpgradeTable[[#This Row],[Code]],Table5[[Feature.Part]:[Part Description]],2,0)","v":"Provide Indoor Light"},{"$f":"VLOOKUP(UpgradeTable[[#This Row],[Code]],Table9[[Feature.Part]:[v2 atttainment]],2,FALSE)","v":"Precondition"},{"$f":"IF(VLOOKUP(B77&\".\"&E77,Table9[[Feature.Part]:[v2 atttainment]],4,FALSE),\"Expected\",IF(G77=\"Precondition\",\"Needs achievement\",\"Not Pursued\"))","v":"Expected"},{"$f":"IF(G77=\"Optimization\",VLOOKUP(B77&\".\"&E77,Table9[[Feature.Part]:[v2 atttainment]],6,),\"\")","v":""},{"$f":"IFERROR(_xlfn.TEXTJOIN(\", \",,_xlfn._xlws.FILTER(Table6[WELL v1 Feature 1],Table6[v2 Feature.Part]=UpgradeTable[[#This Row],[Code]],)),\"N/A\")","v":"54, 61, 62"}]
[null,"L02",{"$f":"_xlfn.CONCAT(UpgradeTable[[#This Row],[Feature]],\".\",UpgradeTable[[#This Row],[Part]])","v":"L02.1"},{"$f":"VLOOKUP(UpgradeTable[[#This Row],[Feature]],Table5[],12,0)","v":"Light"},1,{"$f":"VLOOKUP(UpgradeTable[[#This Row],[Code]],Table5[[Feature.Part]:[Part Description]],2,0)","v":"Provide Visual Acuity"},{"$f":"VLOOKUP(UpgradeTable[[#This Row],[Code]],Table9[[Feature.Part]:[v2 atttainment]],2,FALSE)","v":"Precondition"},{"$f":"IF(VLOOKUP(B78&\".\"&E78,Table9[[Feature.Part]:[v2 atttainment]],4,FALSE),\"Expected\",IF(G78=\"Precondition\",\"Needs achievement\",\"Not Pursued\"))","v":"Expected"},{"$f":"IF(G78=\"Optimization\",VLOOKUP(B78&\".\"&E78,Table9[[Feature.Part]:[v2 atttainment]],6,),\"\")","v":""},{"$f":"IFERROR(_xlfn.TEXTJOIN(\", \",,_xlfn._xlws.FILTER(Table6[WELL v1 Feature 1],Table6[v2 Feature.Part]=UpgradeTable[[#This Row],[Code]],)),\"N/A\")","v":"53"}]
[null,"L03",{"$f":"_xlfn.CONCAT(UpgradeTable[[#This Row],[Feature]],\".\",UpgradeTable[[#This Row],[Part]])","v":"L03.1"},{"$f":"VLOOKUP(UpgradeTable[[#This Row],[Feature]],Table5[],12,0)","v":"Light"},1,{"$f":"VLOOKUP(UpgradeTable[[#This Row],[Code]],Table5[[Feature.Part]:[Part Description]],2,0)","v":"Meet Lighting for Day-Active People"},{"$f":"VLOOKUP(UpgradeTable[[#This Row],[Code]],Table9[[Feature.Part]:[v2 atttainment]],2,FALSE)","v":"Optimization"},{"$f":"IF(VLOOKUP(B79&\".\"&E79,Table9[[Feature.Part]:[v2 atttainment]],4,FALSE),\"Expected\",IF(G79=\"Precondition\",\"Needs achievement\",\"Not Pursued\"))","v":"Expected"},{"$f":"IF(G79=\"Optimization\",VLOOKUP(B79&\".\"&E79,Table9[[Feature.Part]:[v2 atttainment]],6,),\"\")","v":1},{"$f":"IFERROR(_xlfn.TEXTJOIN(\", \",,_xlfn._xlws.FILTER(Table6[WELL v1 Feature 1],Table6[v2 Feature.Part]=UpgradeTable[[#This Row],[Code]],)),\"N/A\")","v":"54"}]
[null,"L04",{"$f":"_xlfn.CONCAT(UpgradeTable[[#This Row],[Feature]],\".\",UpgradeTable[[#This Row],[Part]])","v":"L04.1"},{"$f":"VLOOKUP(UpgradeTable[[#This Row],[Feature]],Table5[],12,0)","v":"Light"},1,{"$f":"VLOOKUP(UpgradeTable[[#This Row],[Code]],Table5[[Feature.Part]:[Part Description]],2,0)","v":"Manage Glare from Electric Lighting"},{"$f":"VLOOKUP(UpgradeTable[[#This Row],[Code]],Table9[[Feature.Part]:[v2 atttainment]],2,FALSE)","v":"Optimization"},{"$f":"IF(VLOOKUP(B80&\".\"&E80,Table9[[Feature.Part]:[v2 atttainment]],4,FALSE),\"Expected\",IF(G80=\"Precondition\",\"Needs achievement\",\"Not Pursued\"))","v":"Expected"},{"$f":"IF(G80=\"Optimization\",VLOOKUP(B80&\".\"&E80,Table9[[Feature.Part]:[v2 atttainment]],6,),\"\")","v":2},{"$f":"IFERROR(_xlfn.TEXTJOIN(\", \",,_xlfn._xlws.FILTER(Table6[WELL v1 Feature 1],Table6[v2 Feature.Part]=UpgradeTable[[#This Row],[Code]],)),\"N/A\")","v":"55"}]
[null,"L05",{"$f":"_xlfn.CONCAT(UpgradeTable[[#This Row],[Feature]],\".\",UpgradeTable[[#This Row],[Part]])","v":"L05.1"},{"$f":"VLOOKUP(UpgradeTable[[#This Row],[Feature]],Table5[],12,0)","v":"Light"},1,{"$f":"VLOOKUP(UpgradeTable[[#This Row],[Code]],Table5[[Feature.Part]:[Part Description]],2,0)","v":"Implement Daylight Plan"},{"$f":"VLOOKUP(UpgradeTable[[#This Row],[Code]],Table9[[Feature.Part]:[v2 atttainment]],2,FALSE)","v":"Optimization"},{"$f":"IF(VLOOKUP(B81&\".\"&E81,Table9[[Feature.Part]:[v2 atttainment]],4,FALSE),\"Expected\",IF(G81=\"Precondition\",\"Needs achievement\",\"Not Pursued\"))","v":"Not Pursued"},{"$f":"IF(G81=\"Optimization\",VLOOKUP(B81&\".\"&E81,Table9[[Feature.Part]:[v2 atttainment]],6,),\"\")","v":0},{"$f":"IFERROR(_xlfn.TEXTJOIN(\", \",,_xlfn._xlws.FILTER(Table6[WELL v1 Feature 1],Table6[v2 Feature.Part]=UpgradeTable[[#This Row],[Code]],)),\"N/A\")","v":"61"}]
[null,"L05",{"$f":"_xlfn.CONCAT(UpgradeTable[[#This Row],[Feature]],\".\",UpgradeTable[[#This Row],[Part]])","v":"L05.2"},{"$f":"VLOOKUP(UpgradeTable[[#This Row],[Feature]],Table5[],12,0)","v":"Light"},2,{"$f":"VLOOKUP(UpgradeTable[[#This Row],[Code]],Table5[[Feature.Part]:[Part Description]],2,0)","v":"Integrate Solar Shading"},{"$f":"VLOOKUP(UpgradeTable[[#This Row],[Code]],Table9[[Feature.Part]:[v2 atttainment]],2,FALSE)","v":"Optimization"},{"$f":"IF(VLOOKUP(B82&\".\"&E82,Table9[[Feature.Part]:[v2 atttainment]],4,FALSE),\"Expected\",IF(G82=\"Precondition\",\"Needs achievement\",\"Not Pursued\"))","v":"Expected"},{"$f":"IF(G82=\"Optimization\",VLOOKUP(B82&\".\"&E82,Table9[[Feature.Part]:[v2 atttainment]],6,),\"\")","v":1},{"$f":"IFERROR(_xlfn.TEXTJOIN(\", \",,_xlfn._xlws.FILTER(Table6[WELL v1 Feature 1],Table6[v2 Feature.Part]=UpgradeTable[[#This Row],[Code]],)),\"N/A\")","v":"56"}]
[null,"L06",{"$f":"_xlfn.CONCAT(UpgradeTable[[#This Row],[Feature]],\".\",UpgradeTable[[#This Row],[Part]])","v":"L06.1"},{"$f":"VLOOKUP(UpgradeTable[[#This Row],[Feature]],Table5[],12,0)","v":"Light"},1,{"$f":"VLOOKUP(UpgradeTable[[#This Row],[Code]],Table5[[Feature.Part]:[Part Description]],2,0)","v":"Conduct Daylight Simulation"},{"$f":"VLOOKUP(UpgradeTable[[#This Row],[Code]],Table9[[Feature.Part]:[v2 atttainment]],2,FALSE)","v":"Optimization"},{"$f":"IF(VLOOKUP(B83&\".\"&E83,Table9[[Feature.Part]:[v2 atttainment]],4,FALSE),\"Expected\",IF(G83=\"Precondition\",\"Needs achievement\",\"Not Pursued\"))","v":"Not Pursued"},{"$f":"IF(G83=\"Optimization\",VLOOKUP(B83&\".\"&E83,Table9[[Feature.Part]:[v2 atttainment]],6,),\"\")","v":0},{"$f":"IFERROR(_xlfn.TEXTJOIN(\", \",,_xlfn._xlws.FILTER(Table6[WELL v1 Feature 1],Table6[v2 Feature.Part]=UpgradeTable[[#This Row],[Code]],)),\"N/A\")","v":"62"}]
[null,"L07",{"$f":"_xlfn.CONCAT(UpgradeTable[[#This Row],[Feature]],\".\",UpgradeTable[[#This Row],[Part]])","v":"L07.1"},{"$f":"VLOOKUP(UpgradeTable[[#This Row],[Feature]],Table5[],12,0)","v":"Light"},1,{"$f":"VLOOKUP(UpgradeTable[[#This Row],[Code]],Table5[[Feature.Part]:[Part Description]],2,0)","v":"Balance Visual Lighting"},{"$f":"VLOOKUP(UpgradeTable[[#This Row],[Code]],Table9[[Feature.Part]:[v2 atttainment]],2,FALSE)","v":"Optimization"},{"$f":"IF(VLOOKUP(B84&\".\"&E84,Table9[[Feature.Part]:[v2 atttainment]],4,FALSE),\"Expected\",IF(G84=\"Precondition\",\"Needs achievement\",\"Not Pursued\"))","v":"Expected"},{"$f":"IF(G84=\"Optimization\",VLOOKUP(B84&\".\"&E84,Table9[[Feature.Part]:[v2 atttainment]],6,),\"\")","v":1},{"$f":"IFERROR(_xlfn.TEXTJOIN(\", \",,_xlfn._xlws.FILTER(Table6[WELL v1 Feature 1],Table6[v2 Feature.Part]=UpgradeTable[[#This Row],[Code]],)),\"N/A\")","v":"53"}]
[null,"L08",{"$f":"_xlfn.CONCAT(UpgradeTable[[#This Row],[Feature]],\".\",UpgradeTable[[#This Row],[Part]])","v":"L08.1"},{"$f":"VLOOKUP(UpgradeTable[[#This Row],[Feature]],Table5[],12,0)","v":"Light"},1,{"$f":"VLOOKUP(UpgradeTable[[#This Row],[Code]],Table5[[Feature.Part]:[Part Description]],2,0)","v":"Enhance Color Rendering Quality"},{"$f":"VLOOKUP(UpgradeTable[[#This Row],[Code]],Table9[[Feature.Part]:[v2 atttainment]],2,FALSE)","v":"Optimization"},{"$f":"IF(VLOOKUP(B85&\".\"&E85,Table9[[Feature.Part]:[v2 atttainment]],4,FALSE),\"Expected\",IF(G85=\"Precondition\",\"Needs achievement\",\"Not Pursued\"))","v":"Not Pursued"},{"$f":"IF(G85=\"Optimization\",VLOOKUP(B85&\".\"&E85,Table9[[Feature.Part]:[v2 atttainment]],6,),\"\")","v":0},{"$f":"IFERROR(_xlfn.TEXTJOIN(\", \",,_xlfn._xlws.FILTER(Table6[WELL v1 Feature 1],Table6[v2 Feature.Part]=UpgradeTable[[#This Row],[Code]],)),\"N/A\")","v":"58"}]
[null,"L08",{"$f":"_xlfn.CONCAT(UpgradeTable[[#This Row],[Feature]],\".\",UpgradeTable[[#This Row],[Part]])","v":"L08.2"},{"$f":"VLOOKUP(UpgradeTable[[#This Row],[Feature]],Table5[],12,0)","v":"Light"},2,{"$f":"VLOOKUP(UpgradeTable[[#This Row],[Code]],Table5[[Feature.Part]:[Part Description]],2,0)","v":"Manage Flicker"},{"$f":"VLOOKUP(UpgradeTable[[#This Row],[Code]],Table9[[Feature.Part]:[v2 atttainment]],2,FALSE)","v":"Optimization"},{"$f":"IF(VLOOKUP(B86&\".\"&E86,Table9[[Feature.Part]:[v2 atttainment]],4,FALSE),\"Expected\",IF(G86=\"Precondition\",\"Needs achievement\",\"Not Pursued\"))","v":"Not Pursued"},{"$f":"IF(G86=\"Optimization\",VLOOKUP(B86&\".\"&E86,Table9[[Feature.Part]:[v2 atttainment]],6,),\"\")","v":0},{"$f":"IFERROR(_xlfn.TEXTJOIN(\", \",,_xlfn._xlws.FILTER(Table6[WELL v1 Feature 1],Table6[v2 Feature.Part]=UpgradeTable[[#This Row],[Code]],)),\"N/A\")","v":"N/A"}]
[null,"L09",{"$f":"_xlfn.CONCAT(UpgradeTable[[#This Row],[Feature]],\".\",UpgradeTable[[#This Row],[Part]])","v":"L09.1"},{"$f":"VLOOKUP(UpgradeTable[[#This Row],[Feature]],Table5[],12,0)","v":"Light"},1,{"$f":"VLOOKUP(UpgradeTable[[#This Row],[Code]],Table5[[Feature.Part]:[Part Description]],2,0)","v":"Enhance Occupant Controllability"},{"$f":"VLOOKUP(UpgradeTable[[#This Row],[Code]],Table9[[Feature.Part]:[v2 atttainment]],2,FALSE)","v":"Optimization"},{"$f":"IF(VLOOKUP(B87&\".\"&E87,Table9[[Feature.Part]:[v2 atttainment]],4,FALSE),\"Expected\",IF(G87=\"Precondition\",\"Needs achievement\",\"Not Pursued\"))","v":"Not Pursued"},{"$f":"IF(G87=\"Optimization\",VLOOKUP(B87&\".\"&E87,Table9[[Feature.Part]:[v2 atttainment]],6,),\"\")","v":0},{"$f":"IFERROR(_xlfn.TEXTJOIN(\", \",,_xlfn._xlws.FILTER(Table6[WELL v1 Feature 1],Table6[v2 Feature.Part]=UpgradeTable[[#This Row],[Code]],)),\"N/A\")","v":"N/A"}]
[null,"L09",{"$f":"_xlfn.CONCAT(UpgradeTable[[#This Row],[Feature]],\".\",UpgradeTable[[#This Row],[Part]])","v":"L09.2"},{"$f":"VLOOKUP(UpgradeTable[[#This Row],[Feature]],Table5[],12,0)","v":"Light"},2,{"$f":"VLOOKUP(UpgradeTable[[#This Row],[Code]],Table5[[Feature.Part]:[Part Description]],2,0)","v":"Provide Supplemental Lighting"},{"$f":"VLOOKUP(UpgradeTable[[#This Row],[Code]],Table9[[Feature.Part]:[v2 atttainment]],2,FALSE)","v":"Optimization"},{"$f":"IF(VLOOKUP(B88&\".\"&E88,Table9[[Feature.Part]:[v2 atttainment]],4,FALSE),\"Expected\",IF(G88=\"Precondition\",\"Needs achievement\",\"Not Pursued\"))","v":"Not Pursued"},{"$f":"IF(G88=\"Optimization\",VLOOKUP(B88&\".\"&E88,Table9[[Feature.Part]:[v2 atttainment]],6,),\"\")","v":0},{"$f":"IFERROR(_xlfn.TEXTJOIN(\", \",,_xlfn._xlws.FILTER(Table6[WELL v1 Feature 1],Table6[v2 Feature.Part]=UpgradeTable[[#This Row],[Code]],)),\"N/A\")","v":"N/A"}]
[null,"V01",{"$f":"_xlfn.CONCAT(UpgradeTable[[#This Row],[Feature]],\".\",UpgradeTable[[#This Row],[Part]])","v":"V01.1"},{"$f":"VLOOKUP(UpgradeTable[[#This Row],[Feature]],Table5[],12,0)","v":"Movement"},1,{"$f":"VLOOKUP(UpgradeTable[[#This Row],[Code]],Table5[[Feature.Part]:[Part Description]],2,0)","v":"Design Active Buildings and Communities"},{"$f":"VLOOKUP(UpgradeTable[[#This Row],[Code]],Table9[[Feature.Part]:[v2 atttainment]],2,FALSE)","v":"Precondition"},{"$f":"IF(VLOOKUP(B89&\".\"&E89,Table9[[Feature.Part]:[v2 atttainment]],4,FALSE),\"Expected\",IF(G89=\"Precondition\",\"Needs achievement\",\"Not Pursued\"))","v":"Needs achievement"},{"$f":"IF(G89=\"Optimization\",VLOOKUP(B89&\".\"&E89,Table9[[Feature.Part]:[v2 atttainment]],6,),\"\")","v":""},{"$f":"IFERROR(_xlfn.TEXTJOIN(\", \",,_xlfn._xlws.FILTER(Table6[WELL v1 Feature 1],Table6[v2 Feature.Part]=UpgradeTable[[#This Row],[Code]],)),\"N/A\")","v":"67"}]
[null,"V02",{"$f":"_xlfn.CONCAT(UpgradeTable[[#This Row],[Feature]],\".\",UpgradeTable[[#This Row],[Part]])","v":"V02.1"},{"$f":"VLOOKUP(UpgradeTable[[#This Row],[Feature]],Table5[],12,0)","v":"Movement"},1,{"$f":"VLOOKUP(UpgradeTable[[#This Row],[Code]],Table5[[Feature.Part]:[Part Description]],2,0)","v":"Support Visual Ergonomics"},{"$f":"VLOOKUP(UpgradeTable[[#This Row],[Code]],Table9[[Feature.Part]:[v2 atttainment]],2,FALSE)","v":"Precondition"},{"$f":"IF(VLOOKUP(B90&\".\"&E90,Table9[[Feature.Part]:[v2 atttainment]],4,FALSE),\"Expected\",IF(G90=\"Precondition\",\"Needs achievement\",\"Not Pursued\"))","v":"Expected"},{"$f":"IF(G90=\"Optimization\",VLOOKUP(B90&\".\"&E90,Table9[[Feature.Part]:[v2 atttainment]],6,),\"\")","v":""},{"$f":"IFERROR(_xlfn.TEXTJOIN(\", \",,_xlfn._xlws.FILTER(Table6[WELL v1 Feature 1],Table6[v2 Feature.Part]=UpgradeTable[[#This Row],[Code]],)),\"N/A\")","v":"73"}]
[null,"V02",{"$f":"_xlfn.CONCAT(UpgradeTable[[#This Row],[Feature]],\".\",UpgradeTable[[#This Row],[Part]])","v":"V02.2"},{"$f":"VLOOKUP(UpgradeTable[[#This Row],[Feature]],Table5[],12,0)","v":"Movement"},2,{"$f":"VLOOKUP(UpgradeTable[[#This Row],[Code]],Table5[[Feature.Part]:[Part Description]],2,0)","v":"Provide Height-Adjustable Work Surfaces"},{"$f":"VLOOKUP(UpgradeTable[[#This Row],[Code]],Table9[[Feature.Part]:[v2 atttainment]],2,FALSE)","v":"Precondition"},{"$f":"IF(VLOOKUP(B91&\".\"&E91,Table9[[Feature.Part]:[v2 atttainment]],4,FALSE),\"Expected\",IF(G91=\"Precondition\",\"Needs achievement\",\"Not Pursued\"))","v":"Expected"},{"$f":"IF(G91=\"Optimization\",VLOOKUP(B91&\".\"&E91,Table9[[Feature.Part]:[v2 atttainment]],6,),\"\")","v":""},{"$f":"IFERROR(_xlfn.TEXTJOIN(\", \",,_xlfn._xlws.FILTER(Table6[WELL v1 Feature 1],Table6[v2 Feature.Part]=UpgradeTable[[#This Row],[Code]],)),\"N/A\")","v":"73"}]
[null,"V02",{"$f":"_xlfn.CONCAT(UpgradeTable[[#This Row],[Feature]],\".\",UpgradeTable[[#This Row],[Part]])","v":"V02.3"},{"$f":"VLOOKUP(UpgradeTable[[#This Row],[Feature]],Table5[],12,0)","v":"Movement"},3,{"$f":"VLOOKUP(UpgradeTable[[#This Row],[Code]],Table5[[Feature.Part]:[Part Description]],2,0)","v":"Provide Chair Adjustability"},{"$f":"VLOOKUP(UpgradeTable[[#This Row],[Code]],Table9[[Feature.Part]:[v2 atttainment]],2,FALSE)","v":"Precondition"},{"$f":"IF(VLOOKUP(B92&\".\"&E92,Table9[[Feature.Part]:[v2 atttainment]],4,FALSE),\"Expected\",IF(G92=\"Precondition\",\"Needs achievement\",\"Not Pursued\"))","v":"Expected"},{"$f":"IF(G92=\"Optimization\",VLOOKUP(B92&\".\"&E92,Table9[[Feature.Part]:[v2 atttainment]],6,),\"\")","v":""},{"$f":"IFERROR(_xlfn.TEXTJOIN(\", \",,_xlfn._xlws.FILTER(Table6[WELL v1 Feature 1],Table6[v2 Feature.Part]=UpgradeTable[[#This Row],[Code]],)),\"N/A\")","v":"73"}]
[null,"V02",{"$f":"_xlfn.CONCAT(UpgradeTable[[#This Row],[Feature]],\".\",UpgradeTable[[#This Row],[Part]])","v":"V02.4"},{"$f":"VLOOKUP(UpgradeTable[[#This Row],[Feature]],Table5[],12,0)","v":"Movement"},4,{"$f":"VLOOKUP(UpgradeTable[[#This Row],[Code]],Table5[[Feature.Part]:[Part Description]],2,0)","v":"Provide Support at Standing Workstations"},{"$f":"VLOOKUP(UpgradeTable[[#This Row],[Code]],Table9[[Feature.Part]:[v2 atttainment]],2,FALSE)","v":"Precondition"},{"$f":"IF(VLOOKUP(B93&\".\"&E93,Table9[[Feature.Part]:[v2 atttainment]],4,FALSE),\"Expected\",IF(G93=\"Precondition\",\"Needs achievement\",\"Not Pursued\"))","v":"Expected"},{"$f":"IF(G93=\"Optimization\",VLOOKUP(B93&\".\"&E93,Table9[[Feature.Part]:[v2 atttainment]],6,),\"\")","v":""},{"$f":"IFERROR(_xlfn.TEXTJOIN(\", \",,_xlfn._xlws.FILTER(Table6[WELL v1 Feature 1],Table6[v2 Feature.Part]=UpgradeTable[[#This Row],[Code]],)),\"N/A\")","v":"73"}]
[null,"V02",{"$f":"_xlfn.CONCAT(UpgradeTable[[#This Row],[Feature]],\".\",UpgradeTable[[#This Row],[Part]])","v":"V02.5"},{"$f":"VLOOKUP(UpgradeTable[[#This Row],[Feature]],Table5[],12,0)","v":"Movement"},5,{"$f":"VLOOKUP(UpgradeTable[[#This Row],[Code]],Table5[[Feature.Part]:[Part Description]],2,0)","v":"Provide Workstation Orientation"},{"$f":"VLOOKUP(UpgradeTable[[#This Row],[Code]],Table9[[Feature.Part]:[v2 atttainment]],2,FALSE)","v":"Precondition"},{"$f":"IF(VLOOKUP(B94&\".\"&E94,Table9[[Feature.Part]:[v2 atttainment]],4,FALSE),\"Expected\",IF(G94=\"Precondition\",\"Needs achievement\",\"Not Pursued\"))","v":"Needs achievement"},{"$f":"IF(G94=\"Optimization\",VLOOKUP(B94&\".\"&E94,Table9[[Feature.Part]:[v2 atttainment]],6,),\"\")","v":""},{"$f":"IFERROR(_xlfn.TEXTJOIN(\", \",,_xlfn._xlws.FILTER(Table6[WELL v1 Feature 1],Table6[v2 Feature.Part]=UpgradeTable[[#This Row],[Code]],)),\"N/A\")","v":"N/A"}]
[null,"V03",{"$f":"_xlfn.CONCAT(UpgradeTable[[#This Row],[Feature]],\".\",UpgradeTable[[#This Row],[Part]])","v":"V03.1"},{"$f":"VLOOKUP(UpgradeTable[[#This Row],[Feature]],Table5[],12,0)","v":"Movement"},1,{"$f":"VLOOKUP(UpgradeTable[[#This Row],[Code]],Table5[[Feature.Part]:[Part Description]],2,0)","v":"Design Aesthetic Staircases"},{"$f":"VLOOKUP(UpgradeTable[[#This Row],[Code]],Table9[[Feature.Part]:[v2 atttainment]],2,FALSE)","v":"Optimization"},{"$f":"IF(VLOOKUP(B95&\".\"&E95,Table9[[Feature.Part]:[v2 atttainment]],4,FALSE),\"Expected\",IF(G95=\"Precondition\",\"Needs achievement\",\"Not Pursued\"))","v":"Expected"},{"$f":"IF(G95=\"Optimization\",VLOOKUP(B95&\".\"&E95,Table9[[Feature.Part]:[v2 atttainment]],6,),\"\")","v":1},{"$f":"IFERROR(_xlfn.TEXTJOIN(\", \",,_xlfn._xlws.FILTER(Table6[WELL v1 Feature 1],Table6[v2 Feature.Part]=UpgradeTable[[#This Row],[Code]],)),\"N/A\")","v":"64"}]
[null,"V03",{"$f":"_xlfn.CONCAT(UpgradeTable[[#This Row],[Feature]],\".\",UpgradeTable[[#This Row],[Part]])","v":"V03.2"},{"$f":"VLOOKUP(UpgradeTable[[#This Row],[Feature]],Table5[],12,0)","v":"Movement"},2,{"$f":"VLOOKUP(UpgradeTable[[#This Row],[Code]],Table5[[Feature.Part]:[Part Description]],2,0)","v":"Integrate Point-of-Decision Signage"},{"$f":"VLOOKUP(UpgradeTable[[#This Row],[Code]],Table9[[Feature.Part]:[v2 atttainment]],2,FALSE)","v":"Optimization"},{"$f":"IF(VLOOKUP(B96&\".\"&E96,Table9[[Feature.Part]:[v2 atttainment]],4,FALSE),\"Expected\",IF(G96=\"Precondition\",\"Needs achievement\",\"Not Pursued\"))","v":"Expected"},{"$f":"IF(G96=\"Optimization\",VLOOKUP(B96&\".\"&E96,Table9[[Feature.Part]:[v2 atttainment]],6,),\"\")","v":1},{"$f":"IFERROR(_xlfn.TEXTJOIN(\", \",,_xlfn._xlws.FILTER(Table6[WELL v1 Feature 1],Table6[v2 Feature.Part]=UpgradeTable[[#This Row],[Code]],)),\"N/A\")","v":"64"}]
[null,"V03",{"$f":"_xlfn.CONCAT(UpgradeTable[[#This Row],[Feature]],\".\",UpgradeTable[[#This Row],[Part]])","v":"V03.3"},{"$f":"VLOOKUP(UpgradeTable[[#This Row],[Feature]],Table5[],12,0)","v":"Movement"},3,{"$f":"VLOOKUP(UpgradeTable[[#This Row],[Code]],Table5[[Feature.Part]:[Part Description]],2,0)","v":"Promote Visible Stairs"},{"$f":"VLOOKUP(UpgradeTable[[#This Row],[Code]],Table9[[Feature.Part]:[v2 atttainment]],2,FALSE)","v":"Optimization"},{"$f":"IF(VLOOKUP(B97&\".\"&E97,Table9[[Feature.Part]:[v2 atttainment]],4,FALSE),\"Expected\",IF(G97=\"Precondition\",\"Needs achievement\",\"Not Pursued\"))","v":"Expected"},{"$f":"IF(G97=\"Optimization\",VLOOKUP(B97&\".\"&E97,Table9[[Feature.Part]:[v2 atttainment]],6,),\"\")","v":1},{"$f":"IFERROR(_xlfn.TEXTJOIN(\", \",,_xlfn._xlws.FILTER(Table6[WELL v1 Feature 1],Table6[v2 Feature.Part]=UpgradeTable[[#This Row],[Code]],)),\"N/A\")","v":"64"}]
[null,"V04",{"$f":"_xlfn.CONCAT(UpgradeTable[[#This Row],[Feature]],\".\",UpgradeTable[[#This Row],[Part]])","v":"V04.1"},{"$f":"VLOOKUP(UpgradeTable[[#This Row],[Feature]],Table5[],12,0)","v":"Movement"},1,{"$f":"VLOOKUP(UpgradeTable[[#This Row],[Code]],Table5[[Feature.Part]:[Part Description]],2,0)","v":"Provide Cycling Infrastructure"},{"$f":"VLOOKUP(UpgradeTable[[#This Row],[Code]],Table9[[Feature.Part]:[v2 atttainment]],2,FALSE)","v":"Optimization"},{"$f":"IF(VLOOKUP(B98&\".\"&E98,Table9[[Feature.Part]:[v2 atttainment]],4,FALSE),\"Expected\",IF(G98=\"Precondition\",\"Needs achievement\",\"Not Pursued\"))","v":"Not Pursued"},{"$f":"IF(G98=\"Optimization\",VLOOKUP(B98&\".\"&E98,Table9[[Feature.Part]:[v2 atttainment]],6,),\"\")","v":0},{"$f":"IFERROR(_xlfn.TEXTJOIN(\", \",,_xlfn._xlws.FILTER(Table6[WELL v1 Feature 1],Table6[v2 Feature.Part]=UpgradeTable[[#This Row],[Code]],)),\"N/A\")","v":"69"}]
[null,"V04",{"$f":"_xlfn.CONCAT(UpgradeTable[[#This Row],[Feature]],\".\",UpgradeTable[[#This Row],[Part]])","v":"V04.2"},{"$f":"VLOOKUP(UpgradeTable[[#This Row],[Feature]],Table5[],12,0)","v":"Movement"},2,{"$f":"VLOOKUP(UpgradeTable[[#This Row],[Code]],Table5[[Feature.Part]:[Part Description]],2,0)","v":"Provide Showers, Lockers and Changing Facilities"},{"$f":"VLOOKUP(UpgradeTable[[#This Row],[Code]],Table9[[Feature.Part]:[v2 atttainment]],2,FALSE)","v":"Optimization"},{"$f":"IF(VLOOKUP(B99&\".\"&E99,Table9[[Feature.Part]:[v2 atttainment]],4,FALSE),\"Expected\",IF(G99=\"Precondition\",\"Needs achievement\",\"Not Pursued\"))","v":"Not Pursued"},{"$f":"IF(G99=\"Optimization\",VLOOKUP(B99&\".\"&E99,Table9[[Feature.Part]:[v2 atttainment]],6,),\"\")","v":0},{"$f":"IFERROR(_xlfn.TEXTJOIN(\", \",,_xlfn._xlws.FILTER(Table6[WELL v1 Feature 1],Table6[v2 Feature.Part]=UpgradeTable[[#This Row],[Code]],)),\"N/A\")","v":"69"}]
[null,"V05",{"$f":"_xlfn.CONCAT(UpgradeTable[[#This Row],[Feature]],\".\",UpgradeTable[[#This Row],[Part]])","v":"V05.1"},{"$f":"VLOOKUP(UpgradeTable[[#This Row],[Feature]],Table5[],12,0)","v":"Movement"},1,{"$f":"VLOOKUP(UpgradeTable[[#This Row],[Code]],Table5[[Feature.Part]:[Part Description]],2,0)","v":"Select Sites with Pedestrian-friendly Streets"},{"$f":"VLOOKUP(UpgradeTable[[#This Row],[Code]],Table9[[Feature.Part]:[v2 atttainment]],2,FALSE)","v":"Optimization"},{"$f":"IF(VLOOKUP(B100&\".\"&E100,Table9[[Feature.Part]:[v2 atttainment]],4,FALSE),\"Expected\",IF(G100=\"Precondition\",\"Needs achievement\",\"Not Pursued\"))","v":"Not Pursued"},{"$f":"IF(G100=\"Optimization\",VLOOKUP(B100&\".\"&E100,Table9[[Feature.Part]:[v2 atttainment]],6,),\"\")","v":0},{"$f":"IFERROR(_xlfn.TEXTJOIN(\", \",,_xlfn._xlws.FILTER(Table6[WELL v1 Feature 1],Table6[v2 Feature.Part]=UpgradeTable[[#This Row],[Code]],)),\"N/A\")","v":"67"}]
[null,"V05",{"$f":"_xlfn.CONCAT(UpgradeTable[[#This Row],[Feature]],\".\",UpgradeTable[[#This Row],[Part]])","v":"V05.2"},{"$f":"VLOOKUP(UpgradeTable[[#This Row],[Feature]],Table5[],12,0)","v":"Movement"},2,{"$f":"VLOOKUP(UpgradeTable[[#This Row],[Code]],Table5[[Feature.Part]:[Part Description]],2,0)","v":"Select Sites with Access to Mass Transit"},{"$f":"VLOOKUP(UpgradeTable[[#This Row],[Code]],Table9[[Feature.Part]:[v2 atttainment]],2,FALSE)","v":"Optimization"},{"$f":"IF(VLOOKUP(B101&\".\"&E101,Table9[[Feature.Part]:[v2 atttainment]],4,FALSE),\"Expected\",IF(G101=\"Precondition\",\"Needs achievement\",\"Not Pursued\"))","v":"Not Pursued"},{"$f":"IF(G101=\"Optimization\",VLOOKUP(B101&\".\"&E101,Table9[[Feature.Part]:[v2 atttainment]],6,),\"\")","v":0},{"$f":"IFERROR(_xlfn.TEXTJOIN(\", \",,_xlfn._xlws.FILTER(Table6[WELL v1 Feature 1],Table6[v2 Feature.Part]=UpgradeTable[[#This Row],[Code]],)),\"N/A\")","v":"N/A"}]
[null,"V06",{"$f":"_xlfn.CONCAT(UpgradeTable[[#This Row],[Feature]],\".\",UpgradeTable[[#This Row],[Part]])","v":"V06.1"},{"$f":"VLOOKUP(UpgradeTable[[#This Row],[Feature]],Table5[],12,0)","v":"Movement"},1,{"$f":"VLOOKUP(UpgradeTable[[#This Row],[Code]],Table5[[Feature.Part]:[Part Description]],2,0)","v":"Offer Physical Activity Opportunities"},{"$f":"VLOOKUP(UpgradeTable[[#This Row],[Code]],Table9[[Feature.Part]:[v2 atttainment]],2,FALSE)","v":"Optimization"},{"$f":"IF(VLOOKUP(B102&\".\"&E102,Table9[[Feature.Part]:[v2 atttainment]],4,FALSE),\"Expected\",IF(G102=\"Precondition\",\"Needs achievement\",\"Not Pursued\"))","v":"Not Pursued"},{"$f":"IF(G102=\"Optimization\",VLOOKUP(B102&\".\"&E102,Table9[[Feature.Part]:[v2 atttainment]],6,),\"\")","v":0},{"$f":"IFERROR(_xlfn.TEXTJOIN(\", \",,_xlfn._xlws.FILTER(Table6[WELL v1 Feature 1],Table6[v2 Feature.Part]=UpgradeTable[[#This Row],[Code]],)),\"N/A\")","v":"66"}]
[null,"V07",{"$f":"_xlfn.CONCAT(UpgradeTable[[#This Row],[Feature]],\".\",UpgradeTable[[#This Row],[Part]])","v":"V07.1"},{"$f":"VLOOKUP(UpgradeTable[[#This Row],[Feature]],Table5[],12,0)","v":"Movement"},1,{"$f":"VLOOKUP(UpgradeTable[[#This Row],[Code]],Table5[[Feature.Part]:[Part Description]],2,0)","v":"Provide Active Workstations"},{"$f":"VLOOKUP(UpgradeTable[[#This Row],[Code]],Table9[[Feature.Part]:[v2 atttainment]],2,FALSE)","v":"Optimization"},{"$f":"IF(VLOOKUP(B103&\".\"&E103,Table9[[Feature.Part]:[v2 atttainment]],4,FALSE),\"Expected\",IF(G103=\"Precondition\",\"Needs achievement\",\"Not Pursued\"))","v":"Not Pursued"},{"$f":"IF(G103=\"Optimization\",VLOOKUP(B103&\".\"&E103,Table9[[Feature.Part]:[v2 atttainment]],6,),\"\")","v":0},{"$f":"IFERROR(_xlfn.TEXTJOIN(\", \",,_xlfn._xlws.FILTER(Table6[WELL v1 Feature 1],Table6[v2 Feature.Part]=UpgradeTable[[#This Row],[Code]],)),\"N/A\")","v":"71"}]
[null,"V08",{"$f":"_xlfn.CONCAT(UpgradeTable[[#This Row],[Feature]],\".\",UpgradeTable[[#This Row],[Part]])","v":"V08.1"},{"$f":"VLOOKUP(UpgradeTable[[#This Row],[Feature]],Table5[],12,0)","v":"Movement"},1,{"$f":"VLOOKUP(UpgradeTable[[#This Row],[Code]],Table5[[Feature.Part]:[Part Description]],2,0)","v":"Provide Indoor Activity Spaces"},{"$f":"VLOOKUP(UpgradeTable[[#This Row],[Code]],Table9[[Feature.Part]:[v2 atttainment]],2,FALSE)","v":"Optimization"},{"$f":"IF(VLOOKUP(B104&\".\"&E104,Table9[[Feature.Part]:[v2 atttainment]],4,FALSE),\"Expected\",IF(G104=\"Precondition\",\"Needs achievement\",\"Not Pursued\"))","v":"Not Pursued"},{"$f":"IF(G104=\"Optimization\",VLOOKUP(B104&\".\"&E104,Table9[[Feature.Part]:[v2 atttainment]],6,),\"\")","v":0},{"$f":"IFERROR(_xlfn.TEXTJOIN(\", \",,_xlfn._xlws.FILTER(Table6[WELL v1 Feature 1],Table6[v2 Feature.Part]=UpgradeTable[[#This Row],[Code]],)),\"N/A\")","v":"68"}]
[null,"V08",{"$f":"_xlfn.CONCAT(UpgradeTable[[#This Row],[Feature]],\".\",UpgradeTable[[#This Row],[Part]])","v":"V08.2"},{"$f":"VLOOKUP(UpgradeTable[[#This Row],[Feature]],Table5[],12,0)","v":"Movement"},2,{"$f":"VLOOKUP(UpgradeTable[[#This Row],[Code]],Table5[[Feature.Part]:[Part Description]],2,0)","v":"Provide Outdoor Physical Activity Space"},{"$f":"VLOOKUP(UpgradeTable[[#This Row],[Code]],Table9[[Feature.Part]:[v2 atttainment]],2,FALSE)","v":"Optimization"},{"$f":"IF(VLOOKUP(B105&\".\"&E105,Table9[[Feature.Part]:[v2 atttainment]],4,FALSE),\"Expected\",IF(G105=\"Precondition\",\"Needs achievement\",\"Not Pursued\"))","v":"Not Pursued"},{"$f":"IF(G105=\"Optimization\",VLOOKUP(B105&\".\"&E105,Table9[[Feature.Part]:[v2 atttainment]],6,),\"\")","v":0},{"$f":"IFERROR(_xlfn.TEXTJOIN(\", \",,_xlfn._xlws.FILTER(Table6[WELL v1 Feature 1],Table6[v2 Feature.Part]=UpgradeTable[[#This Row],[Code]],)),\"N/A\")","v":"68"}]
[null,"V09",{"$f":"_xlfn.CONCAT(UpgradeTable[[#This Row],[Feature]],\".\",UpgradeTable[[#This Row],[Part]])","v":"V09.1"},{"$f":"VLOOKUP(UpgradeTable[[#This Row],[Feature]],Table5[],12,0)","v":"Movement"},1,{"$f":"VLOOKUP(UpgradeTable[[#This Row],[Code]],Table5[[Feature.Part]:[Part Description]],2,0)","v":"Offer Physical Activity Incentives"},{"$f":"VLOOKUP(UpgradeTable[[#This Row],[Code]],Table9[[Feature.Part]:[v2 atttainment]],2,FALSE)","v":"Optimization"},{"$f":"IF(VLOOKUP(B106&\".\"&E106,Table9[[Feature.Part]:[v2 atttainment]],4,FALSE),\"Expected\",IF(G106=\"Precondition\",\"Needs achievement\",\"Not Pursued\"))","v":"Expected"},{"$f":"IF(G106=\"Optimization\",VLOOKUP(B106&\".\"&E106,Table9[[Feature.Part]:[v2 atttainment]],6,),\"\")","v":1},{"$f":"IFERROR(_xlfn.TEXTJOIN(\", \",,_xlfn._xlws.FILTER(Table6[WELL v1 Feature 1],Table6[v2 Feature.Part]=UpgradeTable[[#This Row],[Code]],)),\"N/A\")","v":"65"}]
[null,"V10",{"$f":"_xlfn.CONCAT(UpgradeTable[[#This Row],[Feature]],\".\",UpgradeTable[[#This Row],[Part]])","v":"V10.1"},{"$f":"VLOOKUP(UpgradeTable[[#This Row],[Feature]],Table5[],12,0)","v":"Movement"},1,{"$f":"VLOOKUP(UpgradeTable[[#This Row],[Code]],Table5[[Feature.Part]:[Part Description]],2,0)","v":"Provide Self-Monitoring Tools"},{"$f":"VLOOKUP(UpgradeTable[[#This Row],[Code]],Table9[[Feature.Part]:[v2 atttainment]],2,FALSE)","v":"Optimization"},{"$f":"IF(VLOOKUP(B107&\".\"&E107,Table9[[Feature.Part]:[v2 atttainment]],4,FALSE),\"Expected\",IF(G107=\"Precondition\",\"Needs achievement\",\"Not Pursued\"))","v":"Not Pursued"},{"$f":"IF(G107=\"Optimization\",VLOOKUP(B107&\".\"&E107,Table9[[Feature.Part]:[v2 atttainment]],6,),\"\")","v":0},{"$f":"IFERROR(_xlfn.TEXTJOIN(\", \",,_xlfn._xlws.FILTER(Table6[WELL v1 Feature 1],Table6[v2 Feature.Part]=UpgradeTable[[#This Row],[Code]],)),\"N/A\")","v":"94"}]
[null,"V11",{"$f":"_xlfn.CONCAT(UpgradeTable[[#This Row],[Feature]],\".\",UpgradeTable[[#This Row],[Part]])","v":"V11.1"},{"$f":"VLOOKUP(UpgradeTable[[#This Row],[Feature]],Table5[],12,0)","v":"Movement"},1,{"$f":"VLOOKUP(UpgradeTable[[#This Row],[Code]],Table5[[Feature.Part]:[Part Description]],2,0)","v":"Implement an Ergonomics Program"},{"$f":"VLOOKUP(UpgradeTable[[#This Row],[Code]],Table9[[Feature.Part]:[v2 atttainment]],2,FALSE)","v":"Optimization"},{"$f":"IF(VLOOKUP(B108&\".\"&E108,Table9[[Feature.Part]:[v2 atttainment]],4,FALSE),\"Expected\",IF(G108=\"Precondition\",\"Needs achievement\",\"Not Pursued\"))","v":"Not Pursued"},{"$f":"IF(G108=\"Optimization\",VLOOKUP(B108&\".\"&E108,Table9[[Feature.Part]:[v2 atttainment]],6,),\"\")","v":0},{"$f":"IFERROR(_xlfn.TEXTJOIN(\", \",,_xlfn._xlws.FILTER(Table6[WELL v1 Feature 1],Table6[v2 Feature.Part]=UpgradeTable[[#This Row],[Code]],)),\"N/A\")","v":"N/A"}]
[null,"V11",{"$f":"_xlfn.CONCAT(UpgradeTable[[#This Row],[Feature]],\".\",UpgradeTable[[#This Row],[Part]])","v":"V11.2"},{"$f":"VLOOKUP(UpgradeTable[[#This Row],[Feature]],Table5[],12,0)","v":"Movement"},2,{"$f":"VLOOKUP(UpgradeTable[[#This Row],[Code]],Table5[[Feature.Part]:[Part Description]],2,0)","v":"Commit to Ergonomic Improvements"},{"$f":"VLOOKUP(UpgradeTable[[#This Row],[Code]],Table9[[Feature.Part]:[v2 atttainment]],2,FALSE)","v":"Optimization"},{"$f":"IF(VLOOKUP(B109&\".\"&E109,Table9[[Feature.Part]:[v2 atttainment]],4,FALSE),\"Expected\",IF(G109=\"Precondition\",\"Needs achievement\",\"Not Pursued\"))","v":"Not Pursued"},{"$f":"IF(G109=\"Optimization\",VLOOKUP(B109&\".\"&E109,Table9[[Feature.Part]:[v2 atttainment]],6,),\"\")","v":0},{"$f":"IFERROR(_xlfn.TEXTJOIN(\", \",,_xlfn._xlws.FILTER(Table6[WELL v1 Feature 1],Table6[v2 Feature.Part]=UpgradeTable[[#This Row],[Code]],)),\"N/A\")","v":"N/A"}]
[null,"V11",{"$f":"_xlfn.CONCAT(UpgradeTable[[#This Row],[Feature]],\".\",UpgradeTable[[#This Row],[Part]])","v":"V11.3"},{"$f":"VLOOKUP(UpgradeTable[[#This Row],[Feature]],Table5[],12,0)","v":"Movement"},3,{"$f":"VLOOKUP(UpgradeTable[[#This Row],[Code]],Table5[[Feature.Part]:[Part Description]],2,0)","v":"Support Remote Work Ergonomics"},{"$f":"VLOOKUP(UpgradeTable[[#This Row],[Code]],Table9[[Feature.Part]:[v2 atttainment]],2,FALSE)","v":"Optimization"},{"$f":"IF(VLOOKUP(B110&\".\"&E110,Table9[[Feature.Part]:[v2 atttainment]],4,FALSE),\"Expected\",IF(G110=\"Precondition\",\"Needs achievement\",\"Not Pursued\"))","v":"Not Pursued"},{"$f":"IF(G110=\"Optimization\",VLOOKUP(B110&\".\"&E110,Table9[[Feature.Part]:[v2 atttainment]],6,),\"\")","v":0},{"$f":"IFERROR(_xlfn.TEXTJOIN(\", \",,_xlfn._xlws.FILTER(Table6[WELL v1 Feature 1],Table6[v2 Feature.Part]=UpgradeTable[[#This Row],[Code]],)),\"N/A\")","v":"N/A"}]
[null,"T01",{"$f":"_xlfn.CONCAT(UpgradeTable[[#This Row],[Feature]],\".\",UpgradeTable[[#This Row],[Part]])","v":"T01.1"},{"$f":"VLOOKUP(UpgradeTable[[#This Row],[Feature]],Table5[],12,0)","v":"Thermal Comfort"},1,{"$f":"VLOOKUP(UpgradeTable[[#This Row],[Code]],Table5[[Feature.Part]:[Part Description]],2,0)","v":"Provide Acceptable Thermal Environment"},{"$f":"VLOOKUP(UpgradeTable[[#This Row],[Code]],Table9[[Feature.Part]:[v2 atttainment]],2,FALSE)","v":"Precondition"},{"$f":"IF(VLOOKUP(B111&\".\"&E111,Table9[[Feature.Part]:[v2 atttainment]],4,FALSE),\"Expected\",IF(G111=\"Precondition\",\"Needs achievement\",\"Not Pursued\"))","v":"Expected"},{"$f":"IF(G111=\"Optimization\",VLOOKUP(B111&\".\"&E111,Table9[[Feature.Part]:[v2 atttainment]],6,),\"\")","v":""},{"$f":"IFERROR(_xlfn.TEXTJOIN(\", \",,_xlfn._xlws.FILTER(Table6[WELL v1 Feature 1],Table6[v2 Feature.Part]=UpgradeTable[[#This Row],[Code]],)),\"N/A\")","v":"76"}]
[null,"T01",{"$f":"_xlfn.CONCAT(UpgradeTable[[#This Row],[Feature]],\".\",UpgradeTable[[#This Row],[Part]])","v":"T01.2"},{"$f":"VLOOKUP(UpgradeTable[[#This Row],[Feature]],Table5[],12,0)","v":"Thermal Comfort"},2,{"$f":"VLOOKUP(UpgradeTable[[#This Row],[Code]],Table5[[Feature.Part]:[Part Description]],2,0)","v":"Monitor Thermal Parameters"},{"$f":"VLOOKUP(UpgradeTable[[#This Row],[Code]],Table9[[Feature.Part]:[v2 atttainment]],2,FALSE)","v":"Precondition"},{"$f":"IF(VLOOKUP(B112&\".\"&E112,Table9[[Feature.Part]:[v2 atttainment]],4,FALSE),\"Expected\",IF(G112=\"Precondition\",\"Needs achievement\",\"Not Pursued\"))","v":"Needs achievement"},{"$f":"IF(G112=\"Optimization\",VLOOKUP(B112&\".\"&E112,Table9[[Feature.Part]:[v2 atttainment]],6,),\"\")","v":""},{"$f":"IFERROR(_xlfn.TEXTJOIN(\", \",,_xlfn._xlws.FILTER(Table6[WELL v1 Feature 1],Table6[v2 Feature.Part]=UpgradeTable[[#This Row],[Code]],)),\"N/A\")","v":"N/A"}]
[null,"T02",{"$f":"_xlfn.CONCAT(UpgradeTable[[#This Row],[Feature]],\".\",UpgradeTable[[#This Row],[Part]])","v":"T02.1"},{"$f":"VLOOKUP(UpgradeTable[[#This Row],[Feature]],Table5[],12,0)","v":"Thermal Comfort"},1,{"$f":"VLOOKUP(UpgradeTable[[#This Row],[Code]],Table5[[Feature.Part]:[Part Description]],2,0)","v":"Survey for Thermal Comfort"},{"$f":"VLOOKUP(UpgradeTable[[#This Row],[Code]],Table9[[Feature.Part]:[v2 atttainment]],2,FALSE)","v":"Optimization"},{"$f":"IF(VLOOKUP(B113&\".\"&E113,Table9[[Feature.Part]:[v2 atttainment]],4,FALSE),\"Expected\",IF(G113=\"Precondition\",\"Needs achievement\",\"Not Pursued\"))","v":"Not Pursued"},{"$f":"IF(G113=\"Optimization\",VLOOKUP(B113&\".\"&E113,Table9[[Feature.Part]:[v2 atttainment]],6,),\"\")","v":0},{"$f":"IFERROR(_xlfn.TEXTJOIN(\", \",,_xlfn._xlws.FILTER(Table6[WELL v1 Feature 1],Table6[v2 Feature.Part]=UpgradeTable[[#This Row],[Code]],)),\"N/A\")","v":"N/A"}]
[null,"T03",{"$f":"_xlfn.CONCAT(UpgradeTable[[#This Row],[Feature]],\".\",UpgradeTable[[#This Row],[Part]])","v":"T03.1"},{"$f":"VLOOKUP(UpgradeTable[[#This Row],[Feature]],Table5[],12,0)","v":"Thermal Comfort"},1,{"$f":"VLOOKUP(UpgradeTable[[#This Row],[Code]],Table5[[Feature.Part]:[Part Description]],2,0)","v":"Provide Thermostat Control"},{"$f":"VLOOKUP(UpgradeTable[[#This Row],[Code]],Table9[[Feature.Part]:[v2 atttainment]],2,FALSE)","v":"Optimization"},{"$f":"IF(VLOOKUP(B114&\".\"&E114,Table9[[Feature.Part]:[v2 atttainment]],4,FALSE),\"Expected\",IF(G114=\"Precondition\",\"Needs achievement\",\"Not Pursued\"))","v":"Not Pursued"},{"$f":"IF(G114=\"Optimization\",VLOOKUP(B114&\".\"&E114,Table9[[Feature.Part]:[v2 atttainment]],6,),\"\")","v":0},{"$f":"IFERROR(_xlfn.TEXTJOIN(\", \",,_xlfn._xlws.FILTER(Table6[WELL v1 Feature 1],Table6[v2 Feature.Part]=UpgradeTable[[#This Row],[Code]],)),\"N/A\")","v":"N/A"}]
[null,"T04",{"$f":"_xlfn.CONCAT(UpgradeTable[[#This Row],[Feature]],\".\",UpgradeTable[[#This Row],[Part]])","v":"T04.1"},{"$f":"VLOOKUP(UpgradeTable[[#This Row],[Feature]],Table5[],12,0)","v":"Thermal Comfort"},1,{"$f":"VLOOKUP(UpgradeTable[[#This Row],[Code]],Table5[[Feature.Part]:[Part Description]],2,0)","v":"Provide Personal Cooling Options"},{"$f":"VLOOKUP(UpgradeTable[[#This Row],[Code]],Table9[[Feature.Part]:[v2 atttainment]],2,FALSE)","v":"Optimization"},{"$f":"IF(VLOOKUP(B115&\".\"&E115,Table9[[Feature.Part]:[v2 atttainment]],4,FALSE),\"Expected\",IF(G115=\"Precondition\",\"Needs achievement\",\"Not Pursued\"))","v":"Not Pursued"},{"$f":"IF(G115=\"Optimization\",VLOOKUP(B115&\".\"&E115,Table9[[Feature.Part]:[v2 atttainment]],6,),\"\")","v":0},{"$f":"IFERROR(_xlfn.TEXTJOIN(\", \",,_xlfn._xlws.FILTER(Table6[WELL v1 Feature 1],Table6[v2 Feature.Part]=UpgradeTable[[#This Row],[Code]],)),\"N/A\")","v":"82"}]
[null,"T04",{"$f":"_xlfn.CONCAT(UpgradeTable[[#This Row],[Feature]],\".\",UpgradeTable[[#This Row],[Part]])","v":"T04.2"},{"$f":"VLOOKUP(UpgradeTable[[#This Row],[Feature]],Table5[],12,0)","v":"Thermal Comfort"},2,{"$f":"VLOOKUP(UpgradeTable[[#This Row],[Code]],Table5[[Feature.Part]:[Part Description]],2,0)","v":"Provide Personal Heating Options"},{"$f":"VLOOKUP(UpgradeTable[[#This Row],[Code]],Table9[[Feature.Part]:[v2 atttainment]],2,FALSE)","v":"Optimization"},{"$f":"IF(VLOOKUP(B116&\".\"&E116,Table9[[Feature.Part]:[v2 atttainment]],4,FALSE),\"Expected\",IF(G116=\"Precondition\",\"Needs achievement\",\"Not Pursued\"))","v":"Not Pursued"},{"$f":"IF(G116=\"Optimization\",VLOOKUP(B116&\".\"&E116,Table9[[Feature.Part]:[v2 atttainment]],6,),\"\")","v":0},{"$f":"IFERROR(_xlfn.TEXTJOIN(\", \",,_xlfn._xlws.FILTER(Table6[WELL v1 Feature 1],Table6[v2 Feature.Part]=UpgradeTable[[#This Row],[Code]],)),\"N/A\")","v":"N/A"}]
[null,"T04",{"$f":"_xlfn.CONCAT(UpgradeTable[[#This Row],[Feature]],\".\",UpgradeTable[[#This Row],[Part]])","v":"T04.3"},{"$f":"VLOOKUP(UpgradeTable[[#This Row],[Feature]],Table5[],12,0)","v":"Thermal Comfort"},3,{"$f":"VLOOKUP(UpgradeTable[[#This Row],[Code]],Table5[[Feature.Part]:[Part Description]],2,0)","v":"Allow Flexible Dress Code"},{"$f":"VLOOKUP(UpgradeTable[[#This Row],[Code]],Table9[[Feature.Part]:[v2 atttainment]],2,FALSE)","v":"Optimization"},{"$f":"IF(VLOOKUP(B117&\".\"&E117,Table9[[Feature.Part]:[v2 atttainment]],4,FALSE),\"Expected\",IF(G117=\"Precondition\",\"Needs achievement\",\"Not Pursued\"))","v":"Not Pursued"},{"$f":"IF(G117=\"Optimization\",VLOOKUP(B117&\".\"&E117,Table9[[Feature.Part]:[v2 atttainment]],6,),\"\")","v":0},{"$f":"IFERROR(_xlfn.TEXTJOIN(\", \",,_xlfn._xlws.FILTER(Table6[WELL v1 Feature 1],Table6[v2 Feature.Part]=UpgradeTable[[#This Row],[Code]],)),\"N/A\")","v":"N/A"}]
[null,"T05",{"$f":"_xlfn.CONCAT(UpgradeTable[[#This Row],[Feature]],\".\",UpgradeTable[[#This Row],[Part]])","v":"T05.1"},{"$f":"VLOOKUP(UpgradeTable[[#This Row],[Feature]],Table5[],12,0)","v":"Thermal Comfort"},1,{"$f":"VLOOKUP(UpgradeTable[[#This Row],[Code]],Table5[[Feature.Part]:[Part Description]],2,0)","v":"Implement Radiant Heating"},{"$f":"VLOOKUP(UpgradeTable[[#This Row],[Code]],Table9[[Feature.Part]:[v2 atttainment]],2,FALSE)","v":"Optimization"},{"$f":"IF(VLOOKUP(B118&\".\"&E118,Table9[[Feature.Part]:[v2 atttainment]],4,FALSE),\"Expected\",IF(G118=\"Precondition\",\"Needs achievement\",\"Not Pursued\"))","v":"Not Pursued"},{"$f":"IF(G118=\"Optimization\",VLOOKUP(B118&\".\"&E118,Table9[[Feature.Part]:[v2 atttainment]],6,),\"\")","v":0},{"$f":"IFERROR(_xlfn.TEXTJOIN(\", \",,_xlfn._xlws.FILTER(Table6[WELL v1 Feature 1],Table6[v2 Feature.Part]=UpgradeTable[[#This Row],[Code]],)),\"N/A\")","v":"83"}]
[null,"T05",{"$f":"_xlfn.CONCAT(UpgradeTable[[#This Row],[Feature]],\".\",UpgradeTable[[#This Row],[Part]])","v":"T05.2"},{"$f":"VLOOKUP(UpgradeTable[[#This Row],[Feature]],Table5[],12,0)","v":"Thermal Comfort"},2,{"$f":"VLOOKUP(UpgradeTable[[#This Row],[Code]],Table5[[Feature.Part]:[Part Description]],2,0)","v":"Implement Radiant Cooling"},{"$f":"VLOOKUP(UpgradeTable[[#This Row],[Code]],Table9[[Feature.Part]:[v2 atttainment]],2,FALSE)","v":"Optimization"},{"$f":"IF(VLOOKUP(B119&\".\"&E119,Table9[[Feature.Part]:[v2 atttainment]],4,FALSE),\"Expected\",IF(G119=\"Precondition\",\"Needs achievement\",\"Not Pursued\"))","v":"Not Pursued"},{"$f":"IF(G119=\"Optimization\",VLOOKUP(B119&\".\"&E119,Table9[[Feature.Part]:[v2 atttainment]],6,),\"\")","v":0},{"$f":"IFERROR(_xlfn.TEXTJOIN(\", \",,_xlfn._xlws.FILTER(Table6[WELL v1 Feature 1],Table6[v2 Feature.Part]=UpgradeTable[[#This Row],[Code]],)),\"N/A\")","v":"N/A"}]
[null,"T06",{"$f":"_xlfn.CONCAT(UpgradeTable[[#This Row],[Feature]],\".\",UpgradeTable[[#This Row],[Part]])","v":"T06.1"},{"$f":"VLOOKUP(UpgradeTable[[#This Row],[Feature]],Table5[],12,0)","v":"Thermal Comfort"},1,{"$f":"VLOOKUP(UpgradeTable[[#This Row],[Code]],Table5[[Feature.Part]:[Part Description]],2,0)","v":"Monitor Thermal Environment"},{"$f":"VLOOKUP(UpgradeTable[[#This Row],[Code]],Table9[[Feature.Part]:[v2 atttainment]],2,FALSE)","v":"Optimization"},{"$f":"IF(VLOOKUP(B120&\".\"&E120,Table9[[Feature.Part]:[v2 atttainment]],4,FALSE),\"Expected\",IF(G120=\"Precondition\",\"Needs achievement\",\"Not Pursued\"))","v":"Not Pursued"},{"$f":"IF(G120=\"Optimization\",VLOOKUP(B120&\".\"&E120,Table9[[Feature.Part]:[v2 atttainment]],6,),\"\")","v":0},{"$f":"IFERROR(_xlfn.TEXTJOIN(\", \",,_xlfn._xlws.FILTER(Table6[WELL v1 Feature 1],Table6[v2 Feature.Part]=UpgradeTable[[#This Row],[Code]],)),\"N/A\")","v":"N/A"}]
[null,"T07",{"$f":"_xlfn.CONCAT(UpgradeTable[[#This Row],[Feature]],\".\",UpgradeTable[[#This Row],[Part]])","v":"T07.1"},{"$f":"VLOOKUP(UpgradeTable[[#This Row],[Feature]],Table5[],12,0)","v":"Thermal Comfort"},1,{"$f":"VLOOKUP(UpgradeTable[[#This Row],[Code]],Table5[[Feature.Part]:[Part Description]],2,0)","v":"Manage Relative Humidity"},{"$f":"VLOOKUP(UpgradeTable[[#This Row],[Code]],Table9[[Feature.Part]:[v2 atttainment]],2,FALSE)","v":"Optimization"},{"$f":"IF(VLOOKUP(B121&\".\"&E121,Table9[[Feature.Part]:[v2 atttainment]],4,FALSE),\"Expected\",IF(G121=\"Precondition\",\"Needs achievement\",\"Not Pursued\"))","v":"Not Pursued"},{"$f":"IF(G121=\"Optimization\",VLOOKUP(B121&\".\"&E121,Table9[[Feature.Part]:[v2 atttainment]],6,),\"\")","v":0},{"$f":"IFERROR(_xlfn.TEXTJOIN(\", \",,_xlfn._xlws.FILTER(Table6[WELL v1 Feature 1],Table6[v2 Feature.Part]=UpgradeTable[[#This Row],[Code]],)),\"N/A\")","v":"16"}]
[null,"T08",{"$f":"_xlfn.CONCAT(UpgradeTable[[#This Row],[Feature]],\".\",UpgradeTable[[#This Row],[Part]])","v":"T08.1"},{"$f":"VLOOKUP(UpgradeTable[[#This Row],[Feature]],Table5[],12,0)","v":"Thermal Comfort"},1,{"$f":"VLOOKUP(UpgradeTable[[#This Row],[Code]],Table5[[Feature.Part]:[Part Description]],2,0)","v":"Provide Windows with Multiple Opening Modes"},{"$f":"VLOOKUP(UpgradeTable[[#This Row],[Code]],Table9[[Feature.Part]:[v2 atttainment]],2,FALSE)","v":"Optimization"},{"$f":"IF(VLOOKUP(B122&\".\"&E122,Table9[[Feature.Part]:[v2 atttainment]],4,FALSE),\"Expected\",IF(G122=\"Precondition\",\"Needs achievement\",\"Not Pursued\"))","v":"Not Pursued"},{"$f":"IF(G122=\"Optimization\",VLOOKUP(B122&\".\"&E122,Table9[[Feature.Part]:[v2 atttainment]],6,),\"\")","v":0},{"$f":"IFERROR(_xlfn.TEXTJOIN(\", \",,_xlfn._xlws.FILTER(Table6[WELL v1 Feature 1],Table6[v2 Feature.Part]=UpgradeTable[[#This Row],[Code]],)),\"N/A\")","v":"N/A"}]
[null,"T09",{"$f":"_xlfn.CONCAT(UpgradeTable[[#This Row],[Feature]],\".\",UpgradeTable[[#This Row],[Part]])","v":"T09.1"},{"$f":"VLOOKUP(UpgradeTable[[#This Row],[Feature]],Table5[],12,0)","v":"Thermal Comfort"},1,{"$f":"VLOOKUP(UpgradeTable[[#This Row],[Code]],Table5[[Feature.Part]:[Part Description]],2,0)","v":"Manage Outdoor Heat"},{"$f":"VLOOKUP(UpgradeTable[[#This Row],[Code]],Table9[[Feature.Part]:[v2 atttainment]],2,FALSE)","v":"Optimization"},{"$f":"IF(VLOOKUP(B123&\".\"&E123,Table9[[Feature.Part]:[v2 atttainment]],4,FALSE),\"Expected\",IF(G123=\"Precondition\",\"Needs achievement\",\"Not Pursued\"))","v":"Not Pursued"},{"$f":"IF(G123=\"Optimization\",VLOOKUP(B123&\".\"&E123,Table9[[Feature.Part]:[v2 atttainment]],6,),\"\")","v":0},{"$f":"IFERROR(_xlfn.TEXTJOIN(\", \",,_xlfn._xlws.FILTER(Table6[WELL v1 Feature 1],Table6[v2 Feature.Part]=UpgradeTable[[#This Row],[Code]],)),\"N/A\")","v":"N/A"}]
[null,"T09",{"$f":"_xlfn.CONCAT(UpgradeTable[[#This Row],[Feature]],\".\",UpgradeTable[[#This Row],[Part]])","v":"T09.2"},{"$f":"VLOOKUP(UpgradeTable[[#This Row],[Feature]],Table5[],12,0)","v":"Thermal Comfort"},2,{"$f":"VLOOKUP(UpgradeTable[[#This Row],[Code]],Table5[[Feature.Part]:[Part Description]],2,0)","v":"Avoid Excessive Wind"},{"$f":"VLOOKUP(UpgradeTable[[#This Row],[Code]],Table9[[Feature.Part]:[v2 atttainment]],2,FALSE)","v":"Optimization"},{"$f":"IF(VLOOKUP(B124&\".\"&E124,Table9[[Feature.Part]:[v2 atttainment]],4,FALSE),\"Expected\",IF(G124=\"Precondition\",\"Needs achievement\",\"Not Pursued\"))","v":"Not Pursued"},{"$f":"IF(G124=\"Optimization\",VLOOKUP(B124&\".\"&E124,Table9[[Feature.Part]:[v2 atttainment]],6,),\"\")","v":0},{"$f":"IFERROR(_xlfn.TEXTJOIN(\", \",,_xlfn._xlws.FILTER(Table6[WELL v1 Feature 1],Table6[v2 Feature.Part]=UpgradeTable[[#This Row],[Code]],)),\"N/A\")","v":"N/A"}]
[null,"S01",{"$f":"_xlfn.CONCAT(UpgradeTable[[#This Row],[Feature]],\".\",UpgradeTable[[#This Row],[Part]])","v":"S01.1"},{"$f":"VLOOKUP(UpgradeTable[[#This Row],[Feature]],Table5[],12,0)","v":"Sound"},1,{"$f":"VLOOKUP(UpgradeTable[[#This Row],[Code]],Table5[[Feature.Part]:[Part Description]],2,0)","v":"Label Acoustic Zones"},{"$f":"VLOOKUP(UpgradeTable[[#This Row],[Code]],Table9[[Feature.Part]:[v2 atttainment]],2,FALSE)","v":"Precondition"},{"$f":"IF(VLOOKUP(B125&\".\"&E125,Table9[[Feature.Part]:[v2 atttainment]],4,FALSE),\"Expected\",IF(G125=\"Precondition\",\"Needs achievement\",\"Not Pursued\"))","v":"Expected"},{"$f":"IF(G125=\"Optimization\",VLOOKUP(B125&\".\"&E125,Table9[[Feature.Part]:[v2 atttainment]],6,),\"\")","v":""},{"$f":"IFERROR(_xlfn.TEXTJOIN(\", \",,_xlfn._xlws.FILTER(Table6[WELL v1 Feature 1],Table6[v2 Feature.Part]=UpgradeTable[[#This Row],[Code]],)),\"N/A\")","v":"75"}]
[null,"S01",{"$f":"_xlfn.CONCAT(UpgradeTable[[#This Row],[Feature]],\".\",UpgradeTable[[#This Row],[Part]])","v":"S01.2"},{"$f":"VLOOKUP(UpgradeTable[[#This Row],[Feature]],Table5[],12,0)","v":"Sound"},2,{"$f":"VLOOKUP(UpgradeTable[[#This Row],[Code]],Table5[[Feature.Part]:[Part Description]],2,0)","v":"Provide Acoustic Design Plan"},{"$f":"VLOOKUP(UpgradeTable[[#This Row],[Code]],Table9[[Feature.Part]:[v2 atttainment]],2,FALSE)","v":"Precondition"},{"$f":"IF(VLOOKUP(B126&\".\"&E126,Table9[[Feature.Part]:[v2 atttainment]],4,FALSE),\"Expected\",IF(G126=\"Precondition\",\"Needs achievement\",\"Not Pursued\"))","v":"Expected"},{"$f":"IF(G126=\"Optimization\",VLOOKUP(B126&\".\"&E126,Table9[[Feature.Part]:[v2 atttainment]],6,),\"\")","v":""},{"$f":"IFERROR(_xlfn.TEXTJOIN(\", \",,_xlfn._xlws.FILTER(Table6[WELL v1 Feature 1],Table6[v2 Feature.Part]=UpgradeTable[[#This Row],[Code]],)),\"N/A\")","v":"75"}]
[null,"S02",{"$f":"_xlfn.CONCAT(UpgradeTable[[#This Row],[Feature]],\".\",UpgradeTable[[#This Row],[Part]])","v":"S02.1"},{"$f":"VLOOKUP(UpgradeTable[[#This Row],[Feature]],Table5[],12,0)","v":"Sound"},1,{"$f":"VLOOKUP(UpgradeTable[[#This Row],[Code]],Table5[[Feature.Part]:[Part Description]],2,0)","v":"Limit Background Noise Levels"},{"$f":"VLOOKUP(UpgradeTable[[#This Row],[Code]],Table9[[Feature.Part]:[v2 atttainment]],2,FALSE)","v":"Optimization"},{"$f":"IF(VLOOKUP(B127&\".\"&E127,Table9[[Feature.Part]:[v2 atttainment]],4,FALSE),\"Expected\",IF(G127=\"Precondition\",\"Needs achievement\",\"Not Pursued\"))","v":"Expected"},{"$f":"IF(G127=\"Optimization\",VLOOKUP(B127&\".\"&E127,Table9[[Feature.Part]:[v2 atttainment]],6,),\"\")","v":3},{"$f":"IFERROR(_xlfn.TEXTJOIN(\", \",,_xlfn._xlws.FILTER(Table6[WELL v1 Feature 1],Table6[v2 Feature.Part]=UpgradeTable[[#This Row],[Code]],)),\"N/A\")","v":"74"}]
[null,"S03",{"$f":"_xlfn.CONCAT(UpgradeTable[[#This Row],[Feature]],\".\",UpgradeTable[[#This Row],[Part]])","v":"S03.1"},{"$f":"VLOOKUP(UpgradeTable[[#This Row],[Feature]],Table5[],12,0)","v":"Sound"},1,{"$f":"VLOOKUP(UpgradeTable[[#This Row],[Code]],Table5[[Feature.Part]:[Part Description]],2,0)","v":"Design for Sound Isolation at Walls and Doors"},{"$f":"VLOOKUP(UpgradeTable[[#This Row],[Code]],Table9[[Feature.Part]:[v2 atttainment]],2,FALSE)","v":"Optimization"},{"$f":"IF(VLOOKUP(B128&\".\"&E128,Table9[[Feature.Part]:[v2 atttainment]],4,FALSE),\"Expected\",IF(G128=\"Precondition\",\"Needs achievement\",\"Not Pursued\"))","v":"Not Pursued"},{"$f":"IF(G128=\"Optimization\",VLOOKUP(B128&\".\"&E128,Table9[[Feature.Part]:[v2 atttainment]],6,),\"\")","v":0},{"$f":"IFERROR(_xlfn.TEXTJOIN(\", \",,_xlfn._xlws.FILTER(Table6[WELL v1 Feature 1],Table6[v2 Feature.Part]=UpgradeTable[[#This Row],[Code]],)),\"N/A\")","v":"81"}]
[null,"S03",{"$f":"_xlfn.CONCAT(UpgradeTable[[#This Row],[Feature]],\".\",UpgradeTable[[#This Row],[Part]])","v":"S03.2"},{"$f":"VLOOKUP(UpgradeTable[[#This Row],[Feature]],Table5[],12,0)","v":"Sound"},2,{"$f":"VLOOKUP(UpgradeTable[[#This Row],[Code]],Table5[[Feature.Part]:[Part Description]],2,0)","v":"Achieve Sound Isolation at Walls"},{"$f":"VLOOKUP(UpgradeTable[[#This Row],[Code]],Table9[[Feature.Part]:[v2 atttainment]],2,FALSE)","v":"Optimization"},{"$f":"IF(VLOOKUP(B129&\".\"&E129,Table9[[Feature.Part]:[v2 atttainment]],4,FALSE),\"Expected\",IF(G129=\"Precondition\",\"Needs achievement\",\"Not Pursued\"))","v":"Not Pursued"},{"$f":"IF(G129=\"Optimization\",VLOOKUP(B129&\".\"&E129,Table9[[Feature.Part]:[v2 atttainment]],6,),\"\")","v":0},{"$f":"IFERROR(_xlfn.TEXTJOIN(\", \",,_xlfn._xlws.FILTER(Table6[WELL v1 Feature 1],Table6[v2 Feature.Part]=UpgradeTable[[#This Row],[Code]],)),\"N/A\")","v":"N/A"}]
[null,"S04",{"$f":"_xlfn.CONCAT(UpgradeTable[[#This Row],[Feature]],\".\",UpgradeTable[[#This Row],[Part]])","v":"S04.1"},{"$f":"VLOOKUP(UpgradeTable[[#This Row],[Feature]],Table5[],12,0)","v":"Sound"},1,{"$f":"VLOOKUP(UpgradeTable[[#This Row],[Code]],Table5[[Feature.Part]:[Part Description]],2,0)","v":"Achieve Reverberation Time Thresholds"},{"$f":"VLOOKUP(UpgradeTable[[#This Row],[Code]],Table9[[Feature.Part]:[v2 atttainment]],2,FALSE)","v":"Optimization"},{"$f":"IF(VLOOKUP(B130&\".\"&E130,Table9[[Feature.Part]:[v2 atttainment]],4,FALSE),\"Expected\",IF(G130=\"Precondition\",\"Needs achievement\",\"Not Pursued\"))","v":"Not Pursued"},{"$f":"IF(G130=\"Optimization\",VLOOKUP(B130&\".\"&E130,Table9[[Feature.Part]:[v2 atttainment]],6,),\"\")","v":0},{"$f":"IFERROR(_xlfn.TEXTJOIN(\", \",,_xlfn._xlws.FILTER(Table6[WELL v1 Feature 1],Table6[v2 Feature.Part]=UpgradeTable[[#This Row],[Code]],)),\"N/A\")","v":"78"}]
[null,"S05",{"$f":"_xlfn.CONCAT(UpgradeTable[[#This Row],[Feature]],\".\",UpgradeTable[[#This Row],[Part]])","v":"S05.1"},{"$f":"VLOOKUP(UpgradeTable[[#This Row],[Feature]],Table5[],12,0)","v":"Sound"},1,{"$f":"VLOOKUP(UpgradeTable[[#This Row],[Code]],Table5[[Feature.Part]:[Part Description]],2,0)","v":"Implement Sound Reducing Surfaces"},{"$f":"VLOOKUP(UpgradeTable[[#This Row],[Code]],Table9[[Feature.Part]:[v2 atttainment]],2,FALSE)","v":"Optimization"},{"$f":"IF(VLOOKUP(B131&\".\"&E131,Table9[[Feature.Part]:[v2 atttainment]],4,FALSE),\"Expected\",IF(G131=\"Precondition\",\"Needs achievement\",\"Not Pursued\"))","v":"Not Pursued"},{"$f":"IF(G131=\"Optimization\",VLOOKUP(B131&\".\"&E131,Table9[[Feature.Part]:[v2 atttainment]],6,),\"\")","v":0},{"$f":"IFERROR(_xlfn.TEXTJOIN(\", \",,_xlfn._xlws.FILTER(Table6[WELL v1 Feature 1],Table6[v2 Feature.Part]=UpgradeTable[[#This Row],[Code]],)),\"N/A\")","v":"80"}]
[null,"S06",{"$f":"_xlfn.CONCAT(UpgradeTable[[#This Row],[Feature]],\".\",UpgradeTable[[#This Row],[Part]])","v":"S06.1"},{"$f":"VLOOKUP(UpgradeTable[[#This Row],[Feature]],Table5[],12,0)","v":"Sound"},1,{"$f":"VLOOKUP(UpgradeTable[[#This Row],[Code]],Table5[[Feature.Part]:[Part Description]],2,0)","v":"Provide Minimum Background Sound"},{"$f":"VLOOKUP(UpgradeTable[[#This Row],[Code]],Table9[[Feature.Part]:[v2 atttainment]],2,FALSE)","v":"Optimization"},{"$f":"IF(VLOOKUP(B132&\".\"&E132,Table9[[Feature.Part]:[v2 atttainment]],4,FALSE),\"Expected\",IF(G132=\"Precondition\",\"Needs achievement\",\"Not Pursued\"))","v":"Not Pursued"},{"$f":"IF(G132=\"Optimization\",VLOOKUP(B132&\".\"&E132,Table9[[Feature.Part]:[v2 atttainment]],6,),\"\")","v":0},{"$f":"IFERROR(_xlfn.TEXTJOIN(\", \",,_xlfn._xlws.FILTER(Table6[WELL v1 Feature 1],Table6[v2 Feature.Part]=UpgradeTable[[#This Row],[Code]],)),\"N/A\")","v":"79"}]
[null,"S06",{"$f":"_xlfn.CONCAT(UpgradeTable[[#This Row],[Feature]],\".\",UpgradeTable[[#This Row],[Part]])","v":"S06.2"},{"$f":"VLOOKUP(UpgradeTable[[#This Row],[Feature]],Table5[],12,0)","v":"Sound"},2,{"$f":"VLOOKUP(UpgradeTable[[#This Row],[Code]],Table5[[Feature.Part]:[Part Description]],2,0)","v":"Provide Enhanced Speech Reduction"},{"$f":"VLOOKUP(UpgradeTable[[#This Row],[Code]],Table9[[Feature.Part]:[v2 atttainment]],2,FALSE)","v":"Optimization"},{"$f":"IF(VLOOKUP(B133&\".\"&E133,Table9[[Feature.Part]:[v2 atttainment]],4,FALSE),\"Expected\",IF(G133=\"Precondition\",\"Needs achievement\",\"Not Pursued\"))","v":"Not Pursued"},{"$f":"IF(G133=\"Optimization\",VLOOKUP(B133&\".\"&E133,Table9[[Feature.Part]:[v2 atttainment]],6,),\"\")","v":0},{"$f":"IFERROR(_xlfn.TEXTJOIN(\", \",,_xlfn._xlws.FILTER(Table6[WELL v1 Feature 1],Table6[v2 Feature.Part]=UpgradeTable[[#This Row],[Code]],)),\"N/A\")","v":"79"}]
[null,"S07",{"$f":"_xlfn.CONCAT(UpgradeTable[[#This Row],[Feature]],\".\",UpgradeTable[[#This Row],[Part]])","v":"S07.1"},{"$f":"VLOOKUP(UpgradeTable[[#This Row],[Feature]],Table5[],12,0)","v":"Sound"},1,{"$f":"VLOOKUP(UpgradeTable[[#This Row],[Code]],Table5[[Feature.Part]:[Part Description]],2,0)","v":"Specify Impact Noise Reducing Flooring"},{"$f":"VLOOKUP(UpgradeTable[[#This Row],[Code]],Table9[[Feature.Part]:[v2 atttainment]],2,FALSE)","v":"Optimization"},{"$f":"IF(VLOOKUP(B134&\".\"&E134,Table9[[Feature.Part]:[v2 atttainment]],4,FALSE),\"Expected\",IF(G134=\"Precondition\",\"Needs achievement\",\"Not Pursued\"))","v":"Not Pursued"},{"$f":"IF(G134=\"Optimization\",VLOOKUP(B134&\".\"&E134,Table9[[Feature.Part]:[v2 atttainment]],6,),\"\")","v":0},{"$f":"IFERROR(_xlfn.TEXTJOIN(\", \",,_xlfn._xlws.FILTER(Table6[WELL v1 Feature 1],Table6[v2 Feature.Part]=UpgradeTable[[#This Row],[Code]],)),\"N/A\")","v":"N/A"}]
[null,"S07",{"$f":"_xlfn.CONCAT(UpgradeTable[[#This Row],[Feature]],\".\",UpgradeTable[[#This Row],[Part]])","v":"S07.2"},{"$f":"VLOOKUP(UpgradeTable[[#This Row],[Feature]],Table5[],12,0)","v":"Sound"},2,{"$f":"VLOOKUP(UpgradeTable[[#This Row],[Code]],Table5[[Feature.Part]:[Part Description]],2,0)","v":"Meet Thresholds for Impact Noise Rating"},{"$f":"VLOOKUP(UpgradeTable[[#This Row],[Code]],Table9[[Feature.Part]:[v2 atttainment]],2,FALSE)","v":"Optimization"},{"$f":"IF(VLOOKUP(B135&\".\"&E135,Table9[[Feature.Part]:[v2 atttainment]],4,FALSE),\"Expected\",IF(G135=\"Precondition\",\"Needs achievement\",\"Not Pursued\"))","v":"Not Pursued"},{"$f":"IF(G135=\"Optimization\",VLOOKUP(B135&\".\"&E135,Table9[[Feature.Part]:[v2 atttainment]],6,),\"\")","v":0},{"$f":"IFERROR(_xlfn.TEXTJOIN(\", \",,_xlfn._xlws.FILTER(Table6[WELL v1 Feature 1],Table6[v2 Feature.Part]=UpgradeTable[[#This Row],[Code]],)),\"N/A\")","v":"N/A"}]
[null,"S08",{"$f":"_xlfn.CONCAT(UpgradeTable[[#This Row],[Feature]],\".\",UpgradeTable[[#This Row],[Part]])","v":"S08.1"},{"$f":"VLOOKUP(UpgradeTable[[#This Row],[Feature]],Table5[],12,0)","v":"Sound"},1,{"$f":"VLOOKUP(UpgradeTable[[#This Row],[Code]],Table5[[Feature.Part]:[Part Description]],2,0)","v":"Provide Enhanced Speech Intelligibility"},{"$f":"VLOOKUP(UpgradeTable[[#This Row],[Code]],Table9[[Feature.Part]:[v2 atttainment]],2,FALSE)","v":"Optimization"},{"$f":"IF(VLOOKUP(B136&\".\"&E136,Table9[[Feature.Part]:[v2 atttainment]],4,FALSE),\"Expected\",IF(G136=\"Precondition\",\"Needs achievement\",\"Not Pursued\"))","v":"Not Pursued"},{"$f":"IF(G136=\"Optimization\",VLOOKUP(B136&\".\"&E136,Table9[[Feature.Part]:[v2 atttainment]],6,),\"\")","v":0},{"$f":"IFERROR(_xlfn.TEXTJOIN(\", \",,_xlfn._xlws.FILTER(Table6[WELL v1 Feature 1],Table6[v2 Feature.Part]=UpgradeTable[[#This Row],[Code]],)),\"N/A\")","v":"N/A"}]
[null,"S08",{"$f":"_xlfn.CONCAT(UpgradeTable[[#This Row],[Feature]],\".\",UpgradeTable[[#This Row],[Part]])","v":"S08.2"},{"$f":"VLOOKUP(UpgradeTable[[#This Row],[Feature]],Table5[],12,0)","v":"Sound"},2,{"$f":"VLOOKUP(UpgradeTable[[#This Row],[Code]],Table5[[Feature.Part]:[Part Description]],2,0)","v":"Prioritize Audio Devices and Policies"},{"$f":"VLOOKUP(UpgradeTable[[#This Row],[Code]],Table9[[Feature.Part]:[v2 atttainment]],2,FALSE)","v":"Optimization"},{"$f":"IF(VLOOKUP(B137&\".\"&E137,Table9[[Feature.Part]:[v2 atttainment]],4,FALSE),\"Expected\",IF(G137=\"Precondition\",\"Needs achievement\",\"Not Pursued\"))","v":"Not Pursued"},{"$f":"IF(G137=\"Optimization\",VLOOKUP(B137&\".\"&E137,Table9[[Feature.Part]:[v2 atttainment]],6,),\"\")","v":0},{"$f":"IFERROR(_xlfn.TEXTJOIN(\", \",,_xlfn._xlws.FILTER(Table6[WELL v1 Feature 1],Table6[v2 Feature.Part]=UpgradeTable[[#This Row],[Code]],)),\"N/A\")","v":"N/A"}]
[null,"X01",{"$f":"_xlfn.CONCAT(UpgradeTable[[#This Row],[Feature]],\".\",UpgradeTable[[#This Row],[Part]])","v":"X01.1"},{"$f":"VLOOKUP(UpgradeTable[[#This Row],[Feature]],Table5[],12,0)","v":"Materials"},1,{"$f":"VLOOKUP(UpgradeTable[[#This Row],[Code]],Table5[[Feature.Part]:[Part Description]],2,0)","v":"Restrict Asbestos"},{"$f":"VLOOKUP(UpgradeTable[[#This Row],[Code]],Table9[[Feature.Part]:[v2 atttainment]],2,FALSE)","v":"Precondition"},{"$f":"IF(VLOOKUP(B138&\".\"&E138,Table9[[Feature.Part]:[v2 atttainment]],4,FALSE),\"Expected\",IF(G138=\"Precondition\",\"Needs achievement\",\"Not Pursued\"))","v":"Expected"},{"$f":"IF(G138=\"Optimization\",VLOOKUP(B138&\".\"&E138,Table9[[Feature.Part]:[v2 atttainment]],6,),\"\")","v":""},{"$f":"IFERROR(_xlfn.TEXTJOIN(\", \",,_xlfn._xlws.FILTER(Table6[WELL v1 Feature 1],Table6[v2 Feature.Part]=UpgradeTable[[#This Row],[Code]],)),\"N/A\")","v":"11"}]
[null,"X01",{"$f":"_xlfn.CONCAT(UpgradeTable[[#This Row],[Feature]],\".\",UpgradeTable[[#This Row],[Part]])","v":"X01.2"},{"$f":"VLOOKUP(UpgradeTable[[#This Row],[Feature]],Table5[],12,0)","v":"Materials"},2,{"$f":"VLOOKUP(UpgradeTable[[#This Row],[Code]],Table5[[Feature.Part]:[Part Description]],2,0)","v":"Restrict Mercury"},{"$f":"VLOOKUP(UpgradeTable[[#This Row],[Code]],Table9[[Feature.Part]:[v2 atttainment]],2,FALSE)","v":"Precondition"},{"$f":"IF(VLOOKUP(B139&\".\"&E139,Table9[[Feature.Part]:[v2 atttainment]],4,FALSE),\"Expected\",IF(G139=\"Precondition\",\"Needs achievement\",\"Not Pursued\"))","v":"Expected"},{"$f":"IF(G139=\"Optimization\",VLOOKUP(B139&\".\"&E139,Table9[[Feature.Part]:[v2 atttainment]],6,),\"\")","v":""},{"$f":"IFERROR(_xlfn.TEXTJOIN(\", \",,_xlfn._xlws.FILTER(Table6[WELL v1 Feature 1],Table6[v2 Feature.Part]=UpgradeTable[[#This Row],[Code]],)),\"N/A\")","v":"11"}]
[null,"X01",{"$f":"_xlfn.CONCAT(UpgradeTable[[#This Row],[Feature]],\".\",UpgradeTable[[#This Row],[Part]])","v":"X01.3"},{"$f":"VLOOKUP(UpgradeTable[[#This Row],[Feature]],Table5[],12,0)","v":"Materials"},3,{"$f":"VLOOKUP(UpgradeTable[[#This Row],[Code]],Table5[[Feature.Part]:[Part Description]],2,0)","v":"Restrict Lead"},{"$f":"VLOOKUP(UpgradeTable[[#This Row],[Code]],Table9[[Feature.Part]:[v2 atttainment]],2,FALSE)","v":"Precondition"},{"$f":"IF(VLOOKUP(B140&\".\"&E140,Table9[[Feature.Part]:[v2 atttainment]],4,FALSE),\"Expected\",IF(G140=\"Precondition\",\"Needs achievement\",\"Not Pursued\"))","v":"Expected"},{"$f":"IF(G140=\"Optimization\",VLOOKUP(B140&\".\"&E140,Table9[[Feature.Part]:[v2 atttainment]],6,),\"\")","v":""},{"$f":"IFERROR(_xlfn.TEXTJOIN(\", \",,_xlfn._xlws.FILTER(Table6[WELL v1 Feature 1],Table6[v2 Feature.Part]=UpgradeTable[[#This Row],[Code]],)),\"N/A\")","v":"11"}]
[null,"X02",{"$f":"_xlfn.CONCAT(UpgradeTable[[#This Row],[Feature]],\".\",UpgradeTable[[#This Row],[Part]])","v":"X02.1"},{"$f":"VLOOKUP(UpgradeTable[[#This Row],[Feature]],Table5[],12,0)","v":"Materials"},1,{"$f":"VLOOKUP(UpgradeTable[[#This Row],[Code]],Table5[[Feature.Part]:[Part Description]],2,0)","v":"Manage Asbestos Hazards"},{"$f":"VLOOKUP(UpgradeTable[[#This Row],[Code]],Table9[[Feature.Part]:[v2 atttainment]],2,FALSE)","v":"Precondition"},{"$f":"IF(VLOOKUP(B141&\".\"&E141,Table9[[Feature.Part]:[v2 atttainment]],4,FALSE),\"Expected\",IF(G141=\"Precondition\",\"Needs achievement\",\"Not Pursued\"))","v":"Expected"},{"$f":"IF(G141=\"Optimization\",VLOOKUP(B141&\".\"&E141,Table9[[Feature.Part]:[v2 atttainment]],6,),\"\")","v":""},{"$f":"IFERROR(_xlfn.TEXTJOIN(\", \",,_xlfn._xlws.FILTER(Table6[WELL v1 Feature 1],Table6[v2 Feature.Part]=UpgradeTable[[#This Row],[Code]],)),\"N/A\")","v":"11"}]
[null,"X02",{"$f":"_xlfn.CONCAT(UpgradeTable[[#This Row],[Feature]],\".\",UpgradeTable[[#This Row],[Part]])","v":"X02.2"},{"$f":"VLOOKUP(UpgradeTable[[#This Row],[Feature]],Table5[],12,0)","v":"Materials"},2,{"$f":"VLOOKUP(UpgradeTable[[#This Row],[Code]],Table5[[Feature.Part]:[Part Description]],2,0)","v":"Manage Lead Paint Hazards"},{"$f":"VLOOKUP(UpgradeTable[[#This Row],[Code]],Table9[[Feature.Part]:[v2 atttainment]],2,FALSE)","v":"Precondition"},{"$f":"IF(VLOOKUP(B142&\".\"&E142,Table9[[Feature.Part]:[v2 atttainment]],4,FALSE),\"Expected\",IF(G142=\"Precondition\",\"Needs achievement\",\"Not Pursued\"))","v":"Expected"},{"$f":"IF(G142=\"Optimization\",VLOOKUP(B142&\".\"&E142,Table9[[Feature.Part]:[v2 atttainment]],6,),\"\")","v":""},{"$f":"IFERROR(_xlfn.TEXTJOIN(\", \",,_xlfn._xlws.FILTER(Table6[WELL v1 Feature 1],Table6[v2 Feature.Part]=UpgradeTable[[#This Row],[Code]],)),\"N/A\")","v":"11"}]
[null,"X02",{"$f":"_xlfn.CONCAT(UpgradeTable[[#This Row],[Feature]],\".\",UpgradeTable[[#This Row],[Part]])","v":"X02.3"},{"$f":"VLOOKUP(UpgradeTable[[#This Row],[Feature]],Table5[],12,0)","v":"Materials"},3,{"$f":"VLOOKUP(UpgradeTable[[#This Row],[Code]],Table5[[Feature.Part]:[Part Description]],2,0)","v":"Manage Polychlorinated Biphenyl (PCB) Hazards"},{"$f":"VLOOKUP(UpgradeTable[[#This Row],[Code]],Table9[[Feature.Part]:[v2 atttainment]],2,FALSE)","v":"Precondition"},{"$f":"IF(VLOOKUP(B143&\".\"&E143,Table9[[Feature.Part]:[v2 atttainment]],4,FALSE),\"Expected\",IF(G143=\"Precondition\",\"Needs achievement\",\"Not Pursued\"))","v":"Expected"},{"$f":"IF(G143=\"Optimization\",VLOOKUP(B143&\".\"&E143,Table9[[Feature.Part]:[v2 atttainment]],6,),\"\")","v":""},{"$f":"IFERROR(_xlfn.TEXTJOIN(\", \",,_xlfn._xlws.FILTER(Table6[WELL v1 Feature 1],Table6[v2 Feature.Part]=UpgradeTable[[#This Row],[Code]],)),\"N/A\")","v":"11"}]
[null,"X03",{"$f":"_xlfn.CONCAT(UpgradeTable[[#This Row],[Feature]],\".\",UpgradeTable[[#This Row],[Part]])","v":"X03.1"},{"$f":"VLOOKUP(UpgradeTable[[#This Row],[Feature]],Table5[],12,0)","v":"Materials"},1,{"$f":"VLOOKUP(UpgradeTable[[#This Row],[Code]],Table5[[Feature.Part]:[Part Description]],2,0)","v":"Manage Exterior CCA Hazards"},{"$f":"VLOOKUP(UpgradeTable[[#This Row],[Code]],Table9[[Feature.Part]:[v2 atttainment]],2,FALSE)","v":"Precondition"},{"$f":"IF(VLOOKUP(B144&\".\"&E144,Table9[[Feature.Part]:[v2 atttainment]],4,FALSE),\"Expected\",IF(G144=\"Precondition\",\"Needs achievement\",\"Not Pursued\"))","v":"Needs achievement"},{"$f":"IF(G144=\"Optimization\",VLOOKUP(B144&\".\"&E144,Table9[[Feature.Part]:[v2 atttainment]],6,),\"\")","v":""},{"$f":"IFERROR(_xlfn.TEXTJOIN(\", \",,_xlfn._xlws.FILTER(Table6[WELL v1 Feature 1],Table6[v2 Feature.Part]=UpgradeTable[[#This Row],[Code]],)),\"N/A\")","v":"N/A"}]
[null,"X03",{"$f":"_xlfn.CONCAT(UpgradeTable[[#This Row],[Feature]],\".\",UpgradeTable[[#This Row],[Part]])","v":"X03.2"},{"$f":"VLOOKUP(UpgradeTable[[#This Row],[Feature]],Table5[],12,0)","v":"Materials"},2,{"$f":"VLOOKUP(UpgradeTable[[#This Row],[Code]],Table5[[Feature.Part]:[Part Description]],2,0)","v":"Manage Lead Hazards"},{"$f":"VLOOKUP(UpgradeTable[[#This Row],[Code]],Table9[[Feature.Part]:[v2 atttainment]],2,FALSE)","v":"Precondition"},{"$f":"IF(VLOOKUP(B145&\".\"&E145,Table9[[Feature.Part]:[v2 atttainment]],4,FALSE),\"Expected\",IF(G145=\"Precondition\",\"Needs achievement\",\"Not Pursued\"))","v":"Needs achievement"},{"$f":"IF(G145=\"Optimization\",VLOOKUP(B145&\".\"&E145,Table9[[Feature.Part]:[v2 atttainment]],6,),\"\")","v":""},{"$f":"IFERROR(_xlfn.TEXTJOIN(\", \",,_xlfn._xlws.FILTER(Table6[WELL v1 Feature 1],Table6[v2 Feature.Part]=UpgradeTable[[#This Row],[Code]],)),\"N/A\")","v":"N/A"}]
[null,"X04",{"$f":"_xlfn.CONCAT(UpgradeTable[[#This Row],[Feature]],\".\",UpgradeTable[[#This Row],[Part]])","v":"X04.1"},{"$f":"VLOOKUP(UpgradeTable[[#This Row],[Feature]],Table5[],12,0)","v":"Materials"},1,{"$f":"VLOOKUP(UpgradeTable[[#This Row],[Code]],Table5[[Feature.Part]:[Part Description]],2,0)","v":"Assess and Mitigate Site Hazards"},{"$f":"VLOOKUP(UpgradeTable[[#This Row],[Code]],Table9[[Feature.Part]:[v2 atttainment]],2,FALSE)","v":"Optimization"},{"$f":"IF(VLOOKUP(B146&\".\"&E146,Table9[[Feature.Part]:[v2 atttainment]],4,FALSE),\"Expected\",IF(G146=\"Precondition\",\"Needs achievement\",\"Not Pursued\"))","v":"Not Pursued"},{"$f":"IF(G146=\"Optimization\",VLOOKUP(B146&\".\"&E146,Table9[[Feature.Part]:[v2 atttainment]],6,),\"\")","v":0},{"$f":"IFERROR(_xlfn.TEXTJOIN(\", \",,_xlfn._xlws.FILTER(Table6[WELL v1 Feature 1],Table6[v2 Feature.Part]=UpgradeTable[[#This Row],[Code]],)),\"N/A\")","v":"N/A"}]
[null,"X05",{"$f":"_xlfn.CONCAT(UpgradeTable[[#This Row],[Feature]],\".\",UpgradeTable[[#This Row],[Part]])","v":"X05.1"},{"$f":"VLOOKUP(UpgradeTable[[#This Row],[Feature]],Table5[],12,0)","v":"Materials"},1,{"$f":"VLOOKUP(UpgradeTable[[#This Row],[Code]],Table5[[Feature.Part]:[Part Description]],2,0)","v":"Select Compliant Interior Furnishings"},{"$f":"VLOOKUP(UpgradeTable[[#This Row],[Code]],Table9[[Feature.Part]:[v2 atttainment]],2,FALSE)","v":"Optimization"},{"$f":"IF(VLOOKUP(B147&\".\"&E147,Table9[[Feature.Part]:[v2 atttainment]],4,FALSE),\"Expected\",IF(G147=\"Precondition\",\"Needs achievement\",\"Not Pursued\"))","v":"Not Pursued"},{"$f":"IF(G147=\"Optimization\",VLOOKUP(B147&\".\"&E147,Table9[[Feature.Part]:[v2 atttainment]],6,),\"\")","v":0},{"$f":"IFERROR(_xlfn.TEXTJOIN(\", \",,_xlfn._xlws.FILTER(Table6[WELL v1 Feature 1],Table6[v2 Feature.Part]=UpgradeTable[[#This Row],[Code]],)),\"N/A\")","v":"25"}]
[null,"X05",{"$f":"_xlfn.CONCAT(UpgradeTable[[#This Row],[Feature]],\".\",UpgradeTable[[#This Row],[Part]])","v":"X05.2"},{"$f":"VLOOKUP(UpgradeTable[[#This Row],[Feature]],Table5[],12,0)","v":"Materials"},2,{"$f":"VLOOKUP(UpgradeTable[[#This Row],[Code]],Table5[[Feature.Part]:[Part Description]],2,0)","v":"Select Compliant Architectural and Interior Products"},{"$f":"VLOOKUP(UpgradeTable[[#This Row],[Code]],Table9[[Feature.Part]:[v2 atttainment]],2,FALSE)","v":"Optimization"},{"$f":"IF(VLOOKUP(B148&\".\"&E148,Table9[[Feature.Part]:[v2 atttainment]],4,FALSE),\"Expected\",IF(G148=\"Precondition\",\"Needs achievement\",\"Not Pursued\"))","v":"Not Pursued"},{"$f":"IF(G148=\"Optimization\",VLOOKUP(B148&\".\"&E148,Table9[[Feature.Part]:[v2 atttainment]],6,),\"\")","v":0},{"$f":"IFERROR(_xlfn.TEXTJOIN(\", \",,_xlfn._xlws.FILTER(Table6[WELL v1 Feature 1],Table6[v2 Feature.Part]=UpgradeTable[[#This Row],[Code]],)),\"N/A\")","v":"25"}]
[null,"X06",{"$f":"_xlfn.CONCAT(UpgradeTable[[#This Row],[Feature]],\".\",UpgradeTable[[#This Row],[Part]])","v":"X06.1"},{"$f":"VLOOKUP(UpgradeTable[[#This Row],[Feature]],Table5[],12,0)","v":"Materials"},1,{"$f":"VLOOKUP(UpgradeTable[[#This Row],[Code]],Table5[[Feature.Part]:[Part Description]],2,0)","v":"Limit VOCs from Wet-Applied Products"},{"$f":"VLOOKUP(UpgradeTable[[#This Row],[Code]],Table9[[Feature.Part]:[v2 atttainment]],2,FALSE)","v":"Optimization"},{"$f":"IF(VLOOKUP(B149&\".\"&E149,Table9[[Feature.Part]:[v2 atttainment]],4,FALSE),\"Expected\",IF(G149=\"Precondition\",\"Needs achievement\",\"Not Pursued\"))","v":"Expected"},{"$f":"IF(G149=\"Optimization\",VLOOKUP(B149&\".\"&E149,Table9[[Feature.Part]:[v2 atttainment]],6,),\"\")","v":2},{"$f":"IFERROR(_xlfn.TEXTJOIN(\", \",,_xlfn._xlws.FILTER(Table6[WELL v1 Feature 1],Table6[v2 Feature.Part]=UpgradeTable[[#This Row],[Code]],)),\"N/A\")","v":"4"}]
[null,"X06",{"$f":"_xlfn.CONCAT(UpgradeTable[[#This Row],[Feature]],\".\",UpgradeTable[[#This Row],[Part]])","v":"X06.2"},{"$f":"VLOOKUP(UpgradeTable[[#This Row],[Feature]],Table5[],12,0)","v":"Materials"},2,{"$f":"VLOOKUP(UpgradeTable[[#This Row],[Code]],Table5[[Feature.Part]:[Part Description]],2,0)","v":"Restrict VOC Emissions from Furniture, Architectural and Interior Products"},{"$f":"VLOOKUP(UpgradeTable[[#This Row],[Code]],Table9[[Feature.Part]:[v2 atttainment]],2,FALSE)","v":"Optimization"},{"$f":"IF(VLOOKUP(B150&\".\"&E150,Table9[[Feature.Part]:[v2 atttainment]],4,FALSE),\"Expected\",IF(G150=\"Precondition\",\"Needs achievement\",\"Not Pursued\"))","v":"Expected"},{"$f":"IF(G150=\"Optimization\",VLOOKUP(B150&\".\"&E150,Table9[[Feature.Part]:[v2 atttainment]],6,),\"\")","v":2},{"$f":"IFERROR(_xlfn.TEXTJOIN(\", \",,_xlfn._xlws.FILTER(Table6[WELL v1 Feature 1],Table6[v2 Feature.Part]=UpgradeTable[[#This Row],[Code]],)),\"N/A\")","v":"4"}]
[null,"X07",{"$f":"_xlfn.CONCAT(UpgradeTable[[#This Row],[Feature]],\".\",UpgradeTable[[#This Row],[Part]])","v":"X07.1"},{"$f":"VLOOKUP(UpgradeTable[[#This Row],[Feature]],Table5[],12,0)","v":"Materials"},1,{"$f":"VLOOKUP(UpgradeTable[[#This Row],[Code]],Table5[[Feature.Part]:[Part Description]],2,0)","v":"Select Products with Disclosed Ingredients"},{"$f":"VLOOKUP(UpgradeTable[[#This Row],[Code]],Table9[[Feature.Part]:[v2 atttainment]],2,FALSE)","v":"Optimization"},{"$f":"IF(VLOOKUP(B151&\".\"&E151,Table9[[Feature.Part]:[v2 atttainment]],4,FALSE),\"Expected\",IF(G151=\"Precondition\",\"Needs achievement\",\"Not Pursued\"))","v":"Not Pursued"},{"$f":"IF(G151=\"Optimization\",VLOOKUP(B151&\".\"&E151,Table9[[Feature.Part]:[v2 atttainment]],6,),\"\")","v":0},{"$f":"IFERROR(_xlfn.TEXTJOIN(\", \",,_xlfn._xlws.FILTER(Table6[WELL v1 Feature 1],Table6[v2 Feature.Part]=UpgradeTable[[#This Row],[Code]],)),\"N/A\")","v":"97"}]
[null,"X07",{"$f":"_xlfn.CONCAT(UpgradeTable[[#This Row],[Feature]],\".\",UpgradeTable[[#This Row],[Part]])","v":"X07.2"},{"$f":"VLOOKUP(UpgradeTable[[#This Row],[Feature]],Table5[],12,0)","v":"Materials"},2,{"$f":"VLOOKUP(UpgradeTable[[#This Row],[Code]],Table5[[Feature.Part]:[Part Description]],2,0)","v":"Select Products with Enhanced Ingredient Disclosure"},{"$f":"VLOOKUP(UpgradeTable[[#This Row],[Code]],Table9[[Feature.Part]:[v2 atttainment]],2,FALSE)","v":"Optimization"},{"$f":"IF(VLOOKUP(B152&\".\"&E152,Table9[[Feature.Part]:[v2 atttainment]],4,FALSE),\"Expected\",IF(G152=\"Precondition\",\"Needs achievement\",\"Not Pursued\"))","v":"Not Pursued"},{"$f":"IF(G152=\"Optimization\",VLOOKUP(B152&\".\"&E152,Table9[[Feature.Part]:[v2 atttainment]],6,),\"\")","v":0},{"$f":"IFERROR(_xlfn.TEXTJOIN(\", \",,_xlfn._xlws.FILTER(Table6[WELL v1 Feature 1],Table6[v2 Feature.Part]=UpgradeTable[[#This Row],[Code]],)),\"N/A\")","v":"N/A"}]
[null,"X07",{"$f":"_xlfn.CONCAT(UpgradeTable[[#This Row],[Feature]],\".\",UpgradeTable[[#This Row],[Part]])","v":"X07.3"},{"$f":"VLOOKUP(UpgradeTable[[#This Row],[Feature]],Table5[],12,0)","v":"Materials"},3,{"$f":"VLOOKUP(UpgradeTable[[#This Row],[Code]],Table5[[Feature.Part]:[Part Description]],2,0)","v":"Select Products with Third-Party Verified Ingredients"},{"$f":"VLOOKUP(UpgradeTable[[#This Row],[Code]],Table9[[Feature.Part]:[v2 atttainment]],2,FALSE)","v":"Optimization"},{"$f":"IF(VLOOKUP(B153&\".\"&E153,Table9[[Feature.Part]:[v2 atttainment]],4,FALSE),\"Expected\",IF(G153=\"Precondition\",\"Needs achievement\",\"Not Pursued\"))","v":"Not Pursued"},{"$f":"IF(G153=\"Optimization\",VLOOKUP(B153&\".\"&E153,Table9[[Feature.Part]:[v2 atttainment]],6,),\"\")","v":0},{"$f":"IFERROR(_xlfn.TEXTJOIN(\", \",,_xlfn._xlws.FILTER(Table6[WELL v1 Feature 1],Table6[v2 Feature.Part]=UpgradeTable[[#This Row],[Code]],)),\"N/A\")","v":"N/A"}]
[null,"X08",{"$f":"_xlfn.CONCAT(UpgradeTable[[#This Row],[Feature]],\".\",UpgradeTable[[#This Row],[Part]])","v":"X08.1"},{"$f":"VLOOKUP(UpgradeTable[[#This Row],[Feature]],Table5[],12,0)","v":"Materials"},1,{"$f":"VLOOKUP(UpgradeTable[[#This Row],[Code]],Table5[[Feature.Part]:[Part Description]],2,0)","v":"Select Materials with Enhanced Chemical Restrictions"},{"$f":"VLOOKUP(UpgradeTable[[#This Row],[Code]],Table9[[Feature.Part]:[v2 atttainment]],2,FALSE)","v":"Optimization"},{"$f":"IF(VLOOKUP(B154&\".\"&E154,Table9[[Feature.Part]:[v2 atttainment]],4,FALSE),\"Expected\",IF(G154=\"Precondition\",\"Needs achievement\",\"Not Pursued\"))","v":"Not Pursued"},{"$f":"IF(G154=\"Optimization\",VLOOKUP(B154&\".\"&E154,Table9[[Feature.Part]:[v2 atttainment]],6,),\"\")","v":0},{"$f":"IFERROR(_xlfn.TEXTJOIN(\", \",,_xlfn._xlws.FILTER(Table6[WELL v1 Feature 1],Table6[v2 Feature.Part]=UpgradeTable[[#This Row],[Code]],)),\"N/A\")","v":"26"}]
[null,"X08",{"$f":"_xlfn.CONCAT(UpgradeTable[[#This Row],[Feature]],\".\",UpgradeTable[[#This Row],[Part]])","v":"X08.2"},{"$f":"VLOOKUP(UpgradeTable[[#This Row],[Feature]],Table5[],12,0)","v":"Materials"},2,{"$f":"VLOOKUP(UpgradeTable[[#This Row],[Code]],Table5[[Feature.Part]:[Part Description]],2,0)","v":"Select Optimized Products"},{"$f":"VLOOKUP(UpgradeTable[[#This Row],[Code]],Table9[[Feature.Part]:[v2 atttainment]],2,FALSE)","v":"Optimization"},{"$f":"IF(VLOOKUP(B155&\".\"&E155,Table9[[Feature.Part]:[v2 atttainment]],4,FALSE),\"Expected\",IF(G155=\"Precondition\",\"Needs achievement\",\"Not Pursued\"))","v":"Not Pursued"},{"$f":"IF(G155=\"Optimization\",VLOOKUP(B155&\".\"&E155,Table9[[Feature.Part]:[v2 atttainment]],6,),\"\")","v":0},{"$f":"IFERROR(_xlfn.TEXTJOIN(\", \",,_xlfn._xlws.FILTER(Table6[WELL v1 Feature 1],Table6[v2 Feature.Part]=UpgradeTable[[#This Row],[Code]],)),\"N/A\")","v":"N/A"}]
[null,"X09",{"$f":"_xlfn.CONCAT(UpgradeTable[[#This Row],[Feature]],\".\",UpgradeTable[[#This Row],[Part]])","v":"X09.1"},{"$f":"VLOOKUP(UpgradeTable[[#This Row],[Feature]],Table5[],12,0)","v":"Materials"},1,{"$f":"VLOOKUP(UpgradeTable[[#This Row],[Code]],Table5[[Feature.Part]:[Part Description]],2,0)","v":"Implement a Waste Management Plan"},{"$f":"VLOOKUP(UpgradeTable[[#This Row],[Code]],Table9[[Feature.Part]:[v2 atttainment]],2,FALSE)","v":"Optimization"},{"$f":"IF(VLOOKUP(B156&\".\"&E156,Table9[[Feature.Part]:[v2 atttainment]],4,FALSE),\"Expected\",IF(G156=\"Precondition\",\"Needs achievement\",\"Not Pursued\"))","v":"Not Pursued"},{"$f":"IF(G156=\"Optimization\",VLOOKUP(B156&\".\"&E156,Table9[[Feature.Part]:[v2 atttainment]],6,),\"\")","v":0},{"$f":"IFERROR(_xlfn.TEXTJOIN(\", \",,_xlfn._xlws.FILTER(Table6[WELL v1 Feature 1],Table6[v2 Feature.Part]=UpgradeTable[[#This Row],[Code]],)),\"N/A\")","v":"N/A"}]
[null,"X10",{"$f":"_xlfn.CONCAT(UpgradeTable[[#This Row],[Feature]],\".\",UpgradeTable[[#This Row],[Part]])","v":"X10.1"},{"$f":"VLOOKUP(UpgradeTable[[#This Row],[Feature]],Table5[],12,0)","v":"Materials"},1,{"$f":"VLOOKUP(UpgradeTable[[#This Row],[Code]],Table5[[Feature.Part]:[Part Description]],2,0)","v":"Manage Pests"},{"$f":"VLOOKUP(UpgradeTable[[#This Row],[Code]],Table9[[Feature.Part]:[v2 atttainment]],2,FALSE)","v":"Optimization"},{"$f":"IF(VLOOKUP(B157&\".\"&E157,Table9[[Feature.Part]:[v2 atttainment]],4,FALSE),\"Expected\",IF(G157=\"Precondition\",\"Needs achievement\",\"Not Pursued\"))","v":"Expected"},{"$f":"IF(G157=\"Optimization\",VLOOKUP(B157&\".\"&E157,Table9[[Feature.Part]:[v2 atttainment]],6,),\"\")","v":1},{"$f":"IFERROR(_xlfn.TEXTJOIN(\", \",,_xlfn._xlws.FILTER(Table6[WELL v1 Feature 1],Table6[v2 Feature.Part]=UpgradeTable[[#This Row],[Code]],)),\"N/A\")","v":"10"}]
[null,"X11",{"$f":"_xlfn.CONCAT(UpgradeTable[[#This Row],[Feature]],\".\",UpgradeTable[[#This Row],[Part]])","v":"X11.1"},{"$f":"VLOOKUP(UpgradeTable[[#This Row],[Feature]],Table5[],12,0)","v":"Materials"},1,{"$f":"VLOOKUP(UpgradeTable[[#This Row],[Code]],Table5[[Feature.Part]:[Part Description]],2,0)","v":"Improve Cleaning Practices"},{"$f":"VLOOKUP(UpgradeTable[[#This Row],[Code]],Table9[[Feature.Part]:[v2 atttainment]],2,FALSE)","v":"Optimization"},{"$f":"IF(VLOOKUP(B158&\".\"&E158,Table9[[Feature.Part]:[v2 atttainment]],4,FALSE),\"Expected\",IF(G158=\"Precondition\",\"Needs achievement\",\"Not Pursued\"))","v":"Expected"},{"$f":"IF(G158=\"Optimization\",VLOOKUP(B158&\".\"&E158,Table9[[Feature.Part]:[v2 atttainment]],6,),\"\")","v":1},{"$f":"IFERROR(_xlfn.TEXTJOIN(\", \",,_xlfn._xlws.FILTER(Table6[WELL v1 Feature 1],Table6[v2 Feature.Part]=UpgradeTable[[#This Row],[Code]],)),\"N/A\")","v":"9"}]
[null,"X11",{"$f":"_xlfn.CONCAT(UpgradeTable[[#This Row],[Feature]],\".\",UpgradeTable[[#This Row],[Part]])","v":"X11.2"},{"$f":"VLOOKUP(UpgradeTable[[#This Row],[Feature]],Table5[],12,0)","v":"Materials"},2,{"$f":"VLOOKUP(UpgradeTable[[#This Row],[Code]],Table5[[Feature.Part]:[Part Description]],2,0)","v":"Select Preferred Cleaning Products"},{"$f":"VLOOKUP(UpgradeTable[[#This Row],[Code]],Table9[[Feature.Part]:[v2 atttainment]],2,FALSE)","v":"Optimization"},{"$f":"IF(VLOOKUP(B159&\".\"&E159,Table9[[Feature.Part]:[v2 atttainment]],4,FALSE),\"Expected\",IF(G159=\"Precondition\",\"Needs achievement\",\"Not Pursued\"))","v":"Expected"},{"$f":"IF(G159=\"Optimization\",VLOOKUP(B159&\".\"&E159,Table9[[Feature.Part]:[v2 atttainment]],6,),\"\")","v":1},{"$f":"IFERROR(_xlfn.TEXTJOIN(\", \",,_xlfn._xlws.FILTER(Table6[WELL v1 Feature 1],Table6[v2 Feature.Part]=UpgradeTable[[#This Row],[Code]],)),\"N/A\")","v":"9"}]
[null,"X12",{"$f":"_xlfn.CONCAT(UpgradeTable[[#This Row],[Feature]],\".\",UpgradeTable[[#This Row],[Part]])","v":"X12.1"},{"$f":"VLOOKUP(UpgradeTable[[#This Row],[Feature]],Table5[],12,0)","v":"Materials"},1,{"$f":"VLOOKUP(UpgradeTable[[#This Row],[Code]],Table5[[Feature.Part]:[Part Description]],2,0)","v":"Reduce Respiratory Particle Exposure"},{"$f":"VLOOKUP(UpgradeTable[[#This Row],[Code]],Table9[[Feature.Part]:[v2 atttainment]],2,FALSE)","v":"Optimization"},{"$f":"IF(VLOOKUP(B160&\".\"&E160,Table9[[Feature.Part]:[v2 atttainment]],4,FALSE),\"Expected\",IF(G160=\"Precondition\",\"Needs achievement\",\"Not Pursued\"))","v":"Not Pursued"},{"$f":"IF(G160=\"Optimization\",VLOOKUP(B160&\".\"&E160,Table9[[Feature.Part]:[v2 atttainment]],6,),\"\")","v":0},{"$f":"IFERROR(_xlfn.TEXTJOIN(\", \",,_xlfn._xlws.FILTER(Table6[WELL v1 Feature 1],Table6[v2 Feature.Part]=UpgradeTable[[#This Row],[Code]],)),\"N/A\")","v":"N/A"}]
[null,"X12",{"$f":"_xlfn.CONCAT(UpgradeTable[[#This Row],[Feature]],\".\",UpgradeTable[[#This Row],[Part]])","v":"X12.2"},{"$f":"VLOOKUP(UpgradeTable[[#This Row],[Feature]],Table5[],12,0)","v":"Materials"},2,{"$f":"VLOOKUP(UpgradeTable[[#This Row],[Code]],Table5[[Feature.Part]:[Part Description]],2,0)","v":"Address Surface Hand Touch"},{"$f":"VLOOKUP(UpgradeTable[[#This Row],[Code]],Table9[[Feature.Part]:[v2 atttainment]],2,FALSE)","v":"Optimization"},{"$f":"IF(VLOOKUP(B161&\".\"&E161,Table9[[Feature.Part]:[v2 atttainment]],4,FALSE),\"Expected\",IF(G161=\"Precondition\",\"Needs achievement\",\"Not Pursued\"))","v":"Not Pursued"},{"$f":"IF(G161=\"Optimization\",VLOOKUP(B161&\".\"&E161,Table9[[Feature.Part]:[v2 atttainment]],6,),\"\")","v":0},{"$f":"IFERROR(_xlfn.TEXTJOIN(\", \",,_xlfn._xlws.FILTER(Table6[WELL v1 Feature 1],Table6[v2 Feature.Part]=UpgradeTable[[#This Row],[Code]],)),\"N/A\")","v":"N/A"}]
[null,"M01",{"$f":"_xlfn.CONCAT(UpgradeTable[[#This Row],[Feature]],\".\",UpgradeTable[[#This Row],[Part]])","v":"M01.1"},{"$f":"VLOOKUP(UpgradeTable[[#This Row],[Feature]],Table5[],12,0)","v":"Mind"},1,{"$f":"VLOOKUP(UpgradeTable[[#This Row],[Code]],Table5[[Feature.Part]:[Part Description]],2,0)","v":"Promote Mental Health and Well-being"},{"$f":"VLOOKUP(UpgradeTable[[#This Row],[Code]],Table9[[Feature.Part]:[v2 atttainment]],2,FALSE)","v":"Precondition"},{"$f":"IF(VLOOKUP(B162&\".\"&E162,Table9[[Feature.Part]:[v2 atttainment]],4,FALSE),\"Expected\",IF(G162=\"Precondition\",\"Needs achievement\",\"Not Pursued\"))","v":"Needs achievement"},{"$f":"IF(G162=\"Optimization\",VLOOKUP(B162&\".\"&E162,Table9[[Feature.Part]:[v2 atttainment]],6,),\"\")","v":""},{"$f":"IFERROR(_xlfn.TEXTJOIN(\", \",,_xlfn._xlws.FILTER(Table6[WELL v1 Feature 1],Table6[v2 Feature.Part]=UpgradeTable[[#This Row],[Code]],)),\"N/A\")","v":"N/A"}]
[null,"M02",{"$f":"_xlfn.CONCAT(UpgradeTable[[#This Row],[Feature]],\".\",UpgradeTable[[#This Row],[Part]])","v":"M02.1"},{"$f":"VLOOKUP(UpgradeTable[[#This Row],[Feature]],Table5[],12,0)","v":"Mind"},1,{"$f":"VLOOKUP(UpgradeTable[[#This Row],[Code]],Table5[[Feature.Part]:[Part Description]],2,0)","v":"Provide Connection to Nature"},{"$f":"VLOOKUP(UpgradeTable[[#This Row],[Code]],Table9[[Feature.Part]:[v2 atttainment]],2,FALSE)","v":"Precondition"},{"$f":"IF(VLOOKUP(B163&\".\"&E163,Table9[[Feature.Part]:[v2 atttainment]],4,FALSE),\"Expected\",IF(G163=\"Precondition\",\"Needs achievement\",\"Not Pursued\"))","v":"Expected"},{"$f":"IF(G163=\"Optimization\",VLOOKUP(B163&\".\"&E163,Table9[[Feature.Part]:[v2 atttainment]],6,),\"\")","v":""},{"$f":"IFERROR(_xlfn.TEXTJOIN(\", \",,_xlfn._xlws.FILTER(Table6[WELL v1 Feature 1],Table6[v2 Feature.Part]=UpgradeTable[[#This Row],[Code]],)),\"N/A\")","v":"88"}]
[null,"M02",{"$f":"_xlfn.CONCAT(UpgradeTable[[#This Row],[Feature]],\".\",UpgradeTable[[#This Row],[Part]])","v":"M02.2"},{"$f":"VLOOKUP(UpgradeTable[[#This Row],[Feature]],Table5[],12,0)","v":"Mind"},2,{"$f":"VLOOKUP(UpgradeTable[[#This Row],[Code]],Table5[[Feature.Part]:[Part Description]],2,0)","v":"Provide Connection to Place"},{"$f":"VLOOKUP(UpgradeTable[[#This Row],[Code]],Table9[[Feature.Part]:[v2 atttainment]],2,FALSE)","v":"Precondition"},{"$f":"IF(VLOOKUP(B164&\".\"&E164,Table9[[Feature.Part]:[v2 atttainment]],4,FALSE),\"Expected\",IF(G164=\"Precondition\",\"Needs achievement\",\"Not Pursued\"))","v":"Expected"},{"$f":"IF(G164=\"Optimization\",VLOOKUP(B164&\".\"&E164,Table9[[Feature.Part]:[v2 atttainment]],6,),\"\")","v":""},{"$f":"IFERROR(_xlfn.TEXTJOIN(\", \",,_xlfn._xlws.FILTER(Table6[WELL v1 Feature 1],Table6[v2 Feature.Part]=UpgradeTable[[#This Row],[Code]],)),\"N/A\")","v":"87"}]
[null,"M03",{"$f":"_xlfn.CONCAT(UpgradeTable[[#This Row],[Feature]],\".\",UpgradeTable[[#This Row],[Part]])","v":"M03.1"},{"$f":"VLOOKUP(UpgradeTable[[#This Row],[Feature]],Table5[],12,0)","v":"Mind"},1,{"$f":"VLOOKUP(UpgradeTable[[#This Row],[Code]],Table5[[Feature.Part]:[Part Description]],2,0)","v":"Offer Mental Health Screening"},{"$f":"VLOOKUP(UpgradeTable[[#This Row],[Code]],Table9[[Feature.Part]:[v2 atttainment]],2,FALSE)","v":"Optimization"},{"$f":"IF(VLOOKUP(B165&\".\"&E165,Table9[[Feature.Part]:[v2 atttainment]],4,FALSE),\"Expected\",IF(G165=\"Precondition\",\"Needs achievement\",\"Not Pursued\"))","v":"Not Pursued"},{"$f":"IF(G165=\"Optimization\",VLOOKUP(B165&\".\"&E165,Table9[[Feature.Part]:[v2 atttainment]],6,),\"\")","v":0},{"$f":"IFERROR(_xlfn.TEXTJOIN(\", \",,_xlfn._xlws.FILTER(Table6[WELL v1 Feature 1],Table6[v2 Feature.Part]=UpgradeTable[[#This Row],[Code]],)),\"N/A\")","v":"N/A"}]
[null,"M03",{"$f":"_xlfn.CONCAT(UpgradeTable[[#This Row],[Feature]],\".\",UpgradeTable[[#This Row],[Part]])","v":"M03.2"},{"$f":"VLOOKUP(UpgradeTable[[#This Row],[Feature]],Table5[],12,0)","v":"Mind"},2,{"$f":"VLOOKUP(UpgradeTable[[#This Row],[Code]],Table5[[Feature.Part]:[Part Description]],2,0)","v":"Offer Mental Health Services"},{"$f":"VLOOKUP(UpgradeTable[[#This Row],[Code]],Table9[[Feature.Part]:[v2 atttainment]],2,FALSE)","v":"Optimization"},{"$f":"IF(VLOOKUP(B166&\".\"&E166,Table9[[Feature.Part]:[v2 atttainment]],4,FALSE),\"Expected\",IF(G166=\"Precondition\",\"Needs achievement\",\"Not Pursued\"))","v":"Not Pursued"},{"$f":"IF(G166=\"Optimization\",VLOOKUP(B166&\".\"&E166,Table9[[Feature.Part]:[v2 atttainment]],6,),\"\")","v":0},{"$f":"IFERROR(_xlfn.TEXTJOIN(\", \",,_xlfn._xlws.FILTER(Table6[WELL v1 Feature 1],Table6[v2 Feature.Part]=UpgradeTable[[#This Row],[Code]],)),\"N/A\")","v":"N/A"}]
[null,"M03",{"$f":"_xlfn.CONCAT(UpgradeTable[[#This Row],[Feature]],\".\",UpgradeTable[[#This Row],[Part]])","v":"M03.3"},{"$f":"VLOOKUP(UpgradeTable[[#This Row],[Feature]],Table5[],12,0)","v":"Mind"},3,{"$f":"VLOOKUP(UpgradeTable[[#This Row],[Code]],Table5[[Feature.Part]:[Part Description]],2,0)","v":"Offer Workplace Support"},{"$f":"VLOOKUP(UpgradeTable[[#This Row],[Code]],Table9[[Feature.Part]:[v2 atttainment]],2,FALSE)","v":"Optimization"},{"$f":"IF(VLOOKUP(B167&\".\"&E167,Table9[[Feature.Part]:[v2 atttainment]],4,FALSE),\"Expected\",IF(G167=\"Precondition\",\"Needs achievement\",\"Not Pursued\"))","v":"Not Pursued"},{"$f":"IF(G167=\"Optimization\",VLOOKUP(B167&\".\"&E167,Table9[[Feature.Part]:[v2 atttainment]],6,),\"\")","v":0},{"$f":"IFERROR(_xlfn.TEXTJOIN(\", \",,_xlfn._xlws.FILTER(Table6[WELL v1 Feature 1],Table6[v2 Feature.Part]=UpgradeTable[[#This Row],[Code]],)),\"N/A\")","v":"N/A"}]
[null,"M03",{"$f":"_xlfn.CONCAT(UpgradeTable[[#This Row],[Feature]],\".\",UpgradeTable[[#This Row],[Part]])","v":"M03.4"},{"$f":"VLOOKUP(UpgradeTable[[#This Row],[Feature]],Table5[],12,0)","v":"Mind"},4,{"$f":"VLOOKUP(UpgradeTable[[#This Row],[Code]],Table5[[Feature.Part]:[Part Description]],2,0)","v":"β Support Mental Health Recovery"},{"$f":"VLOOKUP(UpgradeTable[[#This Row],[Code]],Table9[[Feature.Part]:[v2 atttainment]],2,FALSE)","v":"Optimization"},{"$f":"IF(VLOOKUP(B168&\".\"&E168,Table9[[Feature.Part]:[v2 atttainment]],4,FALSE),\"Expected\",IF(G168=\"Precondition\",\"Needs achievement\",\"Not Pursued\"))","v":"Not Pursued"},{"$f":"IF(G168=\"Optimization\",VLOOKUP(B168&\".\"&E168,Table9[[Feature.Part]:[v2 atttainment]],6,),\"\")","v":0},{"$f":"IFERROR(_xlfn.TEXTJOIN(\", \",,_xlfn._xlws.FILTER(Table6[WELL v1 Feature 1],Table6[v2 Feature.Part]=UpgradeTable[[#This Row],[Code]],)),\"N/A\")","v":"N/A"}]
[null,"M04",{"$f":"_xlfn.CONCAT(UpgradeTable[[#This Row],[Feature]],\".\",UpgradeTable[[#This Row],[Part]])","v":"M04.1"},{"$f":"VLOOKUP(UpgradeTable[[#This Row],[Feature]],Table5[],12,0)","v":"Mind"},1,{"$f":"VLOOKUP(UpgradeTable[[#This Row],[Code]],Table5[[Feature.Part]:[Part Description]],2,0)","v":"Offer Mental Health Education"},{"$f":"VLOOKUP(UpgradeTable[[#This Row],[Code]],Table9[[Feature.Part]:[v2 atttainment]],2,FALSE)","v":"Optimization"},{"$f":"IF(VLOOKUP(B169&\".\"&E169,Table9[[Feature.Part]:[v2 atttainment]],4,FALSE),\"Expected\",IF(G169=\"Precondition\",\"Needs achievement\",\"Not Pursued\"))","v":"Not Pursued"},{"$f":"IF(G169=\"Optimization\",VLOOKUP(B169&\".\"&E169,Table9[[Feature.Part]:[v2 atttainment]],6,),\"\")","v":0},{"$f":"IFERROR(_xlfn.TEXTJOIN(\", \",,_xlfn._xlws.FILTER(Table6[WELL v1 Feature 1],Table6[v2 Feature.Part]=UpgradeTable[[#This Row],[Code]],)),\"N/A\")","v":"N/A"}]
[null,"M04",{"$f":"_xlfn.CONCAT(UpgradeTable[[#This Row],[Feature]],\".\",UpgradeTable[[#This Row],[Part]])","v":"M04.2"},{"$f":"VLOOKUP(UpgradeTable[[#This Row],[Feature]],Table5[],12,0)","v":"Mind"},2,{"$f":"VLOOKUP(UpgradeTable[[#This Row],[Code]],Table5[[Feature.Part]:[Part Description]],2,0)","v":"Offer Mental Health Education for Managers"},{"$f":"VLOOKUP(UpgradeTable[[#This Row],[Code]],Table9[[Feature.Part]:[v2 atttainment]],2,FALSE)","v":"Optimization"},{"$f":"IF(VLOOKUP(B170&\".\"&E170,Table9[[Feature.Part]:[v2 atttainment]],4,FALSE),\"Expected\",IF(G170=\"Precondition\",\"Needs achievement\",\"Not Pursued\"))","v":"Not Pursued"},{"$f":"IF(G170=\"Optimization\",VLOOKUP(B170&\".\"&E170,Table9[[Feature.Part]:[v2 atttainment]],6,),\"\")","v":0},{"$f":"IFERROR(_xlfn.TEXTJOIN(\", \",,_xlfn._xlws.FILTER(Table6[WELL v1 Feature 1],Table6[v2 Feature.Part]=UpgradeTable[[#This Row],[Code]],)),\"N/A\")","v":"N/A"}]
[null,"M05",{"$f":"_xlfn.CONCAT(UpgradeTable[[#This Row],[Feature]],\".\",UpgradeTable[[#This Row],[Part]])","v":"M05.1"},{"$f":"VLOOKUP(UpgradeTable[[#This Row],[Feature]],Table5[],12,0)","v":"Mind"},1,{"$f":"VLOOKUP(UpgradeTable[[#This Row],[Code]],Table5[[Feature.Part]:[Part Description]],2,0)","v":"Develop Stress Management Plan"},{"$f":"VLOOKUP(UpgradeTable[[#This Row],[Code]],Table9[[Feature.Part]:[v2 atttainment]],2,FALSE)","v":"Optimization"},{"$f":"IF(VLOOKUP(B171&\".\"&E171,Table9[[Feature.Part]:[v2 atttainment]],4,FALSE),\"Expected\",IF(G171=\"Precondition\",\"Needs achievement\",\"Not Pursued\"))","v":"Not Pursued"},{"$f":"IF(G171=\"Optimization\",VLOOKUP(B171&\".\"&E171,Table9[[Feature.Part]:[v2 atttainment]],6,),\"\")","v":0},{"$f":"IFERROR(_xlfn.TEXTJOIN(\", \",,_xlfn._xlws.FILTER(Table6[WELL v1 Feature 1],Table6[v2 Feature.Part]=UpgradeTable[[#This Row],[Code]],)),\"N/A\")","v":"N/A"}]
[null,"M06",{"$f":"_xlfn.CONCAT(UpgradeTable[[#This Row],[Feature]],\".\",UpgradeTable[[#This Row],[Part]])","v":"M06.1"},{"$f":"VLOOKUP(UpgradeTable[[#This Row],[Feature]],Table5[],12,0)","v":"Mind"},1,{"$f":"VLOOKUP(UpgradeTable[[#This Row],[Code]],Table5[[Feature.Part]:[Part Description]],2,0)","v":"Support Healthy Working Hours"},{"$f":"VLOOKUP(UpgradeTable[[#This Row],[Code]],Table9[[Feature.Part]:[v2 atttainment]],2,FALSE)","v":"Optimization"},{"$f":"IF(VLOOKUP(B172&\".\"&E172,Table9[[Feature.Part]:[v2 atttainment]],4,FALSE),\"Expected\",IF(G172=\"Precondition\",\"Needs achievement\",\"Not Pursued\"))","v":"Not Pursued"},{"$f":"IF(G172=\"Optimization\",VLOOKUP(B172&\".\"&E172,Table9[[Feature.Part]:[v2 atttainment]],6,),\"\")","v":0},{"$f":"IFERROR(_xlfn.TEXTJOIN(\", \",,_xlfn._xlws.FILTER(Table6[WELL v1 Feature 1],Table6[v2 Feature.Part]=UpgradeTable[[#This Row],[Code]],)),\"N/A\")","v":"N/A"}]
[null,"M06",{"$f":"_xlfn.CONCAT(UpgradeTable[[#This Row],[Feature]],\".\",UpgradeTable[[#This Row],[Part]])","v":"M06.2"},{"$f":"VLOOKUP(UpgradeTable[[#This Row],[Feature]],Table5[],12,0)","v":"Mind"},2,{"$f":"VLOOKUP(UpgradeTable[[#This Row],[Code]],Table5[[Feature.Part]:[Part Description]],2,0)","v":"Provide Nap Policy and Space"},{"$f":"VLOOKUP(UpgradeTable[[#This Row],[Code]],Table9[[Feature.Part]:[v2 atttainment]],2,FALSE)","v":"Optimization"},{"$f":"IF(VLOOKUP(B173&\".\"&E173,Table9[[Feature.Part]:[v2 atttainment]],4,FALSE),\"Expected\",IF(G173=\"Precondition\",\"Needs achievement\",\"Not Pursued\"))","v":"Not Pursued"},{"$f":"IF(G173=\"Optimization\",VLOOKUP(B173&\".\"&E173,Table9[[Feature.Part]:[v2 atttainment]],6,),\"\")","v":0},{"$f":"IFERROR(_xlfn.TEXTJOIN(\", \",,_xlfn._xlws.FILTER(Table6[WELL v1 Feature 1],Table6[v2 Feature.Part]=UpgradeTable[[#This Row],[Code]],)),\"N/A\")","v":"90"}]
[null,"M07",{"$f":"_xlfn.CONCAT(UpgradeTable[[#This Row],[Feature]],\".\",UpgradeTable[[#This Row],[Part]])","v":"M07.1"},{"$f":"VLOOKUP(UpgradeTable[[#This Row],[Feature]],Table5[],12,0)","v":"Mind"},1,{"$f":"VLOOKUP(UpgradeTable[[#This Row],[Code]],Table5[[Feature.Part]:[Part Description]],2,0)","v":"Provide Restorative Space"},{"$f":"VLOOKUP(UpgradeTable[[#This Row],[Code]],Table9[[Feature.Part]:[v2 atttainment]],2,FALSE)","v":"Optimization"},{"$f":"IF(VLOOKUP(B174&\".\"&E174,Table9[[Feature.Part]:[v2 atttainment]],4,FALSE),\"Expected\",IF(G174=\"Precondition\",\"Needs achievement\",\"Not Pursued\"))","v":"Not Pursued"},{"$f":"IF(G174=\"Optimization\",VLOOKUP(B174&\".\"&E174,Table9[[Feature.Part]:[v2 atttainment]],6,),\"\")","v":0},{"$f":"IFERROR(_xlfn.TEXTJOIN(\", \",,_xlfn._xlws.FILTER(Table6[WELL v1 Feature 1],Table6[v2 Feature.Part]=UpgradeTable[[#This Row],[Code]],)),\"N/A\")","v":"89"}]
[null,"M08",{"$f":"_xlfn.CONCAT(UpgradeTable[[#This Row],[Feature]],\".\",UpgradeTable[[#This Row],[Part]])","v":"M08.1"},{"$f":"VLOOKUP(UpgradeTable[[#This Row],[Feature]],Table5[],12,0)","v":"Mind"},1,{"$f":"VLOOKUP(UpgradeTable[[#This Row],[Code]],Table5[[Feature.Part]:[Part Description]],2,0)","v":"Provide Restorative Programming"},{"$f":"VLOOKUP(UpgradeTable[[#This Row],[Code]],Table9[[Feature.Part]:[v2 atttainment]],2,FALSE)","v":"Optimization"},{"$f":"IF(VLOOKUP(B175&\".\"&E175,Table9[[Feature.Part]:[v2 atttainment]],4,FALSE),\"Expected\",IF(G175=\"Precondition\",\"Needs achievement\",\"Not Pursued\"))","v":"Not Pursued"},{"$f":"IF(G175=\"Optimization\",VLOOKUP(B175&\".\"&E175,Table9[[Feature.Part]:[v2 atttainment]],6,),\"\")","v":0},{"$f":"IFERROR(_xlfn.TEXTJOIN(\", \",,_xlfn._xlws.FILTER(Table6[WELL v1 Feature 1],Table6[v2 Feature.Part]=UpgradeTable[[#This Row],[Code]],)),\"N/A\")","v":"N/A"}]
[null,"M09",{"$f":"_xlfn.CONCAT(UpgradeTable[[#This Row],[Feature]],\".\",UpgradeTable[[#This Row],[Part]])","v":"M09.1"},{"$f":"VLOOKUP(UpgradeTable[[#This Row],[Feature]],Table5[],12,0)","v":"Mind"},1,{"$f":"VLOOKUP(UpgradeTable[[#This Row],[Code]],Table5[[Feature.Part]:[Part Description]],2,0)","v":"Provide Nature Access Indoors"},{"$f":"VLOOKUP(UpgradeTable[[#This Row],[Code]],Table9[[Feature.Part]:[v2 atttainment]],2,FALSE)","v":"Optimization"},{"$f":"IF(VLOOKUP(B176&\".\"&E176,Table9[[Feature.Part]:[v2 atttainment]],4,FALSE),\"Expected\",IF(G176=\"Precondition\",\"Needs achievement\",\"Not Pursued\"))","v":"Not Pursued"},{"$f":"IF(G176=\"Optimization\",VLOOKUP(B176&\".\"&E176,Table9[[Feature.Part]:[v2 atttainment]],6,),\"\")","v":0},{"$f":"IFERROR(_xlfn.TEXTJOIN(\", \",,_xlfn._xlws.FILTER(Table6[WELL v1 Feature 1],Table6[v2 Feature.Part]=UpgradeTable[[#This Row],[Code]],)),\"N/A\")","v":"100"}]
[null,"M09",{"$f":"_xlfn.CONCAT(UpgradeTable[[#This Row],[Feature]],\".\",UpgradeTable[[#This Row],[Part]])","v":"M09.2"},{"$f":"VLOOKUP(UpgradeTable[[#This Row],[Feature]],Table5[],12,0)","v":"Mind"},2,{"$f":"VLOOKUP(UpgradeTable[[#This Row],[Code]],Table5[[Feature.Part]:[Part Description]],2,0)","v":"Provide Nature Access Outdoors"},{"$f":"VLOOKUP(UpgradeTable[[#This Row],[Code]],Table9[[Feature.Part]:[v2 atttainment]],2,FALSE)","v":"Optimization"},{"$f":"IF(VLOOKUP(B177&\".\"&E177,Table9[[Feature.Part]:[v2 atttainment]],4,FALSE),\"Expected\",IF(G177=\"Precondition\",\"Needs achievement\",\"Not Pursued\"))","v":"Not Pursued"},{"$f":"IF(G177=\"Optimization\",VLOOKUP(B177&\".\"&E177,Table9[[Feature.Part]:[v2 atttainment]],6,),\"\")","v":0},{"$f":"IFERROR(_xlfn.TEXTJOIN(\", \",,_xlfn._xlws.FILTER(Table6[WELL v1 Feature 1],Table6[v2 Feature.Part]=UpgradeTable[[#This Row],[Code]],)),\"N/A\")","v":"100"}]
[null,"M10",{"$f":"_xlfn.CONCAT(UpgradeTable[[#This Row],[Feature]],\".\",UpgradeTable[[#This Row],[Part]])","v":"M10.1"},{"$f":"VLOOKUP(UpgradeTable[[#This Row],[Feature]],Table5[],12,0)","v":"Mind"},1,{"$f":"VLOOKUP(UpgradeTable[[#This Row],[Code]],Table5[[Feature.Part]:[Part Description]],2,0)","v":"Provide Tobacco Cessation Resources"},{"$f":"VLOOKUP(UpgradeTable[[#This Row],[Code]],Table9[[Feature.Part]:[v2 atttainment]],2,FALSE)","v":"Optimization"},{"$f":"IF(VLOOKUP(B178&\".\"&E178,Table9[[Feature.Part]:[v2 atttainment]],4,FALSE),\"Expected\",IF(G178=\"Precondition\",\"Needs achievement\",\"Not Pursued\"))","v":"Not Pursued"},{"$f":"IF(G178=\"Optimization\",VLOOKUP(B178&\".\"&E178,Table9[[Feature.Part]:[v2 atttainment]],6,),\"\")","v":0},{"$f":"IFERROR(_xlfn.TEXTJOIN(\", \",,_xlfn._xlws.FILTER(Table6[WELL v1 Feature 1],Table6[v2 Feature.Part]=UpgradeTable[[#This Row],[Code]],)),\"N/A\")","v":"N/A"}]
[null,"M10",{"$f":"_xlfn.CONCAT(UpgradeTable[[#This Row],[Feature]],\".\",UpgradeTable[[#This Row],[Part]])","v":"M10.2"},{"$f":"VLOOKUP(UpgradeTable[[#This Row],[Feature]],Table5[],12,0)","v":"Mind"},2,{"$f":"VLOOKUP(UpgradeTable[[#This Row],[Code]],Table5[[Feature.Part]:[Part Description]],2,0)","v":"Limit Tobacco Availability"},{"$f":"VLOOKUP(UpgradeTable[[#This Row],[Code]],Table9[[Feature.Part]:[v2 atttainment]],2,FALSE)","v":"Optimization"},{"$f":"IF(VLOOKUP(B179&\".\"&E179,Table9[[Feature.Part]:[v2 atttainment]],4,FALSE),\"Expected\",IF(G179=\"Precondition\",\"Needs achievement\",\"Not Pursued\"))","v":"Not Pursued"},{"$f":"IF(G179=\"Optimization\",VLOOKUP(B179&\".\"&E179,Table9[[Feature.Part]:[v2 atttainment]],6,),\"\")","v":0},{"$f":"IFERROR(_xlfn.TEXTJOIN(\", \",,_xlfn._xlws.FILTER(Table6[WELL v1 Feature 1],Table6[v2 Feature.Part]=UpgradeTable[[#This Row],[Code]],)),\"N/A\")","v":"N/A"}]
[null,"M11",{"$f":"_xlfn.CONCAT(UpgradeTable[[#This Row],[Feature]],\".\",UpgradeTable[[#This Row],[Part]])","v":"M11.1"},{"$f":"VLOOKUP(UpgradeTable[[#This Row],[Feature]],Table5[],12,0)","v":"Mind"},1,{"$f":"VLOOKUP(UpgradeTable[[#This Row],[Code]],Table5[[Feature.Part]:[Part Description]],2,0)","v":"Offer Substance Use Education"},{"$f":"VLOOKUP(UpgradeTable[[#This Row],[Code]],Table9[[Feature.Part]:[v2 atttainment]],2,FALSE)","v":"Optimization"},{"$f":"IF(VLOOKUP(B180&\".\"&E180,Table9[[Feature.Part]:[v2 atttainment]],4,FALSE),\"Expected\",IF(G180=\"Precondition\",\"Needs achievement\",\"Not Pursued\"))","v":"Not Pursued"},{"$f":"IF(G180=\"Optimization\",VLOOKUP(B180&\".\"&E180,Table9[[Feature.Part]:[v2 atttainment]],6,),\"\")","v":0},{"$f":"IFERROR(_xlfn.TEXTJOIN(\", \",,_xlfn._xlws.FILTER(Table6[WELL v1 Feature 1],Table6[v2 Feature.Part]=UpgradeTable[[#This Row],[Code]],)),\"N/A\")","v":"N/A"}]
[null,"M11",{"$f":"_xlfn.CONCAT(UpgradeTable[[#This Row],[Feature]],\".\",UpgradeTable[[#This Row],[Part]])","v":"M11.2"},{"$f":"VLOOKUP(UpgradeTable[[#This Row],[Feature]],Table5[],12,0)","v":"Mind"},2,{"$f":"VLOOKUP(UpgradeTable[[#This Row],[Code]],Table5[[Feature.Part]:[Part Description]],2,0)","v":"Provide Substance Use and Addiction Services"},{"$f":"VLOOKUP(UpgradeTable[[#This Row],[Code]],Table9[[Feature.Part]:[v2 atttainment]],2,FALSE)","v":"Optimization"},{"$f":"IF(VLOOKUP(B181&\".\"&E181,Table9[[Feature.Part]:[v2 atttainment]],4,FALSE),\"Expected\",IF(G181=\"Precondition\",\"Needs achievement\",\"Not Pursued\"))","v":"Not Pursued"},{"$f":"IF(G181=\"Optimization\",VLOOKUP(B181&\".\"&E181,Table9[[Feature.Part]:[v2 atttainment]],6,),\"\")","v":0},{"$f":"IFERROR(_xlfn.TEXTJOIN(\", \",,_xlfn._xlws.FILTER(Table6[WELL v1 Feature 1],Table6[v2 Feature.Part]=UpgradeTable[[#This Row],[Code]],)),\"N/A\")","v":"95"}]
[null,"C01",{"$f":"_xlfn.CONCAT(UpgradeTable[[#This Row],[Feature]],\".\",UpgradeTable[[#This Row],[Part]])","v":"C01.1"},{"$f":"VLOOKUP(UpgradeTable[[#This Row],[Feature]],Table5[],12,0)","v":"Community"},1,{"$f":"VLOOKUP(UpgradeTable[[#This Row],[Code]],Table5[[Feature.Part]:[Part Description]],2,0)","v":"Provide WELL Feature Guide"},{"$f":"VLOOKUP(UpgradeTable[[#This Row],[Code]],Table9[[Feature.Part]:[v2 atttainment]],2,FALSE)","v":"Precondition"},{"$f":"IF(VLOOKUP(B182&\".\"&E182,Table9[[Feature.Part]:[v2 atttainment]],4,FALSE),\"Expected\",IF(G182=\"Precondition\",\"Needs achievement\",\"Not Pursued\"))","v":"Expected"},{"$f":"IF(G182=\"Optimization\",VLOOKUP(B182&\".\"&E182,Table9[[Feature.Part]:[v2 atttainment]],6,),\"\")","v":""},{"$f":"IFERROR(_xlfn.TEXTJOIN(\", \",,_xlfn._xlws.FILTER(Table6[WELL v1 Feature 1],Table6[v2 Feature.Part]=UpgradeTable[[#This Row],[Code]],)),\"N/A\")","v":"84"}]
[null,"C02",{"$f":"_xlfn.CONCAT(UpgradeTable[[#This Row],[Feature]],\".\",UpgradeTable[[#This Row],[Part]])","v":"C02.1"},{"$f":"VLOOKUP(UpgradeTable[[#This Row],[Feature]],Table5[],12,0)","v":"Community"},1,{"$f":"VLOOKUP(UpgradeTable[[#This Row],[Code]],Table5[[Feature.Part]:[Part Description]],2,0)","v":"Facilitate Stakeholder Charrette"},{"$f":"VLOOKUP(UpgradeTable[[#This Row],[Code]],Table9[[Feature.Part]:[v2 atttainment]],2,FALSE)","v":"Precondition"},{"$f":"IF(VLOOKUP(B183&\".\"&E183,Table9[[Feature.Part]:[v2 atttainment]],4,FALSE),\"Expected\",IF(G183=\"Precondition\",\"Needs achievement\",\"Not Pursued\"))","v":"Expected"},{"$f":"IF(G183=\"Optimization\",VLOOKUP(B183&\".\"&E183,Table9[[Feature.Part]:[v2 atttainment]],6,),\"\")","v":""},{"$f":"IFERROR(_xlfn.TEXTJOIN(\", \",,_xlfn._xlws.FILTER(Table6[WELL v1 Feature 1],Table6[v2 Feature.Part]=UpgradeTable[[#This Row],[Code]],)),\"N/A\")","v":"85"}]
[null,"C02",{"$f":"_xlfn.CONCAT(UpgradeTable[[#This Row],[Feature]],\".\",UpgradeTable[[#This Row],[Part]])","v":"C02.2"},{"$f":"VLOOKUP(UpgradeTable[[#This Row],[Feature]],Table5[],12,0)","v":"Community"},2,{"$f":"VLOOKUP(UpgradeTable[[#This Row],[Code]],Table5[[Feature.Part]:[Part Description]],2,0)","v":"Promote Health-Oriented Mission"},{"$f":"VLOOKUP(UpgradeTable[[#This Row],[Code]],Table9[[Feature.Part]:[v2 atttainment]],2,FALSE)","v":"Precondition"},{"$f":"IF(VLOOKUP(B184&\".\"&E184,Table9[[Feature.Part]:[v2 atttainment]],4,FALSE),\"Expected\",IF(G184=\"Precondition\",\"Needs achievement\",\"Not Pursued\"))","v":"Expected"},{"$f":"IF(G184=\"Optimization\",VLOOKUP(B184&\".\"&E184,Table9[[Feature.Part]:[v2 atttainment]],6,),\"\")","v":""},{"$f":"IFERROR(_xlfn.TEXTJOIN(\", \",,_xlfn._xlws.FILTER(Table6[WELL v1 Feature 1],Table6[v2 Feature.Part]=UpgradeTable[[#This Row],[Code]],)),\"N/A\")","v":"85"}]
[null,"C03",{"$f":"_xlfn.CONCAT(UpgradeTable[[#This Row],[Feature]],\".\",UpgradeTable[[#This Row],[Part]])","v":"C03.1"},{"$f":"VLOOKUP(UpgradeTable[[#This Row],[Feature]],Table5[],12,0)","v":"Community"},1,{"$f":"VLOOKUP(UpgradeTable[[#This Row],[Code]],Table5[[Feature.Part]:[Part Description]],2,0)","v":"Develop Emergency Preparedness Plan"},{"$f":"VLOOKUP(UpgradeTable[[#This Row],[Code]],Table9[[Feature.Part]:[v2 atttainment]],2,FALSE)","v":"Precondition"},{"$f":"IF(VLOOKUP(B185&\".\"&E185,Table9[[Feature.Part]:[v2 atttainment]],4,FALSE),\"Expected\",IF(G185=\"Precondition\",\"Needs achievement\",\"Not Pursued\"))","v":"Needs achievement"},{"$f":"IF(G185=\"Optimization\",VLOOKUP(B185&\".\"&E185,Table9[[Feature.Part]:[v2 atttainment]],6,),\"\")","v":""},{"$f":"IFERROR(_xlfn.TEXTJOIN(\", \",,_xlfn._xlws.FILTER(Table6[WELL v1 Feature 1],Table6[v2 Feature.Part]=UpgradeTable[[#This Row],[Code]],)),\"N/A\")","v":"N/A"}]
[null,"C04",{"$f":"_xlfn.CONCAT(UpgradeTable[[#This Row],[Feature]],\".\",UpgradeTable[[#This Row],[Part]])","v":"C04.1"},{"$f":"VLOOKUP(UpgradeTable[[#This Row],[Feature]],Table5[],12,0)","v":"Community"},1,{"$f":"VLOOKUP(UpgradeTable[[#This Row],[Code]],Table5[[Feature.Part]:[Part Description]],2,0)","v":"Select Project Survey"},{"$f":"VLOOKUP(UpgradeTable[[#This Row],[Code]],Table9[[Feature.Part]:[v2 atttainment]],2,FALSE)","v":"Precondition"},{"$f":"IF(VLOOKUP(B186&\".\"&E186,Table9[[Feature.Part]:[v2 atttainment]],4,FALSE),\"Expected\",IF(G186=\"Precondition\",\"Needs achievement\",\"Not Pursued\"))","v":"Expected"},{"$f":"IF(G186=\"Optimization\",VLOOKUP(B186&\".\"&E186,Table9[[Feature.Part]:[v2 atttainment]],6,),\"\")","v":""},{"$f":"IFERROR(_xlfn.TEXTJOIN(\", \",,_xlfn._xlws.FILTER(Table6[WELL v1 Feature 1],Table6[v2 Feature.Part]=UpgradeTable[[#This Row],[Code]],)),\"N/A\")","v":"86"}]
[null,"C04",{"$f":"_xlfn.CONCAT(UpgradeTable[[#This Row],[Feature]],\".\",UpgradeTable[[#This Row],[Part]])","v":"C04.2"},{"$f":"VLOOKUP(UpgradeTable[[#This Row],[Feature]],Table5[],12,0)","v":"Community"},2,{"$f":"VLOOKUP(UpgradeTable[[#This Row],[Code]],Table5[[Feature.Part]:[Part Description]],2,0)","v":"Administer Survey and Report Results"},{"$f":"VLOOKUP(UpgradeTable[[#This Row],[Code]],Table9[[Feature.Part]:[v2 atttainment]],2,FALSE)","v":"Precondition"},{"$f":"IF(VLOOKUP(B187&\".\"&E187,Table9[[Feature.Part]:[v2 atttainment]],4,FALSE),\"Expected\",IF(G187=\"Precondition\",\"Needs achievement\",\"Not Pursued\"))","v":"Expected"},{"$f":"IF(G187=\"Optimization\",VLOOKUP(B187&\".\"&E187,Table9[[Feature.Part]:[v2 atttainment]],6,),\"\")","v":""},{"$f":"IFERROR(_xlfn.TEXTJOIN(\", \",,_xlfn._xlws.FILTER(Table6[WELL v1 Feature 1],Table6[v2 Feature.Part]=UpgradeTable[[#This Row],[Code]],)),\"N/A\")","v":"86"}]
[null,"C05",{"$f":"_xlfn.CONCAT(UpgradeTable[[#This Row],[Feature]],\".\",UpgradeTable[[#This Row],[Part]])","v":"C05.1"},{"$f":"VLOOKUP(UpgradeTable[[#This Row],[Feature]],Table5[],12,0)","v":"Community"},1,{"$f":"VLOOKUP(UpgradeTable[[#This Row],[Code]],Table5[[Feature.Part]:[Part Description]],2,0)","v":"Utilize Enhanced Survey"},{"$f":"VLOOKUP(UpgradeTable[[#This Row],[Code]],Table9[[Feature.Part]:[v2 atttainment]],2,FALSE)","v":"Optimization"},{"$f":"IF(VLOOKUP(B188&\".\"&E188,Table9[[Feature.Part]:[v2 atttainment]],4,FALSE),\"Expected\",IF(G188=\"Precondition\",\"Needs achievement\",\"Not Pursued\"))","v":"Not Pursued"},{"$f":"IF(G188=\"Optimization\",VLOOKUP(B188&\".\"&E188,Table9[[Feature.Part]:[v2 atttainment]],6,),\"\")","v":0},{"$f":"IFERROR(_xlfn.TEXTJOIN(\", \",,_xlfn._xlws.FILTER(Table6[WELL v1 Feature 1],Table6[v2 Feature.Part]=UpgradeTable[[#This Row],[Code]],)),\"N/A\")","v":"N/A"}]
[null,"C05",{"$f":"_xlfn.CONCAT(UpgradeTable[[#This Row],[Feature]],\".\",UpgradeTable[[#This Row],[Part]])","v":"C05.2"},{"$f":"VLOOKUP(UpgradeTable[[#This Row],[Feature]],Table5[],12,0)","v":"Community"},2,{"$f":"VLOOKUP(UpgradeTable[[#This Row],[Code]],Table5[[Feature.Part]:[Part Description]],2,0)","v":"Utilize Pre- and Post-Occupancy Survey"},{"$f":"VLOOKUP(UpgradeTable[[#This Row],[Code]],Table9[[Feature.Part]:[v2 atttainment]],2,FALSE)","v":"Optimization"},{"$f":"IF(VLOOKUP(B189&\".\"&E189,Table9[[Feature.Part]:[v2 atttainment]],4,FALSE),\"Expected\",IF(G189=\"Precondition\",\"Needs achievement\",\"Not Pursued\"))","v":"Not Pursued"},{"$f":"IF(G189=\"Optimization\",VLOOKUP(B189&\".\"&E189,Table9[[Feature.Part]:[v2 atttainment]],6,),\"\")","v":0},{"$f":"IFERROR(_xlfn.TEXTJOIN(\", \",,_xlfn._xlws.FILTER(Table6[WELL v1 Feature 1],Table6[v2 Feature.Part]=UpgradeTable[[#This Row],[Code]],)),\"N/A\")","v":"N/A"}]
[null,"C05",{"$f":"_xlfn.CONCAT(UpgradeTable[[#This Row],[Feature]],\".\",UpgradeTable[[#This Row],[Part]])","v":"C05.3"},{"$f":"VLOOKUP(UpgradeTable[[#This Row],[Feature]],Table5[],12,0)","v":"Community"},3,{"$f":"VLOOKUP(UpgradeTable[[#This Row],[Code]],Table5[[Feature.Part]:[Part Description]],2,0)","v":"Implement Action Plan"},{"$f":"VLOOKUP(UpgradeTable[[#This Row],[Code]],Table9[[Feature.Part]:[v2 atttainment]],2,FALSE)","v":"Optimization"},{"$f":"IF(VLOOKUP(B190&\".\"&E190,Table9[[Feature.Part]:[v2 atttainment]],4,FALSE),\"Expected\",IF(G190=\"Precondition\",\"Needs achievement\",\"Not Pursued\"))","v":"Not Pursued"},{"$f":"IF(G190=\"Optimization\",VLOOKUP(B190&\".\"&E190,Table9[[Feature.Part]:[v2 atttainment]],6,),\"\")","v":0},{"$f":"IFERROR(_xlfn.TEXTJOIN(\", \",,_xlfn._xlws.FILTER(Table6[WELL v1 Feature 1],Table6[v2 Feature.Part]=UpgradeTable[[#This Row],[Code]],)),\"N/A\")","v":"N/A"}]
[null,"C05",{"$f":"_xlfn.CONCAT(UpgradeTable[[#This Row],[Feature]],\".\",UpgradeTable[[#This Row],[Part]])","v":"C05.4"},{"$f":"VLOOKUP(UpgradeTable[[#This Row],[Feature]],Table5[],12,0)","v":"Community"},4,{"$f":"VLOOKUP(UpgradeTable[[#This Row],[Code]],Table5[[Feature.Part]:[Part Description]],2,0)","v":"Facilitate Interviews, Focus Groups and/or Observation"},{"$f":"VLOOKUP(UpgradeTable[[#This Row],[Code]],Table9[[Feature.Part]:[v2 atttainment]],2,FALSE)","v":"Optimization"},{"$f":"IF(VLOOKUP(B191&\".\"&E191,Table9[[Feature.Part]:[v2 atttainment]],4,FALSE),\"Expected\",IF(G191=\"Precondition\",\"Needs achievement\",\"Not Pursued\"))","v":"Not Pursued"},{"$f":"IF(G191=\"Optimization\",VLOOKUP(B191&\".\"&E191,Table9[[Feature.Part]:[v2 atttainment]],6,),\"\")","v":0},{"$f":"IFERROR(_xlfn.TEXTJOIN(\", \",,_xlfn._xlws.FILTER(Table6[WELL v1 Feature 1],Table6[v2 Feature.Part]=UpgradeTable[[#This Row],[Code]],)),\"N/A\")","v":"N/A"}]
[null,"C06",{"$f":"_xlfn.CONCAT(UpgradeTable[[#This Row],[Feature]],\".\",UpgradeTable[[#This Row],[Part]])","v":"C06.1"},{"$f":"VLOOKUP(UpgradeTable[[#This Row],[Feature]],Table5[],12,0)","v":"Community"},1,{"$f":"VLOOKUP(UpgradeTable[[#This Row],[Code]],Table5[[Feature.Part]:[Part Description]],2,0)","v":"Promote Health Benefits"},{"$f":"VLOOKUP(UpgradeTable[[#This Row],[Code]],Table9[[Feature.Part]:[v2 atttainment]],2,FALSE)","v":"Optimization"},{"$f":"IF(VLOOKUP(B192&\".\"&E192,Table9[[Feature.Part]:[v2 atttainment]],4,FALSE),\"Expected\",IF(G192=\"Precondition\",\"Needs achievement\",\"Not Pursued\"))","v":"Not Pursued"},{"$f":"IF(G192=\"Optimization\",VLOOKUP(B192&\".\"&E192,Table9[[Feature.Part]:[v2 atttainment]],6,),\"\")","v":0},{"$f":"IFERROR(_xlfn.TEXTJOIN(\", \",,_xlfn._xlws.FILTER(Table6[WELL v1 Feature 1],Table6[v2 Feature.Part]=UpgradeTable[[#This Row],[Code]],)),\"N/A\")","v":"92"}]
[null,"C06",{"$f":"_xlfn.CONCAT(UpgradeTable[[#This Row],[Feature]],\".\",UpgradeTable[[#This Row],[Part]])","v":"C06.2"},{"$f":"VLOOKUP(UpgradeTable[[#This Row],[Feature]],Table5[],12,0)","v":"Community"},2,{"$f":"VLOOKUP(UpgradeTable[[#This Row],[Code]],Table5[[Feature.Part]:[Part Description]],2,0)","v":"Offer On-Demand Health Services"},{"$f":"VLOOKUP(UpgradeTable[[#This Row],[Code]],Table9[[Feature.Part]:[v2 atttainment]],2,FALSE)","v":"Optimization"},{"$f":"IF(VLOOKUP(B193&\".\"&E193,Table9[[Feature.Part]:[v2 atttainment]],4,FALSE),\"Expected\",IF(G193=\"Precondition\",\"Needs achievement\",\"Not Pursued\"))","v":"Not Pursued"},{"$f":"IF(G193=\"Optimization\",VLOOKUP(B193&\".\"&E193,Table9[[Feature.Part]:[v2 atttainment]],6,),\"\")","v":0},{"$f":"IFERROR(_xlfn.TEXTJOIN(\", \",,_xlfn._xlws.FILTER(Table6[WELL v1 Feature 1],Table6[v2 Feature.Part]=UpgradeTable[[#This Row],[Code]],)),\"N/A\")","v":"N/A"}]
[null,"C06",{"$f":"_xlfn.CONCAT(UpgradeTable[[#This Row],[Feature]],\".\",UpgradeTable[[#This Row],[Part]])","v":"C06.3"},{"$f":"VLOOKUP(UpgradeTable[[#This Row],[Feature]],Table5[],12,0)","v":"Community"},3,{"$f":"VLOOKUP(UpgradeTable[[#This Row],[Code]],Table5[[Feature.Part]:[Part Description]],2,0)","v":"Offer Sick Leave"},{"$f":"VLOOKUP(UpgradeTable[[#This Row],[Code]],Table9[[Feature.Part]:[v2 atttainment]],2,FALSE)","v":"Optimization"},{"$f":"IF(VLOOKUP(B194&\".\"&E194,Table9[[Feature.Part]:[v2 atttainment]],4,FALSE),\"Expected\",IF(G194=\"Precondition\",\"Needs achievement\",\"Not Pursued\"))","v":"Not Pursued"},{"$f":"IF(G194=\"Optimization\",VLOOKUP(B194&\".\"&E194,Table9[[Feature.Part]:[v2 atttainment]],6,),\"\")","v":0},{"$f":"IFERROR(_xlfn.TEXTJOIN(\", \",,_xlfn._xlws.FILTER(Table6[WELL v1 Feature 1],Table6[v2 Feature.Part]=UpgradeTable[[#This Row],[Code]],)),\"N/A\")","v":"N/A"}]
[null,"C07",{"$f":"_xlfn.CONCAT(UpgradeTable[[#This Row],[Feature]],\".\",UpgradeTable[[#This Row],[Part]])","v":"C07.1"},{"$f":"VLOOKUP(UpgradeTable[[#This Row],[Feature]],Table5[],12,0)","v":"Community"},1,{"$f":"VLOOKUP(UpgradeTable[[#This Row],[Code]],Table5[[Feature.Part]:[Part Description]],2,0)","v":"Promote Culture of Health"},{"$f":"VLOOKUP(UpgradeTable[[#This Row],[Code]],Table9[[Feature.Part]:[v2 atttainment]],2,FALSE)","v":"Optimization"},{"$f":"IF(VLOOKUP(B195&\".\"&E195,Table9[[Feature.Part]:[v2 atttainment]],4,FALSE),\"Expected\",IF(G195=\"Precondition\",\"Needs achievement\",\"Not Pursued\"))","v":"Not Pursued"},{"$f":"IF(G195=\"Optimization\",VLOOKUP(B195&\".\"&E195,Table9[[Feature.Part]:[v2 atttainment]],6,),\"\")","v":0},{"$f":"IFERROR(_xlfn.TEXTJOIN(\", \",,_xlfn._xlws.FILTER(Table6[WELL v1 Feature 1],Table6[v2 Feature.Part]=UpgradeTable[[#This Row],[Code]],)),\"N/A\")","v":"N/A"}]
[null,"C07",{"$f":"_xlfn.CONCAT(UpgradeTable[[#This Row],[Feature]],\".\",UpgradeTable[[#This Row],[Part]])","v":"C07.2"},{"$f":"VLOOKUP(UpgradeTable[[#This Row],[Feature]],Table5[],12,0)","v":"Community"},2,{"$f":"VLOOKUP(UpgradeTable[[#This Row],[Code]],Table5[[Feature.Part]:[Part Description]],2,0)","v":"Health Promotion Leader"},{"$f":"VLOOKUP(UpgradeTable[[#This Row],[Code]],Table9[[Feature.Part]:[v2 atttainment]],2,FALSE)","v":"Optimization"},{"$f":"IF(VLOOKUP(B196&\".\"&E196,Table9[[Feature.Part]:[v2 atttainment]],4,FALSE),\"Expected\",IF(G196=\"Precondition\",\"Needs achievement\",\"Not Pursued\"))","v":"Not Pursued"},{"$f":"IF(G196=\"Optimization\",VLOOKUP(B196&\".\"&E196,Table9[[Feature.Part]:[v2 atttainment]],6,),\"\")","v":0},{"$f":"IFERROR(_xlfn.TEXTJOIN(\", \",,_xlfn._xlws.FILTER(Table6[WELL v1 Feature 1],Table6[v2 Feature.Part]=UpgradeTable[[#This Row],[Code]],)),\"N/A\")","v":"N/A"}]
[null,"C08",{"$f":"_xlfn.CONCAT(UpgradeTable[[#This Row],[Feature]],\".\",UpgradeTable[[#This Row],[Part]])","v":"C08.1"},{"$f":"VLOOKUP(UpgradeTable[[#This Row],[Feature]],Table5[],12,0)","v":"Community"},1,{"$f":"VLOOKUP(UpgradeTable[[#This Row],[Code]],Table5[[Feature.Part]:[Part Description]],2,0)","v":"Offer New Parent Leave"},{"$f":"VLOOKUP(UpgradeTable[[#This Row],[Code]],Table9[[Feature.Part]:[v2 atttainment]],2,FALSE)","v":"Optimization"},{"$f":"IF(VLOOKUP(B197&\".\"&E197,Table9[[Feature.Part]:[v2 atttainment]],4,FALSE),\"Expected\",IF(G197=\"Precondition\",\"Needs achievement\",\"Not Pursued\"))","v":"Not Pursued"},{"$f":"IF(G197=\"Optimization\",VLOOKUP(B197&\".\"&E197,Table9[[Feature.Part]:[v2 atttainment]],6,),\"\")","v":0},{"$f":"IFERROR(_xlfn.TEXTJOIN(\", \",,_xlfn._xlws.FILTER(Table6[WELL v1 Feature 1],Table6[v2 Feature.Part]=UpgradeTable[[#This Row],[Code]],)),\"N/A\")","v":"N/A"}]
[null,"C09",{"$f":"_xlfn.CONCAT(UpgradeTable[[#This Row],[Feature]],\".\",UpgradeTable[[#This Row],[Part]])","v":"C09.1"},{"$f":"VLOOKUP(UpgradeTable[[#This Row],[Feature]],Table5[],12,0)","v":"Community"},1,{"$f":"VLOOKUP(UpgradeTable[[#This Row],[Code]],Table5[[Feature.Part]:[Part Description]],2,0)","v":"Offer Workplace Breastfeeding Support"},{"$f":"VLOOKUP(UpgradeTable[[#This Row],[Code]],Table9[[Feature.Part]:[v2 atttainment]],2,FALSE)","v":"Optimization"},{"$f":"IF(VLOOKUP(B198&\".\"&E198,Table9[[Feature.Part]:[v2 atttainment]],4,FALSE),\"Expected\",IF(G198=\"Precondition\",\"Needs achievement\",\"Not Pursued\"))","v":"Not Pursued"},{"$f":"IF(G198=\"Optimization\",VLOOKUP(B198&\".\"&E198,Table9[[Feature.Part]:[v2 atttainment]],6,),\"\")","v":0},{"$f":"IFERROR(_xlfn.TEXTJOIN(\", \",,_xlfn._xlws.FILTER(Table6[WELL v1 Feature 1],Table6[v2 Feature.Part]=UpgradeTable[[#This Row],[Code]],)),\"N/A\")","v":"N/A"}]
[null,"C09",{"$f":"_xlfn.CONCAT(UpgradeTable[[#This Row],[Feature]],\".\",UpgradeTable[[#This Row],[Part]])","v":"C09.2"},{"$f":"VLOOKUP(UpgradeTable[[#This Row],[Feature]],Table5[],12,0)","v":"Community"},2,{"$f":"VLOOKUP(UpgradeTable[[#This Row],[Code]],Table5[[Feature.Part]:[Part Description]],2,0)","v":"Design Lactation Room"},{"$f":"VLOOKUP(UpgradeTable[[#This Row],[Code]],Table9[[Feature.Part]:[v2 atttainment]],2,FALSE)","v":"Optimization"},{"$f":"IF(VLOOKUP(B199&\".\"&E199,Table9[[Feature.Part]:[v2 atttainment]],4,FALSE),\"Expected\",IF(G199=\"Precondition\",\"Needs achievement\",\"Not Pursued\"))","v":"Not Pursued"},{"$f":"IF(G199=\"Optimization\",VLOOKUP(B199&\".\"&E199,Table9[[Feature.Part]:[v2 atttainment]],6,),\"\")","v":0},{"$f":"IFERROR(_xlfn.TEXTJOIN(\", \",,_xlfn._xlws.FILTER(Table6[WELL v1 Feature 1],Table6[v2 Feature.Part]=UpgradeTable[[#This Row],[Code]],)),\"N/A\")","v":"N/A"}]
[null,"C10",{"$f":"_xlfn.CONCAT(UpgradeTable[[#This Row],[Feature]],\".\",UpgradeTable[[#This Row],[Part]])","v":"C10.1"},{"$f":"VLOOKUP(UpgradeTable[[#This Row],[Feature]],Table5[],12,0)","v":"Community"},1,{"$f":"VLOOKUP(UpgradeTable[[#This Row],[Code]],Table5[[Feature.Part]:[Part Description]],2,0)","v":"Offer Childcare Support"},{"$f":"VLOOKUP(UpgradeTable[[#This Row],[Code]],Table9[[Feature.Part]:[v2 atttainment]],2,FALSE)","v":"Optimization"},{"$f":"IF(VLOOKUP(B200&\".\"&E200,Table9[[Feature.Part]:[v2 atttainment]],4,FALSE),\"Expected\",IF(G200=\"Precondition\",\"Needs achievement\",\"Not Pursued\"))","v":"Not Pursued"},{"$f":"IF(G200=\"Optimization\",VLOOKUP(B200&\".\"&E200,Table9[[Feature.Part]:[v2 atttainment]],6,),\"\")","v":0},{"$f":"IFERROR(_xlfn.TEXTJOIN(\", \",,_xlfn._xlws.FILTER(Table6[WELL v1 Feature 1],Table6[v2 Feature.Part]=UpgradeTable[[#This Row],[Code]],)),\"N/A\")","v":"93"}]
[null,"C10",{"$f":"_xlfn.CONCAT(UpgradeTable[[#This Row],[Feature]],\".\",UpgradeTable[[#This Row],[Part]])","v":"C10.2"},{"$f":"VLOOKUP(UpgradeTable[[#This Row],[Feature]],Table5[],12,0)","v":"Community"},2,{"$f":"VLOOKUP(UpgradeTable[[#This Row],[Code]],Table5[[Feature.Part]:[Part Description]],2,0)","v":"Offer Family Leave"},{"$f":"VLOOKUP(UpgradeTable[[#This Row],[Code]],Table9[[Feature.Part]:[v2 atttainment]],2,FALSE)","v":"Optimization"},{"$f":"IF(VLOOKUP(B201&\".\"&E201,Table9[[Feature.Part]:[v2 atttainment]],4,FALSE),\"Expected\",IF(G201=\"Precondition\",\"Needs achievement\",\"Not Pursued\"))","v":"Not Pursued"},{"$f":"IF(G201=\"Optimization\",VLOOKUP(B201&\".\"&E201,Table9[[Feature.Part]:[v2 atttainment]],6,),\"\")","v":0},{"$f":"IFERROR(_xlfn.TEXTJOIN(\", \",,_xlfn._xlws.FILTER(Table6[WELL v1 Feature 1],Table6[v2 Feature.Part]=UpgradeTable[[#This Row],[Code]],)),\"N/A\")","v":"N/A"}]
[null,"C10",{"$f":"_xlfn.CONCAT(UpgradeTable[[#This Row],[Feature]],\".\",UpgradeTable[[#This Row],[Part]])","v":"C10.3"},{"$f":"VLOOKUP(UpgradeTable[[#This Row],[Feature]],Table5[],12,0)","v":"Community"},3,{"$f":"VLOOKUP(UpgradeTable[[#This Row],[Code]],Table5[[Feature.Part]:[Part Description]],2,0)","v":"Offer Bereavement Support"},{"$f":"VLOOKUP(UpgradeTable[[#This Row],[Code]],Table9[[Feature.Part]:[v2 atttainment]],2,FALSE)","v":"Optimization"},{"$f":"IF(VLOOKUP(B202&\".\"&E202,Table9[[Feature.Part]:[v2 atttainment]],4,FALSE),\"Expected\",IF(G202=\"Precondition\",\"Needs achievement\",\"Not Pursued\"))","v":"Not Pursued"},{"$f":"IF(G202=\"Optimization\",VLOOKUP(B202&\".\"&E202,Table9[[Feature.Part]:[v2 atttainment]],6,),\"\")","v":0},{"$f":"IFERROR(_xlfn.TEXTJOIN(\", \",,_xlfn._xlws.FILTER(Table6[WELL v1 Feature 1],Table6[v2 Feature.Part]=UpgradeTable[[#This Row],[Code]],)),\"N/A\")","v":"N/A"}]
[null,"C11",{"$f":"_xlfn.CONCAT(UpgradeTable[[#This Row],[Feature]],\".\",UpgradeTable[[#This Row],[Part]])","v":"C11.1"},{"$f":"VLOOKUP(UpgradeTable[[#This Row],[Feature]],Table5[],12,0)","v":"Community"},1,{"$f":"VLOOKUP(UpgradeTable[[#This Row],[Code]],Table5[[Feature.Part]:[Part Description]],2,0)","v":"Promote Community Engagement"},{"$f":"VLOOKUP(UpgradeTable[[#This Row],[Code]],Table9[[Feature.Part]:[v2 atttainment]],2,FALSE)","v":"Optimization"},{"$f":"IF(VLOOKUP(B203&\".\"&E203,Table9[[Feature.Part]:[v2 atttainment]],4,FALSE),\"Expected\",IF(G203=\"Precondition\",\"Needs achievement\",\"Not Pursued\"))","v":"Not Pursued"},{"$f":"IF(G203=\"Optimization\",VLOOKUP(B203&\".\"&E203,Table9[[Feature.Part]:[v2 atttainment]],6,),\"\")","v":0},{"$f":"IFERROR(_xlfn.TEXTJOIN(\", \",,_xlfn._xlws.FILTER(Table6[WELL v1 Feature 1],Table6[v2 Feature.Part]=UpgradeTable[[#This Row],[Code]],)),\"N/A\")","v":"96"}]
[null,"C11",{"$f":"_xlfn.CONCAT(UpgradeTable[[#This Row],[Feature]],\".\",UpgradeTable[[#This Row],[Part]])","v":"C11.2"},{"$f":"VLOOKUP(UpgradeTable[[#This Row],[Feature]],Table5[],12,0)","v":"Community"},2,{"$f":"VLOOKUP(UpgradeTable[[#This Row],[Code]],Table5[[Feature.Part]:[Part Description]],2,0)","v":"Provide Community Space"},{"$f":"VLOOKUP(UpgradeTable[[#This Row],[Code]],Table9[[Feature.Part]:[v2 atttainment]],2,FALSE)","v":"Optimization"},{"$f":"IF(VLOOKUP(B204&\".\"&E204,Table9[[Feature.Part]:[v2 atttainment]],4,FALSE),\"Expected\",IF(G204=\"Precondition\",\"Needs achievement\",\"Not Pursued\"))","v":"Not Pursued"},{"$f":"IF(G204=\"Optimization\",VLOOKUP(B204&\".\"&E204,Table9[[Feature.Part]:[v2 atttainment]],6,),\"\")","v":0},{"$f":"IFERROR(_xlfn.TEXTJOIN(\", \",,_xlfn._xlws.FILTER(Table6[WELL v1 Feature 1],Table6[v2 Feature.Part]=UpgradeTable[[#This Row],[Code]],)),\"N/A\")","v":"N/A"}]
[null,"C12",{"$f":"_xlfn.CONCAT(UpgradeTable[[#This Row],[Feature]],\".\",UpgradeTable[[#This Row],[Part]])","v":"C12.1"},{"$f":"VLOOKUP(UpgradeTable[[#This Row],[Feature]],Table5[],12,0)","v":"Community"},1,{"$f":"VLOOKUP(UpgradeTable[[#This Row],[Code]],Table5[[Feature.Part]:[Part Description]],2,0)","v":"Create DEI Assessment and Action Plan"},{"$f":"VLOOKUP(UpgradeTable[[#This Row],[Code]],Table9[[Feature.Part]:[v2 atttainment]],2,FALSE)","v":"Optimization"},{"$f":"IF(VLOOKUP(B205&\".\"&E205,Table9[[Feature.Part]:[v2 atttainment]],4,FALSE),\"Expected\",IF(G205=\"Precondition\",\"Needs achievement\",\"Not Pursued\"))","v":"Not Pursued"},{"$f":"IF(G205=\"Optimization\",VLOOKUP(B205&\".\"&E205,Table9[[Feature.Part]:[v2 atttainment]],6,),\"\")","v":0},{"$f":"IFERROR(_xlfn.TEXTJOIN(\", \",,_xlfn._xlws.FILTER(Table6[WELL v1 Feature 1],Table6[v2 Feature.Part]=UpgradeTable[[#This Row],[Code]],)),\"N/A\")","v":"N/A"}]
[null,"C12",{"$f":"_xlfn.CONCAT(UpgradeTable[[#This Row],[Feature]],\".\",UpgradeTable[[#This Row],[Part]])","v":"C12.2"},{"$f":"VLOOKUP(UpgradeTable[[#This Row],[Feature]],Table5[],12,0)","v":"Community"},2,{"$f":"VLOOKUP(UpgradeTable[[#This Row],[Code]],Table5[[Feature.Part]:[Part Description]],2,0)","v":"Implement DEI Support Systems"},{"$f":"VLOOKUP(UpgradeTable[[#This Row],[Code]],Table9[[Feature.Part]:[v2 atttainment]],2,FALSE)","v":"Optimization"},{"$f":"IF(VLOOKUP(B206&\".\"&E206,Table9[[Feature.Part]:[v2 atttainment]],4,FALSE),\"Expected\",IF(G206=\"Precondition\",\"Needs achievement\",\"Not Pursued\"))","v":"Not Pursued"},{"$f":"IF(G206=\"Optimization\",VLOOKUP(B206&\".\"&E206,Table9[[Feature.Part]:[v2 atttainment]],6,),\"\")","v":0},{"$f":"IFERROR(_xlfn.TEXTJOIN(\", \",,_xlfn._xlws.FILTER(Table6[WELL v1 Feature 1],Table6[v2 Feature.Part]=UpgradeTable[[#This Row],[Code]],)),\"N/A\")","v":"N/A"}]
[null,"C12",{"$f":"_xlfn.CONCAT(UpgradeTable[[#This Row],[Feature]],\".\",UpgradeTable[[#This Row],[Part]])","v":"C12.3"},{"$f":"VLOOKUP(UpgradeTable[[#This Row],[Feature]],Table5[],12,0)","v":"Community"},3,{"$f":"VLOOKUP(UpgradeTable[[#This Row],[Code]],Table5[[Feature.Part]:[Part Description]],2,0)","v":"Implement DEI Hiring Practices and Wage Equity"},{"$f":"VLOOKUP(UpgradeTable[[#This Row],[Code]],Table9[[Feature.Part]:[v2 atttainment]],2,FALSE)","v":"Optimization"},{"$f":"IF(VLOOKUP(B207&\".\"&E207,Table9[[Feature.Part]:[v2 atttainment]],4,FALSE),\"Expected\",IF(G207=\"Precondition\",\"Needs achievement\",\"Not Pursued\"))","v":"Not Pursued"},{"$f":"IF(G207=\"Optimization\",VLOOKUP(B207&\".\"&E207,Table9[[Feature.Part]:[v2 atttainment]],6,),\"\")","v":0},{"$f":"IFERROR(_xlfn.TEXTJOIN(\", \",,_xlfn._xlws.FILTER(Table6[WELL v1 Feature 1],Table6[v2 Feature.Part]=UpgradeTable[[#This Row],[Code]],)),\"N/A\")","v":"98"}]
[null,"C13",{"$f":"_xlfn.CONCAT(UpgradeTable[[#This Row],[Feature]],\".\",UpgradeTable[[#This Row],[Part]])","v":"C13.1"},{"$f":"VLOOKUP(UpgradeTable[[#This Row],[Feature]],Table5[],12,0)","v":"Community"},1,{"$f":"VLOOKUP(UpgradeTable[[#This Row],[Code]],Table5[[Feature.Part]:[Part Description]],2,0)","v":"Integrate Universal Design"},{"$f":"VLOOKUP(UpgradeTable[[#This Row],[Code]],Table9[[Feature.Part]:[v2 atttainment]],2,FALSE)","v":"Optimization"},{"$f":"IF(VLOOKUP(B208&\".\"&E208,Table9[[Feature.Part]:[v2 atttainment]],4,FALSE),\"Expected\",IF(G208=\"Precondition\",\"Needs achievement\",\"Not Pursued\"))","v":"Not Pursued"},{"$f":"IF(G208=\"Optimization\",VLOOKUP(B208&\".\"&E208,Table9[[Feature.Part]:[v2 atttainment]],6,),\"\")","v":0},{"$f":"IFERROR(_xlfn.TEXTJOIN(\", \",,_xlfn._xlws.FILTER(Table6[WELL v1 Feature 1],Table6[v2 Feature.Part]=UpgradeTable[[#This Row],[Code]],)),\"N/A\")","v":"N/A"}]
[null,"C14",{"$f":"_xlfn.CONCAT(UpgradeTable[[#This Row],[Feature]],\".\",UpgradeTable[[#This Row],[Part]])","v":"C14.1"},{"$f":"VLOOKUP(UpgradeTable[[#This Row],[Feature]],Table5[],12,0)","v":"Community"},1,{"$f":"VLOOKUP(UpgradeTable[[#This Row],[Code]],Table5[[Feature.Part]:[Part Description]],2,0)","v":"Promote Emergency Resources"},{"$f":"VLOOKUP(UpgradeTable[[#This Row],[Code]],Table9[[Feature.Part]:[v2 atttainment]],2,FALSE)","v":"Optimization"},{"$f":"IF(VLOOKUP(B209&\".\"&E209,Table9[[Feature.Part]:[v2 atttainment]],4,FALSE),\"Expected\",IF(G209=\"Precondition\",\"Needs achievement\",\"Not Pursued\"))","v":"Not Pursued"},{"$f":"IF(G209=\"Optimization\",VLOOKUP(B209&\".\"&E209,Table9[[Feature.Part]:[v2 atttainment]],6,),\"\")","v":0},{"$f":"IFERROR(_xlfn.TEXTJOIN(\", \",,_xlfn._xlws.FILTER(Table6[WELL v1 Feature 1],Table6[v2 Feature.Part]=UpgradeTable[[#This Row],[Code]],)),\"N/A\")","v":"N/A"}]
[null,"C14",{"$f":"_xlfn.CONCAT(UpgradeTable[[#This Row],[Feature]],\".\",UpgradeTable[[#This Row],[Part]])","v":"C14.2"},{"$f":"VLOOKUP(UpgradeTable[[#This Row],[Feature]],Table5[],12,0)","v":"Community"},2,{"$f":"VLOOKUP(UpgradeTable[[#This Row],[Code]],Table5[[Feature.Part]:[Part Description]],2,0)","v":"Provide Opioid Response Kit and Training"},{"$f":"VLOOKUP(UpgradeTable[[#This Row],[Code]],Table9[[Feature.Part]:[v2 atttainment]],2,FALSE)","v":"Optimization"},{"$f":"IF(VLOOKUP(B210&\".\"&E210,Table9[[Feature.Part]:[v2 atttainment]],4,FALSE),\"Expected\",IF(G210=\"Precondition\",\"Needs achievement\",\"Not Pursued\"))","v":"Not Pursued"},{"$f":"IF(G210=\"Optimization\",VLOOKUP(B210&\".\"&E210,Table9[[Feature.Part]:[v2 atttainment]],6,),\"\")","v":0},{"$f":"IFERROR(_xlfn.TEXTJOIN(\", \",,_xlfn._xlws.FILTER(Table6[WELL v1 Feature 1],Table6[v2 Feature.Part]=UpgradeTable[[#This Row],[Code]],)),\"N/A\")","v":"N/A"}]
[null,"C15",{"$f":"_xlfn.CONCAT(UpgradeTable[[#This Row],[Feature]],\".\",UpgradeTable[[#This Row],[Part]])","v":"C15.1"},{"$f":"VLOOKUP(UpgradeTable[[#This Row],[Feature]],Table5[],12,0)","v":"Community"},1,{"$f":"VLOOKUP(UpgradeTable[[#This Row],[Code]],Table5[[Feature.Part]:[Part Description]],2,0)","v":"Promote Business Continuity"},{"$f":"VLOOKUP(UpgradeTable[[#This Row],[Code]],Table9[[Feature.Part]:[v2 atttainment]],2,FALSE)","v":"Optimization"},{"$f":"IF(VLOOKUP(B211&\".\"&E211,Table9[[Feature.Part]:[v2 atttainment]],4,FALSE),\"Expected\",IF(G211=\"Precondition\",\"Needs achievement\",\"Not Pursued\"))","v":"Not Pursued"},{"$f":"IF(G211=\"Optimization\",VLOOKUP(B211&\".\"&E211,Table9[[Feature.Part]:[v2 atttainment]],6,),\"\")","v":0},{"$f":"IFERROR(_xlfn.TEXTJOIN(\", \",,_xlfn._xlws.FILTER(Table6[WELL v1 Feature 1],Table6[v2 Feature.Part]=UpgradeTable[[#This Row],[Code]],)),\"N/A\")","v":"N/A"}]
[null,"C15",{"$f":"_xlfn.CONCAT(UpgradeTable[[#This Row],[Feature]],\".\",UpgradeTable[[#This Row],[Part]])","v":"C15.2"},{"$f":"VLOOKUP(UpgradeTable[[#This Row],[Feature]],Table5[],12,0)","v":"Community"},2,{"$f":"VLOOKUP(UpgradeTable[[#This Row],[Code]],Table5[[Feature.Part]:[Part Description]],2,0)","v":"Support Emergency Resilience"},{"$f":"VLOOKUP(UpgradeTable[[#This Row],[Code]],Table9[[Feature.Part]:[v2 atttainment]],2,FALSE)","v":"Optimization"},{"$f":"IF(VLOOKUP(B212&\".\"&E212,Table9[[Feature.Part]:[v2 atttainment]],4,FALSE),\"Expected\",IF(G212=\"Precondition\",\"Needs achievement\",\"Not Pursued\"))","v":"Not Pursued"},{"$f":"IF(G212=\"Optimization\",VLOOKUP(B212&\".\"&E212,Table9[[Feature.Part]:[v2 atttainment]],6,),\"\")","v":0},{"$f":"IFERROR(_xlfn.TEXTJOIN(\", \",,_xlfn._xlws.FILTER(Table6[WELL v1 Feature 1],Table6[v2 Feature.Part]=UpgradeTable[[#This Row],[Code]],)),\"N/A\")","v":"N/A"}]
[null,"C15",{"$f":"_xlfn.CONCAT(UpgradeTable[[#This Row],[Feature]],\".\",UpgradeTable[[#This Row],[Part]])","v":"C15.3"},{"$f":"VLOOKUP(UpgradeTable[[#This Row],[Feature]],Table5[],12,0)","v":"Community"},3,{"$f":"VLOOKUP(UpgradeTable[[#This Row],[Code]],Table5[[Feature.Part]:[Part Description]],2,0)","v":"Facilitate Healthy Re-entry"},{"$f":"VLOOKUP(UpgradeTable[[#This Row],[Code]],Table9[[Feature.Part]:[v2 atttainment]],2,FALSE)","v":"Optimization"},{"$f":"IF(VLOOKUP(B213&\".\"&E213,Table9[[Feature.Part]:[v2 atttainment]],4,FALSE),\"Expected\",IF(G213=\"Precondition\",\"Needs achievement\",\"Not Pursued\"))","v":"Not Pursued"},{"$f":"IF(G213=\"Optimization\",VLOOKUP(B213&\".\"&E213,Table9[[Feature.Part]:[v2 atttainment]],6,),\"\")","v":0},{"$f":"IFERROR(_xlfn.TEXTJOIN(\", \",,_xlfn._xlws.FILTER(Table6[WELL v1 Feature 1],Table6[v2 Feature.Part]=UpgradeTable[[#This Row],[Code]],)),\"N/A\")","v":"N/A"}]
[null,"C16",{"$f":"_xlfn.CONCAT(UpgradeTable[[#This Row],[Feature]],\".\",UpgradeTable[[#This Row],[Part]])","v":"C16.1"},{"$f":"VLOOKUP(UpgradeTable[[#This Row],[Feature]],Table5[],12,0)","v":"Community"},1,{"$f":"VLOOKUP(UpgradeTable[[#This Row],[Code]],Table5[[Feature.Part]:[Part Description]],2,0)","v":"Allocate Affordable Units"},{"$f":"VLOOKUP(UpgradeTable[[#This Row],[Code]],Table9[[Feature.Part]:[v2 atttainment]],2,FALSE)","v":"Optimization"},{"$f":"IF(VLOOKUP(B214&\".\"&E214,Table9[[Feature.Part]:[v2 atttainment]],4,FALSE),\"Expected\",IF(G214=\"Precondition\",\"Needs achievement\",\"Not Pursued\"))","v":"Not Pursued"},{"$f":"IF(G214=\"Optimization\",VLOOKUP(B214&\".\"&E214,Table9[[Feature.Part]:[v2 atttainment]],6,),\"\")","v":0},{"$f":"IFERROR(_xlfn.TEXTJOIN(\", \",,_xlfn._xlws.FILTER(Table6[WELL v1 Feature 1],Table6[v2 Feature.Part]=UpgradeTable[[#This Row],[Code]],)),\"N/A\")","v":"N/A"}]
[null,"C17",{"$f":"_xlfn.CONCAT(UpgradeTable[[#This Row],[Feature]],\".\",UpgradeTable[[#This Row],[Part]])","v":"C17.1"},{"$f":"VLOOKUP(UpgradeTable[[#This Row],[Feature]],Table5[],12,0)","v":"Community"},1,{"$f":"VLOOKUP(UpgradeTable[[#This Row],[Code]],Table5[[Feature.Part]:[Part Description]],2,0)","v":"Disclose Labor Practices"},{"$f":"VLOOKUP(UpgradeTable[[#This Row],[Code]],Table9[[Feature.Part]:[v2 atttainment]],2,FALSE)","v":"Optimization"},{"$f":"IF(VLOOKUP(B215&\".\"&E215,Table9[[Feature.Part]:[v2 atttainment]],4,FALSE),\"Expected\",IF(G215=\"Precondition\",\"Needs achievement\",\"Not Pursued\"))","v":"Not Pursued"},{"$f":"IF(G215=\"Optimization\",VLOOKUP(B215&\".\"&E215,Table9[[Feature.Part]:[v2 atttainment]],6,),\"\")","v":0},{"$f":"IFERROR(_xlfn.TEXTJOIN(\", \",,_xlfn._xlws.FILTER(Table6[WELL v1 Feature 1],Table6[v2 Feature.Part]=UpgradeTable[[#This Row],[Code]],)),\"N/A\")","v":"N/A"}]
[null,"C17",{"$f":"_xlfn.CONCAT(UpgradeTable[[#This Row],[Feature]],\".\",UpgradeTable[[#This Row],[Part]])","v":"C17.2"},{"$f":"VLOOKUP(UpgradeTable[[#This Row],[Feature]],Table5[],12,0)","v":"Community"},2,{"$f":"VLOOKUP(UpgradeTable[[#This Row],[Code]],Table5[[Feature.Part]:[Part Description]],2,0)","v":"Implement Responsible Labor Practices"},{"$f":"VLOOKUP(UpgradeTable[[#This Row],[Code]],Table9[[Feature.Part]:[v2 atttainment]],2,FALSE)","v":"Optimization"},{"$f":"IF(VLOOKUP(B216&\".\"&E216,Table9[[Feature.Part]:[v2 atttainment]],4,FALSE),\"Expected\",IF(G216=\"Precondition\",\"Needs achievement\",\"Not Pursued\"))","v":"Not Pursued"},{"$f":"IF(G216=\"Optimization\",VLOOKUP(B216&\".\"&E216,Table9[[Feature.Part]:[v2 atttainment]],6,),\"\")","v":0},{"$f":"IFERROR(_xlfn.TEXTJOIN(\", \",,_xlfn._xlws.FILTER(Table6[WELL v1 Feature 1],Table6[v2 Feature.Part]=UpgradeTable[[#This Row],[Code]],)),\"N/A\")","v":"N/A"}]
[null,"I01",{"$f":"_xlfn.CONCAT(UpgradeTable[[#This Row],[Feature]],\".\",UpgradeTable[[#This Row],[Part]])","v":"I01.1"},{"$f":"VLOOKUP(UpgradeTable[[#This Row],[Feature]],Table5[],12,0)","v":"Innovations"},1,"Innovations earned from legacy WELL v1 features*",{"$f":"VLOOKUP(UpgradeTable[[#This Row],[Code]],Table9[[Feature.Part]:[v2 atttainment]],2,FALSE)","v":"Optimization"},{"$f":"IF(I217>0,\"Expected\",\"Not Pursued\")","v":"Expected"},{"$f":"ROUNDDOWN(SUMIF(Table4[Attainment],\"Y\",Table4[Innovation-Legacy Points]),0)","v":1},{"$f":"IFERROR(_xlfn.TEXTJOIN(\", \",,_xlfn._xlws.FILTER(Table6[WELL v1 Feature 1],Table6[v2 Feature.Part]=UpgradeTable[[#This Row],[Code]],)),\"N/A\")","v":"101, 102, 103, 104, 105"}]
[null,"I01",{"$f":"_xlfn.CONCAT(UpgradeTable[[#This Row],[Feature]],\".\",UpgradeTable[[#This Row],[Part]])","v":"I01.1"},{"$f":"VLOOKUP(UpgradeTable[[#This Row],[Feature]],Table5[],12,0)","v":"Innovations"},1,{"$f":"VLOOKUP(UpgradeTable[[#This Row],[Code]],Table5[[Feature.Part]:[Part Description]],2,0)","v":"Propose Innovations"},{"$f":"VLOOKUP(UpgradeTable[[#This Row],[Code]],Table9[[Feature.Part]:[v2 atttainment]],2,FALSE)","v":"Optimization"},{"$f":"IF(I218>0,\"Expected\",\"Not Pursued\")","v":"Not Pursued"},{"$f":"IF(G218=\"Optimization\",VLOOKUP(B218&\".\"&E218,Table9[[Feature.Part]:[v2 atttainment]],6,),\"\")","v":0},{"$f":"IFERROR(_xlfn.TEXTJOIN(\", \",,_xlfn._xlws.FILTER(Table6[WELL v1 Feature 1],Table6[v2 Feature.Part]=UpgradeTable[[#This Row],[Code]],)),\"N/A\")","v":"101, 102, 103, 104, 105"}]
[null,"I02",{"$f":"_xlfn.CONCAT(UpgradeTable[[#This Row],[Feature]],\".\",UpgradeTable[[#This Row],[Part]])","v":"I02.1"},{"$f":"VLOOKUP(UpgradeTable[[#This Row],[Feature]],Table5[],12,0)","v":"Innovations"},1,{"$f":"VLOOKUP(UpgradeTable[[#This Row],[Code]],Table5[[Feature.Part]:[Part Description]],2,0)","v":"Achieve WELL AP"},{"$f":"VLOOKUP(UpgradeTable[[#This Row],[Code]],Table9[[Feature.Part]:[v2 atttainment]],2,FALSE)","v":"Optimization"},{"$f":"IF(M30=\"Yes\",\"Expected\",\"Not Pursued\")","v":"Not Pursued"},{"$f":"IF(M30=\"Yes\",1,0)","v":0},{"$f":"IFERROR(_xlfn.TEXTJOIN(\", \",,_xlfn._xlws.FILTER(Table6[WELL v1 Feature 1],Table6[v2 Feature.Part]=UpgradeTable[[#This Row],[Code]],)),\"N/A\")","v":"N/A"}]
[null,"I03",{"$f":"_xlfn.CONCAT(UpgradeTable[[#This Row],[Feature]],\".\",UpgradeTable[[#This Row],[Part]])","v":"I03.1"},{"$f":"VLOOKUP(UpgradeTable[[#This Row],[Feature]],Table5[],12,0)","v":"Innovations"},1,{"$f":"VLOOKUP(UpgradeTable[[#This Row],[Code]],Table5[[Feature.Part]:[Part Description]],2,0)","v":"Offer WELL Educational Tours"},{"$f":"VLOOKUP(UpgradeTable[[#This Row],[Code]],Table9[[Feature.Part]:[v2 atttainment]],2,FALSE)","v":"Optimization"},{"$f":"IF(M31=\"Yes\",\"Expected\",\"Not Pursued\")","v":"Not Pursued"},{"$f":"IF(M31=\"Yes\",1,0)","v":0},{"$f":"IFERROR(_xlfn.TEXTJOIN(\", \",,_xlfn._xlws.FILTER(Table6[WELL v1 Feature 1],Table6[v2 Feature.Part]=UpgradeTable[[#This Row],[Code]],)),\"N/A\")","v":"N/A"}]
[null,"I04",{"$f":"_xlfn.CONCAT(UpgradeTable[[#This Row],[Feature]],\".\",UpgradeTable[[#This Row],[Part]])","v":"I04.1"},{"$f":"VLOOKUP(UpgradeTable[[#This Row],[Feature]],Table5[],12,0)","v":"Innovations"},1,{"$f":"VLOOKUP(UpgradeTable[[#This Row],[Code]],Table5[[Feature.Part]:[Part Description]],2,0)","v":"Complete Health and Wellness Programs"},{"$f":"VLOOKUP(UpgradeTable[[#This Row],[Code]],Table9[[Feature.Part]:[v2 atttainment]],2,FALSE)","v":"Optimization"},{"$f":"IF(M32=\"Yes\",\"Expected\",\"Not Pursued\")","v":"Not Pursued"},{"$f":"IF(M32=\"Yes\",1,0)","v":0},{"$f":"IFERROR(_xlfn.TEXTJOIN(\", \",,_xlfn._xlws.FILTER(Table6[WELL v1 Feature 1],Table6[v2 Feature.Part]=UpgradeTable[[#This Row],[Code]],)),\"N/A\")","v":"N/A"}]
[null,"I05",{"$f":"_xlfn.CONCAT(UpgradeTable[[#This Row],[Feature]],\".\",UpgradeTable[[#This Row],[Part]])","v":"I05.1"},{"$f":"VLOOKUP(UpgradeTable[[#This Row],[Feature]],Table5[],12,0)","v":"Innovations"},1,{"$f":"VLOOKUP(UpgradeTable[[#This Row],[Code]],Table5[[Feature.Part]:[Part Description]],2,0)","v":"Achieve Green Building Certification"},{"$f":"VLOOKUP(UpgradeTable[[#This Row],[Code]],Table9[[Feature.Part]:[v2 atttainment]],2,FALSE)","v":"Optimization"},{"$f":"IF(M33=\"Yes\",\"Expected\",\"Not Pursued\")","v":"Not Pursued"},{"$f":"IF(M33=\"Yes\",5,0)","v":0},{"$f":"IFERROR(_xlfn.TEXTJOIN(\", \",,_xlfn._xlws.FILTER(Table6[WELL v1 Feature 1],Table6[v2 Feature.Part]=UpgradeTable[[#This Row],[Code]],)),\"N/A\")","v":"106"}]
[]
[]
[]
[]
[null,null,null,null,null,"*For every two features earned in WELL v1 that have no counterpart in WELL v2, an upgrading recertifying project may claim one Innovation."]
[null,null,null,null,null," Upload this tool as documentation for up to the number of Innovations (in Feature I01) identified here. "]
[null,null,null,null,null,"(Note that the overall limit of 10 points in the Innovation concept still applies.)"]

{"sheet":"Upgrade - v2 Documentation","index":7,"n_rows":210,"n_cols":14,"rows_kept":210,"cut":false,"hidden":false,"merged":[[4,9,4,13],[2,4,2,13],[1,4,1,9],[209,3,209,13]]}
[]
[null,null,null,null,"WELL v2 Recertification Documentation Checklist",null,null,null,null,null,1]
[null,null,null,null,"The WELL v2 Recertification Documentation Checklist below shows the documentation that is required to be submitted for recertification for projects upgrading to WELL v2. The degree to which documentation is to be submitted is based on the information entered in the v1 project information tab. For example, for feature A01.1, only projects using the \"polluted areas\" pathway will need to submit a Technical Document. Also, for feature A01.2, the project has the option to submit either a Technical Document or conduct Performance Verification.\n\nVerification Required:\nNormal - Full documentation that was submitted at initial certification should be re-submitted for recertification.\nNormal (for new products) - Full documentation is required for all new products installed since initial certification\nNormal (for new construction) -  Full documentation is required for all new construction since initial certification\nSome features indicate documentation is required \"for new products/construction only\"; if there has not been any relevant new products or construction since initial certification within the WELL project boundary, no documentation is required for these features.\n\nAnnual Submission - WELL v2 Features that require annual submissions will be checked at recertification. Please upload all three (3) annual submissions (each year following Certification) to your v1 Documents Tab. If you were unable to obtain or record all three (3) annual submissions, please provide a note explaining the challenge you encountered to prevent annual submissions. Please also describe the changes you will make to ensure all annual submissions are carried out in the future.\n\nTo show all features and parts, even those not being pursued or requiring documentation, click the \"Show/hide\" button below. Some features indicate documentation is required \"for new products/construction only\"; if there has not been any relevant new products or construction since initial certification within the WELL project boundary, no documentation is required for these features."]
[]
[null,null,null,null,null,null,null,null,null,"Documentation Type"]
["Pursued","Concept Order","Feature","P/O","Feature.Part","Part Name","Recertification Type","Conditions for Change","Verification Required","Annotated Documents 1","Annotated Documents 2","On-Site","Letter of Assurance 1","Letter of Assurance 2"]
[{"$f":"IF(INDEX(UpgradeTable[],MATCH(Tablev2[[#This Row],[Feature.Part]],UpgradeTable[Code],0),7)=\"Not Pursued\",\"No\",\"Yes\")","v":"Yes"},{"$f":"VLOOKUP(Tablev2[[#This Row],[Feature]],Table5[],7,FALSE)","v":1},"A01","P","A01.1",{"$f":"VLOOKUP(Tablev2[[#This Row],[Feature.Part]],Table5[[Feature.Part]:[Part Description]],2,FALSE)","v":"Meet Thresholds for Particulate Matter"},"None",null,{"$f":"IF(Tablev2[[#This Row],[Recertification Type]]=\"None unless a change to\",IF(VLOOKUP(Tablev2[[#This Row],[Conditions for Change]],'v1 Project Information'!$B$21:$C$46,2,FALSE)=\"Yes\",\"Normal\",\"None\"),Tablev2[[#This Row],[Recertification Type]])","v":"None"},"Technical Document",null,"Performance Test"]
[{"$f":"IF(INDEX(UpgradeTable[],MATCH(Tablev2[[#This Row],[Feature.Part]],UpgradeTable[Code],0),7)=\"Not Pursued\",\"No\",\"Yes\")","v":"Yes"},{"$f":"VLOOKUP(Tablev2[[#This Row],[Feature]],Table5[],7,FALSE)","v":1},"A01","P","A01.2",{"$f":"VLOOKUP(Tablev2[[#This Row],[Feature.Part]],Table5[[Feature.Part]:[Part Description]],2,FALSE)","v":"Meet Thresholds for Organic Gases"},"None",null,{"$f":"IF(Tablev2[[#This Row],[Recertification Type]]=\"None unless a change to\",IF(VLOOKUP(Tablev2[[#This Row],[Conditions for Change]],'v1 Project Information'!$B$21:$C$46,2,FALSE)=\"Yes\",\"Normal\",\"None\"),Tablev2[[#This Row],[Recertification Type]])","v":"None"},"Technical Document",null,"Performance Test"]
[{"$f":"IF(INDEX(UpgradeTable[],MATCH(Tablev2[[#This Row],[Feature.Part]],UpgradeTable[Code],0),7)=\"Not Pursued\",\"No\",\"Yes\")","v":"Yes"},{"$f":"VLOOKUP(Tablev2[[#This Row],[Feature]],Table5[],7,FALSE)","v":1},"A01","P","A01.3",{"$f":"VLOOKUP(Tablev2[[#This Row],[Feature.Part]],Table5[[Feature.Part]:[Part Description]],2,FALSE)","v":"Meet Thresholds for Inorganic Gases"},"None",null,{"$f":"IF(Tablev2[[#This Row],[Recertification Type]]=\"None unless a change to\",IF(VLOOKUP(Tablev2[[#This Row],[Conditions for Change]],'v1 Project Information'!$B$21:$C$46,2,FALSE)=\"Yes\",\"Normal\",\"None\"),Tablev2[[#This Row],[Recertification Type]])","v":"None"},null,null,"Performance Test"]
[{"$f":"IF(INDEX(UpgradeTable[],MATCH(Tablev2[[#This Row],[Feature.Part]],UpgradeTable[Code],0),7)=\"Not Pursued\",\"No\",\"Yes\")","v":"Yes"},{"$f":"VLOOKUP(Tablev2[[#This Row],[Feature]],Table5[],7,FALSE)","v":1},"A01","P","A01.4",{"$f":"VLOOKUP(Tablev2[[#This Row],[Feature.Part]],Table5[[Feature.Part]:[Part Description]],2,FALSE)","v":"Meet Thresholds for Radon"},"None",null,{"$f":"IF(Tablev2[[#This Row],[Recertification Type]]=\"None unless a change to\",IF(VLOOKUP(Tablev2[[#This Row],[Conditions for Change]],'v1 Project Information'!$B$21:$C$46,2,FALSE)=\"Yes\",\"Normal\",\"None\"),Tablev2[[#This Row],[Recertification Type]])","v":"None"},"Technical Document",null,null,"Owner","Engineer"]
[{"$f":"IF(INDEX(UpgradeTable[],MATCH(Tablev2[[#This Row],[Feature.Part]],UpgradeTable[Code],0),7)=\"Not Pursued\",\"No\",\"Yes\")","v":"Yes"},{"$f":"VLOOKUP(Tablev2[[#This Row],[Feature]],Table5[],7,FALSE)","v":1},"A01","P","A01.5",{"$f":"VLOOKUP(Tablev2[[#This Row],[Feature.Part]],Table5[[Feature.Part]:[Part Description]],2,FALSE)","v":"Monitor Air Parameters"},"Annual Submission",null,{"$f":"IF(Tablev2[[#This Row],[Recertification Type]]=\"None unless a change to\",IF(VLOOKUP(Tablev2[[#This Row],[Conditions for Change]],'v1 Project Information'!$B$21:$C$46,2,FALSE)=\"Yes\",\"Normal\",\"None\"),Tablev2[[#This Row],[Recertification Type]])","v":"Annual Submission"},"On-going Data Report"]
[{"$f":"IF(INDEX(UpgradeTable[],MATCH(Tablev2[[#This Row],[Feature.Part]],UpgradeTable[Code],0),7)=\"Not Pursued\",\"No\",\"Yes\")","v":"Yes"},{"$f":"VLOOKUP(Tablev2[[#This Row],[Feature]],Table5[],7,FALSE)","v":1},"A02","P","A02.1",{"$f":"VLOOKUP(Tablev2[[#This Row],[Feature.Part]],Table5[[Feature.Part]:[Part Description]],2,FALSE)","v":"Prohibit Indoor Smoking"},"None unless a change to","Organizational Policy",{"$f":"IF(Tablev2[[#This Row],[Recertification Type]]=\"None unless a change to\",IF(VLOOKUP(Tablev2[[#This Row],[Conditions for Change]],'v1 Project Information'!$B$21:$C$46,2,FALSE)=\"Yes\",\"Normal\",\"None\"),Tablev2[[#This Row],[Recertification Type]])","v":"None"},"Policy and/or Operation Schedule"]
[{"$f":"IF(INDEX(UpgradeTable[],MATCH(Tablev2[[#This Row],[Feature.Part]],UpgradeTable[Code],0),7)=\"Not Pursued\",\"No\",\"Yes\")","v":"Yes"},{"$f":"VLOOKUP(Tablev2[[#This Row],[Feature]],Table5[],7,FALSE)","v":1},"A02","P","A02.2",{"$f":"VLOOKUP(Tablev2[[#This Row],[Feature.Part]],Table5[[Feature.Part]:[Part Description]],2,FALSE)","v":"Prohibit Outdoor Smoking"},"None",null,{"$f":"IF(Tablev2[[#This Row],[Recertification Type]]=\"None unless a change to\",IF(VLOOKUP(Tablev2[[#This Row],[Conditions for Change]],'v1 Project Information'!$B$21:$C$46,2,FALSE)=\"Yes\",\"Normal\",\"None\"),Tablev2[[#This Row],[Recertification Type]])","v":"None"},null,null,"On-site Photographs","Owner"]
[{"$f":"IF(INDEX(UpgradeTable[],MATCH(Tablev2[[#This Row],[Feature.Part]],UpgradeTable[Code],0),7)=\"Not Pursued\",\"No\",\"Yes\")","v":"Yes"},{"$f":"VLOOKUP(Tablev2[[#This Row],[Feature]],Table5[],7,FALSE)","v":1},"A03","P","A03.1",{"$f":"VLOOKUP(Tablev2[[#This Row],[Feature.Part]],Table5[[Feature.Part]:[Part Description]],2,FALSE)","v":"Ensure Adequate Ventilation"},"None unless a change to","Mechanical System",{"$f":"IF(Tablev2[[#This Row],[Recertification Type]]=\"None unless a change to\",IF(VLOOKUP(Tablev2[[#This Row],[Conditions for Change]],'v1 Project Information'!$B$21:$C$46,2,FALSE)=\"Yes\",\"Normal\",\"None\"),Tablev2[[#This Row],[Recertification Type]])","v":"None"},"Technical Document",null,null,"Engineer"]
[{"$f":"IF(INDEX(UpgradeTable[],MATCH(Tablev2[[#This Row],[Feature.Part]],UpgradeTable[Code],0),7)=\"Not Pursued\",\"No\",\"Yes\")","v":"Yes"},{"$f":"VLOOKUP(Tablev2[[#This Row],[Feature]],Table5[],7,FALSE)","v":1},"A04","P","A04.1",{"$f":"VLOOKUP(Tablev2[[#This Row],[Feature.Part]],Table5[[Feature.Part]:[Part Description]],2,FALSE)","v":"Mitigate Construction Pollution"},"Normal (for new construction only)",null,{"$f":"IF(Tablev2[[#This Row],[Recertification Type]]=\"None unless a change to\",IF(VLOOKUP(Tablev2[[#This Row],[Conditions for Change]],'v1 Project Information'!$B$21:$C$46,2,FALSE)=\"Yes\",\"Normal\",\"None\"),Tablev2[[#This Row],[Recertification Type]])","v":"Normal (for new construction only)"},null,null,null,"Contractor"]
[{"$f":"IF(INDEX(UpgradeTable[],MATCH(Tablev2[[#This Row],[Feature.Part]],UpgradeTable[Code],0),7)=\"Not Pursued\",\"No\",\"Yes\")","v":"No"},{"$f":"VLOOKUP(Tablev2[[#This Row],[Feature]],Table5[],7,FALSE)","v":1},"A05","O","A05.1",{"$f":"VLOOKUP(Tablev2[[#This Row],[Feature.Part]],Table5[[Feature.Part]:[Part Description]],2,FALSE)","v":"Meet Enhanced Thresholds for Particulate Matter"},"None",null,{"$f":"IF(Tablev2[[#This Row],[Recertification Type]]=\"None unless a change to\",IF(VLOOKUP(Tablev2[[#This Row],[Conditions for Change]],'v1 Project Information'!$B$21:$C$46,2,FALSE)=\"Yes\",\"Normal\",\"None\"),Tablev2[[#This Row],[Recertification Type]])","v":"None"},null,null,"Performance Test"]
[{"$f":"IF(INDEX(UpgradeTable[],MATCH(Tablev2[[#This Row],[Feature.Part]],UpgradeTable[Code],0),7)=\"Not Pursued\",\"No\",\"Yes\")","v":"No"},{"$f":"VLOOKUP(Tablev2[[#This Row],[Feature]],Table5[],7,FALSE)","v":1},"A05","O","A05.2",{"$f":"VLOOKUP(Tablev2[[#This Row],[Feature.Part]],Table5[[Feature.Part]:[Part Description]],2,FALSE)","v":"Meet Enhanced Thresholds for Organic Gases"},"None",null,{"$f":"IF(Tablev2[[#This Row],[Recertification Type]]=\"None unless a change to\",IF(VLOOKUP(Tablev2[[#This Row],[Conditions for Change]],'v1 Project Information'!$B$21:$C$46,2,FALSE)=\"Yes\",\"Normal\",\"None\"),Tablev2[[#This Row],[Recertification Type]])","v":"None"},null,null,"Performance Test"]
[{"$f":"IF(INDEX(UpgradeTable[],MATCH(Tablev2[[#This Row],[Feature.Part]],UpgradeTable[Code],0),7)=\"Not Pursued\",\"No\",\"Yes\")","v":"No"},{"$f":"VLOOKUP(Tablev2[[#This Row],[Feature]],Table5[],7,FALSE)","v":1},"A05","O","A05.3",{"$f":"VLOOKUP(Tablev2[[#This Row],[Feature.Part]],Table5[[Feature.Part]:[Part Description]],2,FALSE)","v":"Meet Enhanced Thresholds for Inorganic Gases"},"None",null,{"$f":"IF(Tablev2[[#This Row],[Recertification Type]]=\"None unless a change to\",IF(VLOOKUP(Tablev2[[#This Row],[Conditions for Change]],'v1 Project Information'!$B$21:$C$46,2,FALSE)=\"Yes\",\"Normal\",\"None\"),Tablev2[[#This Row],[Recertification Type]])","v":"None"},null,null,"Performance Test"]
[{"$f":"IF(INDEX(UpgradeTable[],MATCH(Tablev2[[#This Row],[Feature.Part]],UpgradeTable[Code],0),7)=\"Not Pursued\",\"No\",\"Yes\")","v":"No"},{"$f":"VLOOKUP(Tablev2[[#This Row],[Feature]],Table5[],7,FALSE)","v":1},"A06","O","A06.1",{"$f":"VLOOKUP(Tablev2[[#This Row],[Feature.Part]],Table5[[Feature.Part]:[Part Description]],2,FALSE)","v":"Increase Outdoor Air Supply"},"None unless a change to","Mechanical System",{"$f":"IF(Tablev2[[#This Row],[Recertification Type]]=\"None unless a change to\",IF(VLOOKUP(Tablev2[[#This Row],[Conditions for Change]],'v1 Project Information'!$B$21:$C$46,2,FALSE)=\"Yes\",\"Normal\",\"None\"),Tablev2[[#This Row],[Recertification Type]])","v":"None"},"Technical Document",null,null,"Engineer"]
[{"$f":"IF(INDEX(UpgradeTable[],MATCH(Tablev2[[#This Row],[Feature.Part]],UpgradeTable[Code],0),7)=\"Not Pursued\",\"No\",\"Yes\")","v":"No"},{"$f":"VLOOKUP(Tablev2[[#This Row],[Feature]],Table5[],7,FALSE)","v":1},"A06","O","A06.2",{"$f":"VLOOKUP(Tablev2[[#This Row],[Feature.Part]],Table5[[Feature.Part]:[Part Description]],2,FALSE)","v":"Improve Ventilation Effectiveness"},"None unless a change to","Mechanical System",{"$f":"IF(Tablev2[[#This Row],[Recertification Type]]=\"None unless a change to\",IF(VLOOKUP(Tablev2[[#This Row],[Conditions for Change]],'v1 Project Information'!$B$21:$C$46,2,FALSE)=\"Yes\",\"Normal\",\"None\"),Tablev2[[#This Row],[Recertification Type]])","v":"None"},null,null,null,"Engineer"]
[{"$f":"IF(INDEX(UpgradeTable[],MATCH(Tablev2[[#This Row],[Feature.Part]],UpgradeTable[Code],0),7)=\"Not Pursued\",\"No\",\"Yes\")","v":"No"},{"$f":"VLOOKUP(Tablev2[[#This Row],[Feature]],Table5[],7,FALSE)","v":1},"A07","O","A07.1",{"$f":"VLOOKUP(Tablev2[[#This Row],[Feature.Part]],Table5[[Feature.Part]:[Part Description]],2,FALSE)","v":"Provide Operable Windows"},"None unless a change to","Overall Structure",{"$f":"IF(Tablev2[[#This Row],[Recertification Type]]=\"None unless a change to\",IF(VLOOKUP(Tablev2[[#This Row],[Conditions for Change]],'v1 Project Information'!$B$21:$C$46,2,FALSE)=\"Yes\",\"Normal\",\"None\"),Tablev2[[#This Row],[Recertification Type]])","v":"None"},null,null,"On-site Photographs","Designer"]
[{"$f":"IF(INDEX(UpgradeTable[],MATCH(Tablev2[[#This Row],[Feature.Part]],UpgradeTable[Code],0),7)=\"Not Pursued\",\"No\",\"Yes\")","v":"No"},{"$f":"VLOOKUP(Tablev2[[#This Row],[Feature]],Table5[],7,FALSE)","v":1},"A07","O","A07.2",{"$f":"VLOOKUP(Tablev2[[#This Row],[Feature.Part]],Table5[[Feature.Part]:[Part Description]],2,FALSE)","v":"Manage Window Use"},"None unless a change to","Interior Design",{"$f":"IF(Tablev2[[#This Row],[Recertification Type]]=\"None unless a change to\",IF(VLOOKUP(Tablev2[[#This Row],[Conditions for Change]],'v1 Project Information'!$B$21:$C$46,2,FALSE)=\"Yes\",\"Normal\",\"None\"),Tablev2[[#This Row],[Recertification Type]])","v":"None"},"Professional Narrative",null,"On-site Photographs","Engineer"]
[{"$f":"IF(INDEX(UpgradeTable[],MATCH(Tablev2[[#This Row],[Feature.Part]],UpgradeTable[Code],0),7)=\"Not Pursued\",\"No\",\"Yes\")","v":"No"},{"$f":"VLOOKUP(Tablev2[[#This Row],[Feature]],Table5[],7,FALSE)","v":1},"A08","O","A08.1",{"$f":"VLOOKUP(Tablev2[[#This Row],[Feature.Part]],Table5[[Feature.Part]:[Part Description]],2,FALSE)","v":"Install Indoor Air Monitors"},"Annual Submission",null,{"$f":"IF(Tablev2[[#This Row],[Recertification Type]]=\"None unless a change to\",IF(VLOOKUP(Tablev2[[#This Row],[Conditions for Change]],'v1 Project Information'!$B$21:$C$46,2,FALSE)=\"Yes\",\"Normal\",\"None\"),Tablev2[[#This Row],[Recertification Type]])","v":"Annual Submission"},null,"On-going Data Report","On-site Photographs","Engineer"]
[{"$f":"IF(INDEX(UpgradeTable[],MATCH(Tablev2[[#This Row],[Feature.Part]],UpgradeTable[Code],0),7)=\"Not Pursued\",\"No\",\"Yes\")","v":"No"},{"$f":"VLOOKUP(Tablev2[[#This Row],[Feature]],Table5[],7,FALSE)","v":1},"A08","O","A08.2",{"$f":"VLOOKUP(Tablev2[[#This Row],[Feature.Part]],Table5[[Feature.Part]:[Part Description]],2,FALSE)","v":"Promote Air Quality Awareness"},"None",null,{"$f":"IF(Tablev2[[#This Row],[Recertification Type]]=\"None unless a change to\",IF(VLOOKUP(Tablev2[[#This Row],[Conditions for Change]],'v1 Project Information'!$B$21:$C$46,2,FALSE)=\"Yes\",\"Normal\",\"None\"),Tablev2[[#This Row],[Recertification Type]])","v":"None"},null,null,"On-site Photographs","Owner"]
[{"$f":"IF(INDEX(UpgradeTable[],MATCH(Tablev2[[#This Row],[Feature.Part]],UpgradeTable[Code],0),7)=\"Not Pursued\",\"No\",\"Yes\")","v":"Yes"},{"$f":"VLOOKUP(Tablev2[[#This Row],[Feature]],Table5[],7,FALSE)","v":1},"A09","O","A09.1",{"$f":"VLOOKUP(Tablev2[[#This Row],[Feature.Part]],Table5[[Feature.Part]:[Part Description]],2,FALSE)","v":"Design Healthy Entryways"},"None unless a change to","Overall Structure",{"$f":"IF(Tablev2[[#This Row],[Recertification Type]]=\"None unless a change to\",IF(VLOOKUP(Tablev2[[#This Row],[Conditions for Change]],'v1 Project Information'!$B$21:$C$46,2,FALSE)=\"Yes\",\"Normal\",\"None\"),Tablev2[[#This Row],[Recertification Type]])","v":"None"},"Policy and/or Operation Schedule",null,"On-site Photographs","Designer"]
[{"$f":"IF(INDEX(UpgradeTable[],MATCH(Tablev2[[#This Row],[Feature.Part]],UpgradeTable[Code],0),7)=\"Not Pursued\",\"No\",\"Yes\")","v":"No"},{"$f":"VLOOKUP(Tablev2[[#This Row],[Feature]],Table5[],7,FALSE)","v":1},"A09","O","A09.2",{"$f":"VLOOKUP(Tablev2[[#This Row],[Feature.Part]],Table5[[Feature.Part]:[Part Description]],2,FALSE)","v":"Perform Envelope Commissioning"},"None unless a change to","Overall Structure",{"$f":"IF(Tablev2[[#This Row],[Recertification Type]]=\"None unless a change to\",IF(VLOOKUP(Tablev2[[#This Row],[Conditions for Change]],'v1 Project Information'!$B$21:$C$46,2,FALSE)=\"Yes\",\"Normal\",\"None\"),Tablev2[[#This Row],[Recertification Type]])","v":"None"},"Technical Document"]
[{"$f":"IF(INDEX(UpgradeTable[],MATCH(Tablev2[[#This Row],[Feature.Part]],UpgradeTable[Code],0),7)=\"Not Pursued\",\"No\",\"Yes\")","v":"No"},{"$f":"VLOOKUP(Tablev2[[#This Row],[Feature]],Table5[],7,FALSE)","v":1},"A10","O","A10.1",{"$f":"VLOOKUP(Tablev2[[#This Row],[Feature.Part]],Table5[[Feature.Part]:[Part Description]],2,FALSE)","v":"Manage Combustion"},"None unless a change to","Mechanical System",{"$f":"IF(Tablev2[[#This Row],[Recertification Type]]=\"None unless a change to\",IF(VLOOKUP(Tablev2[[#This Row],[Conditions for Change]],'v1 Project Information'!$B$21:$C$46,2,FALSE)=\"Yes\",\"Normal\",\"None\"),Tablev2[[#This Row],[Recertification Type]])","v":"None"},null,null,"On-site Photographs","Owner","Engineer"]
[{"$f":"IF(INDEX(UpgradeTable[],MATCH(Tablev2[[#This Row],[Feature.Part]],UpgradeTable[Code],0),7)=\"Not Pursued\",\"No\",\"Yes\")","v":"No"},{"$f":"VLOOKUP(Tablev2[[#This Row],[Feature]],Table5[],7,FALSE)","v":1},"A11","O","A11.1",{"$f":"VLOOKUP(Tablev2[[#This Row],[Feature.Part]],Table5[[Feature.Part]:[Part Description]],2,FALSE)","v":"Manage Pollution and Exhaust"},"None unless a change to","Interior Design",{"$f":"IF(Tablev2[[#This Row],[Recertification Type]]=\"None unless a change to\",IF(VLOOKUP(Tablev2[[#This Row],[Conditions for Change]],'v1 Project Information'!$B$21:$C$46,2,FALSE)=\"Yes\",\"Normal\",\"None\"),Tablev2[[#This Row],[Recertification Type]])","v":"None"},"Technical Document",null,"On-site Photographs","Engineer"]
[{"$f":"IF(INDEX(UpgradeTable[],MATCH(Tablev2[[#This Row],[Feature.Part]],UpgradeTable[Code],0),7)=\"Not Pursued\",\"No\",\"Yes\")","v":"Yes"},{"$f":"VLOOKUP(Tablev2[[#This Row],[Feature]],Table5[],7,FALSE)","v":1},"A12","O","A12.1",{"$f":"VLOOKUP(Tablev2[[#This Row],[Feature.Part]],Table5[[Feature.Part]:[Part Description]],2,FALSE)","v":"Implement Particle Filtration"},"None unless a change to","Mechanical System",{"$f":"IF(Tablev2[[#This Row],[Recertification Type]]=\"None unless a change to\",IF(VLOOKUP(Tablev2[[#This Row],[Conditions for Change]],'v1 Project Information'!$B$21:$C$46,2,FALSE)=\"Yes\",\"Normal\",\"None\"),Tablev2[[#This Row],[Recertification Type]])","v":"None"},"On-going Maintenance Report",null,"On-site Photographs","Engineer"]
[{"$f":"IF(INDEX(UpgradeTable[],MATCH(Tablev2[[#This Row],[Feature.Part]],UpgradeTable[Code],0),7)=\"Not Pursued\",\"No\",\"Yes\")","v":"No"},{"$f":"VLOOKUP(Tablev2[[#This Row],[Feature]],Table5[],7,FALSE)","v":1},"A13","O","A13.1",{"$f":"VLOOKUP(Tablev2[[#This Row],[Feature.Part]],Table5[[Feature.Part]:[Part Description]],2,FALSE)","v":"Improve Supply Air"},"None unless a change to","Mechanical System",{"$f":"IF(Tablev2[[#This Row],[Recertification Type]]=\"None unless a change to\",IF(VLOOKUP(Tablev2[[#This Row],[Conditions for Change]],'v1 Project Information'!$B$21:$C$46,2,FALSE)=\"Yes\",\"Normal\",\"None\"),Tablev2[[#This Row],[Recertification Type]])","v":"None"},"On-going Maintenance Report",null,"On-site Photographs","Engineer"]
[{"$f":"IF(INDEX(UpgradeTable[],MATCH(Tablev2[[#This Row],[Feature.Part]],UpgradeTable[Code],0),7)=\"Not Pursued\",\"No\",\"Yes\")","v":"Yes"},{"$f":"VLOOKUP(Tablev2[[#This Row],[Feature]],Table5[],7,FALSE)","v":1},"A14","O","A14.1",{"$f":"VLOOKUP(Tablev2[[#This Row],[Feature.Part]],Table5[[Feature.Part]:[Part Description]],2,FALSE)","v":"Implement Ultraviolet Air Treatment"},"None unless a change to","Mechanical System",{"$f":"IF(Tablev2[[#This Row],[Recertification Type]]=\"None unless a change to\",IF(VLOOKUP(Tablev2[[#This Row],[Conditions for Change]],'v1 Project Information'!$B$21:$C$46,2,FALSE)=\"Yes\",\"Normal\",\"None\"),Tablev2[[#This Row],[Recertification Type]])","v":"None"},"On-going Maintenance Report",null,"On-site Photographs","Engineer"]
[{"$f":"IF(INDEX(UpgradeTable[],MATCH(Tablev2[[#This Row],[Feature.Part]],UpgradeTable[Code],0),7)=\"Not Pursued\",\"No\",\"Yes\")","v":"Yes"},{"$f":"VLOOKUP(Tablev2[[#This Row],[Feature]],Table5[],7,FALSE)","v":2},"W01","P","W01.1",{"$f":"VLOOKUP(Tablev2[[#This Row],[Feature.Part]],Table5[[Feature.Part]:[Part Description]],2,FALSE)","v":"Verify Water Quality Indicators"},"None",null,{"$f":"IF(Tablev2[[#This Row],[Recertification Type]]=\"None unless a change to\",IF(VLOOKUP(Tablev2[[#This Row],[Conditions for Change]],'v1 Project Information'!$B$21:$C$46,2,FALSE)=\"Yes\",\"Normal\",\"None\"),Tablev2[[#This Row],[Recertification Type]])","v":"None"},null,null,"Performance Test"]
[{"$f":"IF(INDEX(UpgradeTable[],MATCH(Tablev2[[#This Row],[Feature.Part]],UpgradeTable[Code],0),7)=\"Not Pursued\",\"No\",\"Yes\")","v":"Yes"},{"$f":"VLOOKUP(Tablev2[[#This Row],[Feature]],Table5[],7,FALSE)","v":2},"W02","P","W02.1",{"$f":"VLOOKUP(Tablev2[[#This Row],[Feature.Part]],Table5[[Feature.Part]:[Part Description]],2,FALSE)","v":"Meet Chemical Thresholds"},"None",null,{"$f":"IF(Tablev2[[#This Row],[Recertification Type]]=\"None unless a change to\",IF(VLOOKUP(Tablev2[[#This Row],[Conditions for Change]],'v1 Project Information'!$B$21:$C$46,2,FALSE)=\"Yes\",\"Normal\",\"None\"),Tablev2[[#This Row],[Recertification Type]])","v":"None"},null,null,"Performance Test"]
[{"$f":"IF(INDEX(UpgradeTable[],MATCH(Tablev2[[#This Row],[Feature.Part]],UpgradeTable[Code],0),7)=\"Not Pursued\",\"No\",\"Yes\")","v":"Yes"},{"$f":"VLOOKUP(Tablev2[[#This Row],[Feature]],Table5[],7,FALSE)","v":2},"W02","P","W02.2",{"$f":"VLOOKUP(Tablev2[[#This Row],[Feature.Part]],Table5[[Feature.Part]:[Part Description]],2,FALSE)","v":"Meet Thresholds for Organics and Pesticides"},"None",null,{"$f":"IF(Tablev2[[#This Row],[Recertification Type]]=\"None unless a change to\",IF(VLOOKUP(Tablev2[[#This Row],[Conditions for Change]],'v1 Project Information'!$B$21:$C$46,2,FALSE)=\"Yes\",\"Normal\",\"None\"),Tablev2[[#This Row],[Recertification Type]])","v":"None"},"Technical Document"]
[{"$f":"IF(INDEX(UpgradeTable[],MATCH(Tablev2[[#This Row],[Feature.Part]],UpgradeTable[Code],0),7)=\"Not Pursued\",\"No\",\"Yes\")","v":"Yes"},{"$f":"VLOOKUP(Tablev2[[#This Row],[Feature]],Table5[],7,FALSE)","v":2},"W03","P","W03.1",{"$f":"VLOOKUP(Tablev2[[#This Row],[Feature.Part]],Table5[[Feature.Part]:[Part Description]],2,FALSE)","v":"Monitor Chemical and Biological Water Quality"},"Annual Submission",null,{"$f":"IF(Tablev2[[#This Row],[Recertification Type]]=\"None unless a change to\",IF(VLOOKUP(Tablev2[[#This Row],[Conditions for Change]],'v1 Project Information'!$B$21:$C$46,2,FALSE)=\"Yes\",\"Normal\",\"None\"),Tablev2[[#This Row],[Recertification Type]])","v":"Annual Submission"},"On-going Data Report"]
[{"$f":"IF(INDEX(UpgradeTable[],MATCH(Tablev2[[#This Row],[Feature.Part]],UpgradeTable[Code],0),7)=\"Not Pursued\",\"No\",\"Yes\")","v":"Yes"},{"$f":"VLOOKUP(Tablev2[[#This Row],[Feature]],Table5[],7,FALSE)","v":2},"W03","P","W03.2",{"$f":"VLOOKUP(Tablev2[[#This Row],[Feature.Part]],Table5[[Feature.Part]:[Part Description]],2,FALSE)","v":"Implement Legionella Management Plan"},"Annual Submission",null,{"$f":"IF(Tablev2[[#This Row],[Recertification Type]]=\"None unless a change to\",IF(VLOOKUP(Tablev2[[#This Row],[Conditions for Change]],'v1 Project Information'!$B$21:$C$46,2,FALSE)=\"Yes\",\"Normal\",\"None\"),Tablev2[[#This Row],[Recertification Type]])","v":"Annual Submission"},"Technical Document","On-going Maintenance Report"]
[{"$f":"IF(INDEX(UpgradeTable[],MATCH(Tablev2[[#This Row],[Feature.Part]],UpgradeTable[Code],0),7)=\"Not Pursued\",\"No\",\"Yes\")","v":"No"},{"$f":"VLOOKUP(Tablev2[[#This Row],[Feature]],Table5[],7,FALSE)","v":2},"W04","O","W04.1",{"$f":"VLOOKUP(Tablev2[[#This Row],[Feature.Part]],Table5[[Feature.Part]:[Part Description]],2,FALSE)","v":"Meet Thresholds for Drinking Water Taste"},"None",null,{"$f":"IF(Tablev2[[#This Row],[Recertification Type]]=\"None unless a change to\",IF(VLOOKUP(Tablev2[[#This Row],[Conditions for Change]],'v1 Project Information'!$B$21:$C$46,2,FALSE)=\"Yes\",\"Normal\",\"None\"),Tablev2[[#This Row],[Recertification Type]])","v":"None"},null,null,"Performance Test"]
[{"$f":"IF(INDEX(UpgradeTable[],MATCH(Tablev2[[#This Row],[Feature.Part]],UpgradeTable[Code],0),7)=\"Not Pursued\",\"No\",\"Yes\")","v":"No"},{"$f":"VLOOKUP(Tablev2[[#This Row],[Feature]],Table5[],7,FALSE)","v":2},"W05","O","W05.1",{"$f":"VLOOKUP(Tablev2[[#This Row],[Feature.Part]],Table5[[Feature.Part]:[Part Description]],2,FALSE)","v":"Assess and Maintain Drinking Water Quality"},"Annual Submission",null,{"$f":"IF(Tablev2[[#This Row],[Recertification Type]]=\"None unless a change to\",IF(VLOOKUP(Tablev2[[#This Row],[Conditions for Change]],'v1 Project Information'!$B$21:$C$46,2,FALSE)=\"Yes\",\"Normal\",\"None\"),Tablev2[[#This Row],[Recertification Type]])","v":"Annual Submission"},"Technical Document","On-going Data Report"]
[{"$f":"IF(INDEX(UpgradeTable[],MATCH(Tablev2[[#This Row],[Feature.Part]],UpgradeTable[Code],0),7)=\"Not Pursued\",\"No\",\"Yes\")","v":"No"},{"$f":"VLOOKUP(Tablev2[[#This Row],[Feature]],Table5[],7,FALSE)","v":2},"W05","O","W05.2",{"$f":"VLOOKUP(Tablev2[[#This Row],[Feature.Part]],Table5[[Feature.Part]:[Part Description]],2,FALSE)","v":"Promote Drinking Water Transparency"},"Annual Submission",null,{"$f":"IF(Tablev2[[#This Row],[Recertification Type]]=\"None unless a change to\",IF(VLOOKUP(Tablev2[[#This Row],[Conditions for Change]],'v1 Project Information'!$B$21:$C$46,2,FALSE)=\"Yes\",\"Normal\",\"None\"),Tablev2[[#This Row],[Recertification Type]])","v":"Annual Submission"},"Policy and/or Operation Schedule"]
[{"$f":"IF(INDEX(UpgradeTable[],MATCH(Tablev2[[#This Row],[Feature.Part]],UpgradeTable[Code],0),7)=\"Not Pursued\",\"No\",\"Yes\")","v":"No"},{"$f":"VLOOKUP(Tablev2[[#This Row],[Feature]],Table5[],7,FALSE)","v":2},"W06","O","W06.1",{"$f":"VLOOKUP(Tablev2[[#This Row],[Feature.Part]],Table5[[Feature.Part]:[Part Description]],2,FALSE)","v":"Ensure Drinking Water Access"},"None unless a change to","Interior Design",{"$f":"IF(Tablev2[[#This Row],[Recertification Type]]=\"None unless a change to\",IF(VLOOKUP(Tablev2[[#This Row],[Conditions for Change]],'v1 Project Information'!$B$21:$C$46,2,FALSE)=\"Yes\",\"Normal\",\"None\"),Tablev2[[#This Row],[Recertification Type]])","v":"None"},"Technical Document","Policy and/or Operations Schedule"]
[{"$f":"IF(INDEX(UpgradeTable[],MATCH(Tablev2[[#This Row],[Feature.Part]],UpgradeTable[Code],0),7)=\"Not Pursued\",\"No\",\"Yes\")","v":"Yes"},{"$f":"VLOOKUP(Tablev2[[#This Row],[Feature]],Table5[],7,FALSE)","v":2},"W07","O","W07.1",{"$f":"VLOOKUP(Tablev2[[#This Row],[Feature.Part]],Table5[[Feature.Part]:[Part Description]],2,FALSE)","v":"Design Envelope for Moisture Protection"},"None unless a change to","Exterior Design",{"$f":"IF(Tablev2[[#This Row],[Recertification Type]]=\"None unless a change to\",IF(VLOOKUP(Tablev2[[#This Row],[Conditions for Change]],'v1 Project Information'!$B$21:$C$46,2,FALSE)=\"Yes\",\"Normal\",\"None\"),Tablev2[[#This Row],[Recertification Type]])","v":"None"},"Professional Narrative"]
[{"$f":"IF(INDEX(UpgradeTable[],MATCH(Tablev2[[#This Row],[Feature.Part]],UpgradeTable[Code],0),7)=\"Not Pursued\",\"No\",\"Yes\")","v":"Yes"},{"$f":"VLOOKUP(Tablev2[[#This Row],[Feature]],Table5[],7,FALSE)","v":2},"W07","O","W07.2",{"$f":"VLOOKUP(Tablev2[[#This Row],[Feature.Part]],Table5[[Feature.Part]:[Part Description]],2,FALSE)","v":"Design Interiors for Moisture Management"},"None unless a change to","Plumbing System",{"$f":"IF(Tablev2[[#This Row],[Recertification Type]]=\"None unless a change to\",IF(VLOOKUP(Tablev2[[#This Row],[Conditions for Change]],'v1 Project Information'!$B$21:$C$46,2,FALSE)=\"Yes\",\"Normal\",\"None\"),Tablev2[[#This Row],[Recertification Type]])","v":"None"},"Professional Narrative",null,"On-site Photographs","Engineer"]
[{"$f":"IF(INDEX(UpgradeTable[],MATCH(Tablev2[[#This Row],[Feature.Part]],UpgradeTable[Code],0),7)=\"Not Pursued\",\"No\",\"Yes\")","v":"Yes"},{"$f":"VLOOKUP(Tablev2[[#This Row],[Feature]],Table5[],7,FALSE)","v":2},"W07","O","W07.3",{"$f":"VLOOKUP(Tablev2[[#This Row],[Feature.Part]],Table5[[Feature.Part]:[Part Description]],2,FALSE)","v":"Implement Mold and Moisture Management Plan"},"Annual Submission",null,{"$f":"IF(Tablev2[[#This Row],[Recertification Type]]=\"None unless a change to\",IF(VLOOKUP(Tablev2[[#This Row],[Conditions for Change]],'v1 Project Information'!$B$21:$C$46,2,FALSE)=\"Yes\",\"Normal\",\"None\"),Tablev2[[#This Row],[Recertification Type]])","v":"Annual Submission"},"Policy and/or Operation Schedule","On-going Maintenance Report",null,"MEP"]
[{"$f":"IF(INDEX(UpgradeTable[],MATCH(Tablev2[[#This Row],[Feature.Part]],UpgradeTable[Code],0),7)=\"Not Pursued\",\"No\",\"Yes\")","v":"No"},{"$f":"VLOOKUP(Tablev2[[#This Row],[Feature]],Table5[],7,FALSE)","v":2},"W08","O","W08.1",{"$f":"VLOOKUP(Tablev2[[#This Row],[Feature.Part]],Table5[[Feature.Part]:[Part Description]],2,FALSE)","v":"Provide Bathroom Accommodations"},"None unless a change to","Interior Design",{"$f":"IF(Tablev2[[#This Row],[Recertification Type]]=\"None unless a change to\",IF(VLOOKUP(Tablev2[[#This Row],[Conditions for Change]],'v1 Project Information'!$B$21:$C$46,2,FALSE)=\"Yes\",\"Normal\",\"None\"),Tablev2[[#This Row],[Recertification Type]])","v":"None"},null,null,"On-site Photographs","Designer","Owner"]
[{"$f":"IF(INDEX(UpgradeTable[],MATCH(Tablev2[[#This Row],[Feature.Part]],UpgradeTable[Code],0),7)=\"Not Pursued\",\"No\",\"Yes\")","v":"No"},{"$f":"VLOOKUP(Tablev2[[#This Row],[Feature]],Table5[],7,FALSE)","v":2},"W08","O","W08.2",{"$f":"VLOOKUP(Tablev2[[#This Row],[Feature.Part]],Table5[[Feature.Part]:[Part Description]],2,FALSE)","v":"Enhance Bathroom Accommodations"},"None unless a change to","Interior Design",{"$f":"IF(Tablev2[[#This Row],[Recertification Type]]=\"None unless a change to\",IF(VLOOKUP(Tablev2[[#This Row],[Conditions for Change]],'v1 Project Information'!$B$21:$C$46,2,FALSE)=\"Yes\",\"Normal\",\"None\"),Tablev2[[#This Row],[Recertification Type]])","v":"None"},null,null,"On-site Photographs","Designer"]
[{"$f":"IF(INDEX(UpgradeTable[],MATCH(Tablev2[[#This Row],[Feature.Part]],UpgradeTable[Code],0),7)=\"Not Pursued\",\"No\",\"Yes\")","v":"Yes"},{"$f":"VLOOKUP(Tablev2[[#This Row],[Feature]],Table5[],7,FALSE)","v":2},"W08","O","W08.3",{"$f":"VLOOKUP(Tablev2[[#This Row],[Feature.Part]],Table5[[Feature.Part]:[Part Description]],2,FALSE)","v":"Support Effective Handwashing"},"None unless a change to","Interior Design",{"$f":"IF(Tablev2[[#This Row],[Recertification Type]]=\"None unless a change to\",IF(VLOOKUP(Tablev2[[#This Row],[Conditions for Change]],'v1 Project Information'!$B$21:$C$46,2,FALSE)=\"Yes\",\"Normal\",\"None\"),Tablev2[[#This Row],[Recertification Type]])","v":"None"},null,null,"On-site Photographs","Designer"]
[{"$f":"IF(INDEX(UpgradeTable[],MATCH(Tablev2[[#This Row],[Feature.Part]],UpgradeTable[Code],0),7)=\"Not Pursued\",\"No\",\"Yes\")","v":"Yes"},{"$f":"VLOOKUP(Tablev2[[#This Row],[Feature]],Table5[],7,FALSE)","v":2},"W08","O","W08.4",{"$f":"VLOOKUP(Tablev2[[#This Row],[Feature.Part]],Table5[[Feature.Part]:[Part Description]],2,FALSE)","v":"Provide Handwashing Supplies and Signage"},"None unless a change to","Interior Design",{"$f":"IF(Tablev2[[#This Row],[Recertification Type]]=\"None unless a change to\",IF(VLOOKUP(Tablev2[[#This Row],[Conditions for Change]],'v1 Project Information'!$B$21:$C$46,2,FALSE)=\"Yes\",\"Normal\",\"None\"),Tablev2[[#This Row],[Recertification Type]])","v":"None"},"Policy and/or Operation Schedule"]
[{"$f":"IF(INDEX(UpgradeTable[],MATCH(Tablev2[[#This Row],[Feature.Part]],UpgradeTable[Code],0),7)=\"Not Pursued\",\"No\",\"Yes\")","v":"No"},{"$f":"VLOOKUP(Tablev2[[#This Row],[Feature]],Table5[],7,FALSE)","v":2},"W09","O","W09.1",{"$f":"VLOOKUP(Tablev2[[#This Row],[Feature.Part]],Table5[[Feature.Part]:[Part Description]],2,FALSE)","v":"Implement Safety Plan for Non-Potable Water Capture and Reuse"},"Annual Submission",null,{"$f":"IF(Tablev2[[#This Row],[Recertification Type]]=\"None unless a change to\",IF(VLOOKUP(Tablev2[[#This Row],[Conditions for Change]],'v1 Project Information'!$B$21:$C$46,2,FALSE)=\"Yes\",\"Normal\",\"None\"),Tablev2[[#This Row],[Recertification Type]])","v":"Annual Submission"},"Professional Narrative","On-going Maintenance Report","On-site Photographs"]
[{"$f":"IF(INDEX(UpgradeTable[],MATCH(Tablev2[[#This Row],[Feature.Part]],UpgradeTable[Code],0),7)=\"Not Pursued\",\"No\",\"Yes\")","v":"Yes"},{"$f":"VLOOKUP(Tablev2[[#This Row],[Feature]],Table5[],7,FALSE)","v":3},"N01","P","N01.1",{"$f":"VLOOKUP(Tablev2[[#This Row],[Feature.Part]],Table5[[Feature.Part]:[Part Description]],2,FALSE)","v":"Provide Fruits and Vegetables"},"None unless a change to","Food Service",{"$f":"IF(Tablev2[[#This Row],[Recertification Type]]=\"None unless a change to\",IF(VLOOKUP(Tablev2[[#This Row],[Conditions for Change]],'v1 Project Information'!$B$21:$C$46,2,FALSE)=\"Yes\",\"Normal\",\"None\"),Tablev2[[#This Row],[Recertification Type]])","v":"None"},"Policy and/or Operation Schedule"]
[{"$f":"IF(INDEX(UpgradeTable[],MATCH(Tablev2[[#This Row],[Feature.Part]],UpgradeTable[Code],0),7)=\"Not Pursued\",\"No\",\"Yes\")","v":"Yes"},{"$f":"VLOOKUP(Tablev2[[#This Row],[Feature]],Table5[],7,FALSE)","v":3},"N01","P","N01.2",{"$f":"VLOOKUP(Tablev2[[#This Row],[Feature.Part]],Table5[[Feature.Part]:[Part Description]],2,FALSE)","v":"Promote Fruit and Vegetable Visibility"},"None unless a change to","Food Service",{"$f":"IF(Tablev2[[#This Row],[Recertification Type]]=\"None unless a change to\",IF(VLOOKUP(Tablev2[[#This Row],[Conditions for Change]],'v1 Project Information'!$B$21:$C$46,2,FALSE)=\"Yes\",\"Normal\",\"None\"),Tablev2[[#This Row],[Recertification Type]])","v":"None"},null,null,"On-site Photographs","Owner"]
[{"$f":"IF(INDEX(UpgradeTable[],MATCH(Tablev2[[#This Row],[Feature.Part]],UpgradeTable[Code],0),7)=\"Not Pursued\",\"No\",\"Yes\")","v":"Yes"},{"$f":"VLOOKUP(Tablev2[[#This Row],[Feature]],Table5[],7,FALSE)","v":3},"N02","P","N02.1",{"$f":"VLOOKUP(Tablev2[[#This Row],[Feature.Part]],Table5[[Feature.Part]:[Part Description]],2,FALSE)","v":"Provide Nutritional Information"},"None unless a change to","Food Service",{"$f":"IF(Tablev2[[#This Row],[Recertification Type]]=\"None unless a change to\",IF(VLOOKUP(Tablev2[[#This Row],[Conditions for Change]],'v1 Project Information'!$B$21:$C$46,2,FALSE)=\"Yes\",\"Normal\",\"None\"),Tablev2[[#This Row],[Recertification Type]])","v":"None"},null,null,"On-site Photographs","Owner"]
[{"$f":"IF(INDEX(UpgradeTable[],MATCH(Tablev2[[#This Row],[Feature.Part]],UpgradeTable[Code],0),7)=\"Not Pursued\",\"No\",\"Yes\")","v":"Yes"},{"$f":"VLOOKUP(Tablev2[[#This Row],[Feature]],Table5[],7,FALSE)","v":3},"N02","P","N02.2",{"$f":"VLOOKUP(Tablev2[[#This Row],[Feature.Part]],Table5[[Feature.Part]:[Part Description]],2,FALSE)","v":"Address Food Allergens"},"None unless a change to","Food Service",{"$f":"IF(Tablev2[[#This Row],[Recertification Type]]=\"None unless a change to\",IF(VLOOKUP(Tablev2[[#This Row],[Conditions for Change]],'v1 Project Information'!$B$21:$C$46,2,FALSE)=\"Yes\",\"Normal\",\"None\"),Tablev2[[#This Row],[Recertification Type]])","v":"None"},"Policy and/or Operation Schedule",null,"On-site Photographs","Owner"]
[{"$f":"IF(INDEX(UpgradeTable[],MATCH(Tablev2[[#This Row],[Feature.Part]],UpgradeTable[Code],0),7)=\"Not Pursued\",\"No\",\"Yes\")","v":"Yes"},{"$f":"VLOOKUP(Tablev2[[#This Row],[Feature]],Table5[],7,FALSE)","v":3},"N02","P","N02.3",{"$f":"VLOOKUP(Tablev2[[#This Row],[Feature.Part]],Table5[[Feature.Part]:[Part Description]],2,FALSE)","v":"Label Sugar Content"},"None unless a change to","Food Service",{"$f":"IF(Tablev2[[#This Row],[Recertification Type]]=\"None unless a change to\",IF(VLOOKUP(Tablev2[[#This Row],[Conditions for Change]],'v1 Project Information'!$B$21:$C$46,2,FALSE)=\"Yes\",\"Normal\",\"None\"),Tablev2[[#This Row],[Recertification Type]])","v":"None"},null,null,"On-site Photographs","Owner"]
[{"$f":"IF(INDEX(UpgradeTable[],MATCH(Tablev2[[#This Row],[Feature.Part]],UpgradeTable[Code],0),7)=\"Not Pursued\",\"No\",\"Yes\")","v":"Yes"},{"$f":"VLOOKUP(Tablev2[[#This Row],[Feature]],Table5[],7,FALSE)","v":3},"N03","O","N03.1",{"$f":"VLOOKUP(Tablev2[[#This Row],[Feature.Part]],Table5[[Feature.Part]:[Part Description]],2,FALSE)","v":"Limit Total Sugars"},"None unless a change to","Food Service",{"$f":"IF(Tablev2[[#This Row],[Recertification Type]]=\"None unless a change to\",IF(VLOOKUP(Tablev2[[#This Row],[Conditions for Change]],'v1 Project Information'!$B$21:$C$46,2,FALSE)=\"Yes\",\"Normal\",\"None\"),Tablev2[[#This Row],[Recertification Type]])","v":"None"},"Policy and/or Operation Schedule"]
[{"$f":"IF(INDEX(UpgradeTable[],MATCH(Tablev2[[#This Row],[Feature.Part]],UpgradeTable[Code],0),7)=\"Not Pursued\",\"No\",\"Yes\")","v":"Yes"},{"$f":"VLOOKUP(Tablev2[[#This Row],[Feature]],Table5[],7,FALSE)","v":3},"N03","O","N03.2",{"$f":"VLOOKUP(Tablev2[[#This Row],[Feature.Part]],Table5[[Feature.Part]:[Part Description]],2,FALSE)","v":"Promote Whole Grains"},"None unless a change to","Food Service",{"$f":"IF(Tablev2[[#This Row],[Recertification Type]]=\"None unless a change to\",IF(VLOOKUP(Tablev2[[#This Row],[Conditions for Change]],'v1 Project Information'!$B$21:$C$46,2,FALSE)=\"Yes\",\"Normal\",\"None\"),Tablev2[[#This Row],[Recertification Type]])","v":"None"},"Policy and/or Operation Schedule"]
[{"$f":"IF(INDEX(UpgradeTable[],MATCH(Tablev2[[#This Row],[Feature.Part]],UpgradeTable[Code],0),7)=\"Not Pursued\",\"No\",\"Yes\")","v":"Yes"},{"$f":"VLOOKUP(Tablev2[[#This Row],[Feature]],Table5[],7,FALSE)","v":3},"N04","O","N04.1",{"$f":"VLOOKUP(Tablev2[[#This Row],[Feature.Part]],Table5[[Feature.Part]:[Part Description]],2,FALSE)","v":"Optimize Food Advertising"},"None unless a change to","Food Service",{"$f":"IF(Tablev2[[#This Row],[Recertification Type]]=\"None unless a change to\",IF(VLOOKUP(Tablev2[[#This Row],[Conditions for Change]],'v1 Project Information'!$B$21:$C$46,2,FALSE)=\"Yes\",\"Normal\",\"None\"),Tablev2[[#This Row],[Recertification Type]])","v":"None"},"Policy Document",null,"On-site Photographs","Owner"]
[{"$f":"IF(INDEX(UpgradeTable[],MATCH(Tablev2[[#This Row],[Feature.Part]],UpgradeTable[Code],0),7)=\"Not Pursued\",\"No\",\"Yes\")","v":"Yes"},{"$f":"VLOOKUP(Tablev2[[#This Row],[Feature]],Table5[],7,FALSE)","v":3},"N05","O","N05.1",{"$f":"VLOOKUP(Tablev2[[#This Row],[Feature.Part]],Table5[[Feature.Part]:[Part Description]],2,FALSE)","v":"Limit Artificial Ingredients"},"None unless a change to","Food Service",{"$f":"IF(Tablev2[[#This Row],[Recertification Type]]=\"None unless a change to\",IF(VLOOKUP(Tablev2[[#This Row],[Conditions for Change]],'v1 Project Information'!$B$21:$C$46,2,FALSE)=\"Yes\",\"Normal\",\"None\"),Tablev2[[#This Row],[Recertification Type]])","v":"None"},"Policy and/or Operation Schedule"]
[{"$f":"IF(INDEX(UpgradeTable[],MATCH(Tablev2[[#This Row],[Feature.Part]],UpgradeTable[Code],0),7)=\"Not Pursued\",\"No\",\"Yes\")","v":"No"},{"$f":"VLOOKUP(Tablev2[[#This Row],[Feature]],Table5[],7,FALSE)","v":3},"N06","O","N06.1",{"$f":"VLOOKUP(Tablev2[[#This Row],[Feature.Part]],Table5[[Feature.Part]:[Part Description]],2,FALSE)","v":"Promote Healthy Portions"},"None unless a change to","Food Service",{"$f":"IF(Tablev2[[#This Row],[Recertification Type]]=\"None unless a change to\",IF(VLOOKUP(Tablev2[[#This Row],[Conditions for Change]],'v1 Project Information'!$B$21:$C$46,2,FALSE)=\"Yes\",\"Normal\",\"None\"),Tablev2[[#This Row],[Recertification Type]])","v":"None"},"Policy and/or Operation Schedule",null,"On-site Photographs","Owner"]
[{"$f":"IF(INDEX(UpgradeTable[],MATCH(Tablev2[[#This Row],[Feature.Part]],UpgradeTable[Code],0),7)=\"Not Pursued\",\"No\",\"Yes\")","v":"Yes"},{"$f":"VLOOKUP(Tablev2[[#This Row],[Feature]],Table5[],7,FALSE)","v":3},"N07","O","N07.1",{"$f":"VLOOKUP(Tablev2[[#This Row],[Feature.Part]],Table5[[Feature.Part]:[Part Description]],2,FALSE)","v":"Provide Nutrition Education"},"None unless a change to","Food Service",{"$f":"IF(Tablev2[[#This Row],[Recertification Type]]=\"None unless a change to\",IF(VLOOKUP(Tablev2[[#This Row],[Conditions for Change]],'v1 Project Information'!$B$21:$C$46,2,FALSE)=\"Yes\",\"Normal\",\"None\"),Tablev2[[#This Row],[Recertification Type]])","v":"None"},"Policy and/or Operation Schedule"]
[{"$f":"IF(INDEX(UpgradeTable[],MATCH(Tablev2[[#This Row],[Feature.Part]],UpgradeTable[Code],0),7)=\"Not Pursued\",\"No\",\"Yes\")","v":"No"},{"$f":"VLOOKUP(Tablev2[[#This Row],[Feature]],Table5[],7,FALSE)","v":3},"N08","O","N08.1",{"$f":"VLOOKUP(Tablev2[[#This Row],[Feature.Part]],Table5[[Feature.Part]:[Part Description]],2,FALSE)","v":"Support Mindful Eating"},"None unless a change to","Interior Design",{"$f":"IF(Tablev2[[#This Row],[Recertification Type]]=\"None unless a change to\",IF(VLOOKUP(Tablev2[[#This Row],[Conditions for Change]],'v1 Project Information'!$B$21:$C$46,2,FALSE)=\"Yes\",\"Normal\",\"None\"),Tablev2[[#This Row],[Recertification Type]])","v":"None"},"Technical Document","Policy and/or Operations Schedule"]
[{"$f":"IF(INDEX(UpgradeTable[],MATCH(Tablev2[[#This Row],[Feature.Part]],UpgradeTable[Code],0),7)=\"Not Pursued\",\"No\",\"Yes\")","v":"No"},{"$f":"VLOOKUP(Tablev2[[#This Row],[Feature]],Table5[],7,FALSE)","v":3},"N09","O","N09.1",{"$f":"VLOOKUP(Tablev2[[#This Row],[Feature.Part]],Table5[[Feature.Part]:[Part Description]],2,FALSE)","v":"Accommodate Special Diets"},"None unless a change to","Food Service",{"$f":"IF(Tablev2[[#This Row],[Recertification Type]]=\"None unless a change to\",IF(VLOOKUP(Tablev2[[#This Row],[Conditions for Change]],'v1 Project Information'!$B$21:$C$46,2,FALSE)=\"Yes\",\"Normal\",\"None\"),Tablev2[[#This Row],[Recertification Type]])","v":"None"},"Policy and/or Operation Schedule"]
[{"$f":"IF(INDEX(UpgradeTable[],MATCH(Tablev2[[#This Row],[Feature.Part]],UpgradeTable[Code],0),7)=\"Not Pursued\",\"No\",\"Yes\")","v":"Yes"},{"$f":"VLOOKUP(Tablev2[[#This Row],[Feature]],Table5[],7,FALSE)","v":3},"N09","O","N09.2",{"$f":"VLOOKUP(Tablev2[[#This Row],[Feature.Part]],Table5[[Feature.Part]:[Part Description]],2,FALSE)","v":"Label Food Allergens"},"None unless a change to","Food Service",{"$f":"IF(Tablev2[[#This Row],[Recertification Type]]=\"None unless a change to\",IF(VLOOKUP(Tablev2[[#This Row],[Conditions for Change]],'v1 Project Information'!$B$21:$C$46,2,FALSE)=\"Yes\",\"Normal\",\"None\"),Tablev2[[#This Row],[Recertification Type]])","v":"None"},null,null,"On-site Photographs","Owner"]
[{"$f":"IF(INDEX(UpgradeTable[],MATCH(Tablev2[[#This Row],[Feature.Part]],UpgradeTable[Code],0),7)=\"Not Pursued\",\"No\",\"Yes\")","v":"No"},{"$f":"VLOOKUP(Tablev2[[#This Row],[Feature]],Table5[],7,FALSE)","v":3},"N10","O","N10.1",{"$f":"VLOOKUP(Tablev2[[#This Row],[Feature.Part]],Table5[[Feature.Part]:[Part Description]],2,FALSE)","v":"Provide Meal Support"},"None unless a change to","Food Service",{"$f":"IF(Tablev2[[#This Row],[Recertification Type]]=\"None unless a change to\",IF(VLOOKUP(Tablev2[[#This Row],[Conditions for Change]],'v1 Project Information'!$B$21:$C$46,2,FALSE)=\"Yes\",\"Normal\",\"None\"),Tablev2[[#This Row],[Recertification Type]])","v":"None"},null,null,"On-site Photographs","Owner"]
[{"$f":"IF(INDEX(UpgradeTable[],MATCH(Tablev2[[#This Row],[Feature.Part]],UpgradeTable[Code],0),7)=\"Not Pursued\",\"No\",\"Yes\")","v":"No"},{"$f":"VLOOKUP(Tablev2[[#This Row],[Feature]],Table5[],7,FALSE)","v":3},"N11","O","N11.1",{"$f":"VLOOKUP(Tablev2[[#This Row],[Feature.Part]],Table5[[Feature.Part]:[Part Description]],2,FALSE)","v":"Implement Responsible Sourcing"},"None","Food Service",{"$f":"IF(Tablev2[[#This Row],[Recertification Type]]=\"None unless a change to\",IF(VLOOKUP(Tablev2[[#This Row],[Conditions for Change]],'v1 Project Information'!$B$21:$C$46,2,FALSE)=\"Yes\",\"Normal\",\"None\"),Tablev2[[#This Row],[Recertification Type]])","v":"None"},"Policy and/or Operation Schedule",null,"On-site Photographs","Owner"]
[{"$f":"IF(INDEX(UpgradeTable[],MATCH(Tablev2[[#This Row],[Feature.Part]],UpgradeTable[Code],0),7)=\"Not Pursued\",\"No\",\"Yes\")","v":"No"},{"$f":"VLOOKUP(Tablev2[[#This Row],[Feature]],Table5[],7,FALSE)","v":3},"N12","O","N12.1",{"$f":"VLOOKUP(Tablev2[[#This Row],[Feature.Part]],Table5[[Feature.Part]:[Part Description]],2,FALSE)","v":"Provide Gardening Space"},"None unless a change to","Interior Design",{"$f":"IF(Tablev2[[#This Row],[Recertification Type]]=\"None unless a change to\",IF(VLOOKUP(Tablev2[[#This Row],[Conditions for Change]],'v1 Project Information'!$B$21:$C$46,2,FALSE)=\"Yes\",\"Normal\",\"None\"),Tablev2[[#This Row],[Recertification Type]])","v":"None"},"Technical Document"]
[{"$f":"IF(INDEX(UpgradeTable[],MATCH(Tablev2[[#This Row],[Feature.Part]],UpgradeTable[Code],0),7)=\"Not Pursued\",\"No\",\"Yes\")","v":"No"},{"$f":"VLOOKUP(Tablev2[[#This Row],[Feature]],Table5[],7,FALSE)","v":3},"N13","O","N13.1",{"$f":"VLOOKUP(Tablev2[[#This Row],[Feature.Part]],Table5[[Feature.Part]:[Part Description]],2,FALSE)","v":"Ensure Local Food Access"},"None",null,{"$f":"IF(Tablev2[[#This Row],[Recertification Type]]=\"None unless a change to\",IF(VLOOKUP(Tablev2[[#This Row],[Conditions for Change]],'v1 Project Information'!$B$21:$C$46,2,FALSE)=\"Yes\",\"Normal\",\"None\"),Tablev2[[#This Row],[Recertification Type]])","v":"None"},"Technical Document","Policy and/or Operations Schedule",null,"Owner"]
[{"$f":"IF(INDEX(UpgradeTable[],MATCH(Tablev2[[#This Row],[Feature.Part]],UpgradeTable[Code],0),7)=\"Not Pursued\",\"No\",\"Yes\")","v":"No"},{"$f":"VLOOKUP(Tablev2[[#This Row],[Feature]],Table5[],7,FALSE)","v":3},"N14","O","N14.1",{"$f":"VLOOKUP(Tablev2[[#This Row],[Feature.Part]],Table5[[Feature.Part]:[Part Description]],2,FALSE)","v":"Limit Red and Processed Meats"},"None unless a change to","Food Service",{"$f":"IF(Tablev2[[#This Row],[Recertification Type]]=\"None unless a change to\",IF(VLOOKUP(Tablev2[[#This Row],[Conditions for Change]],'v1 Project Information'!$B$21:$C$46,2,FALSE)=\"Yes\",\"Normal\",\"None\"),Tablev2[[#This Row],[Recertification Type]])","v":"None"},"Policy and/or Operation Schedule"]
[{"$f":"IF(INDEX(UpgradeTable[],MATCH(Tablev2[[#This Row],[Feature.Part]],UpgradeTable[Code],0),7)=\"Not Pursued\",\"No\",\"Yes\")","v":"Yes"},{"$f":"VLOOKUP(Tablev2[[#This Row],[Feature]],Table5[],7,FALSE)","v":4},"L01","P","L01.1",{"$f":"VLOOKUP(Tablev2[[#This Row],[Feature.Part]],Table5[[Feature.Part]:[Part Description]],2,FALSE)","v":"Provide Indoor Light"},"None unless a change to","Interior Design",{"$f":"IF(Tablev2[[#This Row],[Recertification Type]]=\"None unless a change to\",IF(VLOOKUP(Tablev2[[#This Row],[Conditions for Change]],'v1 Project Information'!$B$21:$C$46,2,FALSE)=\"Yes\",\"Normal\",\"None\"),Tablev2[[#This Row],[Recertification Type]])","v":"None"},"Technical Document",null,"Performance Test"]
[{"$f":"IF(INDEX(UpgradeTable[],MATCH(Tablev2[[#This Row],[Feature.Part]],UpgradeTable[Code],0),7)=\"Not Pursued\",\"No\",\"Yes\")","v":"Yes"},{"$f":"VLOOKUP(Tablev2[[#This Row],[Feature]],Table5[],7,FALSE)","v":4},"L02","P","L02.1",{"$f":"VLOOKUP(Tablev2[[#This Row],[Feature.Part]],Table5[[Feature.Part]:[Part Description]],2,FALSE)","v":"Provide Visual Acuity"},"None",null,{"$f":"IF(Tablev2[[#This Row],[Recertification Type]]=\"None unless a change to\",IF(VLOOKUP(Tablev2[[#This Row],[Conditions for Change]],'v1 Project Information'!$B$21:$C$46,2,FALSE)=\"Yes\",\"Normal\",\"None\"),Tablev2[[#This Row],[Recertification Type]])","v":"None"},"Technical Document",null,"Performance Test","Owner"]
[{"$f":"IF(INDEX(UpgradeTable[],MATCH(Tablev2[[#This Row],[Feature.Part]],UpgradeTable[Code],0),7)=\"Not Pursued\",\"No\",\"Yes\")","v":"Yes"},{"$f":"VLOOKUP(Tablev2[[#This Row],[Feature]],Table5[],7,FALSE)","v":4},"L03","O","L03.1",{"$f":"VLOOKUP(Tablev2[[#This Row],[Feature.Part]],Table5[[Feature.Part]:[Part Description]],2,FALSE)","v":"Meet Lighting for Day-Active People"},"None",null,{"$f":"IF(Tablev2[[#This Row],[Recertification Type]]=\"None unless a change to\",IF(VLOOKUP(Tablev2[[#This Row],[Conditions for Change]],'v1 Project Information'!$B$21:$C$46,2,FALSE)=\"Yes\",\"Normal\",\"None\"),Tablev2[[#This Row],[Recertification Type]])","v":"None"},null,null,"Performance Test"]
[{"$f":"IF(INDEX(UpgradeTable[],MATCH(Tablev2[[#This Row],[Feature.Part]],UpgradeTable[Code],0),7)=\"Not Pursued\",\"No\",\"Yes\")","v":"Yes"},{"$f":"VLOOKUP(Tablev2[[#This Row],[Feature]],Table5[],7,FALSE)","v":4},"L04","O","L04.1",{"$f":"VLOOKUP(Tablev2[[#This Row],[Feature.Part]],Table5[[Feature.Part]:[Part Description]],2,FALSE)","v":"Manage Glare from Electric Lighting"},"None unless a change to","Interior Design",{"$f":"IF(Tablev2[[#This Row],[Recertification Type]]=\"None unless a change to\",IF(VLOOKUP(Tablev2[[#This Row],[Conditions for Change]],'v1 Project Information'!$B$21:$C$46,2,FALSE)=\"Yes\",\"Normal\",\"None\"),Tablev2[[#This Row],[Recertification Type]])","v":"None"},"Technical Document"]
[{"$f":"IF(INDEX(UpgradeTable[],MATCH(Tablev2[[#This Row],[Feature.Part]],UpgradeTable[Code],0),7)=\"Not Pursued\",\"No\",\"Yes\")","v":"No"},{"$f":"VLOOKUP(Tablev2[[#This Row],[Feature]],Table5[],7,FALSE)","v":4},"L05","O","L05.1",{"$f":"VLOOKUP(Tablev2[[#This Row],[Feature.Part]],Table5[[Feature.Part]:[Part Description]],2,FALSE)","v":"Implement Daylight Plan"},"None unless a change to","Interior Design",{"$f":"IF(Tablev2[[#This Row],[Recertification Type]]=\"None unless a change to\",IF(VLOOKUP(Tablev2[[#This Row],[Conditions for Change]],'v1 Project Information'!$B$21:$C$46,2,FALSE)=\"Yes\",\"Normal\",\"None\"),Tablev2[[#This Row],[Recertification Type]])","v":"None"},"Technical Document"]
[{"$f":"IF(INDEX(UpgradeTable[],MATCH(Tablev2[[#This Row],[Feature.Part]],UpgradeTable[Code],0),7)=\"Not Pursued\",\"No\",\"Yes\")","v":"Yes"},{"$f":"VLOOKUP(Tablev2[[#This Row],[Feature]],Table5[],7,FALSE)","v":4},"L05","O","L05.2",{"$f":"VLOOKUP(Tablev2[[#This Row],[Feature.Part]],Table5[[Feature.Part]:[Part Description]],2,FALSE)","v":"Integrate Solar Shading"},"None unless a change to","Interior Design",{"$f":"IF(Tablev2[[#This Row],[Recertification Type]]=\"None unless a change to\",IF(VLOOKUP(Tablev2[[#This Row],[Conditions for Change]],'v1 Project Information'!$B$21:$C$46,2,FALSE)=\"Yes\",\"Normal\",\"None\"),Tablev2[[#This Row],[Recertification Type]])","v":"None"},"Policy and/or Operation Schedule",null,"On-site Photographs"]
[{"$f":"IF(INDEX(UpgradeTable[],MATCH(Tablev2[[#This Row],[Feature.Part]],UpgradeTable[Code],0),7)=\"Not Pursued\",\"No\",\"Yes\")","v":"No"},{"$f":"VLOOKUP(Tablev2[[#This Row],[Feature]],Table5[],7,FALSE)","v":4},"L06","O","L06.1",{"$f":"VLOOKUP(Tablev2[[#This Row],[Feature.Part]],Table5[[Feature.Part]:[Part Description]],2,FALSE)","v":"Conduct Daylight Simulation"},"None unless a change to","Interior Design",{"$f":"IF(Tablev2[[#This Row],[Recertification Type]]=\"None unless a change to\",IF(VLOOKUP(Tablev2[[#This Row],[Conditions for Change]],'v1 Project Information'!$B$21:$C$46,2,FALSE)=\"Yes\",\"Normal\",\"None\"),Tablev2[[#This Row],[Recertification Type]])","v":"None"},"Technical Document"]
[{"$f":"IF(INDEX(UpgradeTable[],MATCH(Tablev2[[#This Row],[Feature.Part]],UpgradeTable[Code],0),7)=\"Not Pursued\",\"No\",\"Yes\")","v":"Yes"},{"$f":"VLOOKUP(Tablev2[[#This Row],[Feature]],Table5[],7,FALSE)","v":4},"L07","O","L07.1",{"$f":"VLOOKUP(Tablev2[[#This Row],[Feature.Part]],Table5[[Feature.Part]:[Part Description]],2,FALSE)","v":"Balance Visual Lighting"},"Normal (for new products)",null,{"$f":"IF(Tablev2[[#This Row],[Recertification Type]]=\"None unless a change to\",IF(VLOOKUP(Tablev2[[#This Row],[Conditions for Change]],'v1 Project Information'!$B$21:$C$46,2,FALSE)=\"Yes\",\"Normal\",\"None\"),Tablev2[[#This Row],[Recertification Type]])","v":"Normal (for new products)"},"Professional Narrative"]
[{"$f":"IF(INDEX(UpgradeTable[],MATCH(Tablev2[[#This Row],[Feature.Part]],UpgradeTable[Code],0),7)=\"Not Pursued\",\"No\",\"Yes\")","v":"No"},{"$f":"VLOOKUP(Tablev2[[#This Row],[Feature]],Table5[],7,FALSE)","v":4},"L08","O","L08.1",{"$f":"VLOOKUP(Tablev2[[#This Row],[Feature.Part]],Table5[[Feature.Part]:[Part Description]],2,FALSE)","v":"Enhance Color Rendering Quality"},"None unless a change to","Interior Design",{"$f":"IF(Tablev2[[#This Row],[Recertification Type]]=\"None unless a change to\",IF(VLOOKUP(Tablev2[[#This Row],[Conditions for Change]],'v1 Project Information'!$B$21:$C$46,2,FALSE)=\"Yes\",\"Normal\",\"None\"),Tablev2[[#This Row],[Recertification Type]])","v":"None"},"Technical Document"]
[{"$f":"IF(INDEX(UpgradeTable[],MATCH(Tablev2[[#This Row],[Feature.Part]],UpgradeTable[Code],0),7)=\"Not Pursued\",\"No\",\"Yes\")","v":"No"},{"$f":"VLOOKUP(Tablev2[[#This Row],[Feature]],Table5[],7,FALSE)","v":4},"L08","O","L08.2",{"$f":"VLOOKUP(Tablev2[[#This Row],[Feature.Part]],Table5[[Feature.Part]:[Part Description]],2,FALSE)","v":"Manage Flicker"},"Normal (for new products)",null,{"$f":"IF(Tablev2[[#This Row],[Recertification Type]]=\"None unless a change to\",IF(VLOOKUP(Tablev2[[#This Row],[Conditions for Change]],'v1 Project Information'!$B$21:$C$46,2,FALSE)=\"Yes\",\"Normal\",\"None\"),Tablev2[[#This Row],[Recertification Type]])","v":"Normal (for new products)"},"Technical Document"]
[{"$f":"IF(INDEX(UpgradeTable[],MATCH(Tablev2[[#This Row],[Feature.Part]],UpgradeTable[Code],0),7)=\"Not Pursued\",\"No\",\"Yes\")","v":"No"},{"$f":"VLOOKUP(Tablev2[[#This Row],[Feature]],Table5[],7,FALSE)","v":4},"L09","O","L09.1",{"$f":"VLOOKUP(Tablev2[[#This Row],[Feature.Part]],Table5[[Feature.Part]:[Part Description]],2,FALSE)","v":"Enhance Occupant Controllability"},"None unless a change to","Interior Design",{"$f":"IF(Tablev2[[#This Row],[Recertification Type]]=\"None unless a change to\",IF(VLOOKUP(Tablev2[[#This Row],[Conditions for Change]],'v1 Project Information'!$B$21:$C$46,2,FALSE)=\"Yes\",\"Normal\",\"None\"),Tablev2[[#This Row],[Recertification Type]])","v":"None"},"Technical Document","Professional Narrative"]
[{"$f":"IF(INDEX(UpgradeTable[],MATCH(Tablev2[[#This Row],[Feature.Part]],UpgradeTable[Code],0),7)=\"Not Pursued\",\"No\",\"Yes\")","v":"No"},{"$f":"VLOOKUP(Tablev2[[#This Row],[Feature]],Table5[],7,FALSE)","v":4},"L09","O","L09.2",{"$f":"VLOOKUP(Tablev2[[#This Row],[Feature.Part]],Table5[[Feature.Part]:[Part Description]],2,FALSE)","v":"Provide Supplemental Lighting"},"None unless a change to","Interior Design",{"$f":"IF(Tablev2[[#This Row],[Recertification Type]]=\"None unless a change to\",IF(VLOOKUP(Tablev2[[#This Row],[Conditions for Change]],'v1 Project Information'!$B$21:$C$46,2,FALSE)=\"Yes\",\"Normal\",\"None\"),Tablev2[[#This Row],[Recertification Type]])","v":"None"},"Policy and/or Operation Schedule",null,"Performance Test"]
[{"$f":"IF(INDEX(UpgradeTable[],MATCH(Tablev2[[#This Row],[Feature.Part]],UpgradeTable[Code],0),7)=\"Not Pursued\",\"No\",\"Yes\")","v":"Yes"},{"$f":"VLOOKUP(Tablev2[[#This Row],[Feature]],Table5[],7,FALSE)","v":5},"V02","P","V02.1",{"$f":"VLOOKUP(Tablev2[[#This Row],[Feature.Part]],Table5[[Feature.Part]:[Part Description]],2,FALSE)","v":"Support Visual Ergonomics"},"None unless a change to","Interior Design",{"$f":"IF(Tablev2[[#This Row],[Recertification Type]]=\"None unless a change to\",IF(VLOOKUP(Tablev2[[#This Row],[Conditions for Change]],'v1 Project Information'!$B$21:$C$46,2,FALSE)=\"Yes\",\"Normal\",\"None\"),Tablev2[[#This Row],[Recertification Type]])","v":"None"},null,null,"On-site Photographs","Owner"]
[{"$f":"IF(INDEX(UpgradeTable[],MATCH(Tablev2[[#This Row],[Feature.Part]],UpgradeTable[Code],0),7)=\"Not Pursued\",\"No\",\"Yes\")","v":"Yes"},{"$f":"VLOOKUP(Tablev2[[#This Row],[Feature]],Table5[],7,FALSE)","v":5},"V02","P","V02.2",{"$f":"VLOOKUP(Tablev2[[#This Row],[Feature.Part]],Table5[[Feature.Part]:[Part Description]],2,FALSE)","v":"Provide Height-Adjustable Work Surfaces"},"None unless a change to","Interior Design",{"$f":"IF(Tablev2[[#This Row],[Recertification Type]]=\"None unless a change to\",IF(VLOOKUP(Tablev2[[#This Row],[Conditions for Change]],'v1 Project Information'!$B$21:$C$46,2,FALSE)=\"Yes\",\"Normal\",\"None\"),Tablev2[[#This Row],[Recertification Type]])","v":"None"},null,null,"On-site Photographs","Owner"]
[{"$f":"IF(INDEX(UpgradeTable[],MATCH(Tablev2[[#This Row],[Feature.Part]],UpgradeTable[Code],0),7)=\"Not Pursued\",\"No\",\"Yes\")","v":"Yes"},{"$f":"VLOOKUP(Tablev2[[#This Row],[Feature]],Table5[],7,FALSE)","v":5},"V02","P","V02.3",{"$f":"VLOOKUP(Tablev2[[#This Row],[Feature.Part]],Table5[[Feature.Part]:[Part Description]],2,FALSE)","v":"Provide Chair Adjustability"},"None unless a change to","Interior Design",{"$f":"IF(Tablev2[[#This Row],[Recertification Type]]=\"None unless a change to\",IF(VLOOKUP(Tablev2[[#This Row],[Conditions for Change]],'v1 Project Information'!$B$21:$C$46,2,FALSE)=\"Yes\",\"Normal\",\"None\"),Tablev2[[#This Row],[Recertification Type]])","v":"None"},null,null,"On-site Photographs","Owner"]
[{"$f":"IF(INDEX(UpgradeTable[],MATCH(Tablev2[[#This Row],[Feature.Part]],UpgradeTable[Code],0),7)=\"Not Pursued\",\"No\",\"Yes\")","v":"Yes"},{"$f":"VLOOKUP(Tablev2[[#This Row],[Feature]],Table5[],7,FALSE)","v":5},"V02","P","V02.4",{"$f":"VLOOKUP(Tablev2[[#This Row],[Feature.Part]],Table5[[Feature.Part]:[Part Description]],2,FALSE)","v":"Provide Support at Standing Workstations"},"None unless a change to","Interior Design",{"$f":"IF(Tablev2[[#This Row],[Recertification Type]]=\"None unless a change to\",IF(VLOOKUP(Tablev2[[#This Row],[Conditions for Change]],'v1 Project Information'!$B$21:$C$46,2,FALSE)=\"Yes\",\"Normal\",\"None\"),Tablev2[[#This Row],[Recertification Type]])","v":"None"},null,null,"On-site Photographs","Owner"]
[{"$f":"IF(INDEX(UpgradeTable[],MATCH(Tablev2[[#This Row],[Feature.Part]],UpgradeTable[Code],0),7)=\"Not Pursued\",\"No\",\"Yes\")","v":"Yes"},{"$f":"VLOOKUP(Tablev2[[#This Row],[Feature]],Table5[],7,FALSE)","v":5},"V02","P","V02.5",{"$f":"VLOOKUP(Tablev2[[#This Row],[Feature.Part]],Table5[[Feature.Part]:[Part Description]],2,FALSE)","v":"Provide Workstation Orientation"},"None",null,{"$f":"IF(Tablev2[[#This Row],[Recertification Type]]=\"None unless a change to\",IF(VLOOKUP(Tablev2[[#This Row],[Conditions for Change]],'v1 Project Information'!$B$21:$C$46,2,FALSE)=\"Yes\",\"Normal\",\"None\"),Tablev2[[#This Row],[Recertification Type]])","v":"None"},"Policy and/or Operation Schedule"]
[{"$f":"IF(INDEX(UpgradeTable[],MATCH(Tablev2[[#This Row],[Feature.Part]],UpgradeTable[Code],0),7)=\"Not Pursued\",\"No\",\"Yes\")","v":"Yes"},{"$f":"VLOOKUP(Tablev2[[#This Row],[Feature]],Table5[],7,FALSE)","v":5},"V03","O","V03.1",{"$f":"VLOOKUP(Tablev2[[#This Row],[Feature.Part]],Table5[[Feature.Part]:[Part Description]],2,FALSE)","v":"Design Aesthetic Staircases"},"None unless a change to","Interior Design",{"$f":"IF(Tablev2[[#This Row],[Recertification Type]]=\"None unless a change to\",IF(VLOOKUP(Tablev2[[#This Row],[Conditions for Change]],'v1 Project Information'!$B$21:$C$46,2,FALSE)=\"Yes\",\"Normal\",\"None\"),Tablev2[[#This Row],[Recertification Type]])","v":"None"},null,null,"On-site Photographs","Owner"]
[{"$f":"IF(INDEX(UpgradeTable[],MATCH(Tablev2[[#This Row],[Feature.Part]],UpgradeTable[Code],0),7)=\"Not Pursued\",\"No\",\"Yes\")","v":"Yes"},{"$f":"VLOOKUP(Tablev2[[#This Row],[Feature]],Table5[],7,FALSE)","v":5},"V03","O","V03.2",{"$f":"VLOOKUP(Tablev2[[#This Row],[Feature.Part]],Table5[[Feature.Part]:[Part Description]],2,FALSE)","v":"Integrate Point-of-Decision Signage"},"None unless a change to","Interior Design",{"$f":"IF(Tablev2[[#This Row],[Recertification Type]]=\"None unless a change to\",IF(VLOOKUP(Tablev2[[#This Row],[Conditions for Change]],'v1 Project Information'!$B$21:$C$46,2,FALSE)=\"Yes\",\"Normal\",\"None\"),Tablev2[[#This Row],[Recertification Type]])","v":"None"},null,null,"On-site Photographs","Owner"]
[{"$f":"IF(INDEX(UpgradeTable[],MATCH(Tablev2[[#This Row],[Feature.Part]],UpgradeTable[Code],0),7)=\"Not Pursued\",\"No\",\"Yes\")","v":"Yes"},{"$f":"VLOOKUP(Tablev2[[#This Row],[Feature]],Table5[],7,FALSE)","v":5},"V03","O","V03.3",{"$f":"VLOOKUP(Tablev2[[#This Row],[Feature.Part]],Table5[[Feature.Part]:[Part Description]],2,FALSE)","v":"Promote Visible Stairs"},"None",null,{"$f":"IF(Tablev2[[#This Row],[Recertification Type]]=\"None unless a change to\",IF(VLOOKUP(Tablev2[[#This Row],[Conditions for Change]],'v1 Project Information'!$B$21:$C$46,2,FALSE)=\"Yes\",\"Normal\",\"None\"),Tablev2[[#This Row],[Recertification Type]])","v":"None"},"Technical Document"]
[{"$f":"IF(INDEX(UpgradeTable[],MATCH(Tablev2[[#This Row],[Feature.Part]],UpgradeTable[Code],0),7)=\"Not Pursued\",\"No\",\"Yes\")","v":"No"},{"$f":"VLOOKUP(Tablev2[[#This Row],[Feature]],Table5[],7,FALSE)","v":5},"V04","O","V04.1",{"$f":"VLOOKUP(Tablev2[[#This Row],[Feature.Part]],Table5[[Feature.Part]:[Part Description]],2,FALSE)","v":"Provide Cycling Infrastructure"},"None unless a change to","Interior Design",{"$f":"IF(Tablev2[[#This Row],[Recertification Type]]=\"None unless a change to\",IF(VLOOKUP(Tablev2[[#This Row],[Conditions for Change]],'v1 Project Information'!$B$21:$C$46,2,FALSE)=\"Yes\",\"Normal\",\"None\"),Tablev2[[#This Row],[Recertification Type]])","v":"None"},"Technical Document",null,"On-site Photographs","Designer"]
[{"$f":"IF(INDEX(UpgradeTable[],MATCH(Tablev2[[#This Row],[Feature.Part]],UpgradeTable[Code],0),7)=\"Not Pursued\",\"No\",\"Yes\")","v":"No"},{"$f":"VLOOKUP(Tablev2[[#This Row],[Feature]],Table5[],7,FALSE)","v":5},"V04","O","V04.2",{"$f":"VLOOKUP(Tablev2[[#This Row],[Feature.Part]],Table5[[Feature.Part]:[Part Description]],2,FALSE)","v":"Provide Showers, Lockers and Changing Facilities"},"None unless a change to","Interior Design",{"$f":"IF(Tablev2[[#This Row],[Recertification Type]]=\"None unless a change to\",IF(VLOOKUP(Tablev2[[#This Row],[Conditions for Change]],'v1 Project Information'!$B$21:$C$46,2,FALSE)=\"Yes\",\"Normal\",\"None\"),Tablev2[[#This Row],[Recertification Type]])","v":"None"},"Technical Document"]
[{"$f":"IF(INDEX(UpgradeTable[],MATCH(Tablev2[[#This Row],[Feature.Part]],UpgradeTable[Code],0),7)=\"Not Pursued\",\"No\",\"Yes\")","v":"No"},{"$f":"VLOOKUP(Tablev2[[#This Row],[Feature]],Table5[],7,FALSE)","v":5},"V05","O","V05.1",{"$f":"VLOOKUP(Tablev2[[#This Row],[Feature.Part]],Table5[[Feature.Part]:[Part Description]],2,FALSE)","v":"Select Sites with Pedestrian-friendly Streets"},"None",null,{"$f":"IF(Tablev2[[#This Row],[Recertification Type]]=\"None unless a change to\",IF(VLOOKUP(Tablev2[[#This Row],[Conditions for Change]],'v1 Project Information'!$B$21:$C$46,2,FALSE)=\"Yes\",\"Normal\",\"None\"),Tablev2[[#This Row],[Recertification Type]])","v":"None"},"Technical Document"]
[{"$f":"IF(INDEX(UpgradeTable[],MATCH(Tablev2[[#This Row],[Feature.Part]],UpgradeTable[Code],0),7)=\"Not Pursued\",\"No\",\"Yes\")","v":"No"},{"$f":"VLOOKUP(Tablev2[[#This Row],[Feature]],Table5[],7,FALSE)","v":5},"V05","O","V05.2",{"$f":"VLOOKUP(Tablev2[[#This Row],[Feature.Part]],Table5[[Feature.Part]:[Part Description]],2,FALSE)","v":"Select Sites with Access to Mass Transit"},"None",null,{"$f":"IF(Tablev2[[#This Row],[Recertification Type]]=\"None unless a change to\",IF(VLOOKUP(Tablev2[[#This Row],[Conditions for Change]],'v1 Project Information'!$B$21:$C$46,2,FALSE)=\"Yes\",\"Normal\",\"None\"),Tablev2[[#This Row],[Recertification Type]])","v":"None"},"Technical Document"]
[{"$f":"IF(INDEX(UpgradeTable[],MATCH(Tablev2[[#This Row],[Feature.Part]],UpgradeTable[Code],0),7)=\"Not Pursued\",\"No\",\"Yes\")","v":"No"},{"$f":"VLOOKUP(Tablev2[[#This Row],[Feature]],Table5[],7,FALSE)","v":5},"V06","O","V06.1",{"$f":"VLOOKUP(Tablev2[[#This Row],[Feature.Part]],Table5[[Feature.Part]:[Part Description]],2,FALSE)","v":"Offer Physical Activity Opportunities"},"None unless a change to","Organizational Policy",{"$f":"IF(Tablev2[[#This Row],[Recertification Type]]=\"None unless a change to\",IF(VLOOKUP(Tablev2[[#This Row],[Conditions for Change]],'v1 Project Information'!$B$21:$C$46,2,FALSE)=\"Yes\",\"Normal\",\"None\"),Tablev2[[#This Row],[Recertification Type]])","v":"None"},"Policy and/or Operation Schedule"]
[{"$f":"IF(INDEX(UpgradeTable[],MATCH(Tablev2[[#This Row],[Feature.Part]],UpgradeTable[Code],0),7)=\"Not Pursued\",\"No\",\"Yes\")","v":"No"},{"$f":"VLOOKUP(Tablev2[[#This Row],[Feature]],Table5[],7,FALSE)","v":5},"V07","O","V07.1",{"$f":"VLOOKUP(Tablev2[[#This Row],[Feature.Part]],Table5[[Feature.Part]:[Part Description]],2,FALSE)","v":"Provide Active Workstations"},"None unless a change to","Interior Design",{"$f":"IF(Tablev2[[#This Row],[Recertification Type]]=\"None unless a change to\",IF(VLOOKUP(Tablev2[[#This Row],[Conditions for Change]],'v1 Project Information'!$B$21:$C$46,2,FALSE)=\"Yes\",\"Normal\",\"None\"),Tablev2[[#This Row],[Recertification Type]])","v":"None"},null,null,"On-site Photographs","Owner"]
[{"$f":"IF(INDEX(UpgradeTable[],MATCH(Tablev2[[#This Row],[Feature.Part]],UpgradeTable[Code],0),7)=\"Not Pursued\",\"No\",\"Yes\")","v":"No"},{"$f":"VLOOKUP(Tablev2[[#This Row],[Feature]],Table5[],7,FALSE)","v":5},"V08","O","V08.1",{"$f":"VLOOKUP(Tablev2[[#This Row],[Feature.Part]],Table5[[Feature.Part]:[Part Description]],2,FALSE)","v":"Provide Indoor Activity Spaces"},"None unless a change to","Interior Design",{"$f":"IF(Tablev2[[#This Row],[Recertification Type]]=\"None unless a change to\",IF(VLOOKUP(Tablev2[[#This Row],[Conditions for Change]],'v1 Project Information'!$B$21:$C$46,2,FALSE)=\"Yes\",\"Normal\",\"None\"),Tablev2[[#This Row],[Recertification Type]])","v":"None"},"Technical Document","Policy and/or Operations Schedule"]
[{"$f":"IF(INDEX(UpgradeTable[],MATCH(Tablev2[[#This Row],[Feature.Part]],UpgradeTable[Code],0),7)=\"Not Pursued\",\"No\",\"Yes\")","v":"No"},{"$f":"VLOOKUP(Tablev2[[#This Row],[Feature]],Table5[],7,FALSE)","v":5},"V08","O","V08.2",{"$f":"VLOOKUP(Tablev2[[#This Row],[Feature.Part]],Table5[[Feature.Part]:[Part Description]],2,FALSE)","v":"Provide Outdoor Physical Activity Space"},"None unless a change to","Interior Design",{"$f":"IF(Tablev2[[#This Row],[Recertification Type]]=\"None unless a change to\",IF(VLOOKUP(Tablev2[[#This Row],[Conditions for Change]],'v1 Project Information'!$B$21:$C$46,2,FALSE)=\"Yes\",\"Normal\",\"None\"),Tablev2[[#This Row],[Recertification Type]])","v":"None"},"Technical Document"]
[{"$f":"IF(INDEX(UpgradeTable[],MATCH(Tablev2[[#This Row],[Feature.Part]],UpgradeTable[Code],0),7)=\"Not Pursued\",\"No\",\"Yes\")","v":"Yes"},{"$f":"VLOOKUP(Tablev2[[#This Row],[Feature]],Table5[],7,FALSE)","v":5},"V09","O","V09.1",{"$f":"VLOOKUP(Tablev2[[#This Row],[Feature.Part]],Table5[[Feature.Part]:[Part Description]],2,FALSE)","v":"Offer Physical Activity Incentives"},"None unless a change to","Exterior Design",{"$f":"IF(Tablev2[[#This Row],[Recertification Type]]=\"None unless a change to\",IF(VLOOKUP(Tablev2[[#This Row],[Conditions for Change]],'v1 Project Information'!$B$21:$C$46,2,FALSE)=\"Yes\",\"Normal\",\"None\"),Tablev2[[#This Row],[Recertification Type]])","v":"None"},"Policy and/or Operation Schedule","On-going Data Report"]
[{"$f":"IF(INDEX(UpgradeTable[],MATCH(Tablev2[[#This Row],[Feature.Part]],UpgradeTable[Code],0),7)=\"Not Pursued\",\"No\",\"Yes\")","v":"No"},{"$f":"VLOOKUP(Tablev2[[#This Row],[Feature]],Table5[],7,FALSE)","v":5},"V10","O","V10.1",{"$f":"VLOOKUP(Tablev2[[#This Row],[Feature.Part]],Table5[[Feature.Part]:[Part Description]],2,FALSE)","v":"Provide Self-Monitoring Tools"},"None unless a change to","Organizational Policy",{"$f":"IF(Tablev2[[#This Row],[Recertification Type]]=\"None unless a change to\",IF(VLOOKUP(Tablev2[[#This Row],[Conditions for Change]],'v1 Project Information'!$B$21:$C$46,2,FALSE)=\"Yes\",\"Normal\",\"None\"),Tablev2[[#This Row],[Recertification Type]])","v":"None"},"Policy and/or Operation Schedule"]
[{"$f":"IF(INDEX(UpgradeTable[],MATCH(Tablev2[[#This Row],[Feature.Part]],UpgradeTable[Code],0),7)=\"Not Pursued\",\"No\",\"Yes\")","v":"No"},{"$f":"VLOOKUP(Tablev2[[#This Row],[Feature]],Table5[],7,FALSE)","v":5},"V11","O","V11.1",{"$f":"VLOOKUP(Tablev2[[#This Row],[Feature.Part]],Table5[[Feature.Part]:[Part Description]],2,FALSE)","v":"Implement an Ergonomics Program"},"None unless a change to","Organizational Policy",{"$f":"IF(Tablev2[[#This Row],[Recertification Type]]=\"None unless a change to\",IF(VLOOKUP(Tablev2[[#This Row],[Conditions for Change]],'v1 Project Information'!$B$21:$C$46,2,FALSE)=\"Yes\",\"Normal\",\"None\"),Tablev2[[#This Row],[Recertification Type]])","v":"None"},"Policy and/or Operation Schedule"]
[{"$f":"IF(INDEX(UpgradeTable[],MATCH(Tablev2[[#This Row],[Feature.Part]],UpgradeTable[Code],0),7)=\"Not Pursued\",\"No\",\"Yes\")","v":"No"},{"$f":"VLOOKUP(Tablev2[[#This Row],[Feature]],Table5[],7,FALSE)","v":5},"V11","O","V11.2",{"$f":"VLOOKUP(Tablev2[[#This Row],[Feature.Part]],Table5[[Feature.Part]:[Part Description]],2,FALSE)","v":"Commit to Ergonomic Improvements"},"Annual Submission",null,{"$f":"IF(Tablev2[[#This Row],[Recertification Type]]=\"None unless a change to\",IF(VLOOKUP(Tablev2[[#This Row],[Conditions for Change]],'v1 Project Information'!$B$21:$C$46,2,FALSE)=\"Yes\",\"Normal\",\"None\"),Tablev2[[#This Row],[Recertification Type]])","v":"Annual Submission"},"Professional Narrative","Policy and/or Operations Schedule"]
[{"$f":"IF(INDEX(UpgradeTable[],MATCH(Tablev2[[#This Row],[Feature.Part]],UpgradeTable[Code],0),7)=\"Not Pursued\",\"No\",\"Yes\")","v":"No"},{"$f":"VLOOKUP(Tablev2[[#This Row],[Feature]],Table5[],7,FALSE)","v":5},"V11","O","V11.3",{"$f":"VLOOKUP(Tablev2[[#This Row],[Feature.Part]],Table5[[Feature.Part]:[Part Description]],2,FALSE)","v":"Support Remote Work Ergonomics"},"None unless a change to","Organizational Policy",{"$f":"IF(Tablev2[[#This Row],[Recertification Type]]=\"None unless a change to\",IF(VLOOKUP(Tablev2[[#This Row],[Conditions for Change]],'v1 Project Information'!$B$21:$C$46,2,FALSE)=\"Yes\",\"Normal\",\"None\"),Tablev2[[#This Row],[Recertification Type]])","v":"None"},"Policy and/or Operation Schedule"]
[{"$f":"IF(INDEX(UpgradeTable[],MATCH(Tablev2[[#This Row],[Feature.Part]],UpgradeTable[Code],0),7)=\"Not Pursued\",\"No\",\"Yes\")","v":"Yes"},{"$f":"VLOOKUP(Tablev2[[#This Row],[Feature]],Table5[],7,FALSE)","v":6},"T01","P","T01.1",{"$f":"VLOOKUP(Tablev2[[#This Row],[Feature.Part]],Table5[[Feature.Part]:[Part Description]],2,FALSE)","v":"Provide Acceptable Thermal Environment"},"Normal",null,{"$f":"IF(Tablev2[[#This Row],[Recertification Type]]=\"None unless a change to\",IF(VLOOKUP(Tablev2[[#This Row],[Conditions for Change]],'v1 Project Information'!$B$21:$C$46,2,FALSE)=\"Yes\",\"Normal\",\"None\"),Tablev2[[#This Row],[Recertification Type]])","v":"Normal"},"Technical Document \n(See Note 1, below)",null,"Performance Test"]
[{"$f":"IF(INDEX(UpgradeTable[],MATCH(Tablev2[[#This Row],[Feature.Part]],UpgradeTable[Code],0),7)=\"Not Pursued\",\"No\",\"Yes\")","v":"Yes"},{"$f":"VLOOKUP(Tablev2[[#This Row],[Feature]],Table5[],7,FALSE)","v":6},"T01","P","T01.2",{"$f":"VLOOKUP(Tablev2[[#This Row],[Feature.Part]],Table5[[Feature.Part]:[Part Description]],2,FALSE)","v":"Monitor Thermal Parameters"},"Annual Submission",null,{"$f":"IF(Tablev2[[#This Row],[Recertification Type]]=\"None unless a change to\",IF(VLOOKUP(Tablev2[[#This Row],[Conditions for Change]],'v1 Project Information'!$B$21:$C$46,2,FALSE)=\"Yes\",\"Normal\",\"None\"),Tablev2[[#This Row],[Recertification Type]])","v":"Annual Submission"},"On-going Report"]
[{"$f":"IF(INDEX(UpgradeTable[],MATCH(Tablev2[[#This Row],[Feature.Part]],UpgradeTable[Code],0),7)=\"Not Pursued\",\"No\",\"Yes\")","v":"No"},{"$f":"VLOOKUP(Tablev2[[#This Row],[Feature]],Table5[],7,FALSE)","v":6},"T02","O","T02.1",{"$f":"VLOOKUP(Tablev2[[#This Row],[Feature.Part]],Table5[[Feature.Part]:[Part Description]],2,FALSE)","v":"Survey for Thermal Comfort"},"None",null,{"$f":"IF(Tablev2[[#This Row],[Recertification Type]]=\"None unless a change to\",IF(VLOOKUP(Tablev2[[#This Row],[Conditions for Change]],'v1 Project Information'!$B$21:$C$46,2,FALSE)=\"Yes\",\"Normal\",\"None\"),Tablev2[[#This Row],[Recertification Type]])","v":"None"},"Technical Document"]
[{"$f":"IF(INDEX(UpgradeTable[],MATCH(Tablev2[[#This Row],[Feature.Part]],UpgradeTable[Code],0),7)=\"Not Pursued\",\"No\",\"Yes\")","v":"No"},{"$f":"VLOOKUP(Tablev2[[#This Row],[Feature]],Table5[],7,FALSE)","v":6},"T03","O","T03.1",{"$f":"VLOOKUP(Tablev2[[#This Row],[Feature.Part]],Table5[[Feature.Part]:[Part Description]],2,FALSE)","v":"Provide Thermostat Control"},"None unless a change to","Interior Design",{"$f":"IF(Tablev2[[#This Row],[Recertification Type]]=\"None unless a change to\",IF(VLOOKUP(Tablev2[[#This Row],[Conditions for Change]],'v1 Project Information'!$B$21:$C$46,2,FALSE)=\"Yes\",\"Normal\",\"None\"),Tablev2[[#This Row],[Recertification Type]])","v":"None"},"Technical Document"]
[{"$f":"IF(INDEX(UpgradeTable[],MATCH(Tablev2[[#This Row],[Feature.Part]],UpgradeTable[Code],0),7)=\"Not Pursued\",\"No\",\"Yes\")","v":"No"},{"$f":"VLOOKUP(Tablev2[[#This Row],[Feature]],Table5[],7,FALSE)","v":6},"T04","O","T04.1",{"$f":"VLOOKUP(Tablev2[[#This Row],[Feature.Part]],Table5[[Feature.Part]:[Part Description]],2,FALSE)","v":"Provide Personal Cooling Options"},"None unless a change to","Interior Design",{"$f":"IF(Tablev2[[#This Row],[Recertification Type]]=\"None unless a change to\",IF(VLOOKUP(Tablev2[[#This Row],[Conditions for Change]],'v1 Project Information'!$B$21:$C$46,2,FALSE)=\"Yes\",\"Normal\",\"None\"),Tablev2[[#This Row],[Recertification Type]])","v":"None"},null,null,"On-site Photographs","Engineer"]
[{"$f":"IF(INDEX(UpgradeTable[],MATCH(Tablev2[[#This Row],[Feature.Part]],UpgradeTable[Code],0),7)=\"Not Pursued\",\"No\",\"Yes\")","v":"No"},{"$f":"VLOOKUP(Tablev2[[#This Row],[Feature]],Table5[],7,FALSE)","v":6},"T04","O","T04.2",{"$f":"VLOOKUP(Tablev2[[#This Row],[Feature.Part]],Table5[[Feature.Part]:[Part Description]],2,FALSE)","v":"Provide Personal Heating Options"},"None unless a change to","Mechanical System",{"$f":"IF(Tablev2[[#This Row],[Recertification Type]]=\"None unless a change to\",IF(VLOOKUP(Tablev2[[#This Row],[Conditions for Change]],'v1 Project Information'!$B$21:$C$46,2,FALSE)=\"Yes\",\"Normal\",\"None\"),Tablev2[[#This Row],[Recertification Type]])","v":"None"},null,null,"On-site Photographs","Engineer"]
[{"$f":"IF(INDEX(UpgradeTable[],MATCH(Tablev2[[#This Row],[Feature.Part]],UpgradeTable[Code],0),7)=\"Not Pursued\",\"No\",\"Yes\")","v":"No"},{"$f":"VLOOKUP(Tablev2[[#This Row],[Feature]],Table5[],7,FALSE)","v":6},"T04","O","T04.3",{"$f":"VLOOKUP(Tablev2[[#This Row],[Feature.Part]],Table5[[Feature.Part]:[Part Description]],2,FALSE)","v":"Allow Flexible Dress Code"},"None unless a change to","Organizational Policy",{"$f":"IF(Tablev2[[#This Row],[Recertification Type]]=\"None unless a change to\",IF(VLOOKUP(Tablev2[[#This Row],[Conditions for Change]],'v1 Project Information'!$B$21:$C$46,2,FALSE)=\"Yes\",\"Normal\",\"None\"),Tablev2[[#This Row],[Recertification Type]])","v":"None"},"Policy and/or Operation Schedule"]
[{"$f":"IF(INDEX(UpgradeTable[],MATCH(Tablev2[[#This Row],[Feature.Part]],UpgradeTable[Code],0),7)=\"Not Pursued\",\"No\",\"Yes\")","v":"No"},{"$f":"VLOOKUP(Tablev2[[#This Row],[Feature]],Table5[],7,FALSE)","v":6},"T05","O","T05.1",{"$f":"VLOOKUP(Tablev2[[#This Row],[Feature.Part]],Table5[[Feature.Part]:[Part Description]],2,FALSE)","v":"Implement Radiant Heating"},"None unless a change to","Mechanical System",{"$f":"IF(Tablev2[[#This Row],[Recertification Type]]=\"None unless a change to\",IF(VLOOKUP(Tablev2[[#This Row],[Conditions for Change]],'v1 Project Information'!$B$21:$C$46,2,FALSE)=\"Yes\",\"Normal\",\"None\"),Tablev2[[#This Row],[Recertification Type]])","v":"None"},"Technical Document"]
[{"$f":"IF(INDEX(UpgradeTable[],MATCH(Tablev2[[#This Row],[Feature.Part]],UpgradeTable[Code],0),7)=\"Not Pursued\",\"No\",\"Yes\")","v":"No"},{"$f":"VLOOKUP(Tablev2[[#This Row],[Feature]],Table5[],7,FALSE)","v":6},"T05","O","T05.2",{"$f":"VLOOKUP(Tablev2[[#This Row],[Feature.Part]],Table5[[Feature.Part]:[Part Description]],2,FALSE)","v":"Implement Radiant Cooling"},"None unless a change to","Mechanical System",{"$f":"IF(Tablev2[[#This Row],[Recertification Type]]=\"None unless a change to\",IF(VLOOKUP(Tablev2[[#This Row],[Conditions for Change]],'v1 Project Information'!$B$21:$C$46,2,FALSE)=\"Yes\",\"Normal\",\"None\"),Tablev2[[#This Row],[Recertification Type]])","v":"None"},"Technical Document"]
[{"$f":"IF(INDEX(UpgradeTable[],MATCH(Tablev2[[#This Row],[Feature.Part]],UpgradeTable[Code],0),7)=\"Not Pursued\",\"No\",\"Yes\")","v":"No"},{"$f":"VLOOKUP(Tablev2[[#This Row],[Feature]],Table5[],7,FALSE)","v":6},"T06","O","T06.1",{"$f":"VLOOKUP(Tablev2[[#This Row],[Feature.Part]],Table5[[Feature.Part]:[Part Description]],2,FALSE)","v":"Monitor Thermal Environment"},"Annual Submission",null,{"$f":"IF(Tablev2[[#This Row],[Recertification Type]]=\"None unless a change to\",IF(VLOOKUP(Tablev2[[#This Row],[Conditions for Change]],'v1 Project Information'!$B$21:$C$46,2,FALSE)=\"Yes\",\"Normal\",\"None\"),Tablev2[[#This Row],[Recertification Type]])","v":"Annual Submission"},"On-going Report",null,"On-site Photographs","Engineer"]
[{"$f":"IF(INDEX(UpgradeTable[],MATCH(Tablev2[[#This Row],[Feature.Part]],UpgradeTable[Code],0),7)=\"Not Pursued\",\"No\",\"Yes\")","v":"No"},{"$f":"VLOOKUP(Tablev2[[#This Row],[Feature]],Table5[],7,FALSE)","v":6},"T07","O","T07.1",{"$f":"VLOOKUP(Tablev2[[#This Row],[Feature.Part]],Table5[[Feature.Part]:[Part Description]],2,FALSE)","v":"Manage Relative Humidity"},"None",null,{"$f":"IF(Tablev2[[#This Row],[Recertification Type]]=\"None unless a change to\",IF(VLOOKUP(Tablev2[[#This Row],[Conditions for Change]],'v1 Project Information'!$B$21:$C$46,2,FALSE)=\"Yes\",\"Normal\",\"None\"),Tablev2[[#This Row],[Recertification Type]])","v":"None"},"Technical Document",null,"Performance Test","Engineer"]
[{"$f":"IF(INDEX(UpgradeTable[],MATCH(Tablev2[[#This Row],[Feature.Part]],UpgradeTable[Code],0),7)=\"Not Pursued\",\"No\",\"Yes\")","v":"No"},{"$f":"VLOOKUP(Tablev2[[#This Row],[Feature]],Table5[],7,FALSE)","v":6},"T08","O","T08.1",{"$f":"VLOOKUP(Tablev2[[#This Row],[Feature.Part]],Table5[[Feature.Part]:[Part Description]],2,FALSE)","v":"Provide Windows with Multiple Opening Modes"},"None unless a change to","Overall Structure",{"$f":"IF(Tablev2[[#This Row],[Recertification Type]]=\"None unless a change to\",IF(VLOOKUP(Tablev2[[#This Row],[Conditions for Change]],'v1 Project Information'!$B$21:$C$46,2,FALSE)=\"Yes\",\"Normal\",\"None\"),Tablev2[[#This Row],[Recertification Type]])","v":"None"},"Professional Narrative",null,"On-site Photographs","Designer"]
[{"$f":"IF(INDEX(UpgradeTable[],MATCH(Tablev2[[#This Row],[Feature.Part]],UpgradeTable[Code],0),7)=\"Not Pursued\",\"No\",\"Yes\")","v":"No"},{"$f":"VLOOKUP(Tablev2[[#This Row],[Feature]],Table5[],7,FALSE)","v":6},"T09","O","T09.1",{"$f":"VLOOKUP(Tablev2[[#This Row],[Feature.Part]],Table5[[Feature.Part]:[Part Description]],2,FALSE)","v":"Manage Outdoor Heat"},"None unless a change to","Exterior Design",{"$f":"IF(Tablev2[[#This Row],[Recertification Type]]=\"None unless a change to\",IF(VLOOKUP(Tablev2[[#This Row],[Conditions for Change]],'v1 Project Information'!$B$21:$C$46,2,FALSE)=\"Yes\",\"Normal\",\"None\"),Tablev2[[#This Row],[Recertification Type]])","v":"None"},"Technical Document"]
[{"$f":"IF(INDEX(UpgradeTable[],MATCH(Tablev2[[#This Row],[Feature.Part]],UpgradeTable[Code],0),7)=\"Not Pursued\",\"No\",\"Yes\")","v":"No"},{"$f":"VLOOKUP(Tablev2[[#This Row],[Feature]],Table5[],7,FALSE)","v":6},"T09","O","T09.2",{"$f":"VLOOKUP(Tablev2[[#This Row],[Feature.Part]],Table5[[Feature.Part]:[Part Description]],2,FALSE)","v":"Avoid Excessive Wind"},"None unless a change to","Exterior Design",{"$f":"IF(Tablev2[[#This Row],[Recertification Type]]=\"None unless a change to\",IF(VLOOKUP(Tablev2[[#This Row],[Conditions for Change]],'v1 Project Information'!$B$21:$C$46,2,FALSE)=\"Yes\",\"Normal\",\"None\"),Tablev2[[#This Row],[Recertification Type]])","v":"None"},"Technical Document"]
[{"$f":"IF(INDEX(UpgradeTable[],MATCH(Tablev2[[#This Row],[Feature.Part]],UpgradeTable[Code],0),7)=\"Not Pursued\",\"No\",\"Yes\")","v":"Yes"},{"$f":"VLOOKUP(Tablev2[[#This Row],[Feature]],Table5[],7,FALSE)","v":7},"S01","P","S01.1",{"$f":"VLOOKUP(Tablev2[[#This Row],[Feature.Part]],Table5[[Feature.Part]:[Part Description]],2,FALSE)","v":"Label Acoustic Zones"},"None unless a change to","Mechanical System",{"$f":"IF(Tablev2[[#This Row],[Recertification Type]]=\"None unless a change to\",IF(VLOOKUP(Tablev2[[#This Row],[Conditions for Change]],'v1 Project Information'!$B$21:$C$46,2,FALSE)=\"Yes\",\"Normal\",\"None\"),Tablev2[[#This Row],[Recertification Type]])","v":"None"},"Technical Document"]
[{"$f":"IF(INDEX(UpgradeTable[],MATCH(Tablev2[[#This Row],[Feature.Part]],UpgradeTable[Code],0),7)=\"Not Pursued\",\"No\",\"Yes\")","v":"Yes"},{"$f":"VLOOKUP(Tablev2[[#This Row],[Feature]],Table5[],7,FALSE)","v":7},"S01","P","S01.2",{"$f":"VLOOKUP(Tablev2[[#This Row],[Feature.Part]],Table5[[Feature.Part]:[Part Description]],2,FALSE)","v":"Provide Acoustic Design Plan"},"None unless a change to","Interior Design",{"$f":"IF(Tablev2[[#This Row],[Recertification Type]]=\"None unless a change to\",IF(VLOOKUP(Tablev2[[#This Row],[Conditions for Change]],'v1 Project Information'!$B$21:$C$46,2,FALSE)=\"Yes\",\"Normal\",\"None\"),Tablev2[[#This Row],[Recertification Type]])","v":"None"},"Professional Narrative"]
[{"$f":"IF(INDEX(UpgradeTable[],MATCH(Tablev2[[#This Row],[Feature.Part]],UpgradeTable[Code],0),7)=\"Not Pursued\",\"No\",\"Yes\")","v":"Yes"},{"$f":"VLOOKUP(Tablev2[[#This Row],[Feature]],Table5[],7,FALSE)","v":7},"S02","O","S02.1",{"$f":"VLOOKUP(Tablev2[[#This Row],[Feature.Part]],Table5[[Feature.Part]:[Part Description]],2,FALSE)","v":"Limit Background Noise Levels"},"None",null,{"$f":"IF(Tablev2[[#This Row],[Recertification Type]]=\"None unless a change to\",IF(VLOOKUP(Tablev2[[#This Row],[Conditions for Change]],'v1 Project Information'!$B$21:$C$46,2,FALSE)=\"Yes\",\"Normal\",\"None\"),Tablev2[[#This Row],[Recertification Type]])","v":"None"},null,null,"Performance Test"]
[{"$f":"IF(INDEX(UpgradeTable[],MATCH(Tablev2[[#This Row],[Feature.Part]],UpgradeTable[Code],0),7)=\"Not Pursued\",\"No\",\"Yes\")","v":"No"},{"$f":"VLOOKUP(Tablev2[[#This Row],[Feature]],Table5[],7,FALSE)","v":7},"S03","O","S03.1",{"$f":"VLOOKUP(Tablev2[[#This Row],[Feature.Part]],Table5[[Feature.Part]:[Part Description]],2,FALSE)","v":"Design for Sound Isolation at Walls and Doors"},"None",null,{"$f":"IF(Tablev2[[#This Row],[Recertification Type]]=\"None unless a change to\",IF(VLOOKUP(Tablev2[[#This Row],[Conditions for Change]],'v1 Project Information'!$B$21:$C$46,2,FALSE)=\"Yes\",\"Normal\",\"None\"),Tablev2[[#This Row],[Recertification Type]])","v":"None"},"Technical Document"]
[{"$f":"IF(INDEX(UpgradeTable[],MATCH(Tablev2[[#This Row],[Feature.Part]],UpgradeTable[Code],0),7)=\"Not Pursued\",\"No\",\"Yes\")","v":"No"},{"$f":"VLOOKUP(Tablev2[[#This Row],[Feature]],Table5[],7,FALSE)","v":7},"S03","O","S03.2",{"$f":"VLOOKUP(Tablev2[[#This Row],[Feature.Part]],Table5[[Feature.Part]:[Part Description]],2,FALSE)","v":"Achieve Sound Isolation at Walls"},"None unless a change to","Interior Design",{"$f":"IF(Tablev2[[#This Row],[Recertification Type]]=\"None unless a change to\",IF(VLOOKUP(Tablev2[[#This Row],[Conditions for Change]],'v1 Project Information'!$B$21:$C$46,2,FALSE)=\"Yes\",\"Normal\",\"None\"),Tablev2[[#This Row],[Recertification Type]])","v":"None"},null,null,"Performance Test"]
[{"$f":"IF(INDEX(UpgradeTable[],MATCH(Tablev2[[#This Row],[Feature.Part]],UpgradeTable[Code],0),7)=\"Not Pursued\",\"No\",\"Yes\")","v":"No"},{"$f":"VLOOKUP(Tablev2[[#This Row],[Feature]],Table5[],7,FALSE)","v":7},"S04","O","S04.1",{"$f":"VLOOKUP(Tablev2[[#This Row],[Feature.Part]],Table5[[Feature.Part]:[Part Description]],2,FALSE)","v":"Achieve Reverberation Time Thresholds"},"None",null,{"$f":"IF(Tablev2[[#This Row],[Recertification Type]]=\"None unless a change to\",IF(VLOOKUP(Tablev2[[#This Row],[Conditions for Change]],'v1 Project Information'!$B$21:$C$46,2,FALSE)=\"Yes\",\"Normal\",\"None\"),Tablev2[[#This Row],[Recertification Type]])","v":"None"},"Technical Document",null,"Performance Test"]
[{"$f":"IF(INDEX(UpgradeTable[],MATCH(Tablev2[[#This Row],[Feature.Part]],UpgradeTable[Code],0),7)=\"Not Pursued\",\"No\",\"Yes\")","v":"No"},{"$f":"VLOOKUP(Tablev2[[#This Row],[Feature]],Table5[],7,FALSE)","v":7},"S05","O","S05.1",{"$f":"VLOOKUP(Tablev2[[#This Row],[Feature.Part]],Table5[[Feature.Part]:[Part Description]],2,FALSE)","v":"Implement Sound Reducing Surfaces"},"None",null,{"$f":"IF(Tablev2[[#This Row],[Recertification Type]]=\"None unless a change to\",IF(VLOOKUP(Tablev2[[#This Row],[Conditions for Change]],'v1 Project Information'!$B$21:$C$46,2,FALSE)=\"Yes\",\"Normal\",\"None\"),Tablev2[[#This Row],[Recertification Type]])","v":"None"},"Technical Document"]
[{"$f":"IF(INDEX(UpgradeTable[],MATCH(Tablev2[[#This Row],[Feature.Part]],UpgradeTable[Code],0),7)=\"Not Pursued\",\"No\",\"Yes\")","v":"No"},{"$f":"VLOOKUP(Tablev2[[#This Row],[Feature]],Table5[],7,FALSE)","v":7},"S06","O","S06.1",{"$f":"VLOOKUP(Tablev2[[#This Row],[Feature.Part]],Table5[[Feature.Part]:[Part Description]],2,FALSE)","v":"Provide Minimum Background Sound"},"None",null,{"$f":"IF(Tablev2[[#This Row],[Recertification Type]]=\"None unless a change to\",IF(VLOOKUP(Tablev2[[#This Row],[Conditions for Change]],'v1 Project Information'!$B$21:$C$46,2,FALSE)=\"Yes\",\"Normal\",\"None\"),Tablev2[[#This Row],[Recertification Type]])","v":"None"},"Technical Document"]
[{"$f":"IF(INDEX(UpgradeTable[],MATCH(Tablev2[[#This Row],[Feature.Part]],UpgradeTable[Code],0),7)=\"Not Pursued\",\"No\",\"Yes\")","v":"No"},{"$f":"VLOOKUP(Tablev2[[#This Row],[Feature]],Table5[],7,FALSE)","v":7},"S07","O","S07.1",{"$f":"VLOOKUP(Tablev2[[#This Row],[Feature.Part]],Table5[[Feature.Part]:[Part Description]],2,FALSE)","v":"Specify Impact Noise Reducing Flooring"},"None unless a change to","Overall Structure",{"$f":"IF(Tablev2[[#This Row],[Recertification Type]]=\"None unless a change to\",IF(VLOOKUP(Tablev2[[#This Row],[Conditions for Change]],'v1 Project Information'!$B$21:$C$46,2,FALSE)=\"Yes\",\"Normal\",\"None\"),Tablev2[[#This Row],[Recertification Type]])","v":"None"},"Technical Document"]
[{"$f":"IF(INDEX(UpgradeTable[],MATCH(Tablev2[[#This Row],[Feature.Part]],UpgradeTable[Code],0),7)=\"Not Pursued\",\"No\",\"Yes\")","v":"No"},{"$f":"VLOOKUP(Tablev2[[#This Row],[Feature]],Table5[],7,FALSE)","v":7},"S07","O","S07.2",{"$f":"VLOOKUP(Tablev2[[#This Row],[Feature.Part]],Table5[[Feature.Part]:[Part Description]],2,FALSE)","v":"Meet Thresholds for Impact Noise Rating"},"None unless a change to","Overall Structure",{"$f":"IF(Tablev2[[#This Row],[Recertification Type]]=\"None unless a change to\",IF(VLOOKUP(Tablev2[[#This Row],[Conditions for Change]],'v1 Project Information'!$B$21:$C$46,2,FALSE)=\"Yes\",\"Normal\",\"None\"),Tablev2[[#This Row],[Recertification Type]])","v":"None"},"Professional Narrative"]
[{"$f":"IF(INDEX(UpgradeTable[],MATCH(Tablev2[[#This Row],[Feature.Part]],UpgradeTable[Code],0),7)=\"Not Pursued\",\"No\",\"Yes\")","v":"No"},{"$f":"VLOOKUP(Tablev2[[#This Row],[Feature]],Table5[],7,FALSE)","v":7},"S08","O","S08.1",{"$f":"VLOOKUP(Tablev2[[#This Row],[Feature.Part]],Table5[[Feature.Part]:[Part Description]],2,FALSE)","v":"Provide Enhanced Speech Intelligibility"},"None unless a change to","Interior Design",{"$f":"IF(Tablev2[[#This Row],[Recertification Type]]=\"None unless a change to\",IF(VLOOKUP(Tablev2[[#This Row],[Conditions for Change]],'v1 Project Information'!$B$21:$C$46,2,FALSE)=\"Yes\",\"Normal\",\"None\"),Tablev2[[#This Row],[Recertification Type]])","v":"None"},"Technical Document"]
[{"$f":"IF(INDEX(UpgradeTable[],MATCH(Tablev2[[#This Row],[Feature.Part]],UpgradeTable[Code],0),7)=\"Not Pursued\",\"No\",\"Yes\")","v":"No"},{"$f":"VLOOKUP(Tablev2[[#This Row],[Feature]],Table5[],7,FALSE)","v":7},"S08","O","S08.2",{"$f":"VLOOKUP(Tablev2[[#This Row],[Feature.Part]],Table5[[Feature.Part]:[Part Description]],2,FALSE)","v":"Prioritize Audio Devices and Policies"},"None unless a change to","Organizational Policy",{"$f":"IF(Tablev2[[#This Row],[Recertification Type]]=\"None unless a change to\",IF(VLOOKUP(Tablev2[[#This Row],[Conditions for Change]],'v1 Project Information'!$B$21:$C$46,2,FALSE)=\"Yes\",\"Normal\",\"None\"),Tablev2[[#This Row],[Recertification Type]])","v":"None"},"Policy and/or Operation Schedule"]
[{"$f":"IF(INDEX(UpgradeTable[],MATCH(Tablev2[[#This Row],[Feature.Part]],UpgradeTable[Code],0),7)=\"Not Pursued\",\"No\",\"Yes\")","v":"Yes"},{"$f":"VLOOKUP(Tablev2[[#This Row],[Feature]],Table5[],7,FALSE)","v":8},"X01","P","X01.1",{"$f":"VLOOKUP(Tablev2[[#This Row],[Feature.Part]],Table5[[Feature.Part]:[Part Description]],2,FALSE)","v":"Restrict Asbestos"},"Normal (for new products)",null,{"$f":"IF(Tablev2[[#This Row],[Recertification Type]]=\"None unless a change to\",IF(VLOOKUP(Tablev2[[#This Row],[Conditions for Change]],'v1 Project Information'!$B$21:$C$46,2,FALSE)=\"Yes\",\"Normal\",\"None\"),Tablev2[[#This Row],[Recertification Type]])","v":"Normal (for new products)"},"Technical Document",null,null,"Contractor"]
[{"$f":"IF(INDEX(UpgradeTable[],MATCH(Tablev2[[#This Row],[Feature.Part]],UpgradeTable[Code],0),7)=\"Not Pursued\",\"No\",\"Yes\")","v":"Yes"},{"$f":"VLOOKUP(Tablev2[[#This Row],[Feature]],Table5[],7,FALSE)","v":8},"X01","P","X01.2",{"$f":"VLOOKUP(Tablev2[[#This Row],[Feature.Part]],Table5[[Feature.Part]:[Part Description]],2,FALSE)","v":"Restrict Mercury"},"Normal (for new construction only)",null,{"$f":"IF(Tablev2[[#This Row],[Recertification Type]]=\"None unless a change to\",IF(VLOOKUP(Tablev2[[#This Row],[Conditions for Change]],'v1 Project Information'!$B$21:$C$46,2,FALSE)=\"Yes\",\"Normal\",\"None\"),Tablev2[[#This Row],[Recertification Type]])","v":"Normal (for new construction only)"},"Technical Document",null,null,"Designer"]
[{"$f":"IF(INDEX(UpgradeTable[],MATCH(Tablev2[[#This Row],[Feature.Part]],UpgradeTable[Code],0),7)=\"Not Pursued\",\"No\",\"Yes\")","v":"Yes"},{"$f":"VLOOKUP(Tablev2[[#This Row],[Feature]],Table5[],7,FALSE)","v":8},"X01","P","X01.3",{"$f":"VLOOKUP(Tablev2[[#This Row],[Feature.Part]],Table5[[Feature.Part]:[Part Description]],2,FALSE)","v":"Restrict Lead"},"Normal (for new construction only)",null,{"$f":"IF(Tablev2[[#This Row],[Recertification Type]]=\"None unless a change to\",IF(VLOOKUP(Tablev2[[#This Row],[Conditions for Change]],'v1 Project Information'!$B$21:$C$46,2,FALSE)=\"Yes\",\"Normal\",\"None\"),Tablev2[[#This Row],[Recertification Type]])","v":"Normal (for new construction only)"},"Technical Document",null,null,"Contractor","Engineer"]
[{"$f":"IF(INDEX(UpgradeTable[],MATCH(Tablev2[[#This Row],[Feature.Part]],UpgradeTable[Code],0),7)=\"Not Pursued\",\"No\",\"Yes\")","v":"Yes"},{"$f":"VLOOKUP(Tablev2[[#This Row],[Feature]],Table5[],7,FALSE)","v":8},"X02","P","X02.1",{"$f":"VLOOKUP(Tablev2[[#This Row],[Feature.Part]],Table5[[Feature.Part]:[Part Description]],2,FALSE)","v":"Manage Asbestos Hazards"},"Normal (for new construction only)",null,{"$f":"IF(Tablev2[[#This Row],[Recertification Type]]=\"None unless a change to\",IF(VLOOKUP(Tablev2[[#This Row],[Conditions for Change]],'v1 Project Information'!$B$21:$C$46,2,FALSE)=\"Yes\",\"Normal\",\"None\"),Tablev2[[#This Row],[Recertification Type]])","v":"Normal (for new construction only)"},"Technical Document"]
[{"$f":"IF(INDEX(UpgradeTable[],MATCH(Tablev2[[#This Row],[Feature.Part]],UpgradeTable[Code],0),7)=\"Not Pursued\",\"No\",\"Yes\")","v":"Yes"},{"$f":"VLOOKUP(Tablev2[[#This Row],[Feature]],Table5[],7,FALSE)","v":8},"X02","P","X02.2",{"$f":"VLOOKUP(Tablev2[[#This Row],[Feature.Part]],Table5[[Feature.Part]:[Part Description]],2,FALSE)","v":"Manage Lead Paint Hazards"},"Normal (for new construction only)",null,{"$f":"IF(Tablev2[[#This Row],[Recertification Type]]=\"None unless a change to\",IF(VLOOKUP(Tablev2[[#This Row],[Conditions for Change]],'v1 Project Information'!$B$21:$C$46,2,FALSE)=\"Yes\",\"Normal\",\"None\"),Tablev2[[#This Row],[Recertification Type]])","v":"Normal (for new construction only)"},"Technical Document"]
[{"$f":"IF(INDEX(UpgradeTable[],MATCH(Tablev2[[#This Row],[Feature.Part]],UpgradeTable[Code],0),7)=\"Not Pursued\",\"No\",\"Yes\")","v":"Yes"},{"$f":"VLOOKUP(Tablev2[[#This Row],[Feature]],Table5[],7,FALSE)","v":8},"X02","P","X02.3",{"$f":"VLOOKUP(Tablev2[[#This Row],[Feature.Part]],Table5[[Feature.Part]:[Part Description]],2,FALSE)","v":"Manage Polychlorinated Biphenyl (PCB) Hazards"},"Normal (for new construction only)",null,{"$f":"IF(Tablev2[[#This Row],[Recertification Type]]=\"None unless a change to\",IF(VLOOKUP(Tablev2[[#This Row],[Conditions for Change]],'v1 Project Information'!$B$21:$C$46,2,FALSE)=\"Yes\",\"Normal\",\"None\"),Tablev2[[#This Row],[Recertification Type]])","v":"Normal (for new construction only)"},"Technical Document"]
[{"$f":"IF(INDEX(UpgradeTable[],MATCH(Tablev2[[#This Row],[Feature.Part]],UpgradeTable[Code],0),7)=\"Not Pursued\",\"No\",\"Yes\")","v":"Yes"},{"$f":"VLOOKUP(Tablev2[[#This Row],[Feature]],Table5[],7,FALSE)","v":8},"X03","P","X03.1",{"$f":"VLOOKUP(Tablev2[[#This Row],[Feature.Part]],Table5[[Feature.Part]:[Part Description]],2,FALSE)","v":"Manage Exterior CCA Hazards"},"None unless a change to","Overall Structure",{"$f":"IF(Tablev2[[#This Row],[Recertification Type]]=\"None unless a change to\",IF(VLOOKUP(Tablev2[[#This Row],[Conditions for Change]],'v1 Project Information'!$B$21:$C$46,2,FALSE)=\"Yes\",\"Normal\",\"None\"),Tablev2[[#This Row],[Recertification Type]])","v":"None"},"Professional Narrative"]
[{"$f":"IF(INDEX(UpgradeTable[],MATCH(Tablev2[[#This Row],[Feature.Part]],UpgradeTable[Code],0),7)=\"Not Pursued\",\"No\",\"Yes\")","v":"Yes"},{"$f":"VLOOKUP(Tablev2[[#This Row],[Feature]],Table5[],7,FALSE)","v":8},"X03","P","X03.2",{"$f":"VLOOKUP(Tablev2[[#This Row],[Feature.Part]],Table5[[Feature.Part]:[Part Description]],2,FALSE)","v":"Manage Lead Hazards"},"None unless a change to","Exterior Design",{"$f":"IF(Tablev2[[#This Row],[Recertification Type]]=\"None unless a change to\",IF(VLOOKUP(Tablev2[[#This Row],[Conditions for Change]],'v1 Project Information'!$B$21:$C$46,2,FALSE)=\"Yes\",\"Normal\",\"None\"),Tablev2[[#This Row],[Recertification Type]])","v":"None"},"Professional Narrative"]
[{"$f":"IF(INDEX(UpgradeTable[],MATCH(Tablev2[[#This Row],[Feature.Part]],UpgradeTable[Code],0),7)=\"Not Pursued\",\"No\",\"Yes\")","v":"No"},{"$f":"VLOOKUP(Tablev2[[#This Row],[Feature]],Table5[],7,FALSE)","v":8},"X04","O","X04.1",{"$f":"VLOOKUP(Tablev2[[#This Row],[Feature.Part]],Table5[[Feature.Part]:[Part Description]],2,FALSE)","v":"Assess and Mitigate Site Hazards"},"Normal (for new construction only)",null,{"$f":"IF(Tablev2[[#This Row],[Recertification Type]]=\"None unless a change to\",IF(VLOOKUP(Tablev2[[#This Row],[Conditions for Change]],'v1 Project Information'!$B$21:$C$46,2,FALSE)=\"Yes\",\"Normal\",\"None\"),Tablev2[[#This Row],[Recertification Type]])","v":"Normal (for new construction only)"},"Technical Document"]
[{"$f":"IF(INDEX(UpgradeTable[],MATCH(Tablev2[[#This Row],[Feature.Part]],UpgradeTable[Code],0),7)=\"Not Pursued\",\"No\",\"Yes\")","v":"No"},{"$f":"VLOOKUP(Tablev2[[#This Row],[Feature]],Table5[],7,FALSE)","v":8},"X05","O","X05.1",{"$f":"VLOOKUP(Tablev2[[#This Row],[Feature.Part]],Table5[[Feature.Part]:[Part Description]],2,FALSE)","v":"Select Compliant Interior Furnishings"},"Normal (for new products)",null,{"$f":"IF(Tablev2[[#This Row],[Recertification Type]]=\"None unless a change to\",IF(VLOOKUP(Tablev2[[#This Row],[Conditions for Change]],'v1 Project Information'!$B$21:$C$46,2,FALSE)=\"Yes\",\"Normal\",\"None\"),Tablev2[[#This Row],[Recertification Type]])","v":"Normal (for new products)"},"Technical Document",null,null,"Designer","Contractor"]
[{"$f":"IF(INDEX(UpgradeTable[],MATCH(Tablev2[[#This Row],[Feature.Part]],UpgradeTable[Code],0),7)=\"Not Pursued\",\"No\",\"Yes\")","v":"No"},{"$f":"VLOOKUP(Tablev2[[#This Row],[Feature]],Table5[],7,FALSE)","v":8},"X05","O","X05.2",{"$f":"VLOOKUP(Tablev2[[#This Row],[Feature.Part]],Table5[[Feature.Part]:[Part Description]],2,FALSE)","v":"Select Compliant Architectural and Interior Products"},"Normal (for new products)",null,{"$f":"IF(Tablev2[[#This Row],[Recertification Type]]=\"None unless a change to\",IF(VLOOKUP(Tablev2[[#This Row],[Conditions for Change]],'v1 Project Information'!$B$21:$C$46,2,FALSE)=\"Yes\",\"Normal\",\"None\"),Tablev2[[#This Row],[Recertification Type]])","v":"Normal (for new products)"},"Technical Document",null,null,"Contractor"]
[{"$f":"IF(INDEX(UpgradeTable[],MATCH(Tablev2[[#This Row],[Feature.Part]],UpgradeTable[Code],0),7)=\"Not Pursued\",\"No\",\"Yes\")","v":"Yes"},{"$f":"VLOOKUP(Tablev2[[#This Row],[Feature]],Table5[],7,FALSE)","v":8},"X06","O","X06.1",{"$f":"VLOOKUP(Tablev2[[#This Row],[Feature.Part]],Table5[[Feature.Part]:[Part Description]],2,FALSE)","v":"Limit VOCs from Wet-Applied Products"},"Normal (for new products)",null,{"$f":"IF(Tablev2[[#This Row],[Recertification Type]]=\"None unless a change to\",IF(VLOOKUP(Tablev2[[#This Row],[Conditions for Change]],'v1 Project Information'!$B$21:$C$46,2,FALSE)=\"Yes\",\"Normal\",\"None\"),Tablev2[[#This Row],[Recertification Type]])","v":"Normal (for new products)"},null,null,null,"Contractor"]
[{"$f":"IF(INDEX(UpgradeTable[],MATCH(Tablev2[[#This Row],[Feature.Part]],UpgradeTable[Code],0),7)=\"Not Pursued\",\"No\",\"Yes\")","v":"Yes"},{"$f":"VLOOKUP(Tablev2[[#This Row],[Feature]],Table5[],7,FALSE)","v":8},"X06","O","X06.2",{"$f":"VLOOKUP(Tablev2[[#This Row],[Feature.Part]],Table5[[Feature.Part]:[Part Description]],2,FALSE)","v":"Restrict VOC Emissions from Furniture, Architectural and Interior Products"},"Normal (for new products)",null,{"$f":"IF(Tablev2[[#This Row],[Recertification Type]]=\"None unless a change to\",IF(VLOOKUP(Tablev2[[#This Row],[Conditions for Change]],'v1 Project Information'!$B$21:$C$46,2,FALSE)=\"Yes\",\"Normal\",\"None\"),Tablev2[[#This Row],[Recertification Type]])","v":"Normal (for new products)"},null,null,null,"Contractor"]
[{"$f":"IF(INDEX(UpgradeTable[],MATCH(Tablev2[[#This Row],[Feature.Part]],UpgradeTable[Code],0),7)=\"Not Pursued\",\"No\",\"Yes\")","v":"No"},{"$f":"VLOOKUP(Tablev2[[#This Row],[Feature]],Table5[],7,FALSE)","v":8},"X07","O","X07.1",{"$f":"VLOOKUP(Tablev2[[#This Row],[Feature.Part]],Table5[[Feature.Part]:[Part Description]],2,FALSE)","v":"Select Products with Disclosed Ingredients"},"Normal (for new products)",null,{"$f":"IF(Tablev2[[#This Row],[Recertification Type]]=\"None unless a change to\",IF(VLOOKUP(Tablev2[[#This Row],[Conditions for Change]],'v1 Project Information'!$B$21:$C$46,2,FALSE)=\"Yes\",\"Normal\",\"None\"),Tablev2[[#This Row],[Recertification Type]])","v":"Normal (for new products)"},"Technical Document"]
[{"$f":"IF(INDEX(UpgradeTable[],MATCH(Tablev2[[#This Row],[Feature.Part]],UpgradeTable[Code],0),7)=\"Not Pursued\",\"No\",\"Yes\")","v":"No"},{"$f":"VLOOKUP(Tablev2[[#This Row],[Feature]],Table5[],7,FALSE)","v":8},"X07","O","X07.2",{"$f":"VLOOKUP(Tablev2[[#This Row],[Feature.Part]],Table5[[Feature.Part]:[Part Description]],2,FALSE)","v":"Select Products with Enhanced Ingredient Disclosure"},"Normal",null,{"$f":"IF(Tablev2[[#This Row],[Recertification Type]]=\"None unless a change to\",IF(VLOOKUP(Tablev2[[#This Row],[Conditions for Change]],'v1 Project Information'!$B$21:$C$46,2,FALSE)=\"Yes\",\"Normal\",\"None\"),Tablev2[[#This Row],[Recertification Type]])","v":"Normal"},"Technical Document"]
[{"$f":"IF(INDEX(UpgradeTable[],MATCH(Tablev2[[#This Row],[Feature.Part]],UpgradeTable[Code],0),7)=\"Not Pursued\",\"No\",\"Yes\")","v":"No"},{"$f":"VLOOKUP(Tablev2[[#This Row],[Feature]],Table5[],7,FALSE)","v":8},"X07","O","X07.3",{"$f":"VLOOKUP(Tablev2[[#This Row],[Feature.Part]],Table5[[Feature.Part]:[Part Description]],2,FALSE)","v":"Select Products with Third-Party Verified Ingredients"},"Normal",null,{"$f":"IF(Tablev2[[#This Row],[Recertification Type]]=\"None unless a change to\",IF(VLOOKUP(Tablev2[[#This Row],[Conditions for Change]],'v1 Project Information'!$B$21:$C$46,2,FALSE)=\"Yes\",\"Normal\",\"None\"),Tablev2[[#This Row],[Recertification Type]])","v":"Normal"},"Technical Document"]
[{"$f":"IF(INDEX(UpgradeTable[],MATCH(Tablev2[[#This Row],[Feature.Part]],UpgradeTable[Code],0),7)=\"Not Pursued\",\"No\",\"Yes\")","v":"No"},{"$f":"VLOOKUP(Tablev2[[#This Row],[Feature]],Table5[],7,FALSE)","v":8},"X08","O","X08.1",{"$f":"VLOOKUP(Tablev2[[#This Row],[Feature.Part]],Table5[[Feature.Part]:[Part Description]],2,FALSE)","v":"Select Materials with Enhanced Chemical Restrictions"},"Normal (for new products)",null,{"$f":"IF(Tablev2[[#This Row],[Recertification Type]]=\"None unless a change to\",IF(VLOOKUP(Tablev2[[#This Row],[Conditions for Change]],'v1 Project Information'!$B$21:$C$46,2,FALSE)=\"Yes\",\"Normal\",\"None\"),Tablev2[[#This Row],[Recertification Type]])","v":"Normal (for new products)"},"Technical Document","Policy and/or Operations Schedule"]
[{"$f":"IF(INDEX(UpgradeTable[],MATCH(Tablev2[[#This Row],[Feature.Part]],UpgradeTable[Code],0),7)=\"Not Pursued\",\"No\",\"Yes\")","v":"No"},{"$f":"VLOOKUP(Tablev2[[#This Row],[Feature]],Table5[],7,FALSE)","v":8},"X08","O","X08.2",{"$f":"VLOOKUP(Tablev2[[#This Row],[Feature.Part]],Table5[[Feature.Part]:[Part Description]],2,FALSE)","v":"Select Optimized Products"},"Normal",null,{"$f":"IF(Tablev2[[#This Row],[Recertification Type]]=\"None unless a change to\",IF(VLOOKUP(Tablev2[[#This Row],[Conditions for Change]],'v1 Project Information'!$B$21:$C$46,2,FALSE)=\"Yes\",\"Normal\",\"None\"),Tablev2[[#This Row],[Recertification Type]])","v":"Normal"},"Technical Document"]
[{"$f":"IF(INDEX(UpgradeTable[],MATCH(Tablev2[[#This Row],[Feature.Part]],UpgradeTable[Code],0),7)=\"Not Pursued\",\"No\",\"Yes\")","v":"No"},{"$f":"VLOOKUP(Tablev2[[#This Row],[Feature]],Table5[],7,FALSE)","v":8},"X09","O","X09.1",{"$f":"VLOOKUP(Tablev2[[#This Row],[Feature.Part]],Table5[[Feature.Part]:[Part Description]],2,FALSE)","v":"Implement a Waste Management Plan"},"Normal",null,{"$f":"IF(Tablev2[[#This Row],[Recertification Type]]=\"None unless a change to\",IF(VLOOKUP(Tablev2[[#This Row],[Conditions for Change]],'v1 Project Information'!$B$21:$C$46,2,FALSE)=\"Yes\",\"Normal\",\"None\"),Tablev2[[#This Row],[Recertification Type]])","v":"Normal"},"Policy and/or Operation Schedule"]
[{"$f":"IF(INDEX(UpgradeTable[],MATCH(Tablev2[[#This Row],[Feature.Part]],UpgradeTable[Code],0),7)=\"Not Pursued\",\"No\",\"Yes\")","v":"Yes"},{"$f":"VLOOKUP(Tablev2[[#This Row],[Feature]],Table5[],7,FALSE)","v":8},"X10","O","X10.1",{"$f":"VLOOKUP(Tablev2[[#This Row],[Feature.Part]],Table5[[Feature.Part]:[Part Description]],2,FALSE)","v":"Manage Pests"},"Normal (for new products)",null,{"$f":"IF(Tablev2[[#This Row],[Recertification Type]]=\"None unless a change to\",IF(VLOOKUP(Tablev2[[#This Row],[Conditions for Change]],'v1 Project Information'!$B$21:$C$46,2,FALSE)=\"Yes\",\"Normal\",\"None\"),Tablev2[[#This Row],[Recertification Type]])","v":"Normal (for new products)"},"Policy and/or Operation Schedule"]
[{"$f":"IF(INDEX(UpgradeTable[],MATCH(Tablev2[[#This Row],[Feature.Part]],UpgradeTable[Code],0),7)=\"Not Pursued\",\"No\",\"Yes\")","v":"Yes"},{"$f":"VLOOKUP(Tablev2[[#This Row],[Feature]],Table5[],7,FALSE)","v":8},"X11","O","X11.1",{"$f":"VLOOKUP(Tablev2[[#This Row],[Feature.Part]],Table5[[Feature.Part]:[Part Description]],2,FALSE)","v":"Improve Cleaning Practices"},"None unless a change to","Cleaning Protocol",{"$f":"IF(Tablev2[[#This Row],[Recertification Type]]=\"None unless a change to\",IF(VLOOKUP(Tablev2[[#This Row],[Conditions for Change]],'v1 Project Information'!$B$21:$C$46,2,FALSE)=\"Yes\",\"Normal\",\"None\"),Tablev2[[#This Row],[Recertification Type]])","v":"None"},"Policy and/or Operation Schedule"]
[{"$f":"IF(INDEX(UpgradeTable[],MATCH(Tablev2[[#This Row],[Feature.Part]],UpgradeTable[Code],0),7)=\"Not Pursued\",\"No\",\"Yes\")","v":"Yes"},{"$f":"VLOOKUP(Tablev2[[#This Row],[Feature]],Table5[],7,FALSE)","v":8},"X11","O","X11.2",{"$f":"VLOOKUP(Tablev2[[#This Row],[Feature.Part]],Table5[[Feature.Part]:[Part Description]],2,FALSE)","v":"Select Preferred Cleaning Products"},"Normal (for new products)",null,{"$f":"IF(Tablev2[[#This Row],[Recertification Type]]=\"None unless a change to\",IF(VLOOKUP(Tablev2[[#This Row],[Conditions for Change]],'v1 Project Information'!$B$21:$C$46,2,FALSE)=\"Yes\",\"Normal\",\"None\"),Tablev2[[#This Row],[Recertification Type]])","v":"Normal (for new products)"},"Policy and/or Operation Schedule"]
[{"$f":"IF(INDEX(UpgradeTable[],MATCH(Tablev2[[#This Row],[Feature.Part]],UpgradeTable[Code],0),7)=\"Not Pursued\",\"No\",\"Yes\")","v":"No"},{"$f":"VLOOKUP(Tablev2[[#This Row],[Feature]],Table5[],7,FALSE)","v":8},"X12","O","X12.1",{"$f":"VLOOKUP(Tablev2[[#This Row],[Feature.Part]],Table5[[Feature.Part]:[Part Description]],2,FALSE)","v":"Reduce Respiratory Particle Exposure"},"Normal",null,{"$f":"IF(Tablev2[[#This Row],[Recertification Type]]=\"None unless a change to\",IF(VLOOKUP(Tablev2[[#This Row],[Conditions for Change]],'v1 Project Information'!$B$21:$C$46,2,FALSE)=\"Yes\",\"Normal\",\"None\"),Tablev2[[#This Row],[Recertification Type]])","v":"Normal"},"Professional Narrative"]
[{"$f":"IF(INDEX(UpgradeTable[],MATCH(Tablev2[[#This Row],[Feature.Part]],UpgradeTable[Code],0),7)=\"Not Pursued\",\"No\",\"Yes\")","v":"No"},{"$f":"VLOOKUP(Tablev2[[#This Row],[Feature]],Table5[],7,FALSE)","v":8},"X12","O","X12.2",{"$f":"VLOOKUP(Tablev2[[#This Row],[Feature.Part]],Table5[[Feature.Part]:[Part Description]],2,FALSE)","v":"Address Surface Hand Touch"},"Normal",null,{"$f":"IF(Tablev2[[#This Row],[Recertification Type]]=\"None unless a change to\",IF(VLOOKUP(Tablev2[[#This Row],[Conditions for Change]],'v1 Project Information'!$B$21:$C$46,2,FALSE)=\"Yes\",\"Normal\",\"None\"),Tablev2[[#This Row],[Recertification Type]])","v":"Normal"},"Professional Narrative","Policy and/or Operations Schedule"]
[{"$f":"IF(INDEX(UpgradeTable[],MATCH(Tablev2[[#This Row],[Feature.Part]],UpgradeTable[Code],0),7)=\"Not Pursued\",\"No\",\"Yes\")","v":"Yes"},{"$f":"VLOOKUP(Tablev2[[#This Row],[Feature]],Table5[],7,FALSE)","v":9},"M01","P","M01.1",{"$f":"VLOOKUP(Tablev2[[#This Row],[Feature.Part]],Table5[[Feature.Part]:[Part Description]],2,FALSE)","v":"Promote Mental Health and Well-being"},"None",null,{"$f":"IF(Tablev2[[#This Row],[Recertification Type]]=\"None unless a change to\",IF(VLOOKUP(Tablev2[[#This Row],[Conditions for Change]],'v1 Project Information'!$B$21:$C$46,2,FALSE)=\"Yes\",\"Normal\",\"None\"),Tablev2[[#This Row],[Recertification Type]])","v":"None"},"Policy and/or Operation Schedule"]
[{"$f":"IF(INDEX(UpgradeTable[],MATCH(Tablev2[[#This Row],[Feature.Part]],UpgradeTable[Code],0),7)=\"Not Pursued\",\"No\",\"Yes\")","v":"Yes"},{"$f":"VLOOKUP(Tablev2[[#This Row],[Feature]],Table5[],7,FALSE)","v":9},"M02","P","M02.1",{"$f":"VLOOKUP(Tablev2[[#This Row],[Feature.Part]],Table5[[Feature.Part]:[Part Description]],2,FALSE)","v":"Provide Connection to Nature"},"None",null,{"$f":"IF(Tablev2[[#This Row],[Recertification Type]]=\"None unless a change to\",IF(VLOOKUP(Tablev2[[#This Row],[Conditions for Change]],'v1 Project Information'!$B$21:$C$46,2,FALSE)=\"Yes\",\"Normal\",\"None\"),Tablev2[[#This Row],[Recertification Type]])","v":"None"},"Professional Narrative"]
[{"$f":"IF(INDEX(UpgradeTable[],MATCH(Tablev2[[#This Row],[Feature.Part]],UpgradeTable[Code],0),7)=\"Not Pursued\",\"No\",\"Yes\")","v":"Yes"},{"$f":"VLOOKUP(Tablev2[[#This Row],[Feature]],Table5[],7,FALSE)","v":9},"M02","P","M02.2",{"$f":"VLOOKUP(Tablev2[[#This Row],[Feature.Part]],Table5[[Feature.Part]:[Part Description]],2,FALSE)","v":"Provide Connection to Place"},"None",null,{"$f":"IF(Tablev2[[#This Row],[Recertification Type]]=\"None unless a change to\",IF(VLOOKUP(Tablev2[[#This Row],[Conditions for Change]],'v1 Project Information'!$B$21:$C$46,2,FALSE)=\"Yes\",\"Normal\",\"None\"),Tablev2[[#This Row],[Recertification Type]])","v":"None"},"Professional Narrative"]
[{"$f":"IF(INDEX(UpgradeTable[],MATCH(Tablev2[[#This Row],[Feature.Part]],UpgradeTable[Code],0),7)=\"Not Pursued\",\"No\",\"Yes\")","v":"No"},{"$f":"VLOOKUP(Tablev2[[#This Row],[Feature]],Table5[],7,FALSE)","v":9},"M03","O","M03.1",{"$f":"VLOOKUP(Tablev2[[#This Row],[Feature.Part]],Table5[[Feature.Part]:[Part Description]],2,FALSE)","v":"Offer Mental Health Screening"},"None unless a change to","Organizational Policy",{"$f":"IF(Tablev2[[#This Row],[Recertification Type]]=\"None unless a change to\",IF(VLOOKUP(Tablev2[[#This Row],[Conditions for Change]],'v1 Project Information'!$B$21:$C$46,2,FALSE)=\"Yes\",\"Normal\",\"None\"),Tablev2[[#This Row],[Recertification Type]])","v":"None"},"Policy and/or Operation Schedule"]
[{"$f":"IF(INDEX(UpgradeTable[],MATCH(Tablev2[[#This Row],[Feature.Part]],UpgradeTable[Code],0),7)=\"Not Pursued\",\"No\",\"Yes\")","v":"No"},{"$f":"VLOOKUP(Tablev2[[#This Row],[Feature]],Table5[],7,FALSE)","v":9},"M03","O","M03.2",{"$f":"VLOOKUP(Tablev2[[#This Row],[Feature.Part]],Table5[[Feature.Part]:[Part Description]],2,FALSE)","v":"Offer Mental Health Services"},"None unless a change to","Organizational Policy",{"$f":"IF(Tablev2[[#This Row],[Recertification Type]]=\"None unless a change to\",IF(VLOOKUP(Tablev2[[#This Row],[Conditions for Change]],'v1 Project Information'!$B$21:$C$46,2,FALSE)=\"Yes\",\"Normal\",\"None\"),Tablev2[[#This Row],[Recertification Type]])","v":"None"},"Policy and/or Operation Schedule"]
[{"$f":"IF(INDEX(UpgradeTable[],MATCH(Tablev2[[#This Row],[Feature.Part]],UpgradeTable[Code],0),7)=\"Not Pursued\",\"No\",\"Yes\")","v":"No"},{"$f":"VLOOKUP(Tablev2[[#This Row],[Feature]],Table5[],7,FALSE)","v":9},"M03","O","M03.3",{"$f":"VLOOKUP(Tablev2[[#This Row],[Feature.Part]],Table5[[Feature.Part]:[Part Description]],2,FALSE)","v":"Offer Workplace Support"},"None unless a change to","Organizational Policy",{"$f":"IF(Tablev2[[#This Row],[Recertification Type]]=\"None unless a change to\",IF(VLOOKUP(Tablev2[[#This Row],[Conditions for Change]],'v1 Project Information'!$B$21:$C$46,2,FALSE)=\"Yes\",\"Normal\",\"None\"),Tablev2[[#This Row],[Recertification Type]])","v":"None"},"Policy and/or Operation Schedule"]
[{"$f":"IF(INDEX(UpgradeTable[],MATCH(Tablev2[[#This Row],[Feature.Part]],UpgradeTable[Code],0),7)=\"Not Pursued\",\"No\",\"Yes\")","v":"No"},{"$f":"VLOOKUP(Tablev2[[#This Row],[Feature]],Table5[],7,FALSE)","v":9},"M03","O","M03.4",{"$f":"VLOOKUP(Tablev2[[#This Row],[Feature.Part]],Table5[[Feature.Part]:[Part Description]],2,FALSE)","v":"β Support Mental Health Recovery"},"None unless a change to","Organizational Policy",{"$f":"IF(Tablev2[[#This Row],[Recertification Type]]=\"None unless a change to\",IF(VLOOKUP(Tablev2[[#This Row],[Conditions for Change]],'v1 Project Information'!$B$21:$C$46,2,FALSE)=\"Yes\",\"Normal\",\"None\"),Tablev2[[#This Row],[Recertification Type]])","v":"None"},"Policy and/or Operation Schedule"]
[{"$f":"IF(INDEX(UpgradeTable[],MATCH(Tablev2[[#This Row],[Feature.Part]],UpgradeTable[Code],0),7)=\"Not Pursued\",\"No\",\"Yes\")","v":"No"},{"$f":"VLOOKUP(Tablev2[[#This Row],[Feature]],Table5[],7,FALSE)","v":9},"M04","O","M04.1",{"$f":"VLOOKUP(Tablev2[[#This Row],[Feature.Part]],Table5[[Feature.Part]:[Part Description]],2,FALSE)","v":"Offer Mental Health Education"},"None",null,{"$f":"IF(Tablev2[[#This Row],[Recertification Type]]=\"None unless a change to\",IF(VLOOKUP(Tablev2[[#This Row],[Conditions for Change]],'v1 Project Information'!$B$21:$C$46,2,FALSE)=\"Yes\",\"Normal\",\"None\"),Tablev2[[#This Row],[Recertification Type]])","v":"None"},"Policy and/or Operation Schedule"]
[{"$f":"IF(INDEX(UpgradeTable[],MATCH(Tablev2[[#This Row],[Feature.Part]],UpgradeTable[Code],0),7)=\"Not Pursued\",\"No\",\"Yes\")","v":"No"},{"$f":"VLOOKUP(Tablev2[[#This Row],[Feature]],Table5[],7,FALSE)","v":9},"M04","O","M04.2",{"$f":"VLOOKUP(Tablev2[[#This Row],[Feature.Part]],Table5[[Feature.Part]:[Part Description]],2,FALSE)","v":"Offer Mental Health Education for Managers"},"None",null,{"$f":"IF(Tablev2[[#This Row],[Recertification Type]]=\"None unless a change to\",IF(VLOOKUP(Tablev2[[#This Row],[Conditions for Change]],'v1 Project Information'!$B$21:$C$46,2,FALSE)=\"Yes\",\"Normal\",\"None\"),Tablev2[[#This Row],[Recertification Type]])","v":"None"},"Policy and/or Operation Schedule"]
[{"$f":"IF(INDEX(UpgradeTable[],MATCH(Tablev2[[#This Row],[Feature.Part]],UpgradeTable[Code],0),7)=\"Not Pursued\",\"No\",\"Yes\")","v":"No"},{"$f":"VLOOKUP(Tablev2[[#This Row],[Feature]],Table5[],7,FALSE)","v":9},"M05","O","M05.1",{"$f":"VLOOKUP(Tablev2[[#This Row],[Feature.Part]],Table5[[Feature.Part]:[Part Description]],2,FALSE)","v":"Develop Stress Management Plan"},"None",null,{"$f":"IF(Tablev2[[#This Row],[Recertification Type]]=\"None unless a change to\",IF(VLOOKUP(Tablev2[[#This Row],[Conditions for Change]],'v1 Project Information'!$B$21:$C$46,2,FALSE)=\"Yes\",\"Normal\",\"None\"),Tablev2[[#This Row],[Recertification Type]])","v":"None"},"Professional Narrative"]
[{"$f":"IF(INDEX(UpgradeTable[],MATCH(Tablev2[[#This Row],[Feature.Part]],UpgradeTable[Code],0),7)=\"Not Pursued\",\"No\",\"Yes\")","v":"No"},{"$f":"VLOOKUP(Tablev2[[#This Row],[Feature]],Table5[],7,FALSE)","v":9},"M06","O","M06.1",{"$f":"VLOOKUP(Tablev2[[#This Row],[Feature.Part]],Table5[[Feature.Part]:[Part Description]],2,FALSE)","v":"Support Healthy Working Hours"},"None unless a change to","Organizational Policy",{"$f":"IF(Tablev2[[#This Row],[Recertification Type]]=\"None unless a change to\",IF(VLOOKUP(Tablev2[[#This Row],[Conditions for Change]],'v1 Project Information'!$B$21:$C$46,2,FALSE)=\"Yes\",\"Normal\",\"None\"),Tablev2[[#This Row],[Recertification Type]])","v":"None"},"Policy and/or Operation Schedule"]
[{"$f":"IF(INDEX(UpgradeTable[],MATCH(Tablev2[[#This Row],[Feature.Part]],UpgradeTable[Code],0),7)=\"Not Pursued\",\"No\",\"Yes\")","v":"No"},{"$f":"VLOOKUP(Tablev2[[#This Row],[Feature]],Table5[],7,FALSE)","v":9},"M06","O","M06.2",{"$f":"VLOOKUP(Tablev2[[#This Row],[Feature.Part]],Table5[[Feature.Part]:[Part Description]],2,FALSE)","v":"Provide Nap Policy and Space"},"None unless a change to","Organizational Policy",{"$f":"IF(Tablev2[[#This Row],[Recertification Type]]=\"None unless a change to\",IF(VLOOKUP(Tablev2[[#This Row],[Conditions for Change]],'v1 Project Information'!$B$21:$C$46,2,FALSE)=\"Yes\",\"Normal\",\"None\"),Tablev2[[#This Row],[Recertification Type]])","v":"None"},"Policy and/or Operation Schedule","Technical Document"]
[{"$f":"IF(INDEX(UpgradeTable[],MATCH(Tablev2[[#This Row],[Feature.Part]],UpgradeTable[Code],0),7)=\"Not Pursued\",\"No\",\"Yes\")","v":"No"},{"$f":"VLOOKUP(Tablev2[[#This Row],[Feature]],Table5[],7,FALSE)","v":9},"M07","O","M07.1",{"$f":"VLOOKUP(Tablev2[[#This Row],[Feature.Part]],Table5[[Feature.Part]:[Part Description]],2,FALSE)","v":"Provide Restorative Space"},"None unless a change to","Interior Design",{"$f":"IF(Tablev2[[#This Row],[Recertification Type]]=\"None unless a change to\",IF(VLOOKUP(Tablev2[[#This Row],[Conditions for Change]],'v1 Project Information'!$B$21:$C$46,2,FALSE)=\"Yes\",\"Normal\",\"None\"),Tablev2[[#This Row],[Recertification Type]])","v":"None"},"Technical Document","Policy and/or Operations Schedule"]
[{"$f":"IF(INDEX(UpgradeTable[],MATCH(Tablev2[[#This Row],[Feature.Part]],UpgradeTable[Code],0),7)=\"Not Pursued\",\"No\",\"Yes\")","v":"No"},{"$f":"VLOOKUP(Tablev2[[#This Row],[Feature]],Table5[],7,FALSE)","v":9},"M08","O","M08.1",{"$f":"VLOOKUP(Tablev2[[#This Row],[Feature.Part]],Table5[[Feature.Part]:[Part Description]],2,FALSE)","v":"Provide Restorative Programming"},"None unless a change to","Organizational Policy",{"$f":"IF(Tablev2[[#This Row],[Recertification Type]]=\"None unless a change to\",IF(VLOOKUP(Tablev2[[#This Row],[Conditions for Change]],'v1 Project Information'!$B$21:$C$46,2,FALSE)=\"Yes\",\"Normal\",\"None\"),Tablev2[[#This Row],[Recertification Type]])","v":"None"},"Policy and/or Operation Schedule"]
[{"$f":"IF(INDEX(UpgradeTable[],MATCH(Tablev2[[#This Row],[Feature.Part]],UpgradeTable[Code],0),7)=\"Not Pursued\",\"No\",\"Yes\")","v":"No"},{"$f":"VLOOKUP(Tablev2[[#This Row],[Feature]],Table5[],7,FALSE)","v":9},"M09","O","M09.1",{"$f":"VLOOKUP(Tablev2[[#This Row],[Feature.Part]],Table5[[Feature.Part]:[Part Description]],2,FALSE)","v":"Provide Nature Access Indoors"},"None unless a change to","Interior Design",{"$f":"IF(Tablev2[[#This Row],[Recertification Type]]=\"None unless a change to\",IF(VLOOKUP(Tablev2[[#This Row],[Conditions for Change]],'v1 Project Information'!$B$21:$C$46,2,FALSE)=\"Yes\",\"Normal\",\"None\"),Tablev2[[#This Row],[Recertification Type]])","v":"None"},"Technical Document"]
[{"$f":"IF(INDEX(UpgradeTable[],MATCH(Tablev2[[#This Row],[Feature.Part]],UpgradeTable[Code],0),7)=\"Not Pursued\",\"No\",\"Yes\")","v":"No"},{"$f":"VLOOKUP(Tablev2[[#This Row],[Feature]],Table5[],7,FALSE)","v":9},"M09","O","M09.2",{"$f":"VLOOKUP(Tablev2[[#This Row],[Feature.Part]],Table5[[Feature.Part]:[Part Description]],2,FALSE)","v":"Provide Nature Access Outdoors"},"None unless a change to","Exterior Design",{"$f":"IF(Tablev2[[#This Row],[Recertification Type]]=\"None unless a change to\",IF(VLOOKUP(Tablev2[[#This Row],[Conditions for Change]],'v1 Project Information'!$B$21:$C$46,2,FALSE)=\"Yes\",\"Normal\",\"None\"),Tablev2[[#This Row],[Recertification Type]])","v":"None"},"Technical Document","Professional Narrative"]
[{"$f":"IF(INDEX(UpgradeTable[],MATCH(Tablev2[[#This Row],[Feature.Part]],UpgradeTable[Code],0),7)=\"Not Pursued\",\"No\",\"Yes\")","v":"No"},{"$f":"VLOOKUP(Tablev2[[#This Row],[Feature]],Table5[],7,FALSE)","v":9},"M10","O","M10.1",{"$f":"VLOOKUP(Tablev2[[#This Row],[Feature.Part]],Table5[[Feature.Part]:[Part Description]],2,FALSE)","v":"Provide Tobacco Cessation Resources"},"None unless a change to","Organizational Policy",{"$f":"IF(Tablev2[[#This Row],[Recertification Type]]=\"None unless a change to\",IF(VLOOKUP(Tablev2[[#This Row],[Conditions for Change]],'v1 Project Information'!$B$21:$C$46,2,FALSE)=\"Yes\",\"Normal\",\"None\"),Tablev2[[#This Row],[Recertification Type]])","v":"None"},"Policy and/or Operation Schedule"]
[{"$f":"IF(INDEX(UpgradeTable[],MATCH(Tablev2[[#This Row],[Feature.Part]],UpgradeTable[Code],0),7)=\"Not Pursued\",\"No\",\"Yes\")","v":"No"},{"$f":"VLOOKUP(Tablev2[[#This Row],[Feature]],Table5[],7,FALSE)","v":9},"M10","O","M10.2",{"$f":"VLOOKUP(Tablev2[[#This Row],[Feature.Part]],Table5[[Feature.Part]:[Part Description]],2,FALSE)","v":"Limit Tobacco Availability"},"None unless a change to","Interior Design",{"$f":"IF(Tablev2[[#This Row],[Recertification Type]]=\"None unless a change to\",IF(VLOOKUP(Tablev2[[#This Row],[Conditions for Change]],'v1 Project Information'!$B$21:$C$46,2,FALSE)=\"Yes\",\"Normal\",\"None\"),Tablev2[[#This Row],[Recertification Type]])","v":"None"},null,null,null,"Owner"]
[{"$f":"IF(INDEX(UpgradeTable[],MATCH(Tablev2[[#This Row],[Feature.Part]],UpgradeTable[Code],0),7)=\"Not Pursued\",\"No\",\"Yes\")","v":"No"},{"$f":"VLOOKUP(Tablev2[[#This Row],[Feature]],Table5[],7,FALSE)","v":9},"M11","O","M11.1",{"$f":"VLOOKUP(Tablev2[[#This Row],[Feature.Part]],Table5[[Feature.Part]:[Part Description]],2,FALSE)","v":"Offer Substance Use Education"},"None",null,{"$f":"IF(Tablev2[[#This Row],[Recertification Type]]=\"None unless a change to\",IF(VLOOKUP(Tablev2[[#This Row],[Conditions for Change]],'v1 Project Information'!$B$21:$C$46,2,FALSE)=\"Yes\",\"Normal\",\"None\"),Tablev2[[#This Row],[Recertification Type]])","v":"None"},"Policy and/or Operation Schedule"]
[{"$f":"IF(INDEX(UpgradeTable[],MATCH(Tablev2[[#This Row],[Feature.Part]],UpgradeTable[Code],0),7)=\"Not Pursued\",\"No\",\"Yes\")","v":"No"},{"$f":"VLOOKUP(Tablev2[[#This Row],[Feature]],Table5[],7,FALSE)","v":9},"M11","O","M11.2",{"$f":"VLOOKUP(Tablev2[[#This Row],[Feature.Part]],Table5[[Feature.Part]:[Part Description]],2,FALSE)","v":"Provide Substance Use and Addiction Services"},"None",null,{"$f":"IF(Tablev2[[#This Row],[Recertification Type]]=\"None unless a change to\",IF(VLOOKUP(Tablev2[[#This Row],[Conditions for Change]],'v1 Project Information'!$B$21:$C$46,2,FALSE)=\"Yes\",\"Normal\",\"None\"),Tablev2[[#This Row],[Recertification Type]])","v":"None"},"Policy and/or Operation Schedule"]
[{"$f":"IF(INDEX(UpgradeTable[],MATCH(Tablev2[[#This Row],[Feature.Part]],UpgradeTable[Code],0),7)=\"Not Pursued\",\"No\",\"Yes\")","v":"Yes"},{"$f":"VLOOKUP(Tablev2[[#This Row],[Feature]],Table5[],7,FALSE)","v":10},"C01","P","C01.1",{"$f":"VLOOKUP(Tablev2[[#This Row],[Feature.Part]],Table5[[Feature.Part]:[Part Description]],2,FALSE)","v":"Provide WELL Feature Guide"},"None",null,{"$f":"IF(Tablev2[[#This Row],[Recertification Type]]=\"None unless a change to\",IF(VLOOKUP(Tablev2[[#This Row],[Conditions for Change]],'v1 Project Information'!$B$21:$C$46,2,FALSE)=\"Yes\",\"Normal\",\"None\"),Tablev2[[#This Row],[Recertification Type]])","v":"None"},"Policy and/or Operation Schedule"]
[{"$f":"IF(INDEX(UpgradeTable[],MATCH(Tablev2[[#This Row],[Feature.Part]],UpgradeTable[Code],0),7)=\"Not Pursued\",\"No\",\"Yes\")","v":"Yes"},{"$f":"VLOOKUP(Tablev2[[#This Row],[Feature]],Table5[],7,FALSE)","v":10},"C02","P","C02.1",{"$f":"VLOOKUP(Tablev2[[#This Row],[Feature.Part]],Table5[[Feature.Part]:[Part Description]],2,FALSE)","v":"Facilitate Stakeholder Charrette"},"None",null,{"$f":"IF(Tablev2[[#This Row],[Recertification Type]]=\"None unless a change to\",IF(VLOOKUP(Tablev2[[#This Row],[Conditions for Change]],'v1 Project Information'!$B$21:$C$46,2,FALSE)=\"Yes\",\"Normal\",\"None\"),Tablev2[[#This Row],[Recertification Type]])","v":"None"},"Professional Narrative"]
[{"$f":"IF(INDEX(UpgradeTable[],MATCH(Tablev2[[#This Row],[Feature.Part]],UpgradeTable[Code],0),7)=\"Not Pursued\",\"No\",\"Yes\")","v":"Yes"},{"$f":"VLOOKUP(Tablev2[[#This Row],[Feature]],Table5[],7,FALSE)","v":10},"C02","P","C02.2",{"$f":"VLOOKUP(Tablev2[[#This Row],[Feature.Part]],Table5[[Feature.Part]:[Part Description]],2,FALSE)","v":"Promote Health-Oriented Mission"},"None",null,{"$f":"IF(Tablev2[[#This Row],[Recertification Type]]=\"None unless a change to\",IF(VLOOKUP(Tablev2[[#This Row],[Conditions for Change]],'v1 Project Information'!$B$21:$C$46,2,FALSE)=\"Yes\",\"Normal\",\"None\"),Tablev2[[#This Row],[Recertification Type]])","v":"None"},"Policy and/or Operation Schedule"]
[{"$f":"IF(INDEX(UpgradeTable[],MATCH(Tablev2[[#This Row],[Feature.Part]],UpgradeTable[Code],0),7)=\"Not Pursued\",\"No\",\"Yes\")","v":"Yes"},{"$f":"VLOOKUP(Tablev2[[#This Row],[Feature]],Table5[],7,FALSE)","v":10},"C03","P","C03.1",{"$f":"VLOOKUP(Tablev2[[#This Row],[Feature.Part]],Table5[[Feature.Part]:[Part Description]],2,FALSE)","v":"Develop Emergency Preparedness Plan"},"None",null,{"$f":"IF(Tablev2[[#This Row],[Recertification Type]]=\"None unless a change to\",IF(VLOOKUP(Tablev2[[#This Row],[Conditions for Change]],'v1 Project Information'!$B$21:$C$46,2,FALSE)=\"Yes\",\"Normal\",\"None\"),Tablev2[[#This Row],[Recertification Type]])","v":"None"},"Policy and/or Operation Schedule"]
[{"$f":"IF(INDEX(UpgradeTable[],MATCH(Tablev2[[#This Row],[Feature.Part]],UpgradeTable[Code],0),7)=\"Not Pursued\",\"No\",\"Yes\")","v":"Yes"},{"$f":"VLOOKUP(Tablev2[[#This Row],[Feature]],Table5[],7,FALSE)","v":10},"C04","P","C04.1",{"$f":"VLOOKUP(Tablev2[[#This Row],[Feature.Part]],Table5[[Feature.Part]:[Part Description]],2,FALSE)","v":"Select Project Survey"},"Annual Submission",null,{"$f":"IF(Tablev2[[#This Row],[Recertification Type]]=\"None unless a change to\",IF(VLOOKUP(Tablev2[[#This Row],[Conditions for Change]],'v1 Project Information'!$B$21:$C$46,2,FALSE)=\"Yes\",\"Normal\",\"None\"),Tablev2[[#This Row],[Recertification Type]])","v":"Annual Submission"},"Professional Narrative","Technical Document"]
[{"$f":"IF(INDEX(UpgradeTable[],MATCH(Tablev2[[#This Row],[Feature.Part]],UpgradeTable[Code],0),7)=\"Not Pursued\",\"No\",\"Yes\")","v":"Yes"},{"$f":"VLOOKUP(Tablev2[[#This Row],[Feature]],Table5[],7,FALSE)","v":10},"C04","P","C04.2",{"$f":"VLOOKUP(Tablev2[[#This Row],[Feature.Part]],Table5[[Feature.Part]:[Part Description]],2,FALSE)","v":"Administer Survey and Report Results"},"Annual Submission",null,{"$f":"IF(Tablev2[[#This Row],[Recertification Type]]=\"None unless a change to\",IF(VLOOKUP(Tablev2[[#This Row],[Conditions for Change]],'v1 Project Information'!$B$21:$C$46,2,FALSE)=\"Yes\",\"Normal\",\"None\"),Tablev2[[#This Row],[Recertification Type]])","v":"Annual Submission"},"Technical Document","On-going Data Report"]
[{"$f":"IF(INDEX(UpgradeTable[],MATCH(Tablev2[[#This Row],[Feature.Part]],UpgradeTable[Code],0),7)=\"Not Pursued\",\"No\",\"Yes\")","v":"No"},{"$f":"VLOOKUP(Tablev2[[#This Row],[Feature]],Table5[],7,FALSE)","v":10},"C05","O","C05.1",{"$f":"VLOOKUP(Tablev2[[#This Row],[Feature.Part]],Table5[[Feature.Part]:[Part Description]],2,FALSE)","v":"Utilize Enhanced Survey"},"None unless a change to","Organizational Policy",{"$f":"IF(Tablev2[[#This Row],[Recertification Type]]=\"None unless a change to\",IF(VLOOKUP(Tablev2[[#This Row],[Conditions for Change]],'v1 Project Information'!$B$21:$C$46,2,FALSE)=\"Yes\",\"Normal\",\"None\"),Tablev2[[#This Row],[Recertification Type]])","v":"None"},"Technical Document","On-going Report"]
[{"$f":"IF(INDEX(UpgradeTable[],MATCH(Tablev2[[#This Row],[Feature.Part]],UpgradeTable[Code],0),7)=\"Not Pursued\",\"No\",\"Yes\")","v":"No"},{"$f":"VLOOKUP(Tablev2[[#This Row],[Feature]],Table5[],7,FALSE)","v":10},"C05","O","C05.2",{"$f":"VLOOKUP(Tablev2[[#This Row],[Feature.Part]],Table5[[Feature.Part]:[Part Description]],2,FALSE)","v":"Utilize Pre- and Post-Occupancy Survey"},"None unless a change to","Organizational Policy",{"$f":"IF(Tablev2[[#This Row],[Recertification Type]]=\"None unless a change to\",IF(VLOOKUP(Tablev2[[#This Row],[Conditions for Change]],'v1 Project Information'!$B$21:$C$46,2,FALSE)=\"Yes\",\"Normal\",\"None\"),Tablev2[[#This Row],[Recertification Type]])","v":"None"},"Technical Document","On-going Report"]
[{"$f":"IF(INDEX(UpgradeTable[],MATCH(Tablev2[[#This Row],[Feature.Part]],UpgradeTable[Code],0),7)=\"Not Pursued\",\"No\",\"Yes\")","v":"No"},{"$f":"VLOOKUP(Tablev2[[#This Row],[Feature]],Table5[],7,FALSE)","v":10},"C05","O","C05.3",{"$f":"VLOOKUP(Tablev2[[#This Row],[Feature.Part]],Table5[[Feature.Part]:[Part Description]],2,FALSE)","v":"Implement Action Plan"},"None unless a change to","Organizational Policy",{"$f":"IF(Tablev2[[#This Row],[Recertification Type]]=\"None unless a change to\",IF(VLOOKUP(Tablev2[[#This Row],[Conditions for Change]],'v1 Project Information'!$B$21:$C$46,2,FALSE)=\"Yes\",\"Normal\",\"None\"),Tablev2[[#This Row],[Recertification Type]])","v":"None"},"Technical Document"]
[{"$f":"IF(INDEX(UpgradeTable[],MATCH(Tablev2[[#This Row],[Feature.Part]],UpgradeTable[Code],0),7)=\"Not Pursued\",\"No\",\"Yes\")","v":"No"},{"$f":"VLOOKUP(Tablev2[[#This Row],[Feature]],Table5[],7,FALSE)","v":10},"C05","O","C05.4",{"$f":"VLOOKUP(Tablev2[[#This Row],[Feature.Part]],Table5[[Feature.Part]:[Part Description]],2,FALSE)","v":"Facilitate Interviews, Focus Groups and/or Observation"},"None",null,{"$f":"IF(Tablev2[[#This Row],[Recertification Type]]=\"None unless a change to\",IF(VLOOKUP(Tablev2[[#This Row],[Conditions for Change]],'v1 Project Information'!$B$21:$C$46,2,FALSE)=\"Yes\",\"Normal\",\"None\"),Tablev2[[#This Row],[Recertification Type]])","v":"None"},"Technical Document","On-going Report"]
[{"$f":"IF(INDEX(UpgradeTable[],MATCH(Tablev2[[#This Row],[Feature.Part]],UpgradeTable[Code],0),7)=\"Not Pursued\",\"No\",\"Yes\")","v":"No"},{"$f":"VLOOKUP(Tablev2[[#This Row],[Feature]],Table5[],7,FALSE)","v":10},"C06","O","C06.1",{"$f":"VLOOKUP(Tablev2[[#This Row],[Feature.Part]],Table5[[Feature.Part]:[Part Description]],2,FALSE)","v":"Promote Health Benefits"},"None unless a change to","Organizational Policy",{"$f":"IF(Tablev2[[#This Row],[Recertification Type]]=\"None unless a change to\",IF(VLOOKUP(Tablev2[[#This Row],[Conditions for Change]],'v1 Project Information'!$B$21:$C$46,2,FALSE)=\"Yes\",\"Normal\",\"None\"),Tablev2[[#This Row],[Recertification Type]])","v":"None"},"Policy and/or Operation Schedule"]
[{"$f":"IF(INDEX(UpgradeTable[],MATCH(Tablev2[[#This Row],[Feature.Part]],UpgradeTable[Code],0),7)=\"Not Pursued\",\"No\",\"Yes\")","v":"No"},{"$f":"VLOOKUP(Tablev2[[#This Row],[Feature]],Table5[],7,FALSE)","v":10},"C06","O","C06.2",{"$f":"VLOOKUP(Tablev2[[#This Row],[Feature.Part]],Table5[[Feature.Part]:[Part Description]],2,FALSE)","v":"Offer On-Demand Health Services"},"None unless a change to","Organizational Policy",{"$f":"IF(Tablev2[[#This Row],[Recertification Type]]=\"None unless a change to\",IF(VLOOKUP(Tablev2[[#This Row],[Conditions for Change]],'v1 Project Information'!$B$21:$C$46,2,FALSE)=\"Yes\",\"Normal\",\"None\"),Tablev2[[#This Row],[Recertification Type]])","v":"None"},"Policy and/or Operation Schedule","Technical Document"]
[{"$f":"IF(INDEX(UpgradeTable[],MATCH(Tablev2[[#This Row],[Feature.Part]],UpgradeTable[Code],0),7)=\"Not Pursued\",\"No\",\"Yes\")","v":"No"},{"$f":"VLOOKUP(Tablev2[[#This Row],[Feature]],Table5[],7,FALSE)","v":10},"C06","O","C06.3",{"$f":"VLOOKUP(Tablev2[[#This Row],[Feature.Part]],Table5[[Feature.Part]:[Part Description]],2,FALSE)","v":"Offer Sick Leave"},"None unless a change to","Organizational Policy",{"$f":"IF(Tablev2[[#This Row],[Recertification Type]]=\"None unless a change to\",IF(VLOOKUP(Tablev2[[#This Row],[Conditions for Change]],'v1 Project Information'!$B$21:$C$46,2,FALSE)=\"Yes\",\"Normal\",\"None\"),Tablev2[[#This Row],[Recertification Type]])","v":"None"},"Policy and/or Operation Schedule"]
[{"$f":"IF(INDEX(UpgradeTable[],MATCH(Tablev2[[#This Row],[Feature.Part]],UpgradeTable[Code],0),7)=\"Not Pursued\",\"No\",\"Yes\")","v":"No"},{"$f":"VLOOKUP(Tablev2[[#This Row],[Feature]],Table5[],7,FALSE)","v":10},"C07","O","C07.1",{"$f":"VLOOKUP(Tablev2[[#This Row],[Feature.Part]],Table5[[Feature.Part]:[Part Description]],2,FALSE)","v":"Promote Culture of Health"},"None unless a change to","Organizational Policy",{"$f":"IF(Tablev2[[#This Row],[Recertification Type]]=\"None unless a change to\",IF(VLOOKUP(Tablev2[[#This Row],[Conditions for Change]],'v1 Project Information'!$B$21:$C$46,2,FALSE)=\"Yes\",\"Normal\",\"None\"),Tablev2[[#This Row],[Recertification Type]])","v":"None"},"Policy and/or Operation Schedule"]
[{"$f":"IF(INDEX(UpgradeTable[],MATCH(Tablev2[[#This Row],[Feature.Part]],UpgradeTable[Code],0),7)=\"Not Pursued\",\"No\",\"Yes\")","v":"No"},{"$f":"VLOOKUP(Tablev2[[#This Row],[Feature]],Table5[],7,FALSE)","v":10},"C07","O","C07.2",{"$f":"VLOOKUP(Tablev2[[#This Row],[Feature.Part]],Table5[[Feature.Part]:[Part Description]],2,FALSE)","v":"Health Promotion Leader"},"None unless a change to","Organizational Policy",{"$f":"IF(Tablev2[[#This Row],[Recertification Type]]=\"None unless a change to\",IF(VLOOKUP(Tablev2[[#This Row],[Conditions for Change]],'v1 Project Information'!$B$21:$C$46,2,FALSE)=\"Yes\",\"Normal\",\"None\"),Tablev2[[#This Row],[Recertification Type]])","v":"None"},"Policy and/or Operation Schedule"]
[{"$f":"IF(INDEX(UpgradeTable[],MATCH(Tablev2[[#This Row],[Feature.Part]],UpgradeTable[Code],0),7)=\"Not Pursued\",\"No\",\"Yes\")","v":"No"},{"$f":"VLOOKUP(Tablev2[[#This Row],[Feature]],Table5[],7,FALSE)","v":10},"C08","O","C08.1",{"$f":"VLOOKUP(Tablev2[[#This Row],[Feature.Part]],Table5[[Feature.Part]:[Part Description]],2,FALSE)","v":"Offer New Parent Leave"},"None unless a change to","Organizational Policy",{"$f":"IF(Tablev2[[#This Row],[Recertification Type]]=\"None unless a change to\",IF(VLOOKUP(Tablev2[[#This Row],[Conditions for Change]],'v1 Project Information'!$B$21:$C$46,2,FALSE)=\"Yes\",\"Normal\",\"None\"),Tablev2[[#This Row],[Recertification Type]])","v":"None"},"Policy and/or Operation Schedule"]
[{"$f":"IF(INDEX(UpgradeTable[],MATCH(Tablev2[[#This Row],[Feature.Part]],UpgradeTable[Code],0),7)=\"Not Pursued\",\"No\",\"Yes\")","v":"No"},{"$f":"VLOOKUP(Tablev2[[#This Row],[Feature]],Table5[],7,FALSE)","v":10},"C09","O","C09.1",{"$f":"VLOOKUP(Tablev2[[#This Row],[Feature.Part]],Table5[[Feature.Part]:[Part Description]],2,FALSE)","v":"Offer Workplace Breastfeeding Support"},"None unless a change to","Organizational Policy",{"$f":"IF(Tablev2[[#This Row],[Recertification Type]]=\"None unless a change to\",IF(VLOOKUP(Tablev2[[#This Row],[Conditions for Change]],'v1 Project Information'!$B$21:$C$46,2,FALSE)=\"Yes\",\"Normal\",\"None\"),Tablev2[[#This Row],[Recertification Type]])","v":"None"},"Policy and/or Operation Schedule"]
[{"$f":"IF(INDEX(UpgradeTable[],MATCH(Tablev2[[#This Row],[Feature.Part]],UpgradeTable[Code],0),7)=\"Not Pursued\",\"No\",\"Yes\")","v":"No"},{"$f":"VLOOKUP(Tablev2[[#This Row],[Feature]],Table5[],7,FALSE)","v":10},"C09","O","C09.2",{"$f":"VLOOKUP(Tablev2[[#This Row],[Feature.Part]],Table5[[Feature.Part]:[Part Description]],2,FALSE)","v":"Design Lactation Room"},"None unless a change to","Interior Design",{"$f":"IF(Tablev2[[#This Row],[Recertification Type]]=\"None unless a change to\",IF(VLOOKUP(Tablev2[[#This Row],[Conditions for Change]],'v1 Project Information'!$B$21:$C$46,2,FALSE)=\"Yes\",\"Normal\",\"None\"),Tablev2[[#This Row],[Recertification Type]])","v":"None"},"Technical Document"]
[{"$f":"IF(INDEX(UpgradeTable[],MATCH(Tablev2[[#This Row],[Feature.Part]],UpgradeTable[Code],0),7)=\"Not Pursued\",\"No\",\"Yes\")","v":"No"},{"$f":"VLOOKUP(Tablev2[[#This Row],[Feature]],Table5[],7,FALSE)","v":10},"C10","O","C10.1",{"$f":"VLOOKUP(Tablev2[[#This Row],[Feature.Part]],Table5[[Feature.Part]:[Part Description]],2,FALSE)","v":"Offer Childcare Support"},"None unless a change to","Organizational Policy",{"$f":"IF(Tablev2[[#This Row],[Recertification Type]]=\"None unless a change to\",IF(VLOOKUP(Tablev2[[#This Row],[Conditions for Change]],'v1 Project Information'!$B$21:$C$46,2,FALSE)=\"Yes\",\"Normal\",\"None\"),Tablev2[[#This Row],[Recertification Type]])","v":"None"},"Policy and/or Operation Schedule"]
[{"$f":"IF(INDEX(UpgradeTable[],MATCH(Tablev2[[#This Row],[Feature.Part]],UpgradeTable[Code],0),7)=\"Not Pursued\",\"No\",\"Yes\")","v":"No"},{"$f":"VLOOKUP(Tablev2[[#This Row],[Feature]],Table5[],7,FALSE)","v":10},"C10","O","C10.2",{"$f":"VLOOKUP(Tablev2[[#This Row],[Feature.Part]],Table5[[Feature.Part]:[Part Description]],2,FALSE)","v":"Offer Family Leave"},"None unless a change to","Organizational Policy",{"$f":"IF(Tablev2[[#This Row],[Recertification Type]]=\"None unless a change to\",IF(VLOOKUP(Tablev2[[#This Row],[Conditions for Change]],'v1 Project Information'!$B$21:$C$46,2,FALSE)=\"Yes\",\"Normal\",\"None\"),Tablev2[[#This Row],[Recertification Type]])","v":"None"},"Policy and/or Operation Schedule"]
[{"$f":"IF(INDEX(UpgradeTable[],MATCH(Tablev2[[#This Row],[Feature.Part]],UpgradeTable[Code],0),7)=\"Not Pursued\",\"No\",\"Yes\")","v":"No"},{"$f":"VLOOKUP(Tablev2[[#This Row],[Feature]],Table5[],7,FALSE)","v":10},"C10","O","C10.3",{"$f":"VLOOKUP(Tablev2[[#This Row],[Feature.Part]],Table5[[Feature.Part]:[Part Description]],2,FALSE)","v":"Offer Bereavement Support"},"None unless a change to","Organizational Policy",{"$f":"IF(Tablev2[[#This Row],[Recertification Type]]=\"None unless a change to\",IF(VLOOKUP(Tablev2[[#This Row],[Conditions for Change]],'v1 Project Information'!$B$21:$C$46,2,FALSE)=\"Yes\",\"Normal\",\"None\"),Tablev2[[#This Row],[Recertification Type]])","v":"None"},"Policy and/or Operation Schedule"]
[{"$f":"IF(INDEX(UpgradeTable[],MATCH(Tablev2[[#This Row],[Feature.Part]],UpgradeTable[Code],0),7)=\"Not Pursued\",\"No\",\"Yes\")","v":"No"},{"$f":"VLOOKUP(Tablev2[[#This Row],[Feature]],Table5[],7,FALSE)","v":10},"C11","O","C11.1",{"$f":"VLOOKUP(Tablev2[[#This Row],[Feature.Part]],Table5[[Feature.Part]:[Part Description]],2,FALSE)","v":"Promote Community Engagement"},"None unless a change to","Organizational Policy",{"$f":"IF(Tablev2[[#This Row],[Recertification Type]]=\"None unless a change to\",IF(VLOOKUP(Tablev2[[#This Row],[Conditions for Change]],'v1 Project Information'!$B$21:$C$46,2,FALSE)=\"Yes\",\"Normal\",\"None\"),Tablev2[[#This Row],[Recertification Type]])","v":"None"},"Policy and/or Operation Schedule"]
[{"$f":"IF(INDEX(UpgradeTable[],MATCH(Tablev2[[#This Row],[Feature.Part]],UpgradeTable[Code],0),7)=\"Not Pursued\",\"No\",\"Yes\")","v":"No"},{"$f":"VLOOKUP(Tablev2[[#This Row],[Feature]],Table5[],7,FALSE)","v":10},"C11","O","C11.2",{"$f":"VLOOKUP(Tablev2[[#This Row],[Feature.Part]],Table5[[Feature.Part]:[Part Description]],2,FALSE)","v":"Provide Community Space"},"None",null,{"$f":"IF(Tablev2[[#This Row],[Recertification Type]]=\"None unless a change to\",IF(VLOOKUP(Tablev2[[#This Row],[Conditions for Change]],'v1 Project Information'!$B$21:$C$46,2,FALSE)=\"Yes\",\"Normal\",\"None\"),Tablev2[[#This Row],[Recertification Type]])","v":"None"},"Technical Document","Professional Narrative"]
[{"$f":"IF(INDEX(UpgradeTable[],MATCH(Tablev2[[#This Row],[Feature.Part]],UpgradeTable[Code],0),7)=\"Not Pursued\",\"No\",\"Yes\")","v":"No"},{"$f":"VLOOKUP(Tablev2[[#This Row],[Feature]],Table5[],7,FALSE)","v":10},"C12","O","C12.1",{"$f":"VLOOKUP(Tablev2[[#This Row],[Feature.Part]],Table5[[Feature.Part]:[Part Description]],2,FALSE)","v":"Create DEI Assessment and Action Plan"},"None unless a change to","Organizational Policy",{"$f":"IF(Tablev2[[#This Row],[Recertification Type]]=\"None unless a change to\",IF(VLOOKUP(Tablev2[[#This Row],[Conditions for Change]],'v1 Project Information'!$B$21:$C$46,2,FALSE)=\"Yes\",\"Normal\",\"None\"),Tablev2[[#This Row],[Recertification Type]])","v":"None"},"Policy and/or Operation Schedule"]
[{"$f":"IF(INDEX(UpgradeTable[],MATCH(Tablev2[[#This Row],[Feature.Part]],UpgradeTable[Code],0),7)=\"Not Pursued\",\"No\",\"Yes\")","v":"No"},{"$f":"VLOOKUP(Tablev2[[#This Row],[Feature]],Table5[],7,FALSE)","v":10},"C12","O","C12.2",{"$f":"VLOOKUP(Tablev2[[#This Row],[Feature.Part]],Table5[[Feature.Part]:[Part Description]],2,FALSE)","v":"Implement DEI Support Systems"},"None unless a change to","Organizational Policy",{"$f":"IF(Tablev2[[#This Row],[Recertification Type]]=\"None unless a change to\",IF(VLOOKUP(Tablev2[[#This Row],[Conditions for Change]],'v1 Project Information'!$B$21:$C$46,2,FALSE)=\"Yes\",\"Normal\",\"None\"),Tablev2[[#This Row],[Recertification Type]])","v":"None"},"Policy and/or Operation Schedule"]
[{"$f":"IF(INDEX(UpgradeTable[],MATCH(Tablev2[[#This Row],[Feature.Part]],UpgradeTable[Code],0),7)=\"Not Pursued\",\"No\",\"Yes\")","v":"No"},{"$f":"VLOOKUP(Tablev2[[#This Row],[Feature]],Table5[],7,FALSE)","v":10},"C12","O","C12.3",{"$f":"VLOOKUP(Tablev2[[#This Row],[Feature.Part]],Table5[[Feature.Part]:[Part Description]],2,FALSE)","v":"Implement DEI Hiring Practices and Wage Equity"},"None unless a change to","Organizational Policy",{"$f":"IF(Tablev2[[#This Row],[Recertification Type]]=\"None unless a change to\",IF(VLOOKUP(Tablev2[[#This Row],[Conditions for Change]],'v1 Project Information'!$B$21:$C$46,2,FALSE)=\"Yes\",\"Normal\",\"None\"),Tablev2[[#This Row],[Recertification Type]])","v":"None"},"Policy and/or Operation Schedule"]
[{"$f":"IF(INDEX(UpgradeTable[],MATCH(Tablev2[[#This Row],[Feature.Part]],UpgradeTable[Code],0),7)=\"Not Pursued\",\"No\",\"Yes\")","v":"No"},{"$f":"VLOOKUP(Tablev2[[#This Row],[Feature]],Table5[],7,FALSE)","v":10},"C13","O","C13.1",{"$f":"VLOOKUP(Tablev2[[#This Row],[Feature.Part]],Table5[[Feature.Part]:[Part Description]],2,FALSE)","v":"Integrate Universal Design"},"None unless a change to","Interior Design",{"$f":"IF(Tablev2[[#This Row],[Recertification Type]]=\"None unless a change to\",IF(VLOOKUP(Tablev2[[#This Row],[Conditions for Change]],'v1 Project Information'!$B$21:$C$46,2,FALSE)=\"Yes\",\"Normal\",\"None\"),Tablev2[[#This Row],[Recertification Type]])","v":"None"},"Professional Narrative"]
[{"$f":"IF(INDEX(UpgradeTable[],MATCH(Tablev2[[#This Row],[Feature.Part]],UpgradeTable[Code],0),7)=\"Not Pursued\",\"No\",\"Yes\")","v":"No"},{"$f":"VLOOKUP(Tablev2[[#This Row],[Feature]],Table5[],7,FALSE)","v":10},"C14","O","C14.1",{"$f":"VLOOKUP(Tablev2[[#This Row],[Feature.Part]],Table5[[Feature.Part]:[Part Description]],2,FALSE)","v":"Promote Emergency Resources"},"None unless a change to","Interior Design",{"$f":"IF(Tablev2[[#This Row],[Recertification Type]]=\"None unless a change to\",IF(VLOOKUP(Tablev2[[#This Row],[Conditions for Change]],'v1 Project Information'!$B$21:$C$46,2,FALSE)=\"Yes\",\"Normal\",\"None\"),Tablev2[[#This Row],[Recertification Type]])","v":"None"},"Policy and/or Operation Schedule"]
[{"$f":"IF(INDEX(UpgradeTable[],MATCH(Tablev2[[#This Row],[Feature.Part]],UpgradeTable[Code],0),7)=\"Not Pursued\",\"No\",\"Yes\")","v":"No"},{"$f":"VLOOKUP(Tablev2[[#This Row],[Feature]],Table5[],7,FALSE)","v":10},"C14","O","C14.2",{"$f":"VLOOKUP(Tablev2[[#This Row],[Feature.Part]],Table5[[Feature.Part]:[Part Description]],2,FALSE)","v":"Provide Opioid Response Kit and Training"},"None unless a change to","Interior Design",{"$f":"IF(Tablev2[[#This Row],[Recertification Type]]=\"None unless a change to\",IF(VLOOKUP(Tablev2[[#This Row],[Conditions for Change]],'v1 Project Information'!$B$21:$C$46,2,FALSE)=\"Yes\",\"Normal\",\"None\"),Tablev2[[#This Row],[Recertification Type]])","v":"None"},"Policy and/or Operation Schedule"]
[{"$f":"IF(INDEX(UpgradeTable[],MATCH(Tablev2[[#This Row],[Feature.Part]],UpgradeTable[Code],0),7)=\"Not Pursued\",\"No\",\"Yes\")","v":"No"},{"$f":"VLOOKUP(Tablev2[[#This Row],[Feature]],Table5[],7,FALSE)","v":10},"C15","O","C15.1",{"$f":"VLOOKUP(Tablev2[[#This Row],[Feature.Part]],Table5[[Feature.Part]:[Part Description]],2,FALSE)","v":"Promote Business Continuity"},"None unless a change to","Organizational Policy",{"$f":"IF(Tablev2[[#This Row],[Recertification Type]]=\"None unless a change to\",IF(VLOOKUP(Tablev2[[#This Row],[Conditions for Change]],'v1 Project Information'!$B$21:$C$46,2,FALSE)=\"Yes\",\"Normal\",\"None\"),Tablev2[[#This Row],[Recertification Type]])","v":"None"},"Policy and/or Operation Schedule"]
[{"$f":"IF(INDEX(UpgradeTable[],MATCH(Tablev2[[#This Row],[Feature.Part]],UpgradeTable[Code],0),7)=\"Not Pursued\",\"No\",\"Yes\")","v":"No"},{"$f":"VLOOKUP(Tablev2[[#This Row],[Feature]],Table5[],7,FALSE)","v":10},"C15","O","C15.2",{"$f":"VLOOKUP(Tablev2[[#This Row],[Feature.Part]],Table5[[Feature.Part]:[Part Description]],2,FALSE)","v":"Support Emergency Resilience"},"None unless a change to","Organizational Policy",{"$f":"IF(Tablev2[[#This Row],[Recertification Type]]=\"None unless a change to\",IF(VLOOKUP(Tablev2[[#This Row],[Conditions for Change]],'v1 Project Information'!$B$21:$C$46,2,FALSE)=\"Yes\",\"Normal\",\"None\"),Tablev2[[#This Row],[Recertification Type]])","v":"None"},"Policy and/or Operation Schedule"]
[{"$f":"IF(INDEX(UpgradeTable[],MATCH(Tablev2[[#This Row],[Feature.Part]],UpgradeTable[Code],0),7)=\"Not Pursued\",\"No\",\"Yes\")","v":"No"},{"$f":"VLOOKUP(Tablev2[[#This Row],[Feature]],Table5[],7,FALSE)","v":10},"C15","O","C15.3",{"$f":"VLOOKUP(Tablev2[[#This Row],[Feature.Part]],Table5[[Feature.Part]:[Part Description]],2,FALSE)","v":"Facilitate Healthy Re-entry"},"None",null,{"$f":"IF(Tablev2[[#This Row],[Recertification Type]]=\"None unless a change to\",IF(VLOOKUP(Tablev2[[#This Row],[Conditions for Change]],'v1 Project Information'!$B$21:$C$46,2,FALSE)=\"Yes\",\"Normal\",\"None\"),Tablev2[[#This Row],[Recertification Type]])","v":"None"},"Professional Narrative"]
[{"$f":"IF(INDEX(UpgradeTable[],MATCH(Tablev2[[#This Row],[Feature.Part]],UpgradeTable[Code],0),7)=\"Not Pursued\",\"No\",\"Yes\")","v":"No"},{"$f":"VLOOKUP(Tablev2[[#This Row],[Feature]],Table5[],7,FALSE)","v":10},"C16","O","C16.1",{"$f":"VLOOKUP(Tablev2[[#This Row],[Feature.Part]],Table5[[Feature.Part]:[Part Description]],2,FALSE)","v":"Allocate Affordable Units"},"None unless a change to","Interior Design",{"$f":"IF(Tablev2[[#This Row],[Recertification Type]]=\"None unless a change to\",IF(VLOOKUP(Tablev2[[#This Row],[Conditions for Change]],'v1 Project Information'!$B$21:$C$46,2,FALSE)=\"Yes\",\"Normal\",\"None\"),Tablev2[[#This Row],[Recertification Type]])","v":"None"},"Technical Document",null,null,"Owner"]
[{"$f":"IF(INDEX(UpgradeTable[],MATCH(Tablev2[[#This Row],[Feature.Part]],UpgradeTable[Code],0),7)=\"Not Pursued\",\"No\",\"Yes\")","v":"No"},{"$f":"VLOOKUP(Tablev2[[#This Row],[Feature]],Table5[],7,FALSE)","v":10},"C17","O","C17.1",{"$f":"VLOOKUP(Tablev2[[#This Row],[Feature.Part]],Table5[[Feature.Part]:[Part Description]],2,FALSE)","v":"Disclose Labor Practices"},"None unless a change to","Organizational Policy",{"$f":"IF(Tablev2[[#This Row],[Recertification Type]]=\"None unless a change to\",IF(VLOOKUP(Tablev2[[#This Row],[Conditions for Change]],'v1 Project Information'!$B$21:$C$46,2,FALSE)=\"Yes\",\"Normal\",\"None\"),Tablev2[[#This Row],[Recertification Type]])","v":"None"},"Policy and/or Operation Schedule"]
[{"$f":"IF(INDEX(UpgradeTable[],MATCH(Tablev2[[#This Row],[Feature.Part]],UpgradeTable[Code],0),7)=\"Not Pursued\",\"No\",\"Yes\")","v":"No"},{"$f":"VLOOKUP(Tablev2[[#This Row],[Feature]],Table5[],7,FALSE)","v":10},"C17","O","C17.2",{"$f":"VLOOKUP(Tablev2[[#This Row],[Feature.Part]],Table5[[Feature.Part]:[Part Description]],2,FALSE)","v":"Implement Responsible Labor Practices"},"None unless a change to","Organizational Policy",{"$f":"IF(Tablev2[[#This Row],[Recertification Type]]=\"None unless a change to\",IF(VLOOKUP(Tablev2[[#This Row],[Conditions for Change]],'v1 Project Information'!$B$21:$C$46,2,FALSE)=\"Yes\",\"Normal\",\"None\"),Tablev2[[#This Row],[Recertification Type]])","v":"None"},"Policy and/or Operation Schedule"]
[{"$f":"IF(INDEX(UpgradeTable[],MATCH(Tablev2[[#This Row],[Feature.Part]],UpgradeTable[Code],0),7)=\"Not Pursued\",\"No\",\"Yes\")","v":{"$error":"#N/A"}},{"$f":"VLOOKUP(Tablev2[[#This Row],[Feature]],Table5[],7,FALSE)","v":10},"C18","O","C18.1",{"$f":"VLOOKUP(Tablev2[[#This Row],[Feature.Part]],Table5[[Feature.Part]:[Part Description]],2,FALSE)","v":"Support Victims of Domestic Violence"},"None unless a change to","Organizational Policy",{"$f":"IF(Tablev2[[#This Row],[Recertification Type]]=\"None unless a change to\",IF(VLOOKUP(Tablev2[[#This Row],[Conditions for Change]],'v1 Project Information'!$B$21:$C$46,2,FALSE)=\"Yes\",\"Normal\",\"None\"),Tablev2[[#This Row],[Recertification Type]])","v":"None"},"Policy and/or Operation Schedule"]
[]
[]
[]
[null,null,"[1]","Although an alignment exists, teams must provide a technical document with assumptions of clothing insulation (clo) and metabolic rate (met), which may vary by time of year for recertification documentation review. More information can be found in T01 in the Verification tab (https://v2.wellcertified.com/en/wellv2/thermal%20comfort/feature/1). No Letter of Assurance from the Engineer is required for recertification."]

{"sheet":"v2 upgrade calc","index":8,"n_rows":208,"n_cols":29,"rows_kept":208,"cut":false,"hidden":true,"merged":[[0,0,0,4],[0,5,0,9],[0,10,0,14],[0,15,0,16],[0,20,0,28]]}
["Upgrade combinations Table",null,null,null,null,null,null,null,null,null,null,null,null,null,null,null,null,null,null,null,"v2 Part Achievement Calculation"]
["WELL v2 Feature","v2 Part","v2 Feature.Part","WELL v1 Feature 1","WELL v1 Feature 2","WELL v1 Feature 3","v2 WBS Points (if less than max)","v2 Core Points (if less than max)","Part points","v1 feature 1 attainment","v1 feature 2 attainment","v1 feature 3 attainment","v2 Part attainment through these features?","Concept Order","Core normal","Core extra","Core mod",null,null,null,"Feature","Part","Feature.Part","Type","Part Covered in Skybridge?","Part attained in v2?","v2 points","v2 atttainment","Concept"]
["A01",1,{"$f":"CONCATENATE(Table6[[#This Row],[WELL v2 Feature]],\".\",Table6[[#This Row],[v2 Part]])","v":"A01.1"},1,null,null,null,null,{"$f":"IF('v1 Project Information'!$C$4=\"Core and Shell\",IF(Table6[[#This Row],[v2 Core Points (if less than max)]]>0,Table6[[#This Row],[v2 Core Points (if less than max)]],VLOOKUP(Table6[[#This Row],[v2 Feature.Part]],Table5[[Feature.Part]:[Points]],4,FALSE)),IF(Table6[[#This Row],[v2 WBS Points (if less than max)]]>0,Table6[[#This Row],[v2 WBS Points (if less than max)]],VLOOKUP(Table6[[#This Row],[v2 Feature.Part]],Table5[[Feature.Part]:[Points]],4,FALSE)))","v":"P"},{"$f":"VLOOKUP(Table6[[#This Row],[WELL v1 Feature 1]],Table4[],4,FALSE)","v":"Y"},{"$f":"_xlfn.IFNA(VLOOKUP(Table6[[#This Row],[WELL v1 Feature 2]],Table4[],4,FALSE),\"Y\")","v":"Y"},{"$f":"_xlfn.IFNA(VLOOKUP(Table6[[#This Row],[WELL v1 Feature 3]],Table4[],4,FALSE),\"Y\")","v":"Y"},{"$f":"IF(COUNTIF(Table6[[#This Row],[v1 feature 1 attainment]:[v1 feature 3 attainment]],\"Y\")=3,TRUE,FALSE)","v":true},{"$f":"VLOOKUP(Table6[[#This Row],[WELL v2 Feature]],Table5[],7,FALSE)","v":1},{"$f":"VLOOKUP(Table6[[#This Row],[WELL v2 Feature]],Table5[],9,FALSE)","v":"P"},{"$f":"VLOOKUP(Table6[[#This Row],[WELL v2 Feature]],Table5[],10,FALSE)","v":0},{"$f":"VLOOKUP(Table6[[#This Row],[WELL v2 Feature]],Table5[],8,FALSE)","v":0},null,null,null,"A01",1,{"$f":"CONCATENATE(Table9[[#This Row],[Feature]],\".\",Table9[[#This Row],[Part]])","v":"A01.1"},{"$f":"VLOOKUP(Table9[[#This Row],[Feature]],Table5[],5,FALSE)","v":"Precondition"},{"$f":"NOT(ISNA(_xlfn.IFNA(VLOOKUP(Table9[[#This Row],[Feature.Part]],Table6[v2 Feature.Part],1,FALSE),VLOOKUP(CONCATENATE(Table9[[#This Row],[Feature]],\".\",\"All\"),Table6[v2 Feature.Part],1,FALSE))))","v":true},{"$f":"IF(Table9[[#This Row],[Part Covered in Skybridge?]],  IF(COUNTIFS(Table6[v2 Part attainment through these features?],TRUE,Table6[v2 Feature.Part],Table9[[#This Row],[Feature.Part]])>0,TRUE,FALSE),FALSE)","v":true},{"$f":"IF(Table9[[#This Row],[Part attained in v2?]],\nIF(Table9[[#This Row],[Feature]]=\"I01\",COUNTIFS(Table6[WELL v2 Feature],\"I01\",Table6[v1 feature 1 attainment],\"Y\"),\nVLOOKUP(Table9[[#This Row],[Feature.Part]],Table6[[v2 Feature.Part]:[Part points]],7,FALSE)),0)","v":"P"},{"$f":"IF(Table9[[#This Row],[Part attained in v2?]],IF(Table9[[#This Row],[Type]]=\"Precondition\",\"Y\",Table9[[#This Row],[v2 points]]),0)","v":"Y"},{"$f":"VLOOKUP(Table9[[#This Row],[Feature]],Table5[],12,FALSE)","v":"Air"}]
["A01",2,{"$f":"CONCATENATE(Table6[[#This Row],[WELL v2 Feature]],\".\",Table6[[#This Row],[v2 Part]])","v":"A01.2"},1,null,null,null,null,{"$f":"IF('v1 Project Information'!$C$4=\"Core and Shell\",IF(Table6[[#This Row],[v2 Core Points (if less than max)]]>0,Table6[[#This Row],[v2 Core Points (if less than max)]],VLOOKUP(Table6[[#This Row],[v2 Feature.Part]],Table5[[Feature.Part]:[Points]],4,FALSE)),IF(Table6[[#This Row],[v2 WBS Points (if less than max)]]>0,Table6[[#This Row],[v2 WBS Points (if less than max)]],VLOOKUP(Table6[[#This Row],[v2 Feature.Part]],Table5[[Feature.Part]:[Points]],4,FALSE)))","v":"P"},{"$f":"VLOOKUP(Table6[[#This Row],[WELL v1 Feature 1]],Table4[],4,FALSE)","v":"Y"},{"$f":"_xlfn.IFNA(VLOOKUP(Table6[[#This Row],[WELL v1 Feature 2]],Table4[],4,FALSE),\"Y\")","v":"Y"},{"$f":"_xlfn.IFNA(VLOOKUP(Table6[[#This Row],[WELL v1 Feature 3]],Table4[],4,FALSE),\"Y\")","v":"Y"},{"$f":"IF(COUNTIF(Table6[[#This Row],[v1 feature 1 attainment]:[v1 feature 3 attainment]],\"Y\")=3,TRUE,FALSE)","v":true},{"$f":"VLOOKUP(Table6[[#This Row],[WELL v2 Feature]],Table5[],7,FALSE)","v":1},{"$f":"VLOOKUP(Table6[[#This Row],[WELL v2 Feature]],Table5[],9,FALSE)","v":"P"},{"$f":"VLOOKUP(Table6[[#This Row],[WELL v2 Feature]],Table5[],10,FALSE)","v":0},{"$f":"VLOOKUP(Table6[[#This Row],[WELL v2 Feature]],Table5[],8,FALSE)","v":0},null,null,null,"A01",2,{"$f":"CONCATENATE(Table9[[#This Row],[Feature]],\".\",Table9[[#This Row],[Part]])","v":"A01.2"},{"$f":"VLOOKUP(Table9[[#This Row],[Feature]],Table5[],5,FALSE)","v":"Precondition"},{"$f":"NOT(ISNA(_xlfn.IFNA(VLOOKUP(Table9[[#This Row],[Feature.Part]],Table6[v2 Feature.Part],1,FALSE),VLOOKUP(CONCATENATE(Table9[[#This Row],[Feature]],\".\",\"All\"),Table6[v2 Feature.Part],1,FALSE))))","v":true},{"$f":"IF(Table9[[#This Row],[Part Covered in Skybridge?]],  IF(COUNTIFS(Table6[v2 Part attainment through these features?],TRUE,Table6[v2 Feature.Part],Table9[[#This Row],[Feature.Part]])>0,TRUE,FALSE),FALSE)","v":true},{"$f":"IF(Table9[[#This Row],[Part attained in v2?]],\nIF(Table9[[#This Row],[Feature]]=\"I01\",COUNTIFS(Table6[WELL v2 Feature],\"I01\",Table6[v1 feature 1 attainment],\"Y\"),\nVLOOKUP(Table9[[#This Row],[Feature.Part]],Table6[[v2 Feature.Part]:[Part points]],7,FALSE)),0)","v":"P"},{"$f":"IF(Table9[[#This Row],[Part attained in v2?]],IF(Table9[[#This Row],[Type]]=\"Precondition\",\"Y\",Table9[[#This Row],[v2 points]]),0)","v":"Y"},{"$f":"VLOOKUP(Table9[[#This Row],[Feature]],Table5[],12,FALSE)","v":"Air"}]
["A01",3,{"$f":"CONCATENATE(Table6[[#This Row],[WELL v2 Feature]],\".\",Table6[[#This Row],[v2 Part]])","v":"A01.3"},1,null,null,null,null,{"$f":"IF('v1 Project Information'!$C$4=\"Core and Shell\",IF(Table6[[#This Row],[v2 Core Points (if less than max)]]>0,Table6[[#This Row],[v2 Core Points (if less than max)]],VLOOKUP(Table6[[#This Row],[v2 Feature.Part]],Table5[[Feature.Part]:[Points]],4,FALSE)),IF(Table6[[#This Row],[v2 WBS Points (if less than max)]]>0,Table6[[#This Row],[v2 WBS Points (if less than max)]],VLOOKUP(Table6[[#This Row],[v2 Feature.Part]],Table5[[Feature.Part]:[Points]],4,FALSE)))","v":"P"},{"$f":"VLOOKUP(Table6[[#This Row],[WELL v1 Feature 1]],Table4[],4,FALSE)","v":"Y"},{"$f":"_xlfn.IFNA(VLOOKUP(Table6[[#This Row],[WELL v1 Feature 2]],Table4[],4,FALSE),\"Y\")","v":"Y"},{"$f":"_xlfn.IFNA(VLOOKUP(Table6[[#This Row],[WELL v1 Feature 3]],Table4[],4,FALSE),\"Y\")","v":"Y"},{"$f":"IF(COUNTIF(Table6[[#This Row],[v1 feature 1 attainment]:[v1 feature 3 attainment]],\"Y\")=3,TRUE,FALSE)","v":true},{"$f":"VLOOKUP(Table6[[#This Row],[WELL v2 Feature]],Table5[],7,FALSE)","v":1},{"$f":"VLOOKUP(Table6[[#This Row],[WELL v2 Feature]],Table5[],9,FALSE)","v":"P"},{"$f":"VLOOKUP(Table6[[#This Row],[WELL v2 Feature]],Table5[],10,FALSE)","v":0},{"$f":"VLOOKUP(Table6[[#This Row],[WELL v2 Feature]],Table5[],8,FALSE)","v":0},null,null,null,"A01",3,{"$f":"CONCATENATE(Table9[[#This Row],[Feature]],\".\",Table9[[#This Row],[Part]])","v":"A01.3"},{"$f":"VLOOKUP(Table9[[#This Row],[Feature]],Table5[],5,FALSE)","v":"Precondition"},{"$f":"NOT(ISNA(_xlfn.IFNA(VLOOKUP(Table9[[#This Row],[Feature.Part]],Table6[v2 Feature.Part],1,FALSE),VLOOKUP(CONCATENATE(Table9[[#This Row],[Feature]],\".\",\"All\"),Table6[v2 Feature.Part],1,FALSE))))","v":true},{"$f":"IF(Table9[[#This Row],[Part Covered in Skybridge?]],  IF(COUNTIFS(Table6[v2 Part attainment through these features?],TRUE,Table6[v2 Feature.Part],Table9[[#This Row],[Feature.Part]])>0,TRUE,FALSE),FALSE)","v":true},{"$f":"IF(Table9[[#This Row],[Part attained in v2?]],\nIF(Table9[[#This Row],[Feature]]=\"I01\",COUNTIFS(Table6[WELL v2 Feature],\"I01\",Table6[v1 feature 1 attainment],\"Y\"),\nVLOOKUP(Table9[[#This Row],[Feature.Part]],Table6[[v2 Feature.Part]:[Part points]],7,FALSE)),0)","v":"P"},{"$f":"IF(Table9[[#This Row],[Part attained in v2?]],IF(Table9[[#This Row],[Type]]=\"Precondition\",\"Y\",Table9[[#This Row],[v2 points]]),0)","v":"Y"},{"$f":"VLOOKUP(Table9[[#This Row],[Feature]],Table5[],12,FALSE)","v":"Air"}]
["A01",4,{"$f":"CONCATENATE(Table6[[#This Row],[WELL v2 Feature]],\".\",Table6[[#This Row],[v2 Part]])","v":"A01.4"},1,null,null,null,null,{"$f":"IF('v1 Project Information'!$C$4=\"Core and Shell\",IF(Table6[[#This Row],[v2 Core Points (if less than max)]]>0,Table6[[#This Row],[v2 Core Points (if less than max)]],VLOOKUP(Table6[[#This Row],[v2 Feature.Part]],Table5[[Feature.Part]:[Points]],4,FALSE)),IF(Table6[[#This Row],[v2 WBS Points (if less than max)]]>0,Table6[[#This Row],[v2 WBS Points (if less than max)]],VLOOKUP(Table6[[#This Row],[v2 Feature.Part]],Table5[[Feature.Part]:[Points]],4,FALSE)))","v":"P"},{"$f":"VLOOKUP(Table6[[#This Row],[WELL v1 Feature 1]],Table4[],4,FALSE)","v":"Y"},{"$f":"_xlfn.IFNA(VLOOKUP(Table6[[#This Row],[WELL v1 Feature 2]],Table4[],4,FALSE),\"Y\")","v":"Y"},{"$f":"_xlfn.IFNA(VLOOKUP(Table6[[#This Row],[WELL v1 Feature 3]],Table4[],4,FALSE),\"Y\")","v":"Y"},{"$f":"IF(COUNTIF(Table6[[#This Row],[v1 feature 1 attainment]:[v1 feature 3 attainment]],\"Y\")=3,TRUE,FALSE)","v":true},{"$f":"VLOOKUP(Table6[[#This Row],[WELL v2 Feature]],Table5[],7,FALSE)","v":1},{"$f":"VLOOKUP(Table6[[#This Row],[WELL v2 Feature]],Table5[],9,FALSE)","v":"P"},{"$f":"VLOOKUP(Table6[[#This Row],[WELL v2 Feature]],Table5[],10,FALSE)","v":0},{"$f":"VLOOKUP(Table6[[#This Row],[WELL v2 Feature]],Table5[],8,FALSE)","v":0},null,null,null,"A01",4,{"$f":"CONCATENATE(Table9[[#This Row],[Feature]],\".\",Table9[[#This Row],[Part]])","v":"A01.4"},{"$f":"VLOOKUP(Table9[[#This Row],[Feature]],Table5[],5,FALSE)","v":"Precondition"},{"$f":"NOT(ISNA(_xlfn.IFNA(VLOOKUP(Table9[[#This Row],[Feature.Part]],Table6[v2 Feature.Part],1,FALSE),VLOOKUP(CONCATENATE(Table9[[#This Row],[Feature]],\".\",\"All\"),Table6[v2 Feature.Part],1,FALSE))))","v":true},{"$f":"IF(Table9[[#This Row],[Part Covered in Skybridge?]],  IF(COUNTIFS(Table6[v2 Part attainment through these features?],TRUE,Table6[v2 Feature.Part],Table9[[#This Row],[Feature.Part]])>0,TRUE,FALSE),FALSE)","v":true},{"$f":"IF(Table9[[#This Row],[Part attained in v2?]],\nIF(Table9[[#This Row],[Feature]]=\"I01\",COUNTIFS(Table6[WELL v2 Feature],\"I01\",Table6[v1 feature 1 attainment],\"Y\"),\nVLOOKUP(Table9[[#This Row],[Feature.Part]],Table6[[v2 Feature.Part]:[Part points]],7,FALSE)),0)","v":"P"},{"$f":"IF(Table9[[#This Row],[Part attained in v2?]],IF(Table9[[#This Row],[Type]]=\"Precondition\",\"Y\",Table9[[#This Row],[v2 points]]),0)","v":"Y"},{"$f":"VLOOKUP(Table9[[#This Row],[Feature]],Table5[],12,FALSE)","v":"Air"}]
["A01",5,{"$f":"CONCATENATE(Table6[[#This Row],[WELL v2 Feature]],\".\",Table6[[#This Row],[v2 Part]])","v":"A01.5"},18,null,null,null,null,{"$f":"IF('v1 Project Information'!$C$4=\"Core and Shell\",IF(Table6[[#This Row],[v2 Core Points (if less than max)]]>0,Table6[[#This Row],[v2 Core Points (if less than max)]],VLOOKUP(Table6[[#This Row],[v2 Feature.Part]],Table5[[Feature.Part]:[Points]],4,FALSE)),IF(Table6[[#This Row],[v2 WBS Points (if less than max)]]>0,Table6[[#This Row],[v2 WBS Points (if less than max)]],VLOOKUP(Table6[[#This Row],[v2 Feature.Part]],Table5[[Feature.Part]:[Points]],4,FALSE)))","v":"P"},{"$f":"VLOOKUP(Table6[[#This Row],[WELL v1 Feature 1]],Table4[],4,FALSE)","v":"N"},{"$f":"_xlfn.IFNA(VLOOKUP(Table6[[#This Row],[WELL v1 Feature 2]],Table4[],4,FALSE),\"Y\")","v":"Y"},{"$f":"_xlfn.IFNA(VLOOKUP(Table6[[#This Row],[WELL v1 Feature 3]],Table4[],4,FALSE),\"Y\")","v":"Y"},{"$f":"IF(COUNTIF(Table6[[#This Row],[v1 feature 1 attainment]:[v1 feature 3 attainment]],\"Y\")=3,TRUE,FALSE)","v":false},{"$f":"VLOOKUP(Table6[[#This Row],[WELL v2 Feature]],Table5[],7,FALSE)","v":1},{"$f":"VLOOKUP(Table6[[#This Row],[WELL v2 Feature]],Table5[],9,FALSE)","v":"P"},{"$f":"VLOOKUP(Table6[[#This Row],[WELL v2 Feature]],Table5[],10,FALSE)","v":0},{"$f":"VLOOKUP(Table6[[#This Row],[WELL v2 Feature]],Table5[],8,FALSE)","v":0},null,null,null,"A01",5,{"$f":"CONCATENATE(Table9[[#This Row],[Feature]],\".\",Table9[[#This Row],[Part]])","v":"A01.5"},{"$f":"VLOOKUP(Table9[[#This Row],[Feature]],Table5[],5,FALSE)","v":"Precondition"},{"$f":"NOT(ISNA(_xlfn.IFNA(VLOOKUP(Table9[[#This Row],[Feature.Part]],Table6[v2 Feature.Part],1,FALSE),VLOOKUP(CONCATENATE(Table9[[#This Row],[Feature]],\".\",\"All\"),Table6[v2 Feature.Part],1,FALSE))))","v":true},{"$f":"IF(Table9[[#This Row],[Part Covered in Skybridge?]],  IF(COUNTIFS(Table6[v2 Part attainment through these features?],TRUE,Table6[v2 Feature.Part],Table9[[#This Row],[Feature.Part]])>0,TRUE,FALSE),FALSE)","v":false},{"$f":"IF(Table9[[#This Row],[Part attained in v2?]],\nIF(Table9[[#This Row],[Feature]]=\"I01\",COUNTIFS(Table6[WELL v2 Feature],\"I01\",Table6[v1 feature 1 attainment],\"Y\"),\nVLOOKUP(Table9[[#This Row],[Feature.Part]],Table6[[v2 Feature.Part]:[Part points]],7,FALSE)),0)","v":0},{"$f":"IF(Table9[[#This Row],[Part attained in v2?]],IF(Table9[[#This Row],[Type]]=\"Precondition\",\"Y\",Table9[[#This Row],[v2 points]]),0)","v":0},{"$f":"VLOOKUP(Table9[[#This Row],[Feature]],Table5[],12,FALSE)","v":"Air"}]
["A02",1,{"$f":"CONCATENATE(Table6[[#This Row],[WELL v2 Feature]],\".\",Table6[[#This Row],[v2 Part]])","v":"A02.1"},2,null,null,null,null,{"$f":"IF('v1 Project Information'!$C$4=\"Core and Shell\",IF(Table6[[#This Row],[v2 Core Points (if less than max)]]>0,Table6[[#This Row],[v2 Core Points (if less than max)]],VLOOKUP(Table6[[#This Row],[v2 Feature.Part]],Table5[[Feature.Part]:[Points]],4,FALSE)),IF(Table6[[#This Row],[v2 WBS Points (if less than max)]]>0,Table6[[#This Row],[v2 WBS Points (if less than max)]],VLOOKUP(Table6[[#This Row],[v2 Feature.Part]],Table5[[Feature.Part]:[Points]],4,FALSE)))","v":"P"},{"$f":"VLOOKUP(Table6[[#This Row],[WELL v1 Feature 1]],Table4[],4,FALSE)","v":"Y"},{"$f":"_xlfn.IFNA(VLOOKUP(Table6[[#This Row],[WELL v1 Feature 2]],Table4[],4,FALSE),\"Y\")","v":"Y"},{"$f":"_xlfn.IFNA(VLOOKUP(Table6[[#This Row],[WELL v1 Feature 3]],Table4[],4,FALSE),\"Y\")","v":"Y"},{"$f":"IF(COUNTIF(Table6[[#This Row],[v1 feature 1 attainment]:[v1 feature 3 attainment]],\"Y\")=3,TRUE,FALSE)","v":true},{"$f":"VLOOKUP(Table6[[#This Row],[WELL v2 Feature]],Table5[],7,FALSE)","v":1},{"$f":"VLOOKUP(Table6[[#This Row],[WELL v2 Feature]],Table5[],9,FALSE)","v":"P"},{"$f":"VLOOKUP(Table6[[#This Row],[WELL v2 Feature]],Table5[],10,FALSE)","v":0},{"$f":"VLOOKUP(Table6[[#This Row],[WELL v2 Feature]],Table5[],8,FALSE)","v":0},null,null,null,"A02",1,{"$f":"CONCATENATE(Table9[[#This Row],[Feature]],\".\",Table9[[#This Row],[Part]])","v":"A02.1"},{"$f":"VLOOKUP(Table9[[#This Row],[Feature]],Table5[],5,FALSE)","v":"Precondition"},{"$f":"NOT(ISNA(_xlfn.IFNA(VLOOKUP(Table9[[#This Row],[Feature.Part]],Table6[v2 Feature.Part],1,FALSE),VLOOKUP(CONCATENATE(Table9[[#This Row],[Feature]],\".\",\"All\"),Table6[v2 Feature.Part],1,FALSE))))","v":true},{"$f":"IF(Table9[[#This Row],[Part Covered in Skybridge?]],  IF(COUNTIFS(Table6[v2 Part attainment through these features?],TRUE,Table6[v2 Feature.Part],Table9[[#This Row],[Feature.Part]])>0,TRUE,FALSE),FALSE)","v":true},{"$f":"IF(Table9[[#This Row],[Part attained in v2?]],\nIF(Table9[[#This Row],[Feature]]=\"I01\",COUNTIFS(Table6[WELL v2 Feature],\"I01\",Table6[v1 feature 1 attainment],\"Y\"),\nVLOOKUP(Table9[[#This Row],[Feature.Part]],Table6[[v2 Feature.Part]:[Part points]],7,FALSE)),0)","v":"P"},{"$f":"IF(Table9[[#This Row],[Part attained in v2?]],IF(Table9[[#This Row],[Type]]=\"Precondition\",\"Y\",Table9[[#This Row],[v2 points]]),0)","v":"Y"},{"$f":"VLOOKUP(Table9[[#This Row],[Feature]],Table5[],12,FALSE)","v":"Air"}]
["A02",2,{"$f":"CONCATENATE(Table6[[#This Row],[WELL v2 Feature]],\".\",Table6[[#This Row],[v2 Part]])","v":"A02.2"},2,null,null,null,null,{"$f":"IF('v1 Project Information'!$C$4=\"Core and Shell\",IF(Table6[[#This Row],[v2 Core Points (if less than max)]]>0,Table6[[#This Row],[v2 Core Points (if less than max)]],VLOOKUP(Table6[[#This Row],[v2 Feature.Part]],Table5[[Feature.Part]:[Points]],4,FALSE)),IF(Table6[[#This Row],[v2 WBS Points (if less than max)]]>0,Table6[[#This Row],[v2 WBS Points (if less than max)]],VLOOKUP(Table6[[#This Row],[v2 Feature.Part]],Table5[[Feature.Part]:[Points]],4,FALSE)))","v":"P"},{"$f":"VLOOKUP(Table6[[#This Row],[WELL v1 Feature 1]],Table4[],4,FALSE)","v":"Y"},{"$f":"_xlfn.IFNA(VLOOKUP(Table6[[#This Row],[WELL v1 Feature 2]],Table4[],4,FALSE),\"Y\")","v":"Y"},{"$f":"_xlfn.IFNA(VLOOKUP(Table6[[#This Row],[WELL v1 Feature 3]],Table4[],4,FALSE),\"Y\")","v":"Y"},{"$f":"IF(COUNTIF(Table6[[#This Row],[v1 feature 1 attainment]:[v1 feature 3 attainment]],\"Y\")=3,TRUE,FALSE)","v":true},{"$f":"VLOOKUP(Table6[[#This Row],[WELL v2 Feature]],Table5[],7,FALSE)","v":1},{"$f":"VLOOKUP(Table6[[#This Row],[WELL v2 Feature]],Table5[],9,FALSE)","v":"P"},{"$f":"VLOOKUP(Table6[[#This Row],[WELL v2 Feature]],Table5[],10,FALSE)","v":0},{"$f":"VLOOKUP(Table6[[#This Row],[WELL v2 Feature]],Table5[],8,FALSE)","v":0},null,null,null,"A02",2,{"$f":"CONCATENATE(Table9[[#This Row],[Feature]],\".\",Table9[[#This Row],[Part]])","v":"A02.2"},{"$f":"VLOOKUP(Table9[[#This Row],[Feature]],Table5[],5,FALSE)","v":"Precondition"},{"$f":"NOT(ISNA(_xlfn.IFNA(VLOOKUP(Table9[[#This Row],[Feature.Part]],Table6[v2 Feature.Part],1,FALSE),VLOOKUP(CONCATENATE(Table9[[#This Row],[Feature]],\".\",\"All\"),Table6[v2 Feature.Part],1,FALSE))))","v":true},{"$f":"IF(Table9[[#This Row],[Part Covered in Skybridge?]],  IF(COUNTIFS(Table6[v2 Part attainment through these features?],TRUE,Table6[v2 Feature.Part],Table9[[#This Row],[Feature.Part]])>0,TRUE,FALSE),FALSE)","v":true},{"$f":"IF(Table9[[#This Row],[Part attained in v2?]],\nIF(Table9[[#This Row],[Feature]]=\"I01\",COUNTIFS(Table6[WELL v2 Feature],\"I01\",Table6[v1 feature 1 attainment],\"Y\"),\nVLOOKUP(Table9[[#This Row],[Feature.Part]],Table6[[v2 Feature.Part]:[Part points]],7,FALSE)),0)","v":"P"},{"$f":"IF(Table9[[#This Row],[Part attained in v2?]],IF(Table9[[#This Row],[Type]]=\"Precondition\",\"Y\",Table9[[#This Row],[v2 points]]),0)","v":"Y"},{"$f":"VLOOKUP(Table9[[#This Row],[Feature]],Table5[],12,FALSE)","v":"Air"}]
["A03",1,{"$f":"CONCATENATE(Table6[[#This Row],[WELL v2 Feature]],\".\",Table6[[#This Row],[v2 Part]])","v":"A03.1"},3,null,null,null,null,{"$f":"IF('v1 Project Information'!$C$4=\"Core and Shell\",IF(Table6[[#This Row],[v2 Core Points (if less than max)]]>0,Table6[[#This Row],[v2 Core Points (if less than max)]],VLOOKUP(Table6[[#This Row],[v2 Feature.Part]],Table5[[Feature.Part]:[Points]],4,FALSE)),IF(Table6[[#This Row],[v2 WBS Points (if less than max)]]>0,Table6[[#This Row],[v2 WBS Points (if less than max)]],VLOOKUP(Table6[[#This Row],[v2 Feature.Part]],Table5[[Feature.Part]:[Points]],4,FALSE)))","v":"P"},{"$f":"VLOOKUP(Table6[[#This Row],[WELL v1 Feature 1]],Table4[],4,FALSE)","v":"Y"},{"$f":"_xlfn.IFNA(VLOOKUP(Table6[[#This Row],[WELL v1 Feature 2]],Table4[],4,FALSE),\"Y\")","v":"Y"},{"$f":"_xlfn.IFNA(VLOOKUP(Table6[[#This Row],[WELL v1 Feature 3]],Table4[],4,FALSE),\"Y\")","v":"Y"},{"$f":"IF(COUNTIF(Table6[[#This Row],[v1 feature 1 attainment]:[v1 feature 3 attainment]],\"Y\")=3,TRUE,FALSE)","v":true},{"$f":"VLOOKUP(Table6[[#This Row],[WELL v2 Feature]],Table5[],7,FALSE)","v":1},{"$f":"VLOOKUP(Table6[[#This Row],[WELL v2 Feature]],Table5[],9,FALSE)","v":"P"},{"$f":"VLOOKUP(Table6[[#This Row],[WELL v2 Feature]],Table5[],10,FALSE)","v":0},{"$f":"VLOOKUP(Table6[[#This Row],[WELL v2 Feature]],Table5[],8,FALSE)","v":0},null,null,null,"A03",1,{"$f":"CONCATENATE(Table9[[#This Row],[Feature]],\".\",Table9[[#This Row],[Part]])","v":"A03.1"},{"$f":"VLOOKUP(Table9[[#This Row],[Feature]],Table5[],5,FALSE)","v":"Precondition"},{"$f":"NOT(ISNA(_xlfn.IFNA(VLOOKUP(Table9[[#This Row],[Feature.Part]],Table6[v2 Feature.Part],1,FALSE),VLOOKUP(CONCATENATE(Table9[[#This Row],[Feature]],\".\",\"All\"),Table6[v2 Feature.Part],1,FALSE))))","v":true},{"$f":"IF(Table9[[#This Row],[Part Covered in Skybridge?]],  IF(COUNTIFS(Table6[v2 Part attainment through these features?],TRUE,Table6[v2 Feature.Part],Table9[[#This Row],[Feature.Part]])>0,TRUE,FALSE),FALSE)","v":true},{"$f":"IF(Table9[[#This Row],[Part attained in v2?]],\nIF(Table9[[#This Row],[Feature]]=\"I01\",COUNTIFS(Table6[WELL v2 Feature],\"I01\",Table6[v1 feature 1 attainment],\"Y\"),\nVLOOKUP(Table9[[#This Row],[Feature.Part]],Table6[[v2 Feature.Part]:[Part points]],7,FALSE)),0)","v":"P"},{"$f":"IF(Table9[[#This Row],[Part attained in v2?]],IF(Table9[[#This Row],[Type]]=\"Precondition\",\"Y\",Table9[[#This Row],[v2 points]]),0)","v":"Y"},{"$f":"VLOOKUP(Table9[[#This Row],[Feature]],Table5[],12,FALSE)","v":"Air"}]
["A04",1,{"$f":"CONCATENATE(Table6[[#This Row],[WELL v2 Feature]],\".\",Table6[[#This Row],[v2 Part]])","v":"A04.1"},7,null,null,null,null,{"$f":"IF('v1 Project Information'!$C$4=\"Core and Shell\",IF(Table6[[#This Row],[v2 Core Points (if less than max)]]>0,Table6[[#This Row],[v2 Core Points (if less than max)]],VLOOKUP(Table6[[#This Row],[v2 Feature.Part]],Table5[[Feature.Part]:[Points]],4,FALSE)),IF(Table6[[#This Row],[v2 WBS Points (if less than max)]]>0,Table6[[#This Row],[v2 WBS Points (if less than max)]],VLOOKUP(Table6[[#This Row],[v2 Feature.Part]],Table5[[Feature.Part]:[Points]],4,FALSE)))","v":"P"},{"$f":"VLOOKUP(Table6[[#This Row],[WELL v1 Feature 1]],Table4[],4,FALSE)","v":"Y"},{"$f":"_xlfn.IFNA(VLOOKUP(Table6[[#This Row],[WELL v1 Feature 2]],Table4[],4,FALSE),\"Y\")","v":"Y"},{"$f":"_xlfn.IFNA(VLOOKUP(Table6[[#This Row],[WELL v1 Feature 3]],Table4[],4,FALSE),\"Y\")","v":"Y"},{"$f":"IF(COUNTIF(Table6[[#This Row],[v1 feature 1 attainment]:[v1 feature 3 attainment]],\"Y\")=3,TRUE,FALSE)","v":true},{"$f":"VLOOKUP(Table6[[#This Row],[WELL v2 Feature]],Table5[],7,FALSE)","v":1},{"$f":"VLOOKUP(Table6[[#This Row],[WELL v2 Feature]],Table5[],9,FALSE)","v":"P"},{"$f":"VLOOKUP(Table6[[#This Row],[WELL v2 Feature]],Table5[],10,FALSE)","v":0},{"$f":"VLOOKUP(Table6[[#This Row],[WELL v2 Feature]],Table5[],8,FALSE)","v":0},null,null,null,"A04",1,{"$f":"CONCATENATE(Table9[[#This Row],[Feature]],\".\",Table9[[#This Row],[Part]])","v":"A04.1"},{"$f":"VLOOKUP(Table9[[#This Row],[Feature]],Table5[],5,FALSE)","v":"Precondition"},{"$f":"NOT(ISNA(_xlfn.IFNA(VLOOKUP(Table9[[#This Row],[Feature.Part]],Table6[v2 Feature.Part],1,FALSE),VLOOKUP(CONCATENATE(Table9[[#This Row],[Feature]],\".\",\"All\"),Table6[v2 Feature.Part],1,FALSE))))","v":true},{"$f":"IF(Table9[[#This Row],[Part Covered in Skybridge?]],  IF(COUNTIFS(Table6[v2 Part attainment through these features?],TRUE,Table6[v2 Feature.Part],Table9[[#This Row],[Feature.Part]])>0,TRUE,FALSE),FALSE)","v":true},{"$f":"IF(Table9[[#This Row],[Part attained in v2?]],\nIF(Table9[[#This Row],[Feature]]=\"I01\",COUNTIFS(Table6[WELL v2 Feature],\"I01\",Table6[v1 feature 1 attainment],\"Y\"),\nVLOOKUP(Table9[[#This Row],[Feature.Part]],Table6[[v2 Feature.Part]:[Part points]],7,FALSE)),0)","v":"P"},{"$f":"IF(Table9[[#This Row],[Part attained in v2?]],IF(Table9[[#This Row],[Type]]=\"Precondition\",\"Y\",Table9[[#This Row],[v2 points]]),0)","v":"Y"},{"$f":"VLOOKUP(Table9[[#This Row],[Feature]],Table5[],12,FALSE)","v":"Air"}]
["A04",1,{"$f":"CONCATENATE(Table6[[#This Row],[WELL v2 Feature]],\".\",Table6[[#This Row],[v2 Part]])","v":"A04.1"},24,13,null,null,null,{"$f":"IF('v1 Project Information'!$C$4=\"Core and Shell\",IF(Table6[[#This Row],[v2 Core Points (if less than max)]]>0,Table6[[#This Row],[v2 Core Points (if less than max)]],VLOOKUP(Table6[[#This Row],[v2 Feature.Part]],Table5[[Feature.Part]:[Points]],4,FALSE)),IF(Table6[[#This Row],[v2 WBS Points (if less than max)]]>0,Table6[[#This Row],[v2 WBS Points (if less than max)]],VLOOKUP(Table6[[#This Row],[v2 Feature.Part]],Table5[[Feature.Part]:[Points]],4,FALSE)))","v":"P"},{"$f":"VLOOKUP(Table6[[#This Row],[WELL v1 Feature 1]],Table4[],4,FALSE)","v":"N"},{"$f":"_xlfn.IFNA(VLOOKUP(Table6[[#This Row],[WELL v1 Feature 2]],Table4[],4,FALSE),\"Y\")","v":"N"},{"$f":"_xlfn.IFNA(VLOOKUP(Table6[[#This Row],[WELL v1 Feature 3]],Table4[],4,FALSE),\"Y\")","v":"Y"},{"$f":"IF(COUNTIF(Table6[[#This Row],[v1 feature 1 attainment]:[v1 feature 3 attainment]],\"Y\")=3,TRUE,FALSE)","v":false},{"$f":"VLOOKUP(Table6[[#This Row],[WELL v2 Feature]],Table5[],7,FALSE)","v":1},{"$f":"VLOOKUP(Table6[[#This Row],[WELL v2 Feature]],Table5[],9,FALSE)","v":"P"},{"$f":"VLOOKUP(Table6[[#This Row],[WELL v2 Feature]],Table5[],10,FALSE)","v":0},{"$f":"VLOOKUP(Table6[[#This Row],[WELL v2 Feature]],Table5[],8,FALSE)","v":0},null,null,null,"A05",1,{"$f":"CONCATENATE(Table9[[#This Row],[Feature]],\".\",Table9[[#This Row],[Part]])","v":"A05.1"},{"$f":"VLOOKUP(Table9[[#This Row],[Feature]],Table5[],5,FALSE)","v":"Optimization"},{"$f":"NOT(ISNA(_xlfn.IFNA(VLOOKUP(Table9[[#This Row],[Feature.Part]],Table6[v2 Feature.Part],1,FALSE),VLOOKUP(CONCATENATE(Table9[[#This Row],[Feature]],\".\",\"All\"),Table6[v2 Feature.Part],1,FALSE))))","v":false},{"$f":"IF(Table9[[#This Row],[Part Covered in Skybridge?]],  IF(COUNTIFS(Table6[v2 Part attainment through these features?],TRUE,Table6[v2 Feature.Part],Table9[[#This Row],[Feature.Part]])>0,TRUE,FALSE),FALSE)","v":false},{"$f":"IF(Table9[[#This Row],[Part attained in v2?]],\nIF(Table9[[#This Row],[Feature]]=\"I01\",COUNTIFS(Table6[WELL v2 Feature],\"I01\",Table6[v1 feature 1 attainment],\"Y\"),\nVLOOKUP(Table9[[#This Row],[Feature.Part]],Table6[[v2 Feature.Part]:[Part points]],7,FALSE)),0)","v":0},{"$f":"IF(Table9[[#This Row],[Part attained in v2?]],IF(Table9[[#This Row],[Type]]=\"Precondition\",\"Y\",Table9[[#This Row],[v2 points]]),0)","v":0},{"$f":"VLOOKUP(Table9[[#This Row],[Feature]],Table5[],12,FALSE)","v":"Air"}]
["A06",1,{"$f":"CONCATENATE(Table6[[#This Row],[WELL v2 Feature]],\".\",Table6[[#This Row],[v2 Part]])","v":"A06.1"},15,null,null,null,3,{"$f":"IF('v1 Project Information'!$C$4=\"Core and Shell\",IF(Table6[[#This Row],[v2 Core Points (if less than max)]]>0,Table6[[#This Row],[v2 Core Points (if less than max)]],VLOOKUP(Table6[[#This Row],[v2 Feature.Part]],Table5[[Feature.Part]:[Points]],4,FALSE)),IF(Table6[[#This Row],[v2 WBS Points (if less than max)]]>0,Table6[[#This Row],[v2 WBS Points (if less than max)]],VLOOKUP(Table6[[#This Row],[v2 Feature.Part]],Table5[[Feature.Part]:[Points]],4,FALSE)))","v":2},{"$f":"VLOOKUP(Table6[[#This Row],[WELL v1 Feature 1]],Table4[],4,FALSE)","v":"N"},{"$f":"_xlfn.IFNA(VLOOKUP(Table6[[#This Row],[WELL v1 Feature 2]],Table4[],4,FALSE),\"Y\")","v":"Y"},{"$f":"_xlfn.IFNA(VLOOKUP(Table6[[#This Row],[WELL v1 Feature 3]],Table4[],4,FALSE),\"Y\")","v":"Y"},{"$f":"IF(COUNTIF(Table6[[#This Row],[v1 feature 1 attainment]:[v1 feature 3 attainment]],\"Y\")=3,TRUE,FALSE)","v":false},{"$f":"VLOOKUP(Table6[[#This Row],[WELL v2 Feature]],Table5[],7,FALSE)","v":1},{"$f":"VLOOKUP(Table6[[#This Row],[WELL v2 Feature]],Table5[],9,FALSE)","v":3},{"$f":"VLOOKUP(Table6[[#This Row],[WELL v2 Feature]],Table5[],10,FALSE)","v":0},{"$f":"VLOOKUP(Table6[[#This Row],[WELL v2 Feature]],Table5[],8,FALSE)","v":"Bonus"},null,null,null,"A05",2,{"$f":"CONCATENATE(Table9[[#This Row],[Feature]],\".\",Table9[[#This Row],[Part]])","v":"A05.2"},{"$f":"VLOOKUP(Table9[[#This Row],[Feature]],Table5[],5,FALSE)","v":"Optimization"},{"$f":"NOT(ISNA(_xlfn.IFNA(VLOOKUP(Table9[[#This Row],[Feature.Part]],Table6[v2 Feature.Part],1,FALSE),VLOOKUP(CONCATENATE(Table9[[#This Row],[Feature]],\".\",\"All\"),Table6[v2 Feature.Part],1,FALSE))))","v":false},{"$f":"IF(Table9[[#This Row],[Part Covered in Skybridge?]],  IF(COUNTIFS(Table6[v2 Part attainment through these features?],TRUE,Table6[v2 Feature.Part],Table9[[#This Row],[Feature.Part]])>0,TRUE,FALSE),FALSE)","v":false},{"$f":"IF(Table9[[#This Row],[Part attained in v2?]],\nIF(Table9[[#This Row],[Feature]]=\"I01\",COUNTIFS(Table6[WELL v2 Feature],\"I01\",Table6[v1 feature 1 attainment],\"Y\"),\nVLOOKUP(Table9[[#This Row],[Feature.Part]],Table6[[v2 Feature.Part]:[Part points]],7,FALSE)),0)","v":0},{"$f":"IF(Table9[[#This Row],[Part attained in v2?]],IF(Table9[[#This Row],[Type]]=\"Precondition\",\"Y\",Table9[[#This Row],[v2 points]]),0)","v":0},{"$f":"VLOOKUP(Table9[[#This Row],[Feature]],Table5[],12,FALSE)","v":"Air"}]
["A06",2,{"$f":"CONCATENATE(Table6[[#This Row],[WELL v2 Feature]],\".\",Table6[[#This Row],[v2 Part]])","v":"A06.2"},21,null,null,null,2,{"$f":"IF('v1 Project Information'!$C$4=\"Core and Shell\",IF(Table6[[#This Row],[v2 Core Points (if less than max)]]>0,Table6[[#This Row],[v2 Core Points (if less than max)]],VLOOKUP(Table6[[#This Row],[v2 Feature.Part]],Table5[[Feature.Part]:[Points]],4,FALSE)),IF(Table6[[#This Row],[v2 WBS Points (if less than max)]]>0,Table6[[#This Row],[v2 WBS Points (if less than max)]],VLOOKUP(Table6[[#This Row],[v2 Feature.Part]],Table5[[Feature.Part]:[Points]],4,FALSE)))","v":1},{"$f":"VLOOKUP(Table6[[#This Row],[WELL v1 Feature 1]],Table4[],4,FALSE)","v":"N"},{"$f":"_xlfn.IFNA(VLOOKUP(Table6[[#This Row],[WELL v1 Feature 2]],Table4[],4,FALSE),\"Y\")","v":"Y"},{"$f":"_xlfn.IFNA(VLOOKUP(Table6[[#This Row],[WELL v1 Feature 3]],Table4[],4,FALSE),\"Y\")","v":"Y"},{"$f":"IF(COUNTIF(Table6[[#This Row],[v1 feature 1 attainment]:[v1 feature 3 attainment]],\"Y\")=3,TRUE,FALSE)","v":false},{"$f":"VLOOKUP(Table6[[#This Row],[WELL v2 Feature]],Table5[],7,FALSE)","v":1},{"$f":"VLOOKUP(Table6[[#This Row],[WELL v2 Feature]],Table5[],9,FALSE)","v":3},{"$f":"VLOOKUP(Table6[[#This Row],[WELL v2 Feature]],Table5[],10,FALSE)","v":0},{"$f":"VLOOKUP(Table6[[#This Row],[WELL v2 Feature]],Table5[],8,FALSE)","v":"Bonus"},null,null,null,"A05",3,{"$f":"CONCATENATE(Table9[[#This Row],[Feature]],\".\",Table9[[#This Row],[Part]])","v":"A05.3"},{"$f":"VLOOKUP(Table9[[#This Row],[Feature]],Table5[],5,FALSE)","v":"Optimization"},{"$f":"NOT(ISNA(_xlfn.IFNA(VLOOKUP(Table9[[#This Row],[Feature.Part]],Table6[v2 Feature.Part],1,FALSE),VLOOKUP(CONCATENATE(Table9[[#This Row],[Feature]],\".\",\"All\"),Table6[v2 Feature.Part],1,FALSE))))","v":false},{"$f":"IF(Table9[[#This Row],[Part Covered in Skybridge?]],  IF(COUNTIFS(Table6[v2 Part attainment through these features?],TRUE,Table6[v2 Feature.Part],Table9[[#This Row],[Feature.Part]])>0,TRUE,FALSE),FALSE)","v":false},{"$f":"IF(Table9[[#This Row],[Part attained in v2?]],\nIF(Table9[[#This Row],[Feature]]=\"I01\",COUNTIFS(Table6[WELL v2 Feature],\"I01\",Table6[v1 feature 1 attainment],\"Y\"),\nVLOOKUP(Table9[[#This Row],[Feature.Part]],Table6[[v2 Feature.Part]:[Part points]],7,FALSE)),0)","v":0},{"$f":"IF(Table9[[#This Row],[Part attained in v2?]],IF(Table9[[#This Row],[Type]]=\"Precondition\",\"Y\",Table9[[#This Row],[v2 points]]),0)","v":0},{"$f":"VLOOKUP(Table9[[#This Row],[Feature]],Table5[],12,FALSE)","v":"Air"}]
["A07",1,{"$f":"CONCATENATE(Table6[[#This Row],[WELL v2 Feature]],\".\",Table6[[#This Row],[v2 Part]])","v":"A07.1"},19,null,null,null,2,{"$f":"IF('v1 Project Information'!$C$4=\"Core and Shell\",IF(Table6[[#This Row],[v2 Core Points (if less than max)]]>0,Table6[[#This Row],[v2 Core Points (if less than max)]],VLOOKUP(Table6[[#This Row],[v2 Feature.Part]],Table5[[Feature.Part]:[Points]],4,FALSE)),IF(Table6[[#This Row],[v2 WBS Points (if less than max)]]>0,Table6[[#This Row],[v2 WBS Points (if less than max)]],VLOOKUP(Table6[[#This Row],[v2 Feature.Part]],Table5[[Feature.Part]:[Points]],4,FALSE)))","v":1},{"$f":"VLOOKUP(Table6[[#This Row],[WELL v1 Feature 1]],Table4[],4,FALSE)","v":"N"},{"$f":"_xlfn.IFNA(VLOOKUP(Table6[[#This Row],[WELL v1 Feature 2]],Table4[],4,FALSE),\"Y\")","v":"Y"},{"$f":"_xlfn.IFNA(VLOOKUP(Table6[[#This Row],[WELL v1 Feature 3]],Table4[],4,FALSE),\"Y\")","v":"Y"},{"$f":"IF(COUNTIF(Table6[[#This Row],[v1 feature 1 attainment]:[v1 feature 3 attainment]],\"Y\")=3,TRUE,FALSE)","v":false},{"$f":"VLOOKUP(Table6[[#This Row],[WELL v2 Feature]],Table5[],7,FALSE)","v":1},{"$f":"VLOOKUP(Table6[[#This Row],[WELL v2 Feature]],Table5[],9,FALSE)","v":2},{"$f":"VLOOKUP(Table6[[#This Row],[WELL v2 Feature]],Table5[],10,FALSE)","v":0},{"$f":"VLOOKUP(Table6[[#This Row],[WELL v2 Feature]],Table5[],8,FALSE)","v":"Bonus"},null,null,null,"A06",1,{"$f":"CONCATENATE(Table9[[#This Row],[Feature]],\".\",Table9[[#This Row],[Part]])","v":"A06.1"},{"$f":"VLOOKUP(Table9[[#This Row],[Feature]],Table5[],5,FALSE)","v":"Optimization"},{"$f":"NOT(ISNA(_xlfn.IFNA(VLOOKUP(Table9[[#This Row],[Feature.Part]],Table6[v2 Feature.Part],1,FALSE),VLOOKUP(CONCATENATE(Table9[[#This Row],[Feature]],\".\",\"All\"),Table6[v2 Feature.Part],1,FALSE))))","v":true},{"$f":"IF(Table9[[#This Row],[Part Covered in Skybridge?]],  IF(COUNTIFS(Table6[v2 Part attainment through these features?],TRUE,Table6[v2 Feature.Part],Table9[[#This Row],[Feature.Part]])>0,TRUE,FALSE),FALSE)","v":false},{"$f":"IF(Table9[[#This Row],[Part attained in v2?]],\nIF(Table9[[#This Row],[Feature]]=\"I01\",COUNTIFS(Table6[WELL v2 Feature],\"I01\",Table6[v1 feature 1 attainment],\"Y\"),\nVLOOKUP(Table9[[#This Row],[Feature.Part]],Table6[[v2 Feature.Part]:[Part points]],7,FALSE)),0)","v":0},{"$f":"IF(Table9[[#This Row],[Part attained in v2?]],IF(Table9[[#This Row],[Type]]=\"Precondition\",\"Y\",Table9[[#This Row],[v2 points]]),0)","v":0},{"$f":"VLOOKUP(Table9[[#This Row],[Feature]],Table5[],12,FALSE)","v":"Air"}]
["A07",2,{"$f":"CONCATENATE(Table6[[#This Row],[WELL v2 Feature]],\".\",Table6[[#This Row],[v2 Part]])","v":"A07.2"},19,null,null,null,2,{"$f":"IF('v1 Project Information'!$C$4=\"Core and Shell\",IF(Table6[[#This Row],[v2 Core Points (if less than max)]]>0,Table6[[#This Row],[v2 Core Points (if less than max)]],VLOOKUP(Table6[[#This Row],[v2 Feature.Part]],Table5[[Feature.Part]:[Points]],4,FALSE)),IF(Table6[[#This Row],[v2 WBS Points (if less than max)]]>0,Table6[[#This Row],[v2 WBS Points (if less than max)]],VLOOKUP(Table6[[#This Row],[v2 Feature.Part]],Table5[[Feature.Part]:[Points]],4,FALSE)))","v":1},{"$f":"VLOOKUP(Table6[[#This Row],[WELL v1 Feature 1]],Table4[],4,FALSE)","v":"N"},{"$f":"_xlfn.IFNA(VLOOKUP(Table6[[#This Row],[WELL v1 Feature 2]],Table4[],4,FALSE),\"Y\")","v":"Y"},{"$f":"_xlfn.IFNA(VLOOKUP(Table6[[#This Row],[WELL v1 Feature 3]],Table4[],4,FALSE),\"Y\")","v":"Y"},{"$f":"IF(COUNTIF(Table6[[#This Row],[v1 feature 1 attainment]:[v1 feature 3 attainment]],\"Y\")=3,TRUE,FALSE)","v":false},{"$f":"VLOOKUP(Table6[[#This Row],[WELL v2 Feature]],Table5[],7,FALSE)","v":1},{"$f":"VLOOKUP(Table6[[#This Row],[WELL v2 Feature]],Table5[],9,FALSE)","v":2},{"$f":"VLOOKUP(Table6[[#This Row],[WELL v2 Feature]],Table5[],10,FALSE)","v":0},{"$f":"VLOOKUP(Table6[[#This Row],[WELL v2 Feature]],Table5[],8,FALSE)","v":"Bonus"},null,null,null,"A06",2,{"$f":"CONCATENATE(Table9[[#This Row],[Feature]],\".\",Table9[[#This Row],[Part]])","v":"A06.2"},{"$f":"VLOOKUP(Table9[[#This Row],[Feature]],Table5[],5,FALSE)","v":"Optimization"},{"$f":"NOT(ISNA(_xlfn.IFNA(VLOOKUP(Table9[[#This Row],[Feature.Part]],Table6[v2 Feature.Part],1,FALSE),VLOOKUP(CONCATENATE(Table9[[#This Row],[Feature]],\".\",\"All\"),Table6[v2 Feature.Part],1,FALSE))))","v":true},{"$f":"IF(Table9[[#This Row],[Part Covered in Skybridge?]],  IF(COUNTIFS(Table6[v2 Part attainment through these features?],TRUE,Table6[v2 Feature.Part],Table9[[#This Row],[Feature.Part]])>0,TRUE,FALSE),FALSE)","v":false},{"$f":"IF(Table9[[#This Row],[Part attained in v2?]],\nIF(Table9[[#This Row],[Feature]]=\"I01\",COUNTIFS(Table6[WELL v2 Feature],\"I01\",Table6[v1 feature 1 attainment],\"Y\"),\nVLOOKUP(Table9[[#This Row],[Feature.Part]],Table6[[v2 Feature.Part]:[Part points]],7,FALSE)),0)","v":0},{"$f":"IF(Table9[[#This Row],[Part attained in v2?]],IF(Table9[[#This Row],[Type]]=\"Precondition\",\"Y\",Table9[[#This Row],[v2 points]]),0)","v":0},{"$f":"VLOOKUP(Table9[[#This Row],[Feature]],Table5[],12,FALSE)","v":"Air"}]
["A08",1,{"$f":"CONCATENATE(Table6[[#This Row],[WELL v2 Feature]],\".\",Table6[[#This Row],[v2 Part]])","v":"A08.1"},18,null,null,null,0.5,{"$f":"IF('v1 Project Information'!$C$4=\"Core and Shell\",IF(Table6[[#This Row],[v2 Core Points (if less than max)]]>0,Table6[[#This Row],[v2 Core Points (if less than max)]],VLOOKUP(Table6[[#This Row],[v2 Feature.Part]],Table5[[Feature.Part]:[Points]],4,FALSE)),IF(Table6[[#This Row],[v2 WBS Points (if less than max)]]>0,Table6[[#This Row],[v2 WBS Points (if less than max)]],VLOOKUP(Table6[[#This Row],[v2 Feature.Part]],Table5[[Feature.Part]:[Points]],4,FALSE)))","v":1},{"$f":"VLOOKUP(Table6[[#This Row],[WELL v1 Feature 1]],Table4[],4,FALSE)","v":"N"},{"$f":"_xlfn.IFNA(VLOOKUP(Table6[[#This Row],[WELL v1 Feature 2]],Table4[],4,FALSE),\"Y\")","v":"Y"},{"$f":"_xlfn.IFNA(VLOOKUP(Table6[[#This Row],[WELL v1 Feature 3]],Table4[],4,FALSE),\"Y\")","v":"Y"},{"$f":"IF(COUNTIF(Table6[[#This Row],[v1 feature 1 attainment]:[v1 feature 3 attainment]],\"Y\")=3,TRUE,FALSE)","v":false},{"$f":"VLOOKUP(Table6[[#This Row],[WELL v2 Feature]],Table5[],7,FALSE)","v":1},{"$f":"VLOOKUP(Table6[[#This Row],[WELL v2 Feature]],Table5[],9,FALSE)","v":0.5},{"$f":"VLOOKUP(Table6[[#This Row],[WELL v2 Feature]],Table5[],10,FALSE)","v":1},{"$f":"VLOOKUP(Table6[[#This Row],[WELL v2 Feature]],Table5[],8,FALSE)","v":"Limit"},null,null,null,"A07",1,{"$f":"CONCATENATE(Table9[[#This Row],[Feature]],\".\",Table9[[#This Row],[Part]])","v":"A07.1"},{"$f":"VLOOKUP(Table9[[#This Row],[Feature]],Table5[],5,FALSE)","v":"Optimization"},{"$f":"NOT(ISNA(_xlfn.IFNA(VLOOKUP(Table9[[#This Row],[Feature.Part]],Table6[v2 Feature.Part],1,FALSE),VLOOKUP(CONCATENATE(Table9[[#This Row],[Feature]],\".\",\"All\"),Table6[v2 Feature.Part],1,FALSE))))","v":true},{"$f":"IF(Table9[[#This Row],[Part Covered in Skybridge?]],  IF(COUNTIFS(Table6[v2 Part attainment through these features?],TRUE,Table6[v2 Feature.Part],Table9[[#This Row],[Feature.Part]])>0,TRUE,FALSE),FALSE)","v":false},{"$f":"IF(Table9[[#This Row],[Part attained in v2?]],\nIF(Table9[[#This Row],[Feature]]=\"I01\",COUNTIFS(Table6[WELL v2 Feature],\"I01\",Table6[v1 feature 1 attainment],\"Y\"),\nVLOOKUP(Table9[[#This Row],[Feature.Part]],Table6[[v2 Feature.Part]:[Part points]],7,FALSE)),0)","v":0},{"$f":"IF(Table9[[#This Row],[Part attained in v2?]],IF(Table9[[#This Row],[Type]]=\"Precondition\",\"Y\",Table9[[#This Row],[v2 points]]),0)","v":0},{"$f":"VLOOKUP(Table9[[#This Row],[Feature]],Table5[],12,FALSE)","v":"Air"}]
["A08",2,{"$f":"CONCATENATE(Table6[[#This Row],[WELL v2 Feature]],\".\",Table6[[#This Row],[v2 Part]])","v":"A08.2"},18,null,null,null,1,{"$f":"IF('v1 Project Information'!$C$4=\"Core and Shell\",IF(Table6[[#This Row],[v2 Core Points (if less than max)]]>0,Table6[[#This Row],[v2 Core Points (if less than max)]],VLOOKUP(Table6[[#This Row],[v2 Feature.Part]],Table5[[Feature.Part]:[Points]],4,FALSE)),IF(Table6[[#This Row],[v2 WBS Points (if less than max)]]>0,Table6[[#This Row],[v2 WBS Points (if less than max)]],VLOOKUP(Table6[[#This Row],[v2 Feature.Part]],Table5[[Feature.Part]:[Points]],4,FALSE)))","v":1},{"$f":"VLOOKUP(Table6[[#This Row],[WELL v1 Feature 1]],Table4[],4,FALSE)","v":"N"},{"$f":"_xlfn.IFNA(VLOOKUP(Table6[[#This Row],[WELL v1 Feature 2]],Table4[],4,FALSE),\"Y\")","v":"Y"},{"$f":"_xlfn.IFNA(VLOOKUP(Table6[[#This Row],[WELL v1 Feature 3]],Table4[],4,FALSE),\"Y\")","v":"Y"},{"$f":"IF(COUNTIF(Table6[[#This Row],[v1 feature 1 attainment]:[v1 feature 3 attainment]],\"Y\")=3,TRUE,FALSE)","v":false},{"$f":"VLOOKUP(Table6[[#This Row],[WELL v2 Feature]],Table5[],7,FALSE)","v":1},{"$f":"VLOOKUP(Table6[[#This Row],[WELL v2 Feature]],Table5[],9,FALSE)","v":0.5},{"$f":"VLOOKUP(Table6[[#This Row],[WELL v2 Feature]],Table5[],10,FALSE)","v":1},{"$f":"VLOOKUP(Table6[[#This Row],[WELL v2 Feature]],Table5[],8,FALSE)","v":"Limit"},null,null,null,"A07",2,{"$f":"CONCATENATE(Table9[[#This Row],[Feature]],\".\",Table9[[#This Row],[Part]])","v":"A07.2"},{"$f":"VLOOKUP(Table9[[#This Row],[Feature]],Table5[],5,FALSE)","v":"Optimization"},{"$f":"NOT(ISNA(_xlfn.IFNA(VLOOKUP(Table9[[#This Row],[Feature.Part]],Table6[v2 Feature.Part],1,FALSE),VLOOKUP(CONCATENATE(Table9[[#This Row],[Feature]],\".\",\"All\"),Table6[v2 Feature.Part],1,FALSE))))","v":true},{"$f":"IF(Table9[[#This Row],[Part Covered in Skybridge?]],  IF(COUNTIFS(Table6[v2 Part attainment through these features?],TRUE,Table6[v2 Feature.Part],Table9[[#This Row],[Feature.Part]])>0,TRUE,FALSE),FALSE)","v":false},{"$f":"IF(Table9[[#This Row],[Part attained in v2?]],\nIF(Table9[[#This Row],[Feature]]=\"I01\",COUNTIFS(Table6[WELL v2 Feature],\"I01\",Table6[v1 feature 1 attainment],\"Y\"),\nVLOOKUP(Table9[[#This Row],[Feature.Part]],Table6[[v2 Feature.Part]:[Part points]],7,FALSE)),0)","v":0},{"$f":"IF(Table9[[#This Row],[Part attained in v2?]],IF(Table9[[#This Row],[Type]]=\"Precondition\",\"Y\",Table9[[#This Row],[v2 points]]),0)","v":0},{"$f":"VLOOKUP(Table9[[#This Row],[Feature]],Table5[],12,FALSE)","v":"Air"}]
["A09",1,{"$f":"CONCATENATE(Table6[[#This Row],[WELL v2 Feature]],\".\",Table6[[#This Row],[v2 Part]])","v":"A09.1"},8,null,null,null,2,{"$f":"IF('v1 Project Information'!$C$4=\"Core and Shell\",IF(Table6[[#This Row],[v2 Core Points (if less than max)]]>0,Table6[[#This Row],[v2 Core Points (if less than max)]],VLOOKUP(Table6[[#This Row],[v2 Feature.Part]],Table5[[Feature.Part]:[Points]],4,FALSE)),IF(Table6[[#This Row],[v2 WBS Points (if less than max)]]>0,Table6[[#This Row],[v2 WBS Points (if less than max)]],VLOOKUP(Table6[[#This Row],[v2 Feature.Part]],Table5[[Feature.Part]:[Points]],4,FALSE)))","v":1},{"$f":"VLOOKUP(Table6[[#This Row],[WELL v1 Feature 1]],Table4[],4,FALSE)","v":"Y"},{"$f":"_xlfn.IFNA(VLOOKUP(Table6[[#This Row],[WELL v1 Feature 2]],Table4[],4,FALSE),\"Y\")","v":"Y"},{"$f":"_xlfn.IFNA(VLOOKUP(Table6[[#This Row],[WELL v1 Feature 3]],Table4[],4,FALSE),\"Y\")","v":"Y"},{"$f":"IF(COUNTIF(Table6[[#This Row],[v1 feature 1 attainment]:[v1 feature 3 attainment]],\"Y\")=3,TRUE,FALSE)","v":true},{"$f":"VLOOKUP(Table6[[#This Row],[WELL v2 Feature]],Table5[],7,FALSE)","v":1},{"$f":"VLOOKUP(Table6[[#This Row],[WELL v2 Feature]],Table5[],9,FALSE)","v":2},{"$f":"VLOOKUP(Table6[[#This Row],[WELL v2 Feature]],Table5[],10,FALSE)","v":0},{"$f":"VLOOKUP(Table6[[#This Row],[WELL v2 Feature]],Table5[],8,FALSE)","v":"Bonus"},null,null,null,"A08",1,{"$f":"CONCATENATE(Table9[[#This Row],[Feature]],\".\",Table9[[#This Row],[Part]])","v":"A08.1"},{"$f":"VLOOKUP(Table9[[#This Row],[Feature]],Table5[],5,FALSE)","v":"Optimization"},{"$f":"NOT(ISNA(_xlfn.IFNA(VLOOKUP(Table9[[#This Row],[Feature.Part]],Table6[v2 Feature.Part],1,FALSE),VLOOKUP(CONCATENATE(Table9[[#This Row],[Feature]],\".\",\"All\"),Table6[v2 Feature.Part],1,FALSE))))","v":true},{"$f":"IF(Table9[[#This Row],[Part Covered in Skybridge?]],  IF(COUNTIFS(Table6[v2 Part attainment through these features?],TRUE,Table6[v2 Feature.Part],Table9[[#This Row],[Feature.Part]])>0,TRUE,FALSE),FALSE)","v":false},{"$f":"IF(Table9[[#This Row],[Part attained in v2?]],\nIF(Table9[[#This Row],[Feature]]=\"I01\",COUNTIFS(Table6[WELL v2 Feature],\"I01\",Table6[v1 feature 1 attainment],\"Y\"),\nVLOOKUP(Table9[[#This Row],[Feature.Part]],Table6[[v2 Feature.Part]:[Part points]],7,FALSE)),0)","v":0},{"$f":"IF(Table9[[#This Row],[Part attained in v2?]],IF(Table9[[#This Row],[Type]]=\"Precondition\",\"Y\",Table9[[#This Row],[v2 points]]),0)","v":0},{"$f":"VLOOKUP(Table9[[#This Row],[Feature]],Table5[],12,FALSE)","v":"Air"}]
["A09",2,{"$f":"CONCATENATE(Table6[[#This Row],[WELL v2 Feature]],\".\",Table6[[#This Row],[v2 Part]])","v":"A09.2"},14,null,null,null,2,{"$f":"IF('v1 Project Information'!$C$4=\"Core and Shell\",IF(Table6[[#This Row],[v2 Core Points (if less than max)]]>0,Table6[[#This Row],[v2 Core Points (if less than max)]],VLOOKUP(Table6[[#This Row],[v2 Feature.Part]],Table5[[Feature.Part]:[Points]],4,FALSE)),IF(Table6[[#This Row],[v2 WBS Points (if less than max)]]>0,Table6[[#This Row],[v2 WBS Points (if less than max)]],VLOOKUP(Table6[[#This Row],[v2 Feature.Part]],Table5[[Feature.Part]:[Points]],4,FALSE)))","v":1},{"$f":"VLOOKUP(Table6[[#This Row],[WELL v1 Feature 1]],Table4[],4,FALSE)","v":"N"},{"$f":"_xlfn.IFNA(VLOOKUP(Table6[[#This Row],[WELL v1 Feature 2]],Table4[],4,FALSE),\"Y\")","v":"Y"},{"$f":"_xlfn.IFNA(VLOOKUP(Table6[[#This Row],[WELL v1 Feature 3]],Table4[],4,FALSE),\"Y\")","v":"Y"},{"$f":"IF(COUNTIF(Table6[[#This Row],[v1 feature 1 attainment]:[v1 feature 3 attainment]],\"Y\")=3,TRUE,FALSE)","v":false},{"$f":"VLOOKUP(Table6[[#This Row],[WELL v2 Feature]],Table5[],7,FALSE)","v":1},{"$f":"VLOOKUP(Table6[[#This Row],[WELL v2 Feature]],Table5[],9,FALSE)","v":2},{"$f":"VLOOKUP(Table6[[#This Row],[WELL v2 Feature]],Table5[],10,FALSE)","v":0},{"$f":"VLOOKUP(Table6[[#This Row],[WELL v2 Feature]],Table5[],8,FALSE)","v":"Bonus"},null,null,null,"A08",2,{"$f":"CONCATENATE(Table9[[#This Row],[Feature]],\".\",Table9[[#This Row],[Part]])","v":"A08.2"},{"$f":"VLOOKUP(Table9[[#This Row],[Feature]],Table5[],5,FALSE)","v":"Optimization"},{"$f":"NOT(ISNA(_xlfn.IFNA(VLOOKUP(Table9[[#This Row],[Feature.Part]],Table6[v2 Feature.Part],1,FALSE),VLOOKUP(CONCATENATE(Table9[[#This Row],[Feature]],\".\",\"All\"),Table6[v2 Feature.Part],1,FALSE))))","v":true},{"$f":"IF(Table9[[#This Row],[Part Covered in Skybridge?]],  IF(COUNTIFS(Table6[v2 Part attainment through these features?],TRUE,Table6[v2 Feature.Part],Table9[[#This Row],[Feature.Part]])>0,TRUE,FALSE),FALSE)","v":false},{"$f":"IF(Table9[[#This Row],[Part attained in v2?]],\nIF(Table9[[#This Row],[Feature]]=\"I01\",COUNTIFS(Table6[WELL v2 Feature],\"I01\",Table6[v1 feature 1 attainment],\"Y\"),\nVLOOKUP(Table9[[#This Row],[Feature.Part]],Table6[[v2 Feature.Part]:[Part points]],7,FALSE)),0)","v":0},{"$f":"IF(Table9[[#This Row],[Part attained in v2?]],IF(Table9[[#This Row],[Type]]=\"Precondition\",\"Y\",Table9[[#This Row],[v2 points]]),0)","v":0},{"$f":"VLOOKUP(Table9[[#This Row],[Feature]],Table5[],12,FALSE)","v":"Air"}]
["A10",1,{"$f":"CONCATENATE(Table6[[#This Row],[WELL v2 Feature]],\".\",Table6[[#This Row],[v2 Part]])","v":"A10.1"},24,null,null,null,2,{"$f":"IF('v1 Project Information'!$C$4=\"Core and Shell\",IF(Table6[[#This Row],[v2 Core Points (if less than max)]]>0,Table6[[#This Row],[v2 Core Points (if less than max)]],VLOOKUP(Table6[[#This Row],[v2 Feature.Part]],Table5[[Feature.Part]:[Points]],4,FALSE)),IF(Table6[[#This Row],[v2 WBS Points (if less than max)]]>0,Table6[[#This Row],[v2 WBS Points (if less than max)]],VLOOKUP(Table6[[#This Row],[v2 Feature.Part]],Table5[[Feature.Part]:[Points]],4,FALSE)))","v":1},{"$f":"VLOOKUP(Table6[[#This Row],[WELL v1 Feature 1]],Table4[],4,FALSE)","v":"N"},{"$f":"_xlfn.IFNA(VLOOKUP(Table6[[#This Row],[WELL v1 Feature 2]],Table4[],4,FALSE),\"Y\")","v":"Y"},{"$f":"_xlfn.IFNA(VLOOKUP(Table6[[#This Row],[WELL v1 Feature 3]],Table4[],4,FALSE),\"Y\")","v":"Y"},{"$f":"IF(COUNTIF(Table6[[#This Row],[v1 feature 1 attainment]:[v1 feature 3 attainment]],\"Y\")=3,TRUE,FALSE)","v":false},{"$f":"VLOOKUP(Table6[[#This Row],[WELL v2 Feature]],Table5[],7,FALSE)","v":1},{"$f":"VLOOKUP(Table6[[#This Row],[WELL v2 Feature]],Table5[],9,FALSE)","v":2},{"$f":"VLOOKUP(Table6[[#This Row],[WELL v2 Feature]],Table5[],10,FALSE)","v":0},{"$f":"VLOOKUP(Table6[[#This Row],[WELL v2 Feature]],Table5[],8,FALSE)","v":"Bonus"},null,null,null,"A09",1,{"$f":"CONCATENATE(Table9[[#This Row],[Feature]],\".\",Table9[[#This Row],[Part]])","v":"A09.1"},{"$f":"VLOOKUP(Table9[[#This Row],[Feature]],Table5[],5,FALSE)","v":"Optimization"},{"$f":"NOT(ISNA(_xlfn.IFNA(VLOOKUP(Table9[[#This Row],[Feature.Part]],Table6[v2 Feature.Part],1,FALSE),VLOOKUP(CONCATENATE(Table9[[#This Row],[Feature]],\".\",\"All\"),Table6[v2 Feature.Part],1,FALSE))))","v":true},{"$f":"IF(Table9[[#This Row],[Part Covered in Skybridge?]],  IF(COUNTIFS(Table6[v2 Part attainment through these features?],TRUE,Table6[v2 Feature.Part],Table9[[#This Row],[Feature.Part]])>0,TRUE,FALSE),FALSE)","v":true},{"$f":"IF(Table9[[#This Row],[Part attained in v2?]],\nIF(Table9[[#This Row],[Feature]]=\"I01\",COUNTIFS(Table6[WELL v2 Feature],\"I01\",Table6[v1 feature 1 attainment],\"Y\"),\nVLOOKUP(Table9[[#This Row],[Feature.Part]],Table6[[v2 Feature.Part]:[Part points]],7,FALSE)),0)","v":1},{"$f":"IF(Table9[[#This Row],[Part attained in v2?]],IF(Table9[[#This Row],[Type]]=\"Precondition\",\"Y\",Table9[[#This Row],[v2 points]]),0)","v":1},{"$f":"VLOOKUP(Table9[[#This Row],[Feature]],Table5[],12,FALSE)","v":"Air"}]
["A11",1,{"$f":"CONCATENATE(Table6[[#This Row],[WELL v2 Feature]],\".\",Table6[[#This Row],[v2 Part]])","v":"A11.1"},17,null,null,null,0.5,{"$f":"IF('v1 Project Information'!$C$4=\"Core and Shell\",IF(Table6[[#This Row],[v2 Core Points (if less than max)]]>0,Table6[[#This Row],[v2 Core Points (if less than max)]],VLOOKUP(Table6[[#This Row],[v2 Feature.Part]],Table5[[Feature.Part]:[Points]],4,FALSE)),IF(Table6[[#This Row],[v2 WBS Points (if less than max)]]>0,Table6[[#This Row],[v2 WBS Points (if less than max)]],VLOOKUP(Table6[[#This Row],[v2 Feature.Part]],Table5[[Feature.Part]:[Points]],4,FALSE)))","v":1},{"$f":"VLOOKUP(Table6[[#This Row],[WELL v1 Feature 1]],Table4[],4,FALSE)","v":"N"},{"$f":"_xlfn.IFNA(VLOOKUP(Table6[[#This Row],[WELL v1 Feature 2]],Table4[],4,FALSE),\"Y\")","v":"Y"},{"$f":"_xlfn.IFNA(VLOOKUP(Table6[[#This Row],[WELL v1 Feature 3]],Table4[],4,FALSE),\"Y\")","v":"Y"},{"$f":"IF(COUNTIF(Table6[[#This Row],[v1 feature 1 attainment]:[v1 feature 3 attainment]],\"Y\")=3,TRUE,FALSE)","v":false},{"$f":"VLOOKUP(Table6[[#This Row],[WELL v2 Feature]],Table5[],7,FALSE)","v":1},{"$f":"VLOOKUP(Table6[[#This Row],[WELL v2 Feature]],Table5[],9,FALSE)","v":0.5},{"$f":"VLOOKUP(Table6[[#This Row],[WELL v2 Feature]],Table5[],10,FALSE)","v":0},{"$f":"VLOOKUP(Table6[[#This Row],[WELL v2 Feature]],Table5[],8,FALSE)","v":"Limit"},null,null,null,"A09",2,{"$f":"CONCATENATE(Table9[[#This Row],[Feature]],\".\",Table9[[#This Row],[Part]])","v":"A09.2"},{"$f":"VLOOKUP(Table9[[#This Row],[Feature]],Table5[],5,FALSE)","v":"Optimization"},{"$f":"NOT(ISNA(_xlfn.IFNA(VLOOKUP(Table9[[#This Row],[Feature.Part]],Table6[v2 Feature.Part],1,FALSE),VLOOKUP(CONCATENATE(Table9[[#This Row],[Feature]],\".\",\"All\"),Table6[v2 Feature.Part],1,FALSE))))","v":true},{"$f":"IF(Table9[[#This Row],[Part Covered in Skybridge?]],  IF(COUNTIFS(Table6[v2 Part attainment through these features?],TRUE,Table6[v2 Feature.Part],Table9[[#This Row],[Feature.Part]])>0,TRUE,FALSE),FALSE)","v":false},{"$f":"IF(Table9[[#This Row],[Part attained in v2?]],\nIF(Table9[[#This Row],[Feature]]=\"I01\",COUNTIFS(Table6[WELL v2 Feature],\"I01\",Table6[v1 feature 1 attainment],\"Y\"),\nVLOOKUP(Table9[[#This Row],[Feature.Part]],Table6[[v2 Feature.Part]:[Part points]],7,FALSE)),0)","v":0},{"$f":"IF(Table9[[#This Row],[Part attained in v2?]],IF(Table9[[#This Row],[Type]]=\"Precondition\",\"Y\",Table9[[#This Row],[v2 points]]),0)","v":0},{"$f":"VLOOKUP(Table9[[#This Row],[Feature]],Table5[],12,FALSE)","v":"Air"}]
["A11",1,{"$f":"CONCATENATE(Table6[[#This Row],[WELL v2 Feature]],\".\",Table6[[#This Row],[v2 Part]])","v":"A11.1"},77,null,null,null,1.5,{"$f":"IF('v1 Project Information'!$C$4=\"Core and Shell\",IF(Table6[[#This Row],[v2 Core Points (if less than max)]]>0,Table6[[#This Row],[v2 Core Points (if less than max)]],VLOOKUP(Table6[[#This Row],[v2 Feature.Part]],Table5[[Feature.Part]:[Points]],4,FALSE)),IF(Table6[[#This Row],[v2 WBS Points (if less than max)]]>0,Table6[[#This Row],[v2 WBS Points (if less than max)]],VLOOKUP(Table6[[#This Row],[v2 Feature.Part]],Table5[[Feature.Part]:[Points]],4,FALSE)))","v":1},{"$f":"VLOOKUP(Table6[[#This Row],[WELL v1 Feature 1]],Table4[],4,FALSE)","v":"N"},{"$f":"_xlfn.IFNA(VLOOKUP(Table6[[#This Row],[WELL v1 Feature 2]],Table4[],4,FALSE),\"Y\")","v":"Y"},{"$f":"_xlfn.IFNA(VLOOKUP(Table6[[#This Row],[WELL v1 Feature 3]],Table4[],4,FALSE),\"Y\")","v":"Y"},{"$f":"IF(COUNTIF(Table6[[#This Row],[v1 feature 1 attainment]:[v1 feature 3 attainment]],\"Y\")=3,TRUE,FALSE)","v":false},{"$f":"VLOOKUP(Table6[[#This Row],[WELL v2 Feature]],Table5[],7,FALSE)","v":1},{"$f":"VLOOKUP(Table6[[#This Row],[WELL v2 Feature]],Table5[],9,FALSE)","v":0.5},{"$f":"VLOOKUP(Table6[[#This Row],[WELL v2 Feature]],Table5[],10,FALSE)","v":0},{"$f":"VLOOKUP(Table6[[#This Row],[WELL v2 Feature]],Table5[],8,FALSE)","v":"Limit"},null,null,null,"A10",1,{"$f":"CONCATENATE(Table9[[#This Row],[Feature]],\".\",Table9[[#This Row],[Part]])","v":"A10.1"},{"$f":"VLOOKUP(Table9[[#This Row],[Feature]],Table5[],5,FALSE)","v":"Optimization"},{"$f":"NOT(ISNA(_xlfn.IFNA(VLOOKUP(Table9[[#This Row],[Feature.Part]],Table6[v2 Feature.Part],1,FALSE),VLOOKUP(CONCATENATE(Table9[[#This Row],[Feature]],\".\",\"All\"),Table6[v2 Feature.Part],1,FALSE))))","v":true},{"$f":"IF(Table9[[#This Row],[Part Covered in Skybridge?]],  IF(COUNTIFS(Table6[v2 Part attainment through these features?],TRUE,Table6[v2 Feature.Part],Table9[[#This Row],[Feature.Part]])>0,TRUE,FALSE),FALSE)","v":false},{"$f":"IF(Table9[[#This Row],[Part attained in v2?]],\nIF(Table9[[#This Row],[Feature]]=\"I01\",COUNTIFS(Table6[WELL v2 Feature],\"I01\",Table6[v1 feature 1 attainment],\"Y\"),\nVLOOKUP(Table9[[#This Row],[Feature.Part]],Table6[[v2 Feature.Part]:[Part points]],7,FALSE)),0)","v":0},{"$f":"IF(Table9[[#This Row],[Part attained in v2?]],IF(Table9[[#This Row],[Type]]=\"Precondition\",\"Y\",Table9[[#This Row],[v2 points]]),0)","v":0},{"$f":"VLOOKUP(Table9[[#This Row],[Feature]],Table5[],12,FALSE)","v":"Air"}]
["A12",1,{"$f":"CONCATENATE(Table6[[#This Row],[WELL v2 Feature]],\".\",Table6[[#This Row],[v2 Part]])","v":"A12.1"},5,null,null,null,2,{"$f":"IF('v1 Project Information'!$C$4=\"Core and Shell\",IF(Table6[[#This Row],[v2 Core Points (if less than max)]]>0,Table6[[#This Row],[v2 Core Points (if less than max)]],VLOOKUP(Table6[[#This Row],[v2 Feature.Part]],Table5[[Feature.Part]:[Points]],4,FALSE)),IF(Table6[[#This Row],[v2 WBS Points (if less than max)]]>0,Table6[[#This Row],[v2 WBS Points (if less than max)]],VLOOKUP(Table6[[#This Row],[v2 Feature.Part]],Table5[[Feature.Part]:[Points]],4,FALSE)))","v":1},{"$f":"VLOOKUP(Table6[[#This Row],[WELL v1 Feature 1]],Table4[],4,FALSE)","v":"Y"},{"$f":"_xlfn.IFNA(VLOOKUP(Table6[[#This Row],[WELL v1 Feature 2]],Table4[],4,FALSE),\"Y\")","v":"Y"},{"$f":"_xlfn.IFNA(VLOOKUP(Table6[[#This Row],[WELL v1 Feature 3]],Table4[],4,FALSE),\"Y\")","v":"Y"},{"$f":"IF(COUNTIF(Table6[[#This Row],[v1 feature 1 attainment]:[v1 feature 3 attainment]],\"Y\")=3,TRUE,FALSE)","v":true},{"$f":"VLOOKUP(Table6[[#This Row],[WELL v2 Feature]],Table5[],7,FALSE)","v":1},{"$f":"VLOOKUP(Table6[[#This Row],[WELL v2 Feature]],Table5[],9,FALSE)","v":2},{"$f":"VLOOKUP(Table6[[#This Row],[WELL v2 Feature]],Table5[],10,FALSE)","v":0},{"$f":"VLOOKUP(Table6[[#This Row],[WELL v2 Feature]],Table5[],8,FALSE)","v":"Bonus"},null,null,null,"A11",1,{"$f":"CONCATENATE(Table9[[#This Row],[Feature]],\".\",Table9[[#This Row],[Part]])","v":"A11.1"},{"$f":"VLOOKUP(Table9[[#This Row],[Feature]],Table5[],5,FALSE)","v":"Optimization"},{"$f":"NOT(ISNA(_xlfn.IFNA(VLOOKUP(Table9[[#This Row],[Feature.Part]],Table6[v2 Feature.Part],1,FALSE),VLOOKUP(CONCATENATE(Table9[[#This Row],[Feature]],\".\",\"All\"),Table6[v2 Feature.Part],1,FALSE))))","v":true},{"$f":"IF(Table9[[#This Row],[Part Covered in Skybridge?]],  IF(COUNTIFS(Table6[v2 Part attainment through these features?],TRUE,Table6[v2 Feature.Part],Table9[[#This Row],[Feature.Part]])>0,TRUE,FALSE),FALSE)","v":false},{"$f":"IF(Table9[[#This Row],[Part attained in v2?]],\nIF(Table9[[#This Row],[Feature]]=\"I01\",COUNTIFS(Table6[WELL v2 Feature],\"I01\",Table6[v1 feature 1 attainment],\"Y\"),\nVLOOKUP(Table9[[#This Row],[Feature.Part]],Table6[[v2 Feature.Part]:[Part points]],7,FALSE)),0)","v":0},{"$f":"IF(Table9[[#This Row],[Part attained in v2?]],IF(Table9[[#This Row],[Type]]=\"Precondition\",\"Y\",Table9[[#This Row],[v2 points]]),0)","v":0},{"$f":"VLOOKUP(Table9[[#This Row],[Feature]],Table5[],12,FALSE)","v":"Air"}]
["A13",1,{"$f":"CONCATENATE(Table6[[#This Row],[WELL v2 Feature]],\".\",Table6[[#This Row],[v2 Part]])","v":"A13.1"},23,null,null,null,2,{"$f":"IF('v1 Project Information'!$C$4=\"Core and Shell\",IF(Table6[[#This Row],[v2 Core Points (if less than max)]]>0,Table6[[#This Row],[v2 Core Points (if less than max)]],VLOOKUP(Table6[[#This Row],[v2 Feature.Part]],Table5[[Feature.Part]:[Points]],4,FALSE)),IF(Table6[[#This Row],[v2 WBS Points (if less than max)]]>0,Table6[[#This Row],[v2 WBS Points (if less than max)]],VLOOKUP(Table6[[#This Row],[v2 Feature.Part]],Table5[[Feature.Part]:[Points]],4,FALSE)))","v":1},{"$f":"VLOOKUP(Table6[[#This Row],[WELL v1 Feature 1]],Table4[],4,FALSE)","v":"N"},{"$f":"_xlfn.IFNA(VLOOKUP(Table6[[#This Row],[WELL v1 Feature 2]],Table4[],4,FALSE),\"Y\")","v":"Y"},{"$f":"_xlfn.IFNA(VLOOKUP(Table6[[#This Row],[WELL v1 Feature 3]],Table4[],4,FALSE),\"Y\")","v":"Y"},{"$f":"IF(COUNTIF(Table6[[#This Row],[v1 feature 1 attainment]:[v1 feature 3 attainment]],\"Y\")=3,TRUE,FALSE)","v":false},{"$f":"VLOOKUP(Table6[[#This Row],[WELL v2 Feature]],Table5[],7,FALSE)","v":1},{"$f":"VLOOKUP(Table6[[#This Row],[WELL v2 Feature]],Table5[],9,FALSE)","v":2},{"$f":"VLOOKUP(Table6[[#This Row],[WELL v2 Feature]],Table5[],10,FALSE)","v":0},{"$f":"VLOOKUP(Table6[[#This Row],[WELL v2 Feature]],Table5[],8,FALSE)","v":"Bonus"},null,null,null,"A12",1,{"$f":"CONCATENATE(Table9[[#This Row],[Feature]],\".\",Table9[[#This Row],[Part]])","v":"A12.1"},{"$f":"VLOOKUP(Table9[[#This Row],[Feature]],Table5[],5,FALSE)","v":"Optimization"},{"$f":"NOT(ISNA(_xlfn.IFNA(VLOOKUP(Table9[[#This Row],[Feature.Part]],Table6[v2 Feature.Part],1,FALSE),VLOOKUP(CONCATENATE(Table9[[#This Row],[Feature]],\".\",\"All\"),Table6[v2 Feature.Part],1,FALSE))))","v":true},{"$f":"IF(Table9[[#This Row],[Part Covered in Skybridge?]],  IF(COUNTIFS(Table6[v2 Part attainment through these features?],TRUE,Table6[v2 Feature.Part],Table9[[#This Row],[Feature.Part]])>0,TRUE,FALSE),FALSE)","v":true},{"$f":"IF(Table9[[#This Row],[Part attained in v2?]],\nIF(Table9[[#This Row],[Feature]]=\"I01\",COUNTIFS(Table6[WELL v2 Feature],\"I01\",Table6[v1 feature 1 attainment],\"Y\"),\nVLOOKUP(Table9[[#This Row],[Feature.Part]],Table6[[v2 Feature.Part]:[Part points]],7,FALSE)),0)","v":1},{"$f":"IF(Table9[[#This Row],[Part attained in v2?]],IF(Table9[[#This Row],[Type]]=\"Precondition\",\"Y\",Table9[[#This Row],[v2 points]]),0)","v":1},{"$f":"VLOOKUP(Table9[[#This Row],[Feature]],Table5[],12,FALSE)","v":"Air"}]
["A14",1,{"$f":"CONCATENATE(Table6[[#This Row],[WELL v2 Feature]],\".\",Table6[[#This Row],[v2 Part]])","v":"A14.1"},6,null,null,null,2,{"$f":"IF('v1 Project Information'!$C$4=\"Core and Shell\",IF(Table6[[#This Row],[v2 Core Points (if less than max)]]>0,Table6[[#This Row],[v2 Core Points (if less than max)]],VLOOKUP(Table6[[#This Row],[v2 Feature.Part]],Table5[[Feature.Part]:[Points]],4,FALSE)),IF(Table6[[#This Row],[v2 WBS Points (if less than max)]]>0,Table6[[#This Row],[v2 WBS Points (if less than max)]],VLOOKUP(Table6[[#This Row],[v2 Feature.Part]],Table5[[Feature.Part]:[Points]],4,FALSE)))","v":1},{"$f":"VLOOKUP(Table6[[#This Row],[WELL v1 Feature 1]],Table4[],4,FALSE)","v":"Y"},{"$f":"_xlfn.IFNA(VLOOKUP(Table6[[#This Row],[WELL v1 Feature 2]],Table4[],4,FALSE),\"Y\")","v":"Y"},{"$f":"_xlfn.IFNA(VLOOKUP(Table6[[#This Row],[WELL v1 Feature 3]],Table4[],4,FALSE),\"Y\")","v":"Y"},{"$f":"IF(COUNTIF(Table6[[#This Row],[v1 feature 1 attainment]:[v1 feature 3 attainment]],\"Y\")=3,TRUE,FALSE)","v":true},{"$f":"VLOOKUP(Table6[[#This Row],[WELL v2 Feature]],Table5[],7,FALSE)","v":1},{"$f":"VLOOKUP(Table6[[#This Row],[WELL v2 Feature]],Table5[],9,FALSE)","v":2},{"$f":"VLOOKUP(Table6[[#This Row],[WELL v2 Feature]],Table5[],10,FALSE)","v":0},{"$f":"VLOOKUP(Table6[[#This Row],[WELL v2 Feature]],Table5[],8,FALSE)","v":"Bonus"},null,null,null,"A13",1,{"$f":"CONCATENATE(Table9[[#This Row],[Feature]],\".\",Table9[[#This Row],[Part]])","v":"A13.1"},{"$f":"VLOOKUP(Table9[[#This Row],[Feature]],Table5[],5,FALSE)","v":"Optimization"},{"$f":"NOT(ISNA(_xlfn.IFNA(VLOOKUP(Table9[[#This Row],[Feature.Part]],Table6[v2 Feature.Part],1,FALSE),VLOOKUP(CONCATENATE(Table9[[#This Row],[Feature]],\".\",\"All\"),Table6[v2 Feature.Part],1,FALSE))))","v":true},{"$f":"IF(Table9[[#This Row],[Part Covered in Skybridge?]],  IF(COUNTIFS(Table6[v2 Part attainment through these features?],TRUE,Table6[v2 Feature.Part],Table9[[#This Row],[Feature.Part]])>0,TRUE,FALSE),FALSE)","v":false},{"$f":"IF(Table9[[#This Row],[Part attained in v2?]],\nIF(Table9[[#This Row],[Feature]]=\"I01\",COUNTIFS(Table6[WELL v2 Feature],\"I01\",Table6[v1 feature 1 attainment],\"Y\"),\nVLOOKUP(Table9[[#This Row],[Feature.Part]],Table6[[v2 Feature.Part]:[Part points]],7,FALSE)),0)","v":0},{"$f":"IF(Table9[[#This Row],[Part attained in v2?]],IF(Table9[[#This Row],[Type]]=\"Precondition\",\"Y\",Table9[[#This Row],[v2 points]]),0)","v":0},{"$f":"VLOOKUP(Table9[[#This Row],[Feature]],Table5[],12,FALSE)","v":"Air"}]
["W01",1,{"$f":"CONCATENATE(Table6[[#This Row],[WELL v2 Feature]],\".\",Table6[[#This Row],[v2 Part]])","v":"W01.1"},30,null,null,null,null,{"$f":"IF('v1 Project Information'!$C$4=\"Core and Shell\",IF(Table6[[#This Row],[v2 Core Points (if less than max)]]>0,Table6[[#This Row],[v2 Core Points (if less than max)]],VLOOKUP(Table6[[#This Row],[v2 Feature.Part]],Table5[[Feature.Part]:[Points]],4,FALSE)),IF(Table6[[#This Row],[v2 WBS Points (if less than max)]]>0,Table6[[#This Row],[v2 WBS Points (if less than max)]],VLOOKUP(Table6[[#This Row],[v2 Feature.Part]],Table5[[Feature.Part]:[Points]],4,FALSE)))","v":"P"},{"$f":"VLOOKUP(Table6[[#This Row],[WELL v1 Feature 1]],Table4[],4,FALSE)","v":"Y"},{"$f":"_xlfn.IFNA(VLOOKUP(Table6[[#This Row],[WELL v1 Feature 2]],Table4[],4,FALSE),\"Y\")","v":"Y"},{"$f":"_xlfn.IFNA(VLOOKUP(Table6[[#This Row],[WELL v1 Feature 3]],Table4[],4,FALSE),\"Y\")","v":"Y"},{"$f":"IF(COUNTIF(Table6[[#This Row],[v1 feature 1 attainment]:[v1 feature 3 attainment]],\"Y\")=3,TRUE,FALSE)","v":true},{"$f":"VLOOKUP(Table6[[#This Row],[WELL v2 Feature]],Table5[],7,FALSE)","v":2},{"$f":"VLOOKUP(Table6[[#This Row],[WELL v2 Feature]],Table5[],9,FALSE)","v":"P"},{"$f":"VLOOKUP(Table6[[#This Row],[WELL v2 Feature]],Table5[],10,FALSE)","v":0},{"$f":"VLOOKUP(Table6[[#This Row],[WELL v2 Feature]],Table5[],8,FALSE)","v":0},null,null,null,"A14",1,{"$f":"CONCATENATE(Table9[[#This Row],[Feature]],\".\",Table9[[#This Row],[Part]])","v":"A14.1"},{"$f":"VLOOKUP(Table9[[#This Row],[Feature]],Table5[],5,FALSE)","v":"Optimization"},{"$f":"NOT(ISNA(_xlfn.IFNA(VLOOKUP(Table9[[#This Row],[Feature.Part]],Table6[v2 Feature.Part],1,FALSE),VLOOKUP(CONCATENATE(Table9[[#This Row],[Feature]],\".\",\"All\"),Table6[v2 Feature.Part],1,FALSE))))","v":true},{"$f":"IF(Table9[[#This Row],[Part Covered in Skybridge?]],  IF(COUNTIFS(Table6[v2 Part attainment through these features?],TRUE,Table6[v2 Feature.Part],Table9[[#This Row],[Feature.Part]])>0,TRUE,FALSE),FALSE)","v":true},{"$f":"IF(Table9[[#This Row],[Part attained in v2?]],\nIF(Table9[[#This Row],[Feature]]=\"I01\",COUNTIFS(Table6[WELL v2 Feature],\"I01\",Table6[v1 feature 1 attainment],\"Y\"),\nVLOOKUP(Table9[[#This Row],[Feature.Part]],Table6[[v2 Feature.Part]:[Part points]],7,FALSE)),0)","v":1},{"$f":"IF(Table9[[#This Row],[Part attained in v2?]],IF(Table9[[#This Row],[Type]]=\"Precondition\",\"Y\",Table9[[#This Row],[v2 points]]),0)","v":1},{"$f":"VLOOKUP(Table9[[#This Row],[Feature]],Table5[],12,FALSE)","v":"Air"}]
["W02",1,{"$f":"CONCATENATE(Table6[[#This Row],[WELL v2 Feature]],\".\",Table6[[#This Row],[v2 Part]])","v":"W02.1"},31,33,34,null,null,{"$f":"IF('v1 Project Information'!$C$4=\"Core and Shell\",IF(Table6[[#This Row],[v2 Core Points (if less than max)]]>0,Table6[[#This Row],[v2 Core Points (if less than max)]],VLOOKUP(Table6[[#This Row],[v2 Feature.Part]],Table5[[Feature.Part]:[Points]],4,FALSE)),IF(Table6[[#This Row],[v2 WBS Points (if less than max)]]>0,Table6[[#This Row],[v2 WBS Points (if less than max)]],VLOOKUP(Table6[[#This Row],[v2 Feature.Part]],Table5[[Feature.Part]:[Points]],4,FALSE)))","v":"P"},{"$f":"VLOOKUP(Table6[[#This Row],[WELL v1 Feature 1]],Table4[],4,FALSE)","v":"Y"},{"$f":"_xlfn.IFNA(VLOOKUP(Table6[[#This Row],[WELL v1 Feature 2]],Table4[],4,FALSE),\"Y\")","v":"Y"},{"$f":"_xlfn.IFNA(VLOOKUP(Table6[[#This Row],[WELL v1 Feature 3]],Table4[],4,FALSE),\"Y\")","v":"Y"},{"$f":"IF(COUNTIF(Table6[[#This Row],[v1 feature 1 attainment]:[v1 feature 3 attainment]],\"Y\")=3,TRUE,FALSE)","v":true},{"$f":"VLOOKUP(Table6[[#This Row],[WELL v2 Feature]],Table5[],7,FALSE)","v":2},{"$f":"VLOOKUP(Table6[[#This Row],[WELL v2 Feature]],Table5[],9,FALSE)","v":"P"},{"$f":"VLOOKUP(Table6[[#This Row],[WELL v2 Feature]],Table5[],10,FALSE)","v":0},{"$f":"VLOOKUP(Table6[[#This Row],[WELL v2 Feature]],Table5[],8,FALSE)","v":0},null,null,null,"W01",1,{"$f":"CONCATENATE(Table9[[#This Row],[Feature]],\".\",Table9[[#This Row],[Part]])","v":"W01.1"},{"$f":"VLOOKUP(Table9[[#This Row],[Feature]],Table5[],5,FALSE)","v":"Precondition"},{"$f":"NOT(ISNA(_xlfn.IFNA(VLOOKUP(Table9[[#This Row],[Feature.Part]],Table6[v2 Feature.Part],1,FALSE),VLOOKUP(CONCATENATE(Table9[[#This Row],[Feature]],\".\",\"All\"),Table6[v2 Feature.Part],1,FALSE))))","v":true},{"$f":"IF(Table9[[#This Row],[Part Covered in Skybridge?]],  IF(COUNTIFS(Table6[v2 Part attainment through these features?],TRUE,Table6[v2 Feature.Part],Table9[[#This Row],[Feature.Part]])>0,TRUE,FALSE),FALSE)","v":true},{"$f":"IF(Table9[[#This Row],[Part attained in v2?]],\nIF(Table9[[#This Row],[Feature]]=\"I01\",COUNTIFS(Table6[WELL v2 Feature],\"I01\",Table6[v1 feature 1 attainment],\"Y\"),\nVLOOKUP(Table9[[#This Row],[Feature.Part]],Table6[[v2 Feature.Part]:[Part points]],7,FALSE)),0)","v":"P"},{"$f":"IF(Table9[[#This Row],[Part attained in v2?]],IF(Table9[[#This Row],[Type]]=\"Precondition\",\"Y\",Table9[[#This Row],[v2 points]]),0)","v":"Y"},{"$f":"VLOOKUP(Table9[[#This Row],[Feature]],Table5[],12,FALSE)","v":"Water"}]
["W02",2,{"$f":"CONCATENATE(Table6[[#This Row],[WELL v2 Feature]],\".\",Table6[[#This Row],[v2 Part]])","v":"W02.2"},32,33,null,null,null,{"$f":"IF('v1 Project Information'!$C$4=\"Core and Shell\",IF(Table6[[#This Row],[v2 Core Points (if less than max)]]>0,Table6[[#This Row],[v2 Core Points (if less than max)]],VLOOKUP(Table6[[#This Row],[v2 Feature.Part]],Table5[[Feature.Part]:[Points]],4,FALSE)),IF(Table6[[#This Row],[v2 WBS Points (if less than max)]]>0,Table6[[#This Row],[v2 WBS Points (if less than max)]],VLOOKUP(Table6[[#This Row],[v2 Feature.Part]],Table5[[Feature.Part]:[Points]],4,FALSE)))","v":"P"},{"$f":"VLOOKUP(Table6[[#This Row],[WELL v1 Feature 1]],Table4[],4,FALSE)","v":"Y"},{"$f":"_xlfn.IFNA(VLOOKUP(Table6[[#This Row],[WELL v1 Feature 2]],Table4[],4,FALSE),\"Y\")","v":"Y"},{"$f":"_xlfn.IFNA(VLOOKUP(Table6[[#This Row],[WELL v1 Feature 3]],Table4[],4,FALSE),\"Y\")","v":"Y"},{"$f":"IF(COUNTIF(Table6[[#This Row],[v1 feature 1 attainment]:[v1 feature 3 attainment]],\"Y\")=3,TRUE,FALSE)","v":true},{"$f":"VLOOKUP(Table6[[#This Row],[WELL v2 Feature]],Table5[],7,FALSE)","v":2},{"$f":"VLOOKUP(Table6[[#This Row],[WELL v2 Feature]],Table5[],9,FALSE)","v":"P"},{"$f":"VLOOKUP(Table6[[#This Row],[WELL v2 Feature]],Table5[],10,FALSE)","v":0},{"$f":"VLOOKUP(Table6[[#This Row],[WELL v2 Feature]],Table5[],8,FALSE)","v":0},null,null,null,"W02",1,{"$f":"CONCATENATE(Table9[[#This Row],[Feature]],\".\",Table9[[#This Row],[Part]])","v":"W02.1"},{"$f":"VLOOKUP(Table9[[#This Row],[Feature]],Table5[],5,FALSE)","v":"Precondition"},{"$f":"NOT(ISNA(_xlfn.IFNA(VLOOKUP(Table9[[#This Row],[Feature.Part]],Table6[v2 Feature.Part],1,FALSE),VLOOKUP(CONCATENATE(Table9[[#This Row],[Feature]],\".\",\"All\"),Table6[v2 Feature.Part],1,FALSE))))","v":true},{"$f":"IF(Table9[[#This Row],[Part Covered in Skybridge?]],  IF(COUNTIFS(Table6[v2 Part attainment through these features?],TRUE,Table6[v2 Feature.Part],Table9[[#This Row],[Feature.Part]])>0,TRUE,FALSE),FALSE)","v":true},{"$f":"IF(Table9[[#This Row],[Part attained in v2?]],\nIF(Table9[[#This Row],[Feature]]=\"I01\",COUNTIFS(Table6[WELL v2 Feature],\"I01\",Table6[v1 feature 1 attainment],\"Y\"),\nVLOOKUP(Table9[[#This Row],[Feature.Part]],Table6[[v2 Feature.Part]:[Part points]],7,FALSE)),0)","v":"P"},{"$f":"IF(Table9[[#This Row],[Part attained in v2?]],IF(Table9[[#This Row],[Type]]=\"Precondition\",\"Y\",Table9[[#This Row],[v2 points]]),0)","v":"Y"},{"$f":"VLOOKUP(Table9[[#This Row],[Feature]],Table5[],12,FALSE)","v":"Water"}]
["W03",1,{"$f":"CONCATENATE(Table6[[#This Row],[WELL v2 Feature]],\".\",Table6[[#This Row],[v2 Part]])","v":"W03.1"},35,null,null,null,null,{"$f":"IF('v1 Project Information'!$C$4=\"Core and Shell\",IF(Table6[[#This Row],[v2 Core Points (if less than max)]]>0,Table6[[#This Row],[v2 Core Points (if less than max)]],VLOOKUP(Table6[[#This Row],[v2 Feature.Part]],Table5[[Feature.Part]:[Points]],4,FALSE)),IF(Table6[[#This Row],[v2 WBS Points (if less than max)]]>0,Table6[[#This Row],[v2 WBS Points (if less than max)]],VLOOKUP(Table6[[#This Row],[v2 Feature.Part]],Table5[[Feature.Part]:[Points]],4,FALSE)))","v":"P"},{"$f":"VLOOKUP(Table6[[#This Row],[WELL v1 Feature 1]],Table4[],4,FALSE)","v":"N"},{"$f":"_xlfn.IFNA(VLOOKUP(Table6[[#This Row],[WELL v1 Feature 2]],Table4[],4,FALSE),\"Y\")","v":"Y"},{"$f":"_xlfn.IFNA(VLOOKUP(Table6[[#This Row],[WELL v1 Feature 3]],Table4[],4,FALSE),\"Y\")","v":"Y"},{"$f":"IF(COUNTIF(Table6[[#This Row],[v1 feature 1 attainment]:[v1 feature 3 attainment]],\"Y\")=3,TRUE,FALSE)","v":false},{"$f":"VLOOKUP(Table6[[#This Row],[WELL v2 Feature]],Table5[],7,FALSE)","v":2},{"$f":"VLOOKUP(Table6[[#This Row],[WELL v2 Feature]],Table5[],9,FALSE)","v":"P"},{"$f":"VLOOKUP(Table6[[#This Row],[WELL v2 Feature]],Table5[],10,FALSE)","v":0},{"$f":"VLOOKUP(Table6[[#This Row],[WELL v2 Feature]],Table5[],8,FALSE)","v":0},null,null,null,"W02",2,{"$f":"CONCATENATE(Table9[[#This Row],[Feature]],\".\",Table9[[#This Row],[Part]])","v":"W02.2"},{"$f":"VLOOKUP(Table9[[#This Row],[Feature]],Table5[],5,FALSE)","v":"Precondition"},{"$f":"NOT(ISNA(_xlfn.IFNA(VLOOKUP(Table9[[#This Row],[Feature.Part]],Table6[v2 Feature.Part],1,FALSE),VLOOKUP(CONCATENATE(Table9[[#This Row],[Feature]],\".\",\"All\"),Table6[v2 Feature.Part],1,FALSE))))","v":true},{"$f":"IF(Table9[[#This Row],[Part Covered in Skybridge?]],  IF(COUNTIFS(Table6[v2 Part attainment through these features?],TRUE,Table6[v2 Feature.Part],Table9[[#This Row],[Feature.Part]])>0,TRUE,FALSE),FALSE)","v":true},{"$f":"IF(Table9[[#This Row],[Part attained in v2?]],\nIF(Table9[[#This Row],[Feature]]=\"I01\",COUNTIFS(Table6[WELL v2 Feature],\"I01\",Table6[v1 feature 1 attainment],\"Y\"),\nVLOOKUP(Table9[[#This Row],[Feature.Part]],Table6[[v2 Feature.Part]:[Part points]],7,FALSE)),0)","v":"P"},{"$f":"IF(Table9[[#This Row],[Part attained in v2?]],IF(Table9[[#This Row],[Type]]=\"Precondition\",\"Y\",Table9[[#This Row],[v2 points]]),0)","v":"Y"},{"$f":"VLOOKUP(Table9[[#This Row],[Feature]],Table5[],12,FALSE)","v":"Water"}]
["W03",2,{"$f":"CONCATENATE(Table6[[#This Row],[WELL v2 Feature]],\".\",Table6[[#This Row],[v2 Part]])","v":"W03.2"},36,null,null,null,null,{"$f":"IF('v1 Project Information'!$C$4=\"Core and Shell\",IF(Table6[[#This Row],[v2 Core Points (if less than max)]]>0,Table6[[#This Row],[v2 Core Points (if less than max)]],VLOOKUP(Table6[[#This Row],[v2 Feature.Part]],Table5[[Feature.Part]:[Points]],4,FALSE)),IF(Table6[[#This Row],[v2 WBS Points (if less than max)]]>0,Table6[[#This Row],[v2 WBS Points (if less than max)]],VLOOKUP(Table6[[#This Row],[v2 Feature.Part]],Table5[[Feature.Part]:[Points]],4,FALSE)))","v":"P"},{"$f":"VLOOKUP(Table6[[#This Row],[WELL v1 Feature 1]],Table4[],4,FALSE)","v":"N"},{"$f":"_xlfn.IFNA(VLOOKUP(Table6[[#This Row],[WELL v1 Feature 2]],Table4[],4,FALSE),\"Y\")","v":"Y"},{"$f":"_xlfn.IFNA(VLOOKUP(Table6[[#This Row],[WELL v1 Feature 3]],Table4[],4,FALSE),\"Y\")","v":"Y"},{"$f":"IF(COUNTIF(Table6[[#This Row],[v1 feature 1 attainment]:[v1 feature 3 attainment]],\"Y\")=3,TRUE,FALSE)","v":false},{"$f":"VLOOKUP(Table6[[#This Row],[WELL v2 Feature]],Table5[],7,FALSE)","v":2},{"$f":"VLOOKUP(Table6[[#This Row],[WELL v2 Feature]],Table5[],9,FALSE)","v":"P"},{"$f":"VLOOKUP(Table6[[#This Row],[WELL v2 Feature]],Table5[],10,FALSE)","v":0},{"$f":"VLOOKUP(Table6[[#This Row],[WELL v2 Feature]],Table5[],8,FALSE)","v":0},null,null,null,"W03",1,{"$f":"CONCATENATE(Table9[[#This Row],[Feature]],\".\",Table9[[#This Row],[Part]])","v":"W03.1"},{"$f":"VLOOKUP(Table9[[#This Row],[Feature]],Table5[],5,FALSE)","v":"Precondition"},{"$f":"NOT(ISNA(_xlfn.IFNA(VLOOKUP(Table9[[#This Row],[Feature.Part]],Table6[v2 Feature.Part],1,FALSE),VLOOKUP(CONCATENATE(Table9[[#This Row],[Feature]],\".\",\"All\"),Table6[v2 Feature.Part],1,FALSE))))","v":true},{"$f":"IF(Table9[[#This Row],[Part Covered in Skybridge?]],  IF(COUNTIFS(Table6[v2 Part attainment through these features?],TRUE,Table6[v2 Feature.Part],Table9[[#This Row],[Feature.Part]])>0,TRUE,FALSE),FALSE)","v":false},{"$f":"IF(Table9[[#This Row],[Part attained in v2?]],\nIF(Table9[[#This Row],[Feature]]=\"I01\",COUNTIFS(Table6[WELL v2 Feature],\"I01\",Table6[v1 feature 1 attainment],\"Y\"),\nVLOOKUP(Table9[[#This Row],[Feature.Part]],Table6[[v2 Feature.Part]:[Part points]],7,FALSE)),0)","v":0},{"$f":"IF(Table9[[#This Row],[Part attained in v2?]],IF(Table9[[#This Row],[Type]]=\"Precondition\",\"Y\",Table9[[#This Row],[v2 points]]),0)","v":0},{"$f":"VLOOKUP(Table9[[#This Row],[Feature]],Table5[],12,FALSE)","v":"Water"}]
["W04",1,{"$f":"CONCATENATE(Table6[[#This Row],[WELL v2 Feature]],\".\",Table6[[#This Row],[v2 Part]])","v":"W04.1"},37,null,null,null,2,{"$f":"IF('v1 Project Information'!$C$4=\"Core and Shell\",IF(Table6[[#This Row],[v2 Core Points (if less than max)]]>0,Table6[[#This Row],[v2 Core Points (if less than max)]],VLOOKUP(Table6[[#This Row],[v2 Feature.Part]],Table5[[Feature.Part]:[Points]],4,FALSE)),IF(Table6[[#This Row],[v2 WBS Points (if less than max)]]>0,Table6[[#This Row],[v2 WBS Points (if less than max)]],VLOOKUP(Table6[[#This Row],[v2 Feature.Part]],Table5[[Feature.Part]:[Points]],4,FALSE)))","v":1},{"$f":"VLOOKUP(Table6[[#This Row],[WELL v1 Feature 1]],Table4[],4,FALSE)","v":"N"},{"$f":"_xlfn.IFNA(VLOOKUP(Table6[[#This Row],[WELL v1 Feature 2]],Table4[],4,FALSE),\"Y\")","v":"Y"},{"$f":"_xlfn.IFNA(VLOOKUP(Table6[[#This Row],[WELL v1 Feature 3]],Table4[],4,FALSE),\"Y\")","v":"Y"},{"$f":"IF(COUNTIF(Table6[[#This Row],[v1 feature 1 attainment]:[v1 feature 3 attainment]],\"Y\")=3,TRUE,FALSE)","v":false},{"$f":"VLOOKUP(Table6[[#This Row],[WELL v2 Feature]],Table5[],7,FALSE)","v":2},{"$f":"VLOOKUP(Table6[[#This Row],[WELL v2 Feature]],Table5[],9,FALSE)","v":2},{"$f":"VLOOKUP(Table6[[#This Row],[WELL v2 Feature]],Table5[],10,FALSE)","v":0},{"$f":"VLOOKUP(Table6[[#This Row],[WELL v2 Feature]],Table5[],8,FALSE)","v":"Bonus"},null,null,null,"W03",2,{"$f":"CONCATENATE(Table9[[#This Row],[Feature]],\".\",Table9[[#This Row],[Part]])","v":"W03.2"},{"$f":"VLOOKUP(Table9[[#This Row],[Feature]],Table5[],5,FALSE)","v":"Precondition"},{"$f":"NOT(ISNA(_xlfn.IFNA(VLOOKUP(Table9[[#This Row],[Feature.Part]],Table6[v2 Feature.Part],1,FALSE),VLOOKUP(CONCATENATE(Table9[[#This Row],[Feature]],\".\",\"All\"),Table6[v2 Feature.Part],1,FALSE))))","v":true},{"$f":"IF(Table9[[#This Row],[Part Covered in Skybridge?]],  IF(COUNTIFS(Table6[v2 Part attainment through these features?],TRUE,Table6[v2 Feature.Part],Table9[[#This Row],[Feature.Part]])>0,TRUE,FALSE),FALSE)","v":false},{"$f":"IF(Table9[[#This Row],[Part attained in v2?]],\nIF(Table9[[#This Row],[Feature]]=\"I01\",COUNTIFS(Table6[WELL v2 Feature],\"I01\",Table6[v1 feature 1 attainment],\"Y\"),\nVLOOKUP(Table9[[#This Row],[Feature.Part]],Table6[[v2 Feature.Part]:[Part points]],7,FALSE)),0)","v":0},{"$f":"IF(Table9[[#This Row],[Part attained in v2?]],IF(Table9[[#This Row],[Type]]=\"Precondition\",\"Y\",Table9[[#This Row],[v2 points]]),0)","v":0},{"$f":"VLOOKUP(Table9[[#This Row],[Feature]],Table5[],12,FALSE)","v":"Water"}]
["W05",1,{"$f":"CONCATENATE(Table6[[#This Row],[WELL v2 Feature]],\".\",Table6[[#This Row],[v2 Part]])","v":"W05.1"},35,36,null,null,2,{"$f":"IF('v1 Project Information'!$C$4=\"Core and Shell\",IF(Table6[[#This Row],[v2 Core Points (if less than max)]]>0,Table6[[#This Row],[v2 Core Points (if less than max)]],VLOOKUP(Table6[[#This Row],[v2 Feature.Part]],Table5[[Feature.Part]:[Points]],4,FALSE)),IF(Table6[[#This Row],[v2 WBS Points (if less than max)]]>0,Table6[[#This Row],[v2 WBS Points (if less than max)]],VLOOKUP(Table6[[#This Row],[v2 Feature.Part]],Table5[[Feature.Part]:[Points]],4,FALSE)))","v":2},{"$f":"VLOOKUP(Table6[[#This Row],[WELL v1 Feature 1]],Table4[],4,FALSE)","v":"N"},{"$f":"_xlfn.IFNA(VLOOKUP(Table6[[#This Row],[WELL v1 Feature 2]],Table4[],4,FALSE),\"Y\")","v":"N"},{"$f":"_xlfn.IFNA(VLOOKUP(Table6[[#This Row],[WELL v1 Feature 3]],Table4[],4,FALSE),\"Y\")","v":"Y"},{"$f":"IF(COUNTIF(Table6[[#This Row],[v1 feature 1 attainment]:[v1 feature 3 attainment]],\"Y\")=3,TRUE,FALSE)","v":false},{"$f":"VLOOKUP(Table6[[#This Row],[WELL v2 Feature]],Table5[],7,FALSE)","v":2},{"$f":"VLOOKUP(Table6[[#This Row],[WELL v2 Feature]],Table5[],9,FALSE)","v":2},{"$f":"VLOOKUP(Table6[[#This Row],[WELL v2 Feature]],Table5[],10,FALSE)","v":0},{"$f":"VLOOKUP(Table6[[#This Row],[WELL v2 Feature]],Table5[],8,FALSE)","v":"None"},null,null,null,"W04",1,{"$f":"CONCATENATE(Table9[[#This Row],[Feature]],\".\",Table9[[#This Row],[Part]])","v":"W04.1"},{"$f":"VLOOKUP(Table9[[#This Row],[Feature]],Table5[],5,FALSE)","v":"Optimization"},{"$f":"NOT(ISNA(_xlfn.IFNA(VLOOKUP(Table9[[#This Row],[Feature.Part]],Table6[v2 Feature.Part],1,FALSE),VLOOKUP(CONCATENATE(Table9[[#This Row],[Feature]],\".\",\"All\"),Table6[v2 Feature.Part],1,FALSE))))","v":true},{"$f":"IF(Table9[[#This Row],[Part Covered in Skybridge?]],  IF(COUNTIFS(Table6[v2 Part attainment through these features?],TRUE,Table6[v2 Feature.Part],Table9[[#This Row],[Feature.Part]])>0,TRUE,FALSE),FALSE)","v":false},{"$f":"IF(Table9[[#This Row],[Part attained in v2?]],\nIF(Table9[[#This Row],[Feature]]=\"I01\",COUNTIFS(Table6[WELL v2 Feature],\"I01\",Table6[v1 feature 1 attainment],\"Y\"),\nVLOOKUP(Table9[[#This Row],[Feature.Part]],Table6[[v2 Feature.Part]:[Part points]],7,FALSE)),0)","v":0},{"$f":"IF(Table9[[#This Row],[Part attained in v2?]],IF(Table9[[#This Row],[Type]]=\"Precondition\",\"Y\",Table9[[#This Row],[v2 points]]),0)","v":0},{"$f":"VLOOKUP(Table9[[#This Row],[Feature]],Table5[],12,FALSE)","v":"Water"}]
["W06",1,{"$f":"CONCATENATE(Table6[[#This Row],[WELL v2 Feature]],\".\",Table6[[#This Row],[v2 Part]])","v":"W06.1"},37,null,null,null,1,{"$f":"IF('v1 Project Information'!$C$4=\"Core and Shell\",IF(Table6[[#This Row],[v2 Core Points (if less than max)]]>0,Table6[[#This Row],[v2 Core Points (if less than max)]],VLOOKUP(Table6[[#This Row],[v2 Feature.Part]],Table5[[Feature.Part]:[Points]],4,FALSE)),IF(Table6[[#This Row],[v2 WBS Points (if less than max)]]>0,Table6[[#This Row],[v2 WBS Points (if less than max)]],VLOOKUP(Table6[[#This Row],[v2 Feature.Part]],Table5[[Feature.Part]:[Points]],4,FALSE)))","v":1},{"$f":"VLOOKUP(Table6[[#This Row],[WELL v1 Feature 1]],Table4[],4,FALSE)","v":"N"},{"$f":"_xlfn.IFNA(VLOOKUP(Table6[[#This Row],[WELL v1 Feature 2]],Table4[],4,FALSE),\"Y\")","v":"Y"},{"$f":"_xlfn.IFNA(VLOOKUP(Table6[[#This Row],[WELL v1 Feature 3]],Table4[],4,FALSE),\"Y\")","v":"Y"},{"$f":"IF(COUNTIF(Table6[[#This Row],[v1 feature 1 attainment]:[v1 feature 3 attainment]],\"Y\")=3,TRUE,FALSE)","v":false},{"$f":"VLOOKUP(Table6[[#This Row],[WELL v2 Feature]],Table5[],7,FALSE)","v":2},{"$f":"VLOOKUP(Table6[[#This Row],[WELL v2 Feature]],Table5[],9,FALSE)","v":1},{"$f":"VLOOKUP(Table6[[#This Row],[WELL v2 Feature]],Table5[],10,FALSE)","v":0},{"$f":"VLOOKUP(Table6[[#This Row],[WELL v2 Feature]],Table5[],8,FALSE)","v":"None"},null,null,null,"W05",1,{"$f":"CONCATENATE(Table9[[#This Row],[Feature]],\".\",Table9[[#This Row],[Part]])","v":"W05.1"},{"$f":"VLOOKUP(Table9[[#This Row],[Feature]],Table5[],5,FALSE)","v":"Optimization"},{"$f":"NOT(ISNA(_xlfn.IFNA(VLOOKUP(Table9[[#This Row],[Feature.Part]],Table6[v2 Feature.Part],1,FALSE),VLOOKUP(CONCATENATE(Table9[[#This Row],[Feature]],\".\",\"All\"),Table6[v2 Feature.Part],1,FALSE))))","v":true},{"$f":"IF(Table9[[#This Row],[Part Covered in Skybridge?]],  IF(COUNTIFS(Table6[v2 Part attainment through these features?],TRUE,Table6[v2 Feature.Part],Table9[[#This Row],[Feature.Part]])>0,TRUE,FALSE),FALSE)","v":false},{"$f":"IF(Table9[[#This Row],[Part attained in v2?]],\nIF(Table9[[#This Row],[Feature]]=\"I01\",COUNTIFS(Table6[WELL v2 Feature],\"I01\",Table6[v1 feature 1 attainment],\"Y\"),\nVLOOKUP(Table9[[#This Row],[Feature.Part]],Table6[[v2 Feature.Part]:[Part points]],7,FALSE)),0)","v":0},{"$f":"IF(Table9[[#This Row],[Part attained in v2?]],IF(Table9[[#This Row],[Type]]=\"Precondition\",\"Y\",Table9[[#This Row],[v2 points]]),0)","v":0},{"$f":"VLOOKUP(Table9[[#This Row],[Feature]],Table5[],12,FALSE)","v":"Water"}]
["W07",1,{"$f":"CONCATENATE(Table6[[#This Row],[WELL v2 Feature]],\".\",Table6[[#This Row],[v2 Part]])","v":"W07.1"},12,null,null,null,2,{"$f":"IF('v1 Project Information'!$C$4=\"Core and Shell\",IF(Table6[[#This Row],[v2 Core Points (if less than max)]]>0,Table6[[#This Row],[v2 Core Points (if less than max)]],VLOOKUP(Table6[[#This Row],[v2 Feature.Part]],Table5[[Feature.Part]:[Points]],4,FALSE)),IF(Table6[[#This Row],[v2 WBS Points (if less than max)]]>0,Table6[[#This Row],[v2 WBS Points (if less than max)]],VLOOKUP(Table6[[#This Row],[v2 Feature.Part]],Table5[[Feature.Part]:[Points]],4,FALSE)))","v":1},{"$f":"VLOOKUP(Table6[[#This Row],[WELL v1 Feature 1]],Table4[],4,FALSE)","v":"Y"},{"$f":"_xlfn.IFNA(VLOOKUP(Table6[[#This Row],[WELL v1 Feature 2]],Table4[],4,FALSE),\"Y\")","v":"Y"},{"$f":"_xlfn.IFNA(VLOOKUP(Table6[[#This Row],[WELL v1 Feature 3]],Table4[],4,FALSE),\"Y\")","v":"Y"},{"$f":"IF(COUNTIF(Table6[[#This Row],[v1 feature 1 attainment]:[v1 feature 3 attainment]],\"Y\")=3,TRUE,FALSE)","v":true},{"$f":"VLOOKUP(Table6[[#This Row],[WELL v2 Feature]],Table5[],7,FALSE)","v":2},{"$f":"VLOOKUP(Table6[[#This Row],[WELL v2 Feature]],Table5[],9,FALSE)","v":2},{"$f":"VLOOKUP(Table6[[#This Row],[WELL v2 Feature]],Table5[],10,FALSE)","v":0},{"$f":"VLOOKUP(Table6[[#This Row],[WELL v2 Feature]],Table5[],8,FALSE)","v":"Bonus"},null,null,null,"W05",2,{"$f":"CONCATENATE(Table9[[#This Row],[Feature]],\".\",Table9[[#This Row],[Part]])","v":"W05.2"},{"$f":"VLOOKUP(Table9[[#This Row],[Feature]],Table5[],5,FALSE)","v":"Optimization"},{"$f":"NOT(ISNA(_xlfn.IFNA(VLOOKUP(Table9[[#This Row],[Feature.Part]],Table6[v2 Feature.Part],1,FALSE),VLOOKUP(CONCATENATE(Table9[[#This Row],[Feature]],\".\",\"All\"),Table6[v2 Feature.Part],1,FALSE))))","v":false},{"$f":"IF(Table9[[#This Row],[Part Covered in Skybridge?]],  IF(COUNTIFS(Table6[v2 Part attainment through these features?],TRUE,Table6[v2 Feature.Part],Table9[[#This Row],[Feature.Part]])>0,TRUE,FALSE),FALSE)","v":false},{"$f":"IF(Table9[[#This Row],[Part attained in v2?]],\nIF(Table9[[#This Row],[Feature]]=\"I01\",COUNTIFS(Table6[WELL v2 Feature],\"I01\",Table6[v1 feature 1 attainment],\"Y\"),\nVLOOKUP(Table9[[#This Row],[Feature.Part]],Table6[[v2 Feature.Part]:[Part points]],7,FALSE)),0)","v":0},{"$f":"IF(Table9[[#This Row],[Part attained in v2?]],IF(Table9[[#This Row],[Type]]=\"Precondition\",\"Y\",Table9[[#This Row],[v2 points]]),0)","v":0},{"$f":"VLOOKUP(Table9[[#This Row],[Feature]],Table5[],12,FALSE)","v":"Water"}]
["W07",2,{"$f":"CONCATENATE(Table6[[#This Row],[WELL v2 Feature]],\".\",Table6[[#This Row],[v2 Part]])","v":"W07.2"},12,null,null,null,2,{"$f":"IF('v1 Project Information'!$C$4=\"Core and Shell\",IF(Table6[[#This Row],[v2 Core Points (if less than max)]]>0,Table6[[#This Row],[v2 Core Points (if less than max)]],VLOOKUP(Table6[[#This Row],[v2 Feature.Part]],Table5[[Feature.Part]:[Points]],4,FALSE)),IF(Table6[[#This Row],[v2 WBS Points (if less than max)]]>0,Table6[[#This Row],[v2 WBS Points (if less than max)]],VLOOKUP(Table6[[#This Row],[v2 Feature.Part]],Table5[[Feature.Part]:[Points]],4,FALSE)))","v":1},{"$f":"VLOOKUP(Table6[[#This Row],[WELL v1 Feature 1]],Table4[],4,FALSE)","v":"Y"},{"$f":"_xlfn.IFNA(VLOOKUP(Table6[[#This Row],[WELL v1 Feature 2]],Table4[],4,FALSE),\"Y\")","v":"Y"},{"$f":"_xlfn.IFNA(VLOOKUP(Table6[[#This Row],[WELL v1 Feature 3]],Table4[],4,FALSE),\"Y\")","v":"Y"},{"$f":"IF(COUNTIF(Table6[[#This Row],[v1 feature 1 attainment]:[v1 feature 3 attainment]],\"Y\")=3,TRUE,FALSE)","v":true},{"$f":"VLOOKUP(Table6[[#This Row],[WELL v2 Feature]],Table5[],7,FALSE)","v":2},{"$f":"VLOOKUP(Table6[[#This Row],[WELL v2 Feature]],Table5[],9,FALSE)","v":2},{"$f":"VLOOKUP(Table6[[#This Row],[WELL v2 Feature]],Table5[],10,FALSE)","v":0},{"$f":"VLOOKUP(Table6[[#This Row],[WELL v2 Feature]],Table5[],8,FALSE)","v":"Bonus"},null,null,null,"W06",1,{"$f":"CONCATENATE(Table9[[#This Row],[Feature]],\".\",Table9[[#This Row],[Part]])","v":"W06.1"},{"$f":"VLOOKUP(Table9[[#This Row],[Feature]],Table5[],5,FALSE)","v":"Optimization"},{"$f":"NOT(ISNA(_xlfn.IFNA(VLOOKUP(Table9[[#This Row],[Feature.Part]],Table6[v2 Feature.Part],1,FALSE),VLOOKUP(CONCATENATE(Table9[[#This Row],[Feature]],\".\",\"All\"),Table6[v2 Feature.Part],1,FALSE))))","v":true},{"$f":"IF(Table9[[#This Row],[Part Covered in Skybridge?]],  IF(COUNTIFS(Table6[v2 Part attainment through these features?],TRUE,Table6[v2 Feature.Part],Table9[[#This Row],[Feature.Part]])>0,TRUE,FALSE),FALSE)","v":false},{"$f":"IF(Table9[[#This Row],[Part attained in v2?]],\nIF(Table9[[#This Row],[Feature]]=\"I01\",COUNTIFS(Table6[WELL v2 Feature],\"I01\",Table6[v1 feature 1 attainment],\"Y\"),\nVLOOKUP(Table9[[#This Row],[Feature.Part]],Table6[[v2 Feature.Part]:[Part points]],7,FALSE)),0)","v":0},{"$f":"IF(Table9[[#This Row],[Part attained in v2?]],IF(Table9[[#This Row],[Type]]=\"Precondition\",\"Y\",Table9[[#This Row],[v2 points]]),0)","v":0},{"$f":"VLOOKUP(Table9[[#This Row],[Feature]],Table5[],12,FALSE)","v":"Water"}]
["W07",3,{"$f":"CONCATENATE(Table6[[#This Row],[WELL v2 Feature]],\".\",Table6[[#This Row],[v2 Part]])","v":"W07.3"},6,null,null,null,2,{"$f":"IF('v1 Project Information'!$C$4=\"Core and Shell\",IF(Table6[[#This Row],[v2 Core Points (if less than max)]]>0,Table6[[#This Row],[v2 Core Points (if less than max)]],VLOOKUP(Table6[[#This Row],[v2 Feature.Part]],Table5[[Feature.Part]:[Points]],4,FALSE)),IF(Table6[[#This Row],[v2 WBS Points (if less than max)]]>0,Table6[[#This Row],[v2 WBS Points (if less than max)]],VLOOKUP(Table6[[#This Row],[v2 Feature.Part]],Table5[[Feature.Part]:[Points]],4,FALSE)))","v":1},{"$f":"VLOOKUP(Table6[[#This Row],[WELL v1 Feature 1]],Table4[],4,FALSE)","v":"Y"},{"$f":"_xlfn.IFNA(VLOOKUP(Table6[[#This Row],[WELL v1 Feature 2]],Table4[],4,FALSE),\"Y\")","v":"Y"},{"$f":"_xlfn.IFNA(VLOOKUP(Table6[[#This Row],[WELL v1 Feature 3]],Table4[],4,FALSE),\"Y\")","v":"Y"},{"$f":"IF(COUNTIF(Table6[[#This Row],[v1 feature 1 attainment]:[v1 feature 3 attainment]],\"Y\")=3,TRUE,FALSE)","v":true},{"$f":"VLOOKUP(Table6[[#This Row],[WELL v2 Feature]],Table5[],7,FALSE)","v":2},{"$f":"VLOOKUP(Table6[[#This Row],[WELL v2 Feature]],Table5[],9,FALSE)","v":2},{"$f":"VLOOKUP(Table6[[#This Row],[WELL v2 Feature]],Table5[],10,FALSE)","v":0},{"$f":"VLOOKUP(Table6[[#This Row],[WELL v2 Feature]],Table5[],8,FALSE)","v":"Bonus"},null,null,null,"W07",1,{"$f":"CONCATENATE(Table9[[#This Row],[Feature]],\".\",Table9[[#This Row],[Part]])","v":"W07.1"},{"$f":"VLOOKUP(Table9[[#This Row],[Feature]],Table5[],5,FALSE)","v":"Optimization"},{"$f":"NOT(ISNA(_xlfn.IFNA(VLOOKUP(Table9[[#This Row],[Feature.Part]],Table6[v2 Feature.Part],1,FALSE),VLOOKUP(CONCATENATE(Table9[[#This Row],[Feature]],\".\",\"All\"),Table6[v2 Feature.Part],1,FALSE))))","v":true},{"$f":"IF(Table9[[#This Row],[Part Covered in Skybridge?]],  IF(COUNTIFS(Table6[v2 Part attainment through these features?],TRUE,Table6[v2 Feature.Part],Table9[[#This Row],[Feature.Part]])>0,TRUE,FALSE),FALSE)","v":true},{"$f":"IF(Table9[[#This Row],[Part attained in v2?]],\nIF(Table9[[#This Row],[Feature]]=\"I01\",COUNTIFS(Table6[WELL v2 Feature],\"I01\",Table6[v1 feature 1 attainment],\"Y\"),\nVLOOKUP(Table9[[#This Row],[Feature.Part]],Table6[[v2 Feature.Part]:[Part points]],7,FALSE)),0)","v":1},{"$f":"IF(Table9[[#This Row],[Part attained in v2?]],IF(Table9[[#This Row],[Type]]=\"Precondition\",\"Y\",Table9[[#This Row],[v2 points]]),0)","v":1},{"$f":"VLOOKUP(Table9[[#This Row],[Feature]],Table5[],12,FALSE)","v":"Water"}]
["W08",3,{"$f":"CONCATENATE(Table6[[#This Row],[WELL v2 Feature]],\".\",Table6[[#This Row],[v2 Part]])","v":"W08.3"},41,null,null,null,1,{"$f":"IF('v1 Project Information'!$C$4=\"Core and Shell\",IF(Table6[[#This Row],[v2 Core Points (if less than max)]]>0,Table6[[#This Row],[v2 Core Points (if less than max)]],VLOOKUP(Table6[[#This Row],[v2 Feature.Part]],Table5[[Feature.Part]:[Points]],4,FALSE)),IF(Table6[[#This Row],[v2 WBS Points (if less than max)]]>0,Table6[[#This Row],[v2 WBS Points (if less than max)]],VLOOKUP(Table6[[#This Row],[v2 Feature.Part]],Table5[[Feature.Part]:[Points]],4,FALSE)))","v":1},{"$f":"VLOOKUP(Table6[[#This Row],[WELL v1 Feature 1]],Table4[],4,FALSE)","v":"Y"},{"$f":"_xlfn.IFNA(VLOOKUP(Table6[[#This Row],[WELL v1 Feature 2]],Table4[],4,FALSE),\"Y\")","v":"Y"},{"$f":"_xlfn.IFNA(VLOOKUP(Table6[[#This Row],[WELL v1 Feature 3]],Table4[],4,FALSE),\"Y\")","v":"Y"},{"$f":"IF(COUNTIF(Table6[[#This Row],[v1 feature 1 attainment]:[v1 feature 3 attainment]],\"Y\")=3,TRUE,FALSE)","v":true},{"$f":"VLOOKUP(Table6[[#This Row],[WELL v2 Feature]],Table5[],7,FALSE)","v":2},{"$f":"VLOOKUP(Table6[[#This Row],[WELL v2 Feature]],Table5[],9,FALSE)","v":2},{"$f":"VLOOKUP(Table6[[#This Row],[WELL v2 Feature]],Table5[],10,FALSE)","v":0},{"$f":"VLOOKUP(Table6[[#This Row],[WELL v2 Feature]],Table5[],8,FALSE)","v":"None"},null,null,null,"W07",2,{"$f":"CONCATENATE(Table9[[#This Row],[Feature]],\".\",Table9[[#This Row],[Part]])","v":"W07.2"},{"$f":"VLOOKUP(Table9[[#This Row],[Feature]],Table5[],5,FALSE)","v":"Optimization"},{"$f":"NOT(ISNA(_xlfn.IFNA(VLOOKUP(Table9[[#This Row],[Feature.Part]],Table6[v2 Feature.Part],1,FALSE),VLOOKUP(CONCATENATE(Table9[[#This Row],[Feature]],\".\",\"All\"),Table6[v2 Feature.Part],1,FALSE))))","v":true},{"$f":"IF(Table9[[#This Row],[Part Covered in Skybridge?]],  IF(COUNTIFS(Table6[v2 Part attainment through these features?],TRUE,Table6[v2 Feature.Part],Table9[[#This Row],[Feature.Part]])>0,TRUE,FALSE),FALSE)","v":true},{"$f":"IF(Table9[[#This Row],[Part attained in v2?]],\nIF(Table9[[#This Row],[Feature]]=\"I01\",COUNTIFS(Table6[WELL v2 Feature],\"I01\",Table6[v1 feature 1 attainment],\"Y\"),\nVLOOKUP(Table9[[#This Row],[Feature.Part]],Table6[[v2 Feature.Part]:[Part points]],7,FALSE)),0)","v":1},{"$f":"IF(Table9[[#This Row],[Part attained in v2?]],IF(Table9[[#This Row],[Type]]=\"Precondition\",\"Y\",Table9[[#This Row],[v2 points]]),0)","v":1},{"$f":"VLOOKUP(Table9[[#This Row],[Feature]],Table5[],12,FALSE)","v":"Water"}]
["W08",4,{"$f":"CONCATENATE(Table6[[#This Row],[WELL v2 Feature]],\".\",Table6[[#This Row],[v2 Part]])","v":"W08.4"},41,null,null,null,1,{"$f":"IF('v1 Project Information'!$C$4=\"Core and Shell\",IF(Table6[[#This Row],[v2 Core Points (if less than max)]]>0,Table6[[#This Row],[v2 Core Points (if less than max)]],VLOOKUP(Table6[[#This Row],[v2 Feature.Part]],Table5[[Feature.Part]:[Points]],4,FALSE)),IF(Table6[[#This Row],[v2 WBS Points (if less than max)]]>0,Table6[[#This Row],[v2 WBS Points (if less than max)]],VLOOKUP(Table6[[#This Row],[v2 Feature.Part]],Table5[[Feature.Part]:[Points]],4,FALSE)))","v":1},{"$f":"VLOOKUP(Table6[[#This Row],[WELL v1 Feature 1]],Table4[],4,FALSE)","v":"Y"},{"$f":"_xlfn.IFNA(VLOOKUP(Table6[[#This Row],[WELL v1 Feature 2]],Table4[],4,FALSE),\"Y\")","v":"Y"},{"$f":"_xlfn.IFNA(VLOOKUP(Table6[[#This Row],[WELL v1 Feature 3]],Table4[],4,FALSE),\"Y\")","v":"Y"},{"$f":"IF(COUNTIF(Table6[[#This Row],[v1 feature 1 attainment]:[v1 feature 3 attainment]],\"Y\")=3,TRUE,FALSE)","v":true},{"$f":"VLOOKUP(Table6[[#This Row],[WELL v2 Feature]],Table5[],7,FALSE)","v":2},{"$f":"VLOOKUP(Table6[[#This Row],[WELL v2 Feature]],Table5[],9,FALSE)","v":2},{"$f":"VLOOKUP(Table6[[#This Row],[WELL v2 Feature]],Table5[],10,FALSE)","v":0},{"$f":"VLOOKUP(Table6[[#This Row],[WELL v2 Feature]],Table5[],8,FALSE)","v":"None"},null,null,null,"W07",3,{"$f":"CONCATENATE(Table9[[#This Row],[Feature]],\".\",Table9[[#This Row],[Part]])","v":"W07.3"},{"$f":"VLOOKUP(Table9[[#This Row],[Feature]],Table5[],5,FALSE)","v":"Optimization"},{"$f":"NOT(ISNA(_xlfn.IFNA(VLOOKUP(Table9[[#This Row],[Feature.Part]],Table6[v2 Feature.Part],1,FALSE),VLOOKUP(CONCATENATE(Table9[[#This Row],[Feature]],\".\",\"All\"),Table6[v2 Feature.Part],1,FALSE))))","v":true},{"$f":"IF(Table9[[#This Row],[Part Covered in Skybridge?]],  IF(COUNTIFS(Table6[v2 Part attainment through these features?],TRUE,Table6[v2 Feature.Part],Table9[[#This Row],[Feature.Part]])>0,TRUE,FALSE),FALSE)","v":true},{"$f":"IF(Table9[[#This Row],[Part attained in v2?]],\nIF(Table9[[#This Row],[Feature]]=\"I01\",COUNTIFS(Table6[WELL v2 Feature],\"I01\",Table6[v1 feature 1 attainment],\"Y\"),\nVLOOKUP(Table9[[#This Row],[Feature.Part]],Table6[[v2 Feature.Part]:[Part points]],7,FALSE)),0)","v":1},{"$f":"IF(Table9[[#This Row],[Part attained in v2?]],IF(Table9[[#This Row],[Type]]=\"Precondition\",\"Y\",Table9[[#This Row],[v2 points]]),0)","v":1},{"$f":"VLOOKUP(Table9[[#This Row],[Feature]],Table5[],12,FALSE)","v":"Water"}]
["N01",1,{"$f":"CONCATENATE(Table6[[#This Row],[WELL v2 Feature]],\".\",Table6[[#This Row],[v2 Part]])","v":"N01.1"},38,null,null,null,null,{"$f":"IF('v1 Project Information'!$C$4=\"Core and Shell\",IF(Table6[[#This Row],[v2 Core Points (if less than max)]]>0,Table6[[#This Row],[v2 Core Points (if less than max)]],VLOOKUP(Table6[[#This Row],[v2 Feature.Part]],Table5[[Feature.Part]:[Points]],4,FALSE)),IF(Table6[[#This Row],[v2 WBS Points (if less than max)]]>0,Table6[[#This Row],[v2 WBS Points (if less than max)]],VLOOKUP(Table6[[#This Row],[v2 Feature.Part]],Table5[[Feature.Part]:[Points]],4,FALSE)))","v":"P"},{"$f":"VLOOKUP(Table6[[#This Row],[WELL v1 Feature 1]],Table4[],4,FALSE)","v":"Y"},{"$f":"_xlfn.IFNA(VLOOKUP(Table6[[#This Row],[WELL v1 Feature 2]],Table4[],4,FALSE),\"Y\")","v":"Y"},{"$f":"_xlfn.IFNA(VLOOKUP(Table6[[#This Row],[WELL v1 Feature 3]],Table4[],4,FALSE),\"Y\")","v":"Y"},{"$f":"IF(COUNTIF(Table6[[#This Row],[v1 feature 1 attainment]:[v1 feature 3 attainment]],\"Y\")=3,TRUE,FALSE)","v":true},{"$f":"VLOOKUP(Table6[[#This Row],[WELL v2 Feature]],Table5[],7,FALSE)","v":3},{"$f":"VLOOKUP(Table6[[#This Row],[WELL v2 Feature]],Table5[],9,FALSE)","v":"P"},{"$f":"VLOOKUP(Table6[[#This Row],[WELL v2 Feature]],Table5[],10,FALSE)","v":0},{"$f":"VLOOKUP(Table6[[#This Row],[WELL v2 Feature]],Table5[],8,FALSE)","v":0},null,null,null,"W08",1,{"$f":"CONCATENATE(Table9[[#This Row],[Feature]],\".\",Table9[[#This Row],[Part]])","v":"W08.1"},{"$f":"VLOOKUP(Table9[[#This Row],[Feature]],Table5[],5,FALSE)","v":"Optimization"},{"$f":"NOT(ISNA(_xlfn.IFNA(VLOOKUP(Table9[[#This Row],[Feature.Part]],Table6[v2 Feature.Part],1,FALSE),VLOOKUP(CONCATENATE(Table9[[#This Row],[Feature]],\".\",\"All\"),Table6[v2 Feature.Part],1,FALSE))))","v":false},{"$f":"IF(Table9[[#This Row],[Part Covered in Skybridge?]],  IF(COUNTIFS(Table6[v2 Part attainment through these features?],TRUE,Table6[v2 Feature.Part],Table9[[#This Row],[Feature.Part]])>0,TRUE,FALSE),FALSE)","v":false},{"$f":"IF(Table9[[#This Row],[Part attained in v2?]],\nIF(Table9[[#This Row],[Feature]]=\"I01\",COUNTIFS(Table6[WELL v2 Feature],\"I01\",Table6[v1 feature 1 attainment],\"Y\"),\nVLOOKUP(Table9[[#This Row],[Feature.Part]],Table6[[v2 Feature.Part]:[Part points]],7,FALSE)),0)","v":0},{"$f":"IF(Table9[[#This Row],[Part attained in v2?]],IF(Table9[[#This Row],[Type]]=\"Precondition\",\"Y\",Table9[[#This Row],[v2 points]]),0)","v":0},{"$f":"VLOOKUP(Table9[[#This Row],[Feature]],Table5[],12,FALSE)","v":"Water"}]
["N01",2,{"$f":"CONCATENATE(Table6[[#This Row],[WELL v2 Feature]],\".\",Table6[[#This Row],[v2 Part]])","v":"N01.2"},38,null,null,null,null,{"$f":"IF('v1 Project Information'!$C$4=\"Core and Shell\",IF(Table6[[#This Row],[v2 Core Points (if less than max)]]>0,Table6[[#This Row],[v2 Core Points (if less than max)]],VLOOKUP(Table6[[#This Row],[v2 Feature.Part]],Table5[[Feature.Part]:[Points]],4,FALSE)),IF(Table6[[#This Row],[v2 WBS Points (if less than max)]]>0,Table6[[#This Row],[v2 WBS Points (if less than max)]],VLOOKUP(Table6[[#This Row],[v2 Feature.Part]],Table5[[Feature.Part]:[Points]],4,FALSE)))","v":"P"},{"$f":"VLOOKUP(Table6[[#This Row],[WELL v1 Feature 1]],Table4[],4,FALSE)","v":"Y"},{"$f":"_xlfn.IFNA(VLOOKUP(Table6[[#This Row],[WELL v1 Feature 2]],Table4[],4,FALSE),\"Y\")","v":"Y"},{"$f":"_xlfn.IFNA(VLOOKUP(Table6[[#This Row],[WELL v1 Feature 3]],Table4[],4,FALSE),\"Y\")","v":"Y"},{"$f":"IF(COUNTIF(Table6[[#This Row],[v1 feature 1 attainment]:[v1 feature 3 attainment]],\"Y\")=3,TRUE,FALSE)","v":true},{"$f":"VLOOKUP(Table6[[#This Row],[WELL v2 Feature]],Table5[],7,FALSE)","v":3},{"$f":"VLOOKUP(Table6[[#This Row],[WELL v2 Feature]],Table5[],9,FALSE)","v":"P"},{"$f":"VLOOKUP(Table6[[#This Row],[WELL v2 Feature]],Table5[],10,FALSE)","v":0},{"$f":"VLOOKUP(Table6[[#This Row],[WELL v2 Feature]],Table5[],8,FALSE)","v":0},null,null,null,"W08",2,{"$f":"CONCATENATE(Table9[[#This Row],[Feature]],\".\",Table9[[#This Row],[Part]])","v":"W08.2"},{"$f":"VLOOKUP(Table9[[#This Row],[Feature]],Table5[],5,FALSE)","v":"Optimization"},{"$f":"NOT(ISNA(_xlfn.IFNA(VLOOKUP(Table9[[#This Row],[Feature.Part]],Table6[v2 Feature.Part],1,FALSE),VLOOKUP(CONCATENATE(Table9[[#This Row],[Feature]],\".\",\"All\"),Table6[v2 Feature.Part],1,FALSE))))","v":false},{"$f":"IF(Table9[[#This Row],[Part Covered in Skybridge?]],  IF(COUNTIFS(Table6[v2 Part attainment through these features?],TRUE,Table6[v2 Feature.Part],Table9[[#This Row],[Feature.Part]])>0,TRUE,FALSE),FALSE)","v":false},{"$f":"IF(Table9[[#This Row],[Part attained in v2?]],\nIF(Table9[[#This Row],[Feature]]=\"I01\",COUNTIFS(Table6[WELL v2 Feature],\"I01\",Table6[v1 feature 1 attainment],\"Y\"),\nVLOOKUP(Table9[[#This Row],[Feature.Part]],Table6[[v2 Feature.Part]:[Part points]],7,FALSE)),0)","v":0},{"$f":"IF(Table9[[#This Row],[Part attained in v2?]],IF(Table9[[#This Row],[Type]]=\"Precondition\",\"Y\",Table9[[#This Row],[v2 points]]),0)","v":0},{"$f":"VLOOKUP(Table9[[#This Row],[Feature]],Table5[],12,FALSE)","v":"Water"}]
["N02",1,{"$f":"CONCATENATE(Table6[[#This Row],[WELL v2 Feature]],\".\",Table6[[#This Row],[v2 Part]])","v":"N02.1"},44,null,null,null,null,{"$f":"IF('v1 Project Information'!$C$4=\"Core and Shell\",IF(Table6[[#This Row],[v2 Core Points (if less than max)]]>0,Table6[[#This Row],[v2 Core Points (if less than max)]],VLOOKUP(Table6[[#This Row],[v2 Feature.Part]],Table5[[Feature.Part]:[Points]],4,FALSE)),IF(Table6[[#This Row],[v2 WBS Points (if less than max)]]>0,Table6[[#This Row],[v2 WBS Points (if less than max)]],VLOOKUP(Table6[[#This Row],[v2 Feature.Part]],Table5[[Feature.Part]:[Points]],4,FALSE)))","v":"P"},{"$f":"VLOOKUP(Table6[[#This Row],[WELL v1 Feature 1]],Table4[],4,FALSE)","v":"Y"},{"$f":"_xlfn.IFNA(VLOOKUP(Table6[[#This Row],[WELL v1 Feature 2]],Table4[],4,FALSE),\"Y\")","v":"Y"},{"$f":"_xlfn.IFNA(VLOOKUP(Table6[[#This Row],[WELL v1 Feature 3]],Table4[],4,FALSE),\"Y\")","v":"Y"},{"$f":"IF(COUNTIF(Table6[[#This Row],[v1 feature 1 attainment]:[v1 feature 3 attainment]],\"Y\")=3,TRUE,FALSE)","v":true},{"$f":"VLOOKUP(Table6[[#This Row],[WELL v2 Feature]],Table5[],7,FALSE)","v":3},{"$f":"VLOOKUP(Table6[[#This Row],[WELL v2 Feature]],Table5[],9,FALSE)","v":"P"},{"$f":"VLOOKUP(Table6[[#This Row],[WELL v2 Feature]],Table5[],10,FALSE)","v":0},{"$f":"VLOOKUP(Table6[[#This Row],[WELL v2 Feature]],Table5[],8,FALSE)","v":0},null,null,null,"W08",3,{"$f":"CONCATENATE(Table9[[#This Row],[Feature]],\".\",Table9[[#This Row],[Part]])","v":"W08.3"},{"$f":"VLOOKUP(Table9[[#This Row],[Feature]],Table5[],5,FALSE)","v":"Optimization"},{"$f":"NOT(ISNA(_xlfn.IFNA(VLOOKUP(Table9[[#This Row],[Feature.Part]],Table6[v2 Feature.Part],1,FALSE),VLOOKUP(CONCATENATE(Table9[[#This Row],[Feature]],\".\",\"All\"),Table6[v2 Feature.Part],1,FALSE))))","v":true},{"$f":"IF(Table9[[#This Row],[Part Covered in Skybridge?]],  IF(COUNTIFS(Table6[v2 Part attainment through these features?],TRUE,Table6[v2 Feature.Part],Table9[[#This Row],[Feature.Part]])>0,TRUE,FALSE),FALSE)","v":true},{"$f":"IF(Table9[[#This Row],[Part attained in v2?]],\nIF(Table9[[#This Row],[Feature]]=\"I01\",COUNTIFS(Table6[WELL v2 Feature],\"I01\",Table6[v1 feature 1 attainment],\"Y\"),\nVLOOKUP(Table9[[#This Row],[Feature.Part]],Table6[[v2 Feature.Part]:[Part points]],7,FALSE)),0)","v":1},{"$f":"IF(Table9[[#This Row],[Part attained in v2?]],IF(Table9[[#This Row],[Type]]=\"Precondition\",\"Y\",Table9[[#This Row],[v2 points]]),0)","v":1},{"$f":"VLOOKUP(Table9[[#This Row],[Feature]],Table5[],12,FALSE)","v":"Water"}]
["N02",3,{"$f":"CONCATENATE(Table6[[#This Row],[WELL v2 Feature]],\".\",Table6[[#This Row],[v2 Part]])","v":"N02.3"},44,null,null,null,null,{"$f":"IF('v1 Project Information'!$C$4=\"Core and Shell\",IF(Table6[[#This Row],[v2 Core Points (if less than max)]]>0,Table6[[#This Row],[v2 Core Points (if less than max)]],VLOOKUP(Table6[[#This Row],[v2 Feature.Part]],Table5[[Feature.Part]:[Points]],4,FALSE)),IF(Table6[[#This Row],[v2 WBS Points (if less than max)]]>0,Table6[[#This Row],[v2 WBS Points (if less than max)]],VLOOKUP(Table6[[#This Row],[v2 Feature.Part]],Table5[[Feature.Part]:[Points]],4,FALSE)))","v":"P"},{"$f":"VLOOKUP(Table6[[#This Row],[WELL v1 Feature 1]],Table4[],4,FALSE)","v":"Y"},{"$f":"_xlfn.IFNA(VLOOKUP(Table6[[#This Row],[WELL v1 Feature 2]],Table4[],4,FALSE),\"Y\")","v":"Y"},{"$f":"_xlfn.IFNA(VLOOKUP(Table6[[#This Row],[WELL v1 Feature 3]],Table4[],4,FALSE),\"Y\")","v":"Y"},{"$f":"IF(COUNTIF(Table6[[#This Row],[v1 feature 1 attainment]:[v1 feature 3 attainment]],\"Y\")=3,TRUE,FALSE)","v":true},{"$f":"VLOOKUP(Table6[[#This Row],[WELL v2 Feature]],Table5[],7,FALSE)","v":3},{"$f":"VLOOKUP(Table6[[#This Row],[WELL v2 Feature]],Table5[],9,FALSE)","v":"P"},{"$f":"VLOOKUP(Table6[[#This Row],[WELL v2 Feature]],Table5[],10,FALSE)","v":0},{"$f":"VLOOKUP(Table6[[#This Row],[WELL v2 Feature]],Table5[],8,FALSE)","v":0},null,null,null,"W08",4,{"$f":"CONCATENATE(Table9[[#This Row],[Feature]],\".\",Table9[[#This Row],[Part]])","v":"W08.4"},{"$f":"VLOOKUP(Table9[[#This Row],[Feature]],Table5[],5,FALSE)","v":"Optimization"},{"$f":"NOT(ISNA(_xlfn.IFNA(VLOOKUP(Table9[[#This Row],[Feature.Part]],Table6[v2 Feature.Part],1,FALSE),VLOOKUP(CONCATENATE(Table9[[#This Row],[Feature]],\".\",\"All\"),Table6[v2 Feature.Part],1,FALSE))))","v":true},{"$f":"IF(Table9[[#This Row],[Part Covered in Skybridge?]],  IF(COUNTIFS(Table6[v2 Part attainment through these features?],TRUE,Table6[v2 Feature.Part],Table9[[#This Row],[Feature.Part]])>0,TRUE,FALSE),FALSE)","v":true},{"$f":"IF(Table9[[#This Row],[Part attained in v2?]],\nIF(Table9[[#This Row],[Feature]]=\"I01\",COUNTIFS(Table6[WELL v2 Feature],\"I01\",Table6[v1 feature 1 attainment],\"Y\"),\nVLOOKUP(Table9[[#This Row],[Feature.Part]],Table6[[v2 Feature.Part]:[Part points]],7,FALSE)),0)","v":1},{"$f":"IF(Table9[[#This Row],[Part attained in v2?]],IF(Table9[[#This Row],[Type]]=\"Precondition\",\"Y\",Table9[[#This Row],[v2 points]]),0)","v":1},{"$f":"VLOOKUP(Table9[[#This Row],[Feature]],Table5[],12,FALSE)","v":"Water"}]
["N03",1,{"$f":"CONCATENATE(Table6[[#This Row],[WELL v2 Feature]],\".\",Table6[[#This Row],[v2 Part]])","v":"N03.1"},39,null,null,null,1,{"$f":"IF('v1 Project Information'!$C$4=\"Core and Shell\",IF(Table6[[#This Row],[v2 Core Points (if less than max)]]>0,Table6[[#This Row],[v2 Core Points (if less than max)]],VLOOKUP(Table6[[#This Row],[v2 Feature.Part]],Table5[[Feature.Part]:[Points]],4,FALSE)),IF(Table6[[#This Row],[v2 WBS Points (if less than max)]]>0,Table6[[#This Row],[v2 WBS Points (if less than max)]],VLOOKUP(Table6[[#This Row],[v2 Feature.Part]],Table5[[Feature.Part]:[Points]],4,FALSE)))","v":1},{"$f":"VLOOKUP(Table6[[#This Row],[WELL v1 Feature 1]],Table4[],4,FALSE)","v":"Y"},{"$f":"_xlfn.IFNA(VLOOKUP(Table6[[#This Row],[WELL v1 Feature 2]],Table4[],4,FALSE),\"Y\")","v":"Y"},{"$f":"_xlfn.IFNA(VLOOKUP(Table6[[#This Row],[WELL v1 Feature 3]],Table4[],4,FALSE),\"Y\")","v":"Y"},{"$f":"IF(COUNTIF(Table6[[#This Row],[v1 feature 1 attainment]:[v1 feature 3 attainment]],\"Y\")=3,TRUE,FALSE)","v":true},{"$f":"VLOOKUP(Table6[[#This Row],[WELL v2 Feature]],Table5[],7,FALSE)","v":3},{"$f":"VLOOKUP(Table6[[#This Row],[WELL v2 Feature]],Table5[],9,FALSE)","v":1},{"$f":"VLOOKUP(Table6[[#This Row],[WELL v2 Feature]],Table5[],10,FALSE)","v":0},{"$f":"VLOOKUP(Table6[[#This Row],[WELL v2 Feature]],Table5[],8,FALSE)","v":"None"},null,null,null,"W09",1,{"$f":"CONCATENATE(Table9[[#This Row],[Feature]],\".\",Table9[[#This Row],[Part]])","v":"W09.1"},{"$f":"VLOOKUP(Table9[[#This Row],[Feature]],Table5[],5,FALSE)","v":"Optimization"},{"$f":"NOT(ISNA(_xlfn.IFNA(VLOOKUP(Table9[[#This Row],[Feature.Part]],Table6[v2 Feature.Part],1,FALSE),VLOOKUP(CONCATENATE(Table9[[#This Row],[Feature]],\".\",\"All\"),Table6[v2 Feature.Part],1,FALSE))))","v":false},{"$f":"IF(Table9[[#This Row],[Part Covered in Skybridge?]],  IF(COUNTIFS(Table6[v2 Part attainment through these features?],TRUE,Table6[v2 Feature.Part],Table9[[#This Row],[Feature.Part]])>0,TRUE,FALSE),FALSE)","v":false},{"$f":"IF(Table9[[#This Row],[Part attained in v2?]],\nIF(Table9[[#This Row],[Feature]]=\"I01\",COUNTIFS(Table6[WELL v2 Feature],\"I01\",Table6[v1 feature 1 attainment],\"Y\"),\nVLOOKUP(Table9[[#This Row],[Feature.Part]],Table6[[v2 Feature.Part]:[Part points]],7,FALSE)),0)","v":0},{"$f":"IF(Table9[[#This Row],[Part attained in v2?]],IF(Table9[[#This Row],[Type]]=\"Precondition\",\"Y\",Table9[[#This Row],[v2 points]]),0)","v":0},{"$f":"VLOOKUP(Table9[[#This Row],[Feature]],Table5[],12,FALSE)","v":"Water"}]
["N03",2,{"$f":"CONCATENATE(Table6[[#This Row],[WELL v2 Feature]],\".\",Table6[[#This Row],[v2 Part]])","v":"N03.2"},39,null,null,null,1,{"$f":"IF('v1 Project Information'!$C$4=\"Core and Shell\",IF(Table6[[#This Row],[v2 Core Points (if less than max)]]>0,Table6[[#This Row],[v2 Core Points (if less than max)]],VLOOKUP(Table6[[#This Row],[v2 Feature.Part]],Table5[[Feature.Part]:[Points]],4,FALSE)),IF(Table6[[#This Row],[v2 WBS Points (if less than max)]]>0,Table6[[#This Row],[v2 WBS Points (if less than max)]],VLOOKUP(Table6[[#This Row],[v2 Feature.Part]],Table5[[Feature.Part]:[Points]],4,FALSE)))","v":1},{"$f":"VLOOKUP(Table6[[#This Row],[WELL v1 Feature 1]],Table4[],4,FALSE)","v":"Y"},{"$f":"_xlfn.IFNA(VLOOKUP(Table6[[#This Row],[WELL v1 Feature 2]],Table4[],4,FALSE),\"Y\")","v":"Y"},{"$f":"_xlfn.IFNA(VLOOKUP(Table6[[#This Row],[WELL v1 Feature 3]],Table4[],4,FALSE),\"Y\")","v":"Y"},{"$f":"IF(COUNTIF(Table6[[#This Row],[v1 feature 1 attainment]:[v1 feature 3 attainment]],\"Y\")=3,TRUE,FALSE)","v":true},{"$f":"VLOOKUP(Table6[[#This Row],[WELL v2 Feature]],Table5[],7,FALSE)","v":3},{"$f":"VLOOKUP(Table6[[#This Row],[WELL v2 Feature]],Table5[],9,FALSE)","v":1},{"$f":"VLOOKUP(Table6[[#This Row],[WELL v2 Feature]],Table5[],10,FALSE)","v":0},{"$f":"VLOOKUP(Table6[[#This Row],[WELL v2 Feature]],Table5[],8,FALSE)","v":"None"},null,null,null,"N01",1,{"$f":"CONCATENATE(Table9[[#This Row],[Feature]],\".\",Table9[[#This Row],[Part]])","v":"N01.1"},{"$f":"VLOOKUP(Table9[[#This Row],[Feature]],Table5[],5,FALSE)","v":"Precondition"},{"$f":"NOT(ISNA(_xlfn.IFNA(VLOOKUP(Table9[[#This Row],[Feature.Part]],Table6[v2 Feature.Part],1,FALSE),VLOOKUP(CONCATENATE(Table9[[#This Row],[Feature]],\".\",\"All\"),Table6[v2 Feature.Part],1,FALSE))))","v":true},{"$f":"IF(Table9[[#This Row],[Part Covered in Skybridge?]],  IF(COUNTIFS(Table6[v2 Part attainment through these features?],TRUE,Table6[v2 Feature.Part],Table9[[#This Row],[Feature.Part]])>0,TRUE,FALSE),FALSE)","v":true},{"$f":"IF(Table9[[#This Row],[Part attained in v2?]],\nIF(Table9[[#This Row],[Feature]]=\"I01\",COUNTIFS(Table6[WELL v2 Feature],\"I01\",Table6[v1 feature 1 attainment],\"Y\"),\nVLOOKUP(Table9[[#This Row],[Feature.Part]],Table6[[v2 Feature.Part]:[Part points]],7,FALSE)),0)","v":"P"},{"$f":"IF(Table9[[#This Row],[Part attained in v2?]],IF(Table9[[#This Row],[Type]]=\"Precondition\",\"Y\",Table9[[#This Row],[v2 points]]),0)","v":"Y"},{"$f":"VLOOKUP(Table9[[#This Row],[Feature]],Table5[],12,FALSE)","v":"Nourishment"}]
["N04",1,{"$f":"CONCATENATE(Table6[[#This Row],[WELL v2 Feature]],\".\",Table6[[#This Row],[v2 Part]])","v":"N04.1"},45,null,null,null,1,{"$f":"IF('v1 Project Information'!$C$4=\"Core and Shell\",IF(Table6[[#This Row],[v2 Core Points (if less than max)]]>0,Table6[[#This Row],[v2 Core Points (if less than max)]],VLOOKUP(Table6[[#This Row],[v2 Feature.Part]],Table5[[Feature.Part]:[Points]],4,FALSE)),IF(Table6[[#This Row],[v2 WBS Points (if less than max)]]>0,Table6[[#This Row],[v2 WBS Points (if less than max)]],VLOOKUP(Table6[[#This Row],[v2 Feature.Part]],Table5[[Feature.Part]:[Points]],4,FALSE)))","v":1},{"$f":"VLOOKUP(Table6[[#This Row],[WELL v1 Feature 1]],Table4[],4,FALSE)","v":"Y"},{"$f":"_xlfn.IFNA(VLOOKUP(Table6[[#This Row],[WELL v1 Feature 2]],Table4[],4,FALSE),\"Y\")","v":"Y"},{"$f":"_xlfn.IFNA(VLOOKUP(Table6[[#This Row],[WELL v1 Feature 3]],Table4[],4,FALSE),\"Y\")","v":"Y"},{"$f":"IF(COUNTIF(Table6[[#This Row],[v1 feature 1 attainment]:[v1 feature 3 attainment]],\"Y\")=3,TRUE,FALSE)","v":true},{"$f":"VLOOKUP(Table6[[#This Row],[WELL v2 Feature]],Table5[],7,FALSE)","v":3},{"$f":"VLOOKUP(Table6[[#This Row],[WELL v2 Feature]],Table5[],9,FALSE)","v":1},{"$f":"VLOOKUP(Table6[[#This Row],[WELL v2 Feature]],Table5[],10,FALSE)","v":0},{"$f":"VLOOKUP(Table6[[#This Row],[WELL v2 Feature]],Table5[],8,FALSE)","v":"None"},null,null,null,"N01",2,{"$f":"CONCATENATE(Table9[[#This Row],[Feature]],\".\",Table9[[#This Row],[Part]])","v":"N01.2"},{"$f":"VLOOKUP(Table9[[#This Row],[Feature]],Table5[],5,FALSE)","v":"Precondition"},{"$f":"NOT(ISNA(_xlfn.IFNA(VLOOKUP(Table9[[#This Row],[Feature.Part]],Table6[v2 Feature.Part],1,FALSE),VLOOKUP(CONCATENATE(Table9[[#This Row],[Feature]],\".\",\"All\"),Table6[v2 Feature.Part],1,FALSE))))","v":true},{"$f":"IF(Table9[[#This Row],[Part Covered in Skybridge?]],  IF(COUNTIFS(Table6[v2 Part attainment through these features?],TRUE,Table6[v2 Feature.Part],Table9[[#This Row],[Feature.Part]])>0,TRUE,FALSE),FALSE)","v":true},{"$f":"IF(Table9[[#This Row],[Part attained in v2?]],\nIF(Table9[[#This Row],[Feature]]=\"I01\",COUNTIFS(Table6[WELL v2 Feature],\"I01\",Table6[v1 feature 1 attainment],\"Y\"),\nVLOOKUP(Table9[[#This Row],[Feature.Part]],Table6[[v2 Feature.Part]:[Part points]],7,FALSE)),0)","v":"P"},{"$f":"IF(Table9[[#This Row],[Part attained in v2?]],IF(Table9[[#This Row],[Type]]=\"Precondition\",\"Y\",Table9[[#This Row],[v2 points]]),0)","v":"Y"},{"$f":"VLOOKUP(Table9[[#This Row],[Feature]],Table5[],12,FALSE)","v":"Nourishment"}]
["N05",1,{"$f":"CONCATENATE(Table6[[#This Row],[WELL v2 Feature]],\".\",Table6[[#This Row],[v2 Part]])","v":"N05.1"},43,null,null,null,1,{"$f":"IF('v1 Project Information'!$C$4=\"Core and Shell\",IF(Table6[[#This Row],[v2 Core Points (if less than max)]]>0,Table6[[#This Row],[v2 Core Points (if less than max)]],VLOOKUP(Table6[[#This Row],[v2 Feature.Part]],Table5[[Feature.Part]:[Points]],4,FALSE)),IF(Table6[[#This Row],[v2 WBS Points (if less than max)]]>0,Table6[[#This Row],[v2 WBS Points (if less than max)]],VLOOKUP(Table6[[#This Row],[v2 Feature.Part]],Table5[[Feature.Part]:[Points]],4,FALSE)))","v":1},{"$f":"VLOOKUP(Table6[[#This Row],[WELL v1 Feature 1]],Table4[],4,FALSE)","v":"Y"},{"$f":"_xlfn.IFNA(VLOOKUP(Table6[[#This Row],[WELL v1 Feature 2]],Table4[],4,FALSE),\"Y\")","v":"Y"},{"$f":"_xlfn.IFNA(VLOOKUP(Table6[[#This Row],[WELL v1 Feature 3]],Table4[],4,FALSE),\"Y\")","v":"Y"},{"$f":"IF(COUNTIF(Table6[[#This Row],[v1 feature 1 attainment]:[v1 feature 3 attainment]],\"Y\")=3,TRUE,FALSE)","v":true},{"$f":"VLOOKUP(Table6[[#This Row],[WELL v2 Feature]],Table5[],7,FALSE)","v":3},{"$f":"VLOOKUP(Table6[[#This Row],[WELL v2 Feature]],Table5[],9,FALSE)","v":1},{"$f":"VLOOKUP(Table6[[#This Row],[WELL v2 Feature]],Table5[],10,FALSE)","v":0},{"$f":"VLOOKUP(Table6[[#This Row],[WELL v2 Feature]],Table5[],8,FALSE)","v":"None"},null,null,null,"N02",1,{"$f":"CONCATENATE(Table9[[#This Row],[Feature]],\".\",Table9[[#This Row],[Part]])","v":"N02.1"},{"$f":"VLOOKUP(Table9[[#This Row],[Feature]],Table5[],5,FALSE)","v":"Precondition"},{"$f":"NOT(ISNA(_xlfn.IFNA(VLOOKUP(Table9[[#This Row],[Feature.Part]],Table6[v2 Feature.Part],1,FALSE),VLOOKUP(CONCATENATE(Table9[[#This Row],[Feature]],\".\",\"All\"),Table6[v2 Feature.Part],1,FALSE))))","v":true},{"$f":"IF(Table9[[#This Row],[Part Covered in Skybridge?]],  IF(COUNTIFS(Table6[v2 Part attainment through these features?],TRUE,Table6[v2 Feature.Part],Table9[[#This Row],[Feature.Part]])>0,TRUE,FALSE),FALSE)","v":true},{"$f":"IF(Table9[[#This Row],[Part attained in v2?]],\nIF(Table9[[#This Row],[Feature]]=\"I01\",COUNTIFS(Table6[WELL v2 Feature],\"I01\",Table6[v1 feature 1 attainment],\"Y\"),\nVLOOKUP(Table9[[#This Row],[Feature.Part]],Table6[[v2 Feature.Part]:[Part points]],7,FALSE)),0)","v":"P"},{"$f":"IF(Table9[[#This Row],[Part attained in v2?]],IF(Table9[[#This Row],[Type]]=\"Precondition\",\"Y\",Table9[[#This Row],[v2 points]]),0)","v":"Y"},{"$f":"VLOOKUP(Table9[[#This Row],[Feature]],Table5[],12,FALSE)","v":"Nourishment"}]
["N06",1,{"$f":"CONCATENATE(Table6[[#This Row],[WELL v2 Feature]],\".\",Table6[[#This Row],[v2 Part]])","v":"N06.1"},47,null,null,null,1,{"$f":"IF('v1 Project Information'!$C$4=\"Core and Shell\",IF(Table6[[#This Row],[v2 Core Points (if less than max)]]>0,Table6[[#This Row],[v2 Core Points (if less than max)]],VLOOKUP(Table6[[#This Row],[v2 Feature.Part]],Table5[[Feature.Part]:[Points]],4,FALSE)),IF(Table6[[#This Row],[v2 WBS Points (if less than max)]]>0,Table6[[#This Row],[v2 WBS Points (if less than max)]],VLOOKUP(Table6[[#This Row],[v2 Feature.Part]],Table5[[Feature.Part]:[Points]],4,FALSE)))","v":1},{"$f":"VLOOKUP(Table6[[#This Row],[WELL v1 Feature 1]],Table4[],4,FALSE)","v":"N"},{"$f":"_xlfn.IFNA(VLOOKUP(Table6[[#This Row],[WELL v1 Feature 2]],Table4[],4,FALSE),\"Y\")","v":"Y"},{"$f":"_xlfn.IFNA(VLOOKUP(Table6[[#This Row],[WELL v1 Feature 3]],Table4[],4,FALSE),\"Y\")","v":"Y"},{"$f":"IF(COUNTIF(Table6[[#This Row],[v1 feature 1 attainment]:[v1 feature 3 attainment]],\"Y\")=3,TRUE,FALSE)","v":false},{"$f":"VLOOKUP(Table6[[#This Row],[WELL v2 Feature]],Table5[],7,FALSE)","v":3},{"$f":"VLOOKUP(Table6[[#This Row],[WELL v2 Feature]],Table5[],9,FALSE)","v":1},{"$f":"VLOOKUP(Table6[[#This Row],[WELL v2 Feature]],Table5[],10,FALSE)","v":0},{"$f":"VLOOKUP(Table6[[#This Row],[WELL v2 Feature]],Table5[],8,FALSE)","v":"None"},null,null,null,"N02",2,{"$f":"CONCATENATE(Table9[[#This Row],[Feature]],\".\",Table9[[#This Row],[Part]])","v":"N02.2"},{"$f":"VLOOKUP(Table9[[#This Row],[Feature]],Table5[],5,FALSE)","v":"Precondition"},{"$f":"NOT(ISNA(_xlfn.IFNA(VLOOKUP(Table9[[#This Row],[Feature.Part]],Table6[v2 Feature.Part],1,FALSE),VLOOKUP(CONCATENATE(Table9[[#This Row],[Feature]],\".\",\"All\"),Table6[v2 Feature.Part],1,FALSE))))","v":false},{"$f":"IF(Table9[[#This Row],[Part Covered in Skybridge?]],  IF(COUNTIFS(Table6[v2 Part attainment through these features?],TRUE,Table6[v2 Feature.Part],Table9[[#This Row],[Feature.Part]])>0,TRUE,FALSE),FALSE)","v":false},{"$f":"IF(Table9[[#This Row],[Part attained in v2?]],\nIF(Table9[[#This Row],[Feature]]=\"I01\",COUNTIFS(Table6[WELL v2 Feature],\"I01\",Table6[v1 feature 1 attainment],\"Y\"),\nVLOOKUP(Table9[[#This Row],[Feature.Part]],Table6[[v2 Feature.Part]:[Part points]],7,FALSE)),0)","v":0},{"$f":"IF(Table9[[#This Row],[Part attained in v2?]],IF(Table9[[#This Row],[Type]]=\"Precondition\",\"Y\",Table9[[#This Row],[v2 points]]),0)","v":0},{"$f":"VLOOKUP(Table9[[#This Row],[Feature]],Table5[],12,FALSE)","v":"Nourishment"}]
["N07",1,{"$f":"CONCATENATE(Table6[[#This Row],[WELL v2 Feature]],\".\",Table6[[#This Row],[v2 Part]])","v":"N07.1"},44,null,null,null,1,{"$f":"IF('v1 Project Information'!$C$4=\"Core and Shell\",IF(Table6[[#This Row],[v2 Core Points (if less than max)]]>0,Table6[[#This Row],[v2 Core Points (if less than max)]],VLOOKUP(Table6[[#This Row],[v2 Feature.Part]],Table5[[Feature.Part]:[Points]],4,FALSE)),IF(Table6[[#This Row],[v2 WBS Points (if less than max)]]>0,Table6[[#This Row],[v2 WBS Points (if less than max)]],VLOOKUP(Table6[[#This Row],[v2 Feature.Part]],Table5[[Feature.Part]:[Points]],4,FALSE)))","v":1},{"$f":"VLOOKUP(Table6[[#This Row],[WELL v1 Feature 1]],Table4[],4,FALSE)","v":"Y"},{"$f":"_xlfn.IFNA(VLOOKUP(Table6[[#This Row],[WELL v1 Feature 2]],Table4[],4,FALSE),\"Y\")","v":"Y"},{"$f":"_xlfn.IFNA(VLOOKUP(Table6[[#This Row],[WELL v1 Feature 3]],Table4[],4,FALSE),\"Y\")","v":"Y"},{"$f":"IF(COUNTIF(Table6[[#This Row],[v1 feature 1 attainment]:[v1 feature 3 attainment]],\"Y\")=3,TRUE,FALSE)","v":true},{"$f":"VLOOKUP(Table6[[#This Row],[WELL v2 Feature]],Table5[],7,FALSE)","v":3},{"$f":"VLOOKUP(Table6[[#This Row],[WELL v2 Feature]],Table5[],9,FALSE)","v":1},{"$f":"VLOOKUP(Table6[[#This Row],[WELL v2 Feature]],Table5[],10,FALSE)","v":0},{"$f":"VLOOKUP(Table6[[#This Row],[WELL v2 Feature]],Table5[],8,FALSE)","v":"None"},null,null,null,"N02",3,{"$f":"CONCATENATE(Table9[[#This Row],[Feature]],\".\",Table9[[#This Row],[Part]])","v":"N02.3"},{"$f":"VLOOKUP(Table9[[#This Row],[Feature]],Table5[],5,FALSE)","v":"Precondition"},{"$f":"NOT(ISNA(_xlfn.IFNA(VLOOKUP(Table9[[#This Row],[Feature.Part]],Table6[v2 Feature.Part],1,FALSE),VLOOKUP(CONCATENATE(Table9[[#This Row],[Feature]],\".\",\"All\"),Table6[v2 Feature.Part],1,FALSE))))","v":true},{"$f":"IF(Table9[[#This Row],[Part Covered in Skybridge?]],  IF(COUNTIFS(Table6[v2 Part attainment through these features?],TRUE,Table6[v2 Feature.Part],Table9[[#This Row],[Feature.Part]])>0,TRUE,FALSE),FALSE)","v":true},{"$f":"IF(Table9[[#This Row],[Part attained in v2?]],\nIF(Table9[[#This Row],[Feature]]=\"I01\",COUNTIFS(Table6[WELL v2 Feature],\"I01\",Table6[v1 feature 1 attainment],\"Y\"),\nVLOOKUP(Table9[[#This Row],[Feature.Part]],Table6[[v2 Feature.Part]:[Part points]],7,FALSE)),0)","v":"P"},{"$f":"IF(Table9[[#This Row],[Part attained in v2?]],IF(Table9[[#This Row],[Type]]=\"Precondition\",\"Y\",Table9[[#This Row],[v2 points]]),0)","v":"Y"},{"$f":"VLOOKUP(Table9[[#This Row],[Feature]],Table5[],12,FALSE)","v":"Nourishment"}]
["N08",1,{"$f":"CONCATENATE(Table6[[#This Row],[WELL v2 Feature]],\".\",Table6[[#This Row],[v2 Part]])","v":"N08.1"},52,null,null,null,2,{"$f":"IF('v1 Project Information'!$C$4=\"Core and Shell\",IF(Table6[[#This Row],[v2 Core Points (if less than max)]]>0,Table6[[#This Row],[v2 Core Points (if less than max)]],VLOOKUP(Table6[[#This Row],[v2 Feature.Part]],Table5[[Feature.Part]:[Points]],4,FALSE)),IF(Table6[[#This Row],[v2 WBS Points (if less than max)]]>0,Table6[[#This Row],[v2 WBS Points (if less than max)]],VLOOKUP(Table6[[#This Row],[v2 Feature.Part]],Table5[[Feature.Part]:[Points]],4,FALSE)))","v":2},{"$f":"VLOOKUP(Table6[[#This Row],[WELL v1 Feature 1]],Table4[],4,FALSE)","v":"N"},{"$f":"_xlfn.IFNA(VLOOKUP(Table6[[#This Row],[WELL v1 Feature 2]],Table4[],4,FALSE),\"Y\")","v":"Y"},{"$f":"_xlfn.IFNA(VLOOKUP(Table6[[#This Row],[WELL v1 Feature 3]],Table4[],4,FALSE),\"Y\")","v":"Y"},{"$f":"IF(COUNTIF(Table6[[#This Row],[v1 feature 1 attainment]:[v1 feature 3 attainment]],\"Y\")=3,TRUE,FALSE)","v":false},{"$f":"VLOOKUP(Table6[[#This Row],[WELL v2 Feature]],Table5[],7,FALSE)","v":3},{"$f":"VLOOKUP(Table6[[#This Row],[WELL v2 Feature]],Table5[],9,FALSE)","v":1},{"$f":"VLOOKUP(Table6[[#This Row],[WELL v2 Feature]],Table5[],10,FALSE)","v":1},{"$f":"VLOOKUP(Table6[[#This Row],[WELL v2 Feature]],Table5[],8,FALSE)","v":"Limit"},null,null,null,"N03",1,{"$f":"CONCATENATE(Table9[[#This Row],[Feature]],\".\",Table9[[#This Row],[Part]])","v":"N03.1"},{"$f":"VLOOKUP(Table9[[#This Row],[Feature]],Table5[],5,FALSE)","v":"Optimization"},{"$f":"NOT(ISNA(_xlfn.IFNA(VLOOKUP(Table9[[#This Row],[Feature.Part]],Table6[v2 Feature.Part],1,FALSE),VLOOKUP(CONCATENATE(Table9[[#This Row],[Feature]],\".\",\"All\"),Table6[v2 Feature.Part],1,FALSE))))","v":true},{"$f":"IF(Table9[[#This Row],[Part Covered in Skybridge?]],  IF(COUNTIFS(Table6[v2 Part attainment through these features?],TRUE,Table6[v2 Feature.Part],Table9[[#This Row],[Feature.Part]])>0,TRUE,FALSE),FALSE)","v":true},{"$f":"IF(Table9[[#This Row],[Part attained in v2?]],\nIF(Table9[[#This Row],[Feature]]=\"I01\",COUNTIFS(Table6[WELL v2 Feature],\"I01\",Table6[v1 feature 1 attainment],\"Y\"),\nVLOOKUP(Table9[[#This Row],[Feature.Part]],Table6[[v2 Feature.Part]:[Part points]],7,FALSE)),0)","v":1},{"$f":"IF(Table9[[#This Row],[Part attained in v2?]],IF(Table9[[#This Row],[Type]]=\"Precondition\",\"Y\",Table9[[#This Row],[v2 points]]),0)","v":1},{"$f":"VLOOKUP(Table9[[#This Row],[Feature]],Table5[],12,FALSE)","v":"Nourishment"}]
["N09",1,{"$f":"CONCATENATE(Table6[[#This Row],[WELL v2 Feature]],\".\",Table6[[#This Row],[v2 Part]])","v":"N09.1"},48,null,null,null,1,{"$f":"IF('v1 Project Information'!$C$4=\"Core and Shell\",IF(Table6[[#This Row],[v2 Core Points (if less than max)]]>0,Table6[[#This Row],[v2 Core Points (if less than max)]],VLOOKUP(Table6[[#This Row],[v2 Feature.Part]],Table5[[Feature.Part]:[Points]],4,FALSE)),IF(Table6[[#This Row],[v2 WBS Points (if less than max)]]>0,Table6[[#This Row],[v2 WBS Points (if less than max)]],VLOOKUP(Table6[[#This Row],[v2 Feature.Part]],Table5[[Feature.Part]:[Points]],4,FALSE)))","v":1},{"$f":"VLOOKUP(Table6[[#This Row],[WELL v1 Feature 1]],Table4[],4,FALSE)","v":"N"},{"$f":"_xlfn.IFNA(VLOOKUP(Table6[[#This Row],[WELL v1 Feature 2]],Table4[],4,FALSE),\"Y\")","v":"Y"},{"$f":"_xlfn.IFNA(VLOOKUP(Table6[[#This Row],[WELL v1 Feature 3]],Table4[],4,FALSE),\"Y\")","v":"Y"},{"$f":"IF(COUNTIF(Table6[[#This Row],[v1 feature 1 attainment]:[v1 feature 3 attainment]],\"Y\")=3,TRUE,FALSE)","v":false},{"$f":"VLOOKUP(Table6[[#This Row],[WELL v2 Feature]],Table5[],7,FALSE)","v":3},{"$f":"VLOOKUP(Table6[[#This Row],[WELL v2 Feature]],Table5[],9,FALSE)","v":1},{"$f":"VLOOKUP(Table6[[#This Row],[WELL v2 Feature]],Table5[],10,FALSE)","v":0},{"$f":"VLOOKUP(Table6[[#This Row],[WELL v2 Feature]],Table5[],8,FALSE)","v":"None"},null,null,null,"N03",2,{"$f":"CONCATENATE(Table9[[#This Row],[Feature]],\".\",Table9[[#This Row],[Part]])","v":"N03.2"},{"$f":"VLOOKUP(Table9[[#This Row],[Feature]],Table5[],5,FALSE)","v":"Optimization"},{"$f":"NOT(ISNA(_xlfn.IFNA(VLOOKUP(Table9[[#This Row],[Feature.Part]],Table6[v2 Feature.Part],1,FALSE),VLOOKUP(CONCATENATE(Table9[[#This Row],[Feature]],\".\",\"All\"),Table6[v2 Feature.Part],1,FALSE))))","v":true},{"$f":"IF(Table9[[#This Row],[Part Covered in Skybridge?]],  IF(COUNTIFS(Table6[v2 Part attainment through these features?],TRUE,Table6[v2 Feature.Part],Table9[[#This Row],[Feature.Part]])>0,TRUE,FALSE),FALSE)","v":true},{"$f":"IF(Table9[[#This Row],[Part attained in v2?]],\nIF(Table9[[#This Row],[Feature]]=\"I01\",COUNTIFS(Table6[WELL v2 Feature],\"I01\",Table6[v1 feature 1 attainment],\"Y\"),\nVLOOKUP(Table9[[#This Row],[Feature.Part]],Table6[[v2 Feature.Part]:[Part points]],7,FALSE)),0)","v":1},{"$f":"IF(Table9[[#This Row],[Part attained in v2?]],IF(Table9[[#This Row],[Type]]=\"Precondition\",\"Y\",Table9[[#This Row],[v2 points]]),0)","v":1},{"$f":"VLOOKUP(Table9[[#This Row],[Feature]],Table5[],12,FALSE)","v":"Nourishment"}]
["N09",2,{"$f":"CONCATENATE(Table6[[#This Row],[WELL v2 Feature]],\".\",Table6[[#This Row],[v2 Part]])","v":"N09.2"},40,null,null,null,1,{"$f":"IF('v1 Project Information'!$C$4=\"Core and Shell\",IF(Table6[[#This Row],[v2 Core Points (if less than max)]]>0,Table6[[#This Row],[v2 Core Points (if less than max)]],VLOOKUP(Table6[[#This Row],[v2 Feature.Part]],Table5[[Feature.Part]:[Points]],4,FALSE)),IF(Table6[[#This Row],[v2 WBS Points (if less than max)]]>0,Table6[[#This Row],[v2 WBS Points (if less than max)]],VLOOKUP(Table6[[#This Row],[v2 Feature.Part]],Table5[[Feature.Part]:[Points]],4,FALSE)))","v":1},{"$f":"VLOOKUP(Table6[[#This Row],[WELL v1 Feature 1]],Table4[],4,FALSE)","v":"Y"},{"$f":"_xlfn.IFNA(VLOOKUP(Table6[[#This Row],[WELL v1 Feature 2]],Table4[],4,FALSE),\"Y\")","v":"Y"},{"$f":"_xlfn.IFNA(VLOOKUP(Table6[[#This Row],[WELL v1 Feature 3]],Table4[],4,FALSE),\"Y\")","v":"Y"},{"$f":"IF(COUNTIF(Table6[[#This Row],[v1 feature 1 attainment]:[v1 feature 3 attainment]],\"Y\")=3,TRUE,FALSE)","v":true},{"$f":"VLOOKUP(Table6[[#This Row],[WELL v2 Feature]],Table5[],7,FALSE)","v":3},{"$f":"VLOOKUP(Table6[[#This Row],[WELL v2 Feature]],Table5[],9,FALSE)","v":1},{"$f":"VLOOKUP(Table6[[#This Row],[WELL v2 Feature]],Table5[],10,FALSE)","v":0},{"$f":"VLOOKUP(Table6[[#This Row],[WELL v2 Feature]],Table5[],8,FALSE)","v":"None"},null,null,null,"N04",1,{"$f":"CONCATENATE(Table9[[#This Row],[Feature]],\".\",Table9[[#This Row],[Part]])","v":"N04.1"},{"$f":"VLOOKUP(Table9[[#This Row],[Feature]],Table5[],5,FALSE)","v":"Optimization"},{"$f":"NOT(ISNA(_xlfn.IFNA(VLOOKUP(Table9[[#This Row],[Feature.Part]],Table6[v2 Feature.Part],1,FALSE),VLOOKUP(CONCATENATE(Table9[[#This Row],[Feature]],\".\",\"All\"),Table6[v2 Feature.Part],1,FALSE))))","v":true},{"$f":"IF(Table9[[#This Row],[Part Covered in Skybridge?]],  IF(COUNTIFS(Table6[v2 Part attainment through these features?],TRUE,Table6[v2 Feature.Part],Table9[[#This Row],[Feature.Part]])>0,TRUE,FALSE),FALSE)","v":true},{"$f":"IF(Table9[[#This Row],[Part attained in v2?]],\nIF(Table9[[#This Row],[Feature]]=\"I01\",COUNTIFS(Table6[WELL v2 Feature],\"I01\",Table6[v1 feature 1 attainment],\"Y\"),\nVLOOKUP(Table9[[#This Row],[Feature.Part]],Table6[[v2 Feature.Part]:[Part points]],7,FALSE)),0)","v":1},{"$f":"IF(Table9[[#This Row],[Part attained in v2?]],IF(Table9[[#This Row],[Type]]=\"Precondition\",\"Y\",Table9[[#This Row],[v2 points]]),0)","v":1},{"$f":"VLOOKUP(Table9[[#This Row],[Feature]],Table5[],12,FALSE)","v":"Nourishment"}]
["N10",1,{"$f":"CONCATENATE(Table6[[#This Row],[WELL v2 Feature]],\".\",Table6[[#This Row],[v2 Part]])","v":"N10.1"},50,52,null,null,1.5,{"$f":"IF('v1 Project Information'!$C$4=\"Core and Shell\",IF(Table6[[#This Row],[v2 Core Points (if less than max)]]>0,Table6[[#This Row],[v2 Core Points (if less than max)]],VLOOKUP(Table6[[#This Row],[v2 Feature.Part]],Table5[[Feature.Part]:[Points]],4,FALSE)),IF(Table6[[#This Row],[v2 WBS Points (if less than max)]]>0,Table6[[#This Row],[v2 WBS Points (if less than max)]],VLOOKUP(Table6[[#This Row],[v2 Feature.Part]],Table5[[Feature.Part]:[Points]],4,FALSE)))","v":1},{"$f":"VLOOKUP(Table6[[#This Row],[WELL v1 Feature 1]],Table4[],4,FALSE)","v":"N"},{"$f":"_xlfn.IFNA(VLOOKUP(Table6[[#This Row],[WELL v1 Feature 2]],Table4[],4,FALSE),\"Y\")","v":"N"},{"$f":"_xlfn.IFNA(VLOOKUP(Table6[[#This Row],[WELL v1 Feature 3]],Table4[],4,FALSE),\"Y\")","v":"Y"},{"$f":"IF(COUNTIF(Table6[[#This Row],[v1 feature 1 attainment]:[v1 feature 3 attainment]],\"Y\")=3,TRUE,FALSE)","v":false},{"$f":"VLOOKUP(Table6[[#This Row],[WELL v2 Feature]],Table5[],7,FALSE)","v":3},{"$f":"VLOOKUP(Table6[[#This Row],[WELL v2 Feature]],Table5[],9,FALSE)","v":0.5},{"$f":"VLOOKUP(Table6[[#This Row],[WELL v2 Feature]],Table5[],10,FALSE)","v":1},{"$f":"VLOOKUP(Table6[[#This Row],[WELL v2 Feature]],Table5[],8,FALSE)","v":"Limit"},null,null,null,"N05",1,{"$f":"CONCATENATE(Table9[[#This Row],[Feature]],\".\",Table9[[#This Row],[Part]])","v":"N05.1"},{"$f":"VLOOKUP(Table9[[#This Row],[Feature]],Table5[],5,FALSE)","v":"Optimization"},{"$f":"NOT(ISNA(_xlfn.IFNA(VLOOKUP(Table9[[#This Row],[Feature.Part]],Table6[v2 Feature.Part],1,FALSE),VLOOKUP(CONCATENATE(Table9[[#This Row],[Feature]],\".\",\"All\"),Table6[v2 Feature.Part],1,FALSE))))","v":true},{"$f":"IF(Table9[[#This Row],[Part Covered in Skybridge?]],  IF(COUNTIFS(Table6[v2 Part attainment through these features?],TRUE,Table6[v2 Feature.Part],Table9[[#This Row],[Feature.Part]])>0,TRUE,FALSE),FALSE)","v":true},{"$f":"IF(Table9[[#This Row],[Part attained in v2?]],\nIF(Table9[[#This Row],[Feature]]=\"I01\",COUNTIFS(Table6[WELL v2 Feature],\"I01\",Table6[v1 feature 1 attainment],\"Y\"),\nVLOOKUP(Table9[[#This Row],[Feature.Part]],Table6[[v2 Feature.Part]:[Part points]],7,FALSE)),0)","v":1},{"$f":"IF(Table9[[#This Row],[Part attained in v2?]],IF(Table9[[#This Row],[Type]]=\"Precondition\",\"Y\",Table9[[#This Row],[v2 points]]),0)","v":1},{"$f":"VLOOKUP(Table9[[#This Row],[Feature]],Table5[],12,FALSE)","v":"Nourishment"}]
["N11",1,{"$f":"CONCATENATE(Table6[[#This Row],[WELL v2 Feature]],\".\",Table6[[#This Row],[v2 Part]])","v":"N11.1"},49,null,null,null,1,{"$f":"IF('v1 Project Information'!$C$4=\"Core and Shell\",IF(Table6[[#This Row],[v2 Core Points (if less than max)]]>0,Table6[[#This Row],[v2 Core Points (if less than max)]],VLOOKUP(Table6[[#This Row],[v2 Feature.Part]],Table5[[Feature.Part]:[Points]],4,FALSE)),IF(Table6[[#This Row],[v2 WBS Points (if less than max)]]>0,Table6[[#This Row],[v2 WBS Points (if less than max)]],VLOOKUP(Table6[[#This Row],[v2 Feature.Part]],Table5[[Feature.Part]:[Points]],4,FALSE)))","v":1},{"$f":"VLOOKUP(Table6[[#This Row],[WELL v1 Feature 1]],Table4[],4,FALSE)","v":"N"},{"$f":"_xlfn.IFNA(VLOOKUP(Table6[[#This Row],[WELL v1 Feature 2]],Table4[],4,FALSE),\"Y\")","v":"Y"},{"$f":"_xlfn.IFNA(VLOOKUP(Table6[[#This Row],[WELL v1 Feature 3]],Table4[],4,FALSE),\"Y\")","v":"Y"},{"$f":"IF(COUNTIF(Table6[[#This Row],[v1 feature 1 attainment]:[v1 feature 3 attainment]],\"Y\")=3,TRUE,FALSE)","v":false},{"$f":"VLOOKUP(Table6[[#This Row],[WELL v2 Feature]],Table5[],7,FALSE)","v":3},{"$f":"VLOOKUP(Table6[[#This Row],[WELL v2 Feature]],Table5[],9,FALSE)","v":1},{"$f":"VLOOKUP(Table6[[#This Row],[WELL v2 Feature]],Table5[],10,FALSE)","v":0},{"$f":"VLOOKUP(Table6[[#This Row],[WELL v2 Feature]],Table5[],8,FALSE)","v":"None"},null,null,null,"N06",1,{"$f":"CONCATENATE(Table9[[#This Row],[Feature]],\".\",Table9[[#This Row],[Part]])","v":"N06.1"},{"$f":"VLOOKUP(Table9[[#This Row],[Feature]],Table5[],5,FALSE)","v":"Optimization"},{"$f":"NOT(ISNA(_xlfn.IFNA(VLOOKUP(Table9[[#This Row],[Feature.Part]],Table6[v2 Feature.Part],1,FALSE),VLOOKUP(CONCATENATE(Table9[[#This Row],[Feature]],\".\",\"All\"),Table6[v2 Feature.Part],1,FALSE))))","v":true},{"$f":"IF(Table9[[#This Row],[Part Covered in Skybridge?]],  IF(COUNTIFS(Table6[v2 Part attainment through these features?],TRUE,Table6[v2 Feature.Part],Table9[[#This Row],[Feature.Part]])>0,TRUE,FALSE),FALSE)","v":false},{"$f":"IF(Table9[[#This Row],[Part attained in v2?]],\nIF(Table9[[#This Row],[Feature]]=\"I01\",COUNTIFS(Table6[WELL v2 Feature],\"I01\",Table6[v1 feature 1 attainment],\"Y\"),\nVLOOKUP(Table9[[#This Row],[Feature.Part]],Table6[[v2 Feature.Part]:[Part points]],7,FALSE)),0)","v":0},{"$f":"IF(Table9[[#This Row],[Part attained in v2?]],IF(Table9[[#This Row],[Type]]=\"Precondition\",\"Y\",Table9[[#This Row],[v2 points]]),0)","v":0},{"$f":"VLOOKUP(Table9[[#This Row],[Feature]],Table5[],12,FALSE)","v":"Nourishment"}]
["N12",1,{"$f":"CONCATENATE(Table6[[#This Row],[WELL v2 Feature]],\".\",Table6[[#This Row],[v2 Part]])","v":"N12.1"},51,null,null,null,2,{"$f":"IF('v1 Project Information'!$C$4=\"Core and Shell\",IF(Table6[[#This Row],[v2 Core Points (if less than max)]]>0,Table6[[#This Row],[v2 Core Points (if less than max)]],VLOOKUP(Table6[[#This Row],[v2 Feature.Part]],Table5[[Feature.Part]:[Points]],4,FALSE)),IF(Table6[[#This Row],[v2 WBS Points (if less than max)]]>0,Table6[[#This Row],[v2 WBS Points (if less than max)]],VLOOKUP(Table6[[#This Row],[v2 Feature.Part]],Table5[[Feature.Part]:[Points]],4,FALSE)))","v":2},{"$f":"VLOOKUP(Table6[[#This Row],[WELL v1 Feature 1]],Table4[],4,FALSE)","v":"N"},{"$f":"_xlfn.IFNA(VLOOKUP(Table6[[#This Row],[WELL v1 Feature 2]],Table4[],4,FALSE),\"Y\")","v":"Y"},{"$f":"_xlfn.IFNA(VLOOKUP(Table6[[#This Row],[WELL v1 Feature 3]],Table4[],4,FALSE),\"Y\")","v":"Y"},{"$f":"IF(COUNTIF(Table6[[#This Row],[v1 feature 1 attainment]:[v1 feature 3 attainment]],\"Y\")=3,TRUE,FALSE)","v":false},{"$f":"VLOOKUP(Table6[[#This Row],[WELL v2 Feature]],Table5[],7,FALSE)","v":3},{"$f":"VLOOKUP(Table6[[#This Row],[WELL v2 Feature]],Table5[],9,FALSE)","v":1},{"$f":"VLOOKUP(Table6[[#This Row],[WELL v2 Feature]],Table5[],10,FALSE)","v":1},{"$f":"VLOOKUP(Table6[[#This Row],[WELL v2 Feature]],Table5[],8,FALSE)","v":"Limit"},null,null,null,"N07",1,{"$f":"CONCATENATE(Table9[[#This Row],[Feature]],\".\",Table9[[#This Row],[Part]])","v":"N07.1"},{"$f":"VLOOKUP(Table9[[#This Row],[Feature]],Table5[],5,FALSE)","v":"Optimization"},{"$f":"NOT(ISNA(_xlfn.IFNA(VLOOKUP(Table9[[#This Row],[Feature.Part]],Table6[v2 Feature.Part],1,FALSE),VLOOKUP(CONCATENATE(Table9[[#This Row],[Feature]],\".\",\"All\"),Table6[v2 Feature.Part],1,FALSE))))","v":true},{"$f":"IF(Table9[[#This Row],[Part Covered in Skybridge?]],  IF(COUNTIFS(Table6[v2 Part attainment through these features?],TRUE,Table6[v2 Feature.Part],Table9[[#This Row],[Feature.Part]])>0,TRUE,FALSE),FALSE)","v":true},{"$f":"IF(Table9[[#This Row],[Part attained in v2?]],\nIF(Table9[[#This Row],[Feature]]=\"I01\",COUNTIFS(Table6[WELL v2 Feature],\"I01\",Table6[v1 feature 1 attainment],\"Y\"),\nVLOOKUP(Table9[[#This Row],[Feature.Part]],Table6[[v2 Feature.Part]:[Part points]],7,FALSE)),0)","v":1},{"$f":"IF(Table9[[#This Row],[Part attained in v2?]],IF(Table9[[#This Row],[Type]]=\"Precondition\",\"Y\",Table9[[#This Row],[v2 points]]),0)","v":1},{"$f":"VLOOKUP(Table9[[#This Row],[Feature]],Table5[],12,FALSE)","v":"Nourishment"}]
["N13",1,{"$f":"CONCATENATE(Table6[[#This Row],[WELL v2 Feature]],\".\",Table6[[#This Row],[v2 Part]])","v":"N13.1"},"P1",null,null,null,null,{"$f":"IF('v1 Project Information'!$C$4=\"Core and Shell\",IF(Table6[[#This Row],[v2 Core Points (if less than max)]]>0,Table6[[#This Row],[v2 Core Points (if less than max)]],VLOOKUP(Table6[[#This Row],[v2 Feature.Part]],Table5[[Feature.Part]:[Points]],4,FALSE)),IF(Table6[[#This Row],[v2 WBS Points (if less than max)]]>0,Table6[[#This Row],[v2 WBS Points (if less than max)]],VLOOKUP(Table6[[#This Row],[v2 Feature.Part]],Table5[[Feature.Part]:[Points]],4,FALSE)))","v":1},{"$f":"VLOOKUP(Table6[[#This Row],[WELL v1 Feature 1]],Table4[],4,FALSE)","v":{"$error":"#N/A"}},{"$f":"_xlfn.IFNA(VLOOKUP(Table6[[#This Row],[WELL v1 Feature 2]],Table4[],4,FALSE),\"Y\")","v":"Y"},{"$f":"_xlfn.IFNA(VLOOKUP(Table6[[#This Row],[WELL v1 Feature 3]],Table4[],4,FALSE),\"Y\")","v":"Y"},{"$f":"IF(COUNTIF(Table6[[#This Row],[v1 feature 1 attainment]:[v1 feature 3 attainment]],\"Y\")=3,TRUE,FALSE)","v":false},{"$f":"VLOOKUP(Table6[[#This Row],[WELL v2 Feature]],Table5[],7,FALSE)","v":3},{"$f":"VLOOKUP(Table6[[#This Row],[WELL v2 Feature]],Table5[],9,FALSE)","v":2},{"$f":"VLOOKUP(Table6[[#This Row],[WELL v2 Feature]],Table5[],10,FALSE)","v":0},{"$f":"VLOOKUP(Table6[[#This Row],[WELL v2 Feature]],Table5[],8,FALSE)","v":"Bonus"},null,null,null,"N08",1,{"$f":"CONCATENATE(Table9[[#This Row],[Feature]],\".\",Table9[[#This Row],[Part]])","v":"N08.1"},{"$f":"VLOOKUP(Table9[[#This Row],[Feature]],Table5[],5,FALSE)","v":"Optimization"},{"$f":"NOT(ISNA(_xlfn.IFNA(VLOOKUP(Table9[[#This Row],[Feature.Part]],Table6[v2 Feature.Part],1,FALSE),VLOOKUP(CONCATENATE(Table9[[#This Row],[Feature]],\".\",\"All\"),Table6[v2 Feature.Part],1,FALSE))))","v":true},{"$f":"IF(Table9[[#This Row],[Part Covered in Skybridge?]],  IF(COUNTIFS(Table6[v2 Part attainment through these features?],TRUE,Table6[v2 Feature.Part],Table9[[#This Row],[Feature.Part]])>0,TRUE,FALSE),FALSE)","v":false},{"$f":"IF(Table9[[#This Row],[Part attained in v2?]],\nIF(Table9[[#This Row],[Feature]]=\"I01\",COUNTIFS(Table6[WELL v2 Feature],\"I01\",Table6[v1 feature 1 attainment],\"Y\"),\nVLOOKUP(Table9[[#This Row],[Feature.Part]],Table6[[v2 Feature.Part]:[Part points]],7,FALSE)),0)","v":0},{"$f":"IF(Table9[[#This Row],[Part attained in v2?]],IF(Table9[[#This Row],[Type]]=\"Precondition\",\"Y\",Table9[[#This Row],[v2 points]]),0)","v":0},{"$f":"VLOOKUP(Table9[[#This Row],[Feature]],Table5[],12,FALSE)","v":"Nourishment"}]
["L01",1,{"$f":"CONCATENATE(Table6[[#This Row],[WELL v2 Feature]],\".\",Table6[[#This Row],[v2 Part]])","v":"L01.1"},54,null,null,null,null,{"$f":"IF('v1 Project Information'!$C$4=\"Core and Shell\",IF(Table6[[#This Row],[v2 Core Points (if less than max)]]>0,Table6[[#This Row],[v2 Core Points (if less than max)]],VLOOKUP(Table6[[#This Row],[v2 Feature.Part]],Table5[[Feature.Part]:[Points]],4,FALSE)),IF(Table6[[#This Row],[v2 WBS Points (if less than max)]]>0,Table6[[#This Row],[v2 WBS Points (if less than max)]],VLOOKUP(Table6[[#This Row],[v2 Feature.Part]],Table5[[Feature.Part]:[Points]],4,FALSE)))","v":"P"},{"$f":"VLOOKUP(Table6[[#This Row],[WELL v1 Feature 1]],Table4[],4,FALSE)","v":"Y"},{"$f":"_xlfn.IFNA(VLOOKUP(Table6[[#This Row],[WELL v1 Feature 2]],Table4[],4,FALSE),\"Y\")","v":"Y"},{"$f":"_xlfn.IFNA(VLOOKUP(Table6[[#This Row],[WELL v1 Feature 3]],Table4[],4,FALSE),\"Y\")","v":"Y"},{"$f":"IF(COUNTIF(Table6[[#This Row],[v1 feature 1 attainment]:[v1 feature 3 attainment]],\"Y\")=3,TRUE,FALSE)","v":true},{"$f":"VLOOKUP(Table6[[#This Row],[WELL v2 Feature]],Table5[],7,FALSE)","v":4},{"$f":"VLOOKUP(Table6[[#This Row],[WELL v2 Feature]],Table5[],9,FALSE)","v":"P"},{"$f":"VLOOKUP(Table6[[#This Row],[WELL v2 Feature]],Table5[],10,FALSE)","v":0},{"$f":"VLOOKUP(Table6[[#This Row],[WELL v2 Feature]],Table5[],8,FALSE)","v":0},null,null,null,"N09",1,{"$f":"CONCATENATE(Table9[[#This Row],[Feature]],\".\",Table9[[#This Row],[Part]])","v":"N09.1"},{"$f":"VLOOKUP(Table9[[#This Row],[Feature]],Table5[],5,FALSE)","v":"Optimization"},{"$f":"NOT(ISNA(_xlfn.IFNA(VLOOKUP(Table9[[#This Row],[Feature.Part]],Table6[v2 Feature.Part],1,FALSE),VLOOKUP(CONCATENATE(Table9[[#This Row],[Feature]],\".\",\"All\"),Table6[v2 Feature.Part],1,FALSE))))","v":true},{"$f":"IF(Table9[[#This Row],[Part Covered in Skybridge?]],  IF(COUNTIFS(Table6[v2 Part attainment through these features?],TRUE,Table6[v2 Feature.Part],Table9[[#This Row],[Feature.Part]])>0,TRUE,FALSE),FALSE)","v":false},{"$f":"IF(Table9[[#This Row],[Part attained in v2?]],\nIF(Table9[[#This Row],[Feature]]=\"I01\",COUNTIFS(Table6[WELL v2 Feature],\"I01\",Table6[v1 feature 1 attainment],\"Y\"),\nVLOOKUP(Table9[[#This Row],[Feature.Part]],Table6[[v2 Feature.Part]:[Part points]],7,FALSE)),0)","v":0},{"$f":"IF(Table9[[#This Row],[Part attained in v2?]],IF(Table9[[#This Row],[Type]]=\"Precondition\",\"Y\",Table9[[#This Row],[v2 points]]),0)","v":0},{"$f":"VLOOKUP(Table9[[#This Row],[Feature]],Table5[],12,FALSE)","v":"Nourishment"}]
["L01",1,{"$f":"CONCATENATE(Table6[[#This Row],[WELL v2 Feature]],\".\",Table6[[#This Row],[v2 Part]])","v":"L01.1"},61,null,null,null,null,{"$f":"IF('v1 Project Information'!$C$4=\"Core and Shell\",IF(Table6[[#This Row],[v2 Core Points (if less than max)]]>0,Table6[[#This Row],[v2 Core Points (if less than max)]],VLOOKUP(Table6[[#This Row],[v2 Feature.Part]],Table5[[Feature.Part]:[Points]],4,FALSE)),IF(Table6[[#This Row],[v2 WBS Points (if less than max)]]>0,Table6[[#This Row],[v2 WBS Points (if less than max)]],VLOOKUP(Table6[[#This Row],[v2 Feature.Part]],Table5[[Feature.Part]:[Points]],4,FALSE)))","v":"P"},{"$f":"VLOOKUP(Table6[[#This Row],[WELL v1 Feature 1]],Table4[],4,FALSE)","v":"N"},{"$f":"_xlfn.IFNA(VLOOKUP(Table6[[#This Row],[WELL v1 Feature 2]],Table4[],4,FALSE),\"Y\")","v":"Y"},{"$f":"_xlfn.IFNA(VLOOKUP(Table6[[#This Row],[WELL v1 Feature 3]],Table4[],4,FALSE),\"Y\")","v":"Y"},{"$f":"IF(COUNTIF(Table6[[#This Row],[v1 feature 1 attainment]:[v1 feature 3 attainment]],\"Y\")=3,TRUE,FALSE)","v":false},{"$f":"VLOOKUP(Table6[[#This Row],[WELL v2 Feature]],Table5[],7,FALSE)","v":4},{"$f":"VLOOKUP(Table6[[#This Row],[WELL v2 Feature]],Table5[],9,FALSE)","v":"P"},{"$f":"VLOOKUP(Table6[[#This Row],[WELL v2 Feature]],Table5[],10,FALSE)","v":0},{"$f":"VLOOKUP(Table6[[#This Row],[WELL v2 Feature]],Table5[],8,FALSE)","v":0},null,null,null,"N09",2,{"$f":"CONCATENATE(Table9[[#This Row],[Feature]],\".\",Table9[[#This Row],[Part]])","v":"N09.2"},{"$f":"VLOOKUP(Table9[[#This Row],[Feature]],Table5[],5,FALSE)","v":"Optimization"},{"$f":"NOT(ISNA(_xlfn.IFNA(VLOOKUP(Table9[[#This Row],[Feature.Part]],Table6[v2 Feature.Part],1,FALSE),VLOOKUP(CONCATENATE(Table9[[#This Row],[Feature]],\".\",\"All\"),Table6[v2 Feature.Part],1,FALSE))))","v":true},{"$f":"IF(Table9[[#This Row],[Part Covered in Skybridge?]],  IF(COUNTIFS(Table6[v2 Part attainment through these features?],TRUE,Table6[v2 Feature.Part],Table9[[#This Row],[Feature.Part]])>0,TRUE,FALSE),FALSE)","v":true},{"$f":"IF(Table9[[#This Row],[Part attained in v2?]],\nIF(Table9[[#This Row],[Feature]]=\"I01\",COUNTIFS(Table6[WELL v2 Feature],\"I01\",Table6[v1 feature 1 attainment],\"Y\"),\nVLOOKUP(Table9[[#This Row],[Feature.Part]],Table6[[v2 Feature.Part]:[Part points]],7,FALSE)),0)","v":1},{"$f":"IF(Table9[[#This Row],[Part attained in v2?]],IF(Table9[[#This Row],[Type]]=\"Precondition\",\"Y\",Table9[[#This Row],[v2 points]]),0)","v":1},{"$f":"VLOOKUP(Table9[[#This Row],[Feature]],Table5[],12,FALSE)","v":"Nourishment"}]
["L01",1,{"$f":"CONCATENATE(Table6[[#This Row],[WELL v2 Feature]],\".\",Table6[[#This Row],[v2 Part]])","v":"L01.1"},62,null,null,null,null,{"$f":"IF('v1 Project Information'!$C$4=\"Core and Shell\",IF(Table6[[#This Row],[v2 Core Points (if less than max)]]>0,Table6[[#This Row],[v2 Core Points (if less than max)]],VLOOKUP(Table6[[#This Row],[v2 Feature.Part]],Table5[[Feature.Part]:[Points]],4,FALSE)),IF(Table6[[#This Row],[v2 WBS Points (if less than max)]]>0,Table6[[#This Row],[v2 WBS Points (if less than max)]],VLOOKUP(Table6[[#This Row],[v2 Feature.Part]],Table5[[Feature.Part]:[Points]],4,FALSE)))","v":"P"},{"$f":"VLOOKUP(Table6[[#This Row],[WELL v1 Feature 1]],Table4[],4,FALSE)","v":"N"},{"$f":"_xlfn.IFNA(VLOOKUP(Table6[[#This Row],[WELL v1 Feature 2]],Table4[],4,FALSE),\"Y\")","v":"Y"},{"$f":"_xlfn.IFNA(VLOOKUP(Table6[[#This Row],[WELL v1 Feature 3]],Table4[],4,FALSE),\"Y\")","v":"Y"},{"$f":"IF(COUNTIF(Table6[[#This Row],[v1 feature 1 attainment]:[v1 feature 3 attainment]],\"Y\")=3,TRUE,FALSE)","v":false},{"$f":"VLOOKUP(Table6[[#This Row],[WELL v2 Feature]],Table5[],7,FALSE)","v":4},{"$f":"VLOOKUP(Table6[[#This Row],[WELL v2 Feature]],Table5[],9,FALSE)","v":"P"},{"$f":"VLOOKUP(Table6[[#This Row],[WELL v2 Feature]],Table5[],10,FALSE)","v":0},{"$f":"VLOOKUP(Table6[[#This Row],[WELL v2 Feature]],Table5[],8,FALSE)","v":0},null,null,null,"N10",1,{"$f":"CONCATENATE(Table9[[#This Row],[Feature]],\".\",Table9[[#This Row],[Part]])","v":"N10.1"},{"$f":"VLOOKUP(Table9[[#This Row],[Feature]],Table5[],5,FALSE)","v":"Optimization"},{"$f":"NOT(ISNA(_xlfn.IFNA(VLOOKUP(Table9[[#This Row],[Feature.Part]],Table6[v2 Feature.Part],1,FALSE),VLOOKUP(CONCATENATE(Table9[[#This Row],[Feature]],\".\",\"All\"),Table6[v2 Feature.Part],1,FALSE))))","v":true},{"$f":"IF(Table9[[#This Row],[Part Covered in Skybridge?]],  IF(COUNTIFS(Table6[v2 Part attainment through these features?],TRUE,Table6[v2 Feature.Part],Table9[[#This Row],[Feature.Part]])>0,TRUE,FALSE),FALSE)","v":false},{"$f":"IF(Table9[[#This Row],[Part attained in v2?]],\nIF(Table9[[#This Row],[Feature]]=\"I01\",COUNTIFS(Table6[WELL v2 Feature],\"I01\",Table6[v1 feature 1 attainment],\"Y\"),\nVLOOKUP(Table9[[#This Row],[Feature.Part]],Table6[[v2 Feature.Part]:[Part points]],7,FALSE)),0)","v":0},{"$f":"IF(Table9[[#This Row],[Part attained in v2?]],IF(Table9[[#This Row],[Type]]=\"Precondition\",\"Y\",Table9[[#This Row],[v2 points]]),0)","v":0},{"$f":"VLOOKUP(Table9[[#This Row],[Feature]],Table5[],12,FALSE)","v":"Nourishment"}]
["L02",1,{"$f":"CONCATENATE(Table6[[#This Row],[WELL v2 Feature]],\".\",Table6[[#This Row],[v2 Part]])","v":"L02.1"},53,null,null,null,null,{"$f":"IF('v1 Project Information'!$C$4=\"Core and Shell\",IF(Table6[[#This Row],[v2 Core Points (if less than max)]]>0,Table6[[#This Row],[v2 Core Points (if less than max)]],VLOOKUP(Table6[[#This Row],[v2 Feature.Part]],Table5[[Feature.Part]:[Points]],4,FALSE)),IF(Table6[[#This Row],[v2 WBS Points (if less than max)]]>0,Table6[[#This Row],[v2 WBS Points (if less than max)]],VLOOKUP(Table6[[#This Row],[v2 Feature.Part]],Table5[[Feature.Part]:[Points]],4,FALSE)))","v":"P"},{"$f":"VLOOKUP(Table6[[#This Row],[WELL v1 Feature 1]],Table4[],4,FALSE)","v":"Y"},{"$f":"_xlfn.IFNA(VLOOKUP(Table6[[#This Row],[WELL v1 Feature 2]],Table4[],4,FALSE),\"Y\")","v":"Y"},{"$f":"_xlfn.IFNA(VLOOKUP(Table6[[#This Row],[WELL v1 Feature 3]],Table4[],4,FALSE),\"Y\")","v":"Y"},{"$f":"IF(COUNTIF(Table6[[#This Row],[v1 feature 1 attainment]:[v1 feature 3 attainment]],\"Y\")=3,TRUE,FALSE)","v":true},{"$f":"VLOOKUP(Table6[[#This Row],[WELL v2 Feature]],Table5[],7,FALSE)","v":4},{"$f":"VLOOKUP(Table6[[#This Row],[WELL v2 Feature]],Table5[],9,FALSE)","v":"P"},{"$f":"VLOOKUP(Table6[[#This Row],[WELL v2 Feature]],Table5[],10,FALSE)","v":1},{"$f":"VLOOKUP(Table6[[#This Row],[WELL v2 Feature]],Table5[],8,FALSE)","v":0},null,null,null,"N11",1,{"$f":"CONCATENATE(Table9[[#This Row],[Feature]],\".\",Table9[[#This Row],[Part]])","v":"N11.1"},{"$f":"VLOOKUP(Table9[[#This Row],[Feature]],Table5[],5,FALSE)","v":"Optimization"},{"$f":"NOT(ISNA(_xlfn.IFNA(VLOOKUP(Table9[[#This Row],[Feature.Part]],Table6[v2 Feature.Part],1,FALSE),VLOOKUP(CONCATENATE(Table9[[#This Row],[Feature]],\".\",\"All\"),Table6[v2 Feature.Part],1,FALSE))))","v":true},{"$f":"IF(Table9[[#This Row],[Part Covered in Skybridge?]],  IF(COUNTIFS(Table6[v2 Part attainment through these features?],TRUE,Table6[v2 Feature.Part],Table9[[#This Row],[Feature.Part]])>0,TRUE,FALSE),FALSE)","v":false},{"$f":"IF(Table9[[#This Row],[Part attained in v2?]],\nIF(Table9[[#This Row],[Feature]]=\"I01\",COUNTIFS(Table6[WELL v2 Feature],\"I01\",Table6[v1 feature 1 attainment],\"Y\"),\nVLOOKUP(Table9[[#This Row],[Feature.Part]],Table6[[v2 Feature.Part]:[Part points]],7,FALSE)),0)","v":0},{"$f":"IF(Table9[[#This Row],[Part attained in v2?]],IF(Table9[[#This Row],[Type]]=\"Precondition\",\"Y\",Table9[[#This Row],[v2 points]]),0)","v":0},{"$f":"VLOOKUP(Table9[[#This Row],[Feature]],Table5[],12,FALSE)","v":"Nourishment"}]
["L03",1,{"$f":"CONCATENATE(Table6[[#This Row],[WELL v2 Feature]],\".\",Table6[[#This Row],[v2 Part]])","v":"L03.1"},54,null,null,1,2,{"$f":"IF('v1 Project Information'!$C$4=\"Core and Shell\",IF(Table6[[#This Row],[v2 Core Points (if less than max)]]>0,Table6[[#This Row],[v2 Core Points (if less than max)]],VLOOKUP(Table6[[#This Row],[v2 Feature.Part]],Table5[[Feature.Part]:[Points]],4,FALSE)),IF(Table6[[#This Row],[v2 WBS Points (if less than max)]]>0,Table6[[#This Row],[v2 WBS Points (if less than max)]],VLOOKUP(Table6[[#This Row],[v2 Feature.Part]],Table5[[Feature.Part]:[Points]],4,FALSE)))","v":1},{"$f":"VLOOKUP(Table6[[#This Row],[WELL v1 Feature 1]],Table4[],4,FALSE)","v":"Y"},{"$f":"_xlfn.IFNA(VLOOKUP(Table6[[#This Row],[WELL v1 Feature 2]],Table4[],4,FALSE),\"Y\")","v":"Y"},{"$f":"_xlfn.IFNA(VLOOKUP(Table6[[#This Row],[WELL v1 Feature 3]],Table4[],4,FALSE),\"Y\")","v":"Y"},{"$f":"IF(COUNTIF(Table6[[#This Row],[v1 feature 1 attainment]:[v1 feature 3 attainment]],\"Y\")=3,TRUE,FALSE)","v":true},{"$f":"VLOOKUP(Table6[[#This Row],[WELL v2 Feature]],Table5[],7,FALSE)","v":4},{"$f":"VLOOKUP(Table6[[#This Row],[WELL v2 Feature]],Table5[],9,FALSE)","v":4},{"$f":"VLOOKUP(Table6[[#This Row],[WELL v2 Feature]],Table5[],10,FALSE)","v":0},{"$f":"VLOOKUP(Table6[[#This Row],[WELL v2 Feature]],Table5[],8,FALSE)","v":"Bonus"},null,null,null,"N12",1,{"$f":"CONCATENATE(Table9[[#This Row],[Feature]],\".\",Table9[[#This Row],[Part]])","v":"N12.1"},{"$f":"VLOOKUP(Table9[[#This Row],[Feature]],Table5[],5,FALSE)","v":"Optimization"},{"$f":"NOT(ISNA(_xlfn.IFNA(VLOOKUP(Table9[[#This Row],[Feature.Part]],Table6[v2 Feature.Part],1,FALSE),VLOOKUP(CONCATENATE(Table9[[#This Row],[Feature]],\".\",\"All\"),Table6[v2 Feature.Part],1,FALSE))))","v":true},{"$f":"IF(Table9[[#This Row],[Part Covered in Skybridge?]],  IF(COUNTIFS(Table6[v2 Part attainment through these features?],TRUE,Table6[v2 Feature.Part],Table9[[#This Row],[Feature.Part]])>0,TRUE,FALSE),FALSE)","v":false},{"$f":"IF(Table9[[#This Row],[Part attained in v2?]],\nIF(Table9[[#This Row],[Feature]]=\"I01\",COUNTIFS(Table6[WELL v2 Feature],\"I01\",Table6[v1 feature 1 attainment],\"Y\"),\nVLOOKUP(Table9[[#This Row],[Feature.Part]],Table6[[v2 Feature.Part]:[Part points]],7,FALSE)),0)","v":0},{"$f":"IF(Table9[[#This Row],[Part attained in v2?]],IF(Table9[[#This Row],[Type]]=\"Precondition\",\"Y\",Table9[[#This Row],[v2 points]]),0)","v":0},{"$f":"VLOOKUP(Table9[[#This Row],[Feature]],Table5[],12,FALSE)","v":"Nourishment"}]
["L04",1,{"$f":"CONCATENATE(Table6[[#This Row],[WELL v2 Feature]],\".\",Table6[[#This Row],[v2 Part]])","v":"L04.1"},55,null,null,2,1,{"$f":"IF('v1 Project Information'!$C$4=\"Core and Shell\",IF(Table6[[#This Row],[v2 Core Points (if less than max)]]>0,Table6[[#This Row],[v2 Core Points (if less than max)]],VLOOKUP(Table6[[#This Row],[v2 Feature.Part]],Table5[[Feature.Part]:[Points]],4,FALSE)),IF(Table6[[#This Row],[v2 WBS Points (if less than max)]]>0,Table6[[#This Row],[v2 WBS Points (if less than max)]],VLOOKUP(Table6[[#This Row],[v2 Feature.Part]],Table5[[Feature.Part]:[Points]],4,FALSE)))","v":2},{"$f":"VLOOKUP(Table6[[#This Row],[WELL v1 Feature 1]],Table4[],4,FALSE)","v":"Y"},{"$f":"_xlfn.IFNA(VLOOKUP(Table6[[#This Row],[WELL v1 Feature 2]],Table4[],4,FALSE),\"Y\")","v":"Y"},{"$f":"_xlfn.IFNA(VLOOKUP(Table6[[#This Row],[WELL v1 Feature 3]],Table4[],4,FALSE),\"Y\")","v":"Y"},{"$f":"IF(COUNTIF(Table6[[#This Row],[v1 feature 1 attainment]:[v1 feature 3 attainment]],\"Y\")=3,TRUE,FALSE)","v":true},{"$f":"VLOOKUP(Table6[[#This Row],[WELL v2 Feature]],Table5[],7,FALSE)","v":4},{"$f":"VLOOKUP(Table6[[#This Row],[WELL v2 Feature]],Table5[],9,FALSE)","v":1},{"$f":"VLOOKUP(Table6[[#This Row],[WELL v2 Feature]],Table5[],10,FALSE)","v":1},{"$f":"VLOOKUP(Table6[[#This Row],[WELL v2 Feature]],Table5[],8,FALSE)","v":"Limit"},null,null,null,"N13",1,{"$f":"CONCATENATE(Table9[[#This Row],[Feature]],\".\",Table9[[#This Row],[Part]])","v":"N13.1"},{"$f":"VLOOKUP(Table9[[#This Row],[Feature]],Table5[],5,FALSE)","v":"Optimization"},{"$f":"NOT(ISNA(_xlfn.IFNA(VLOOKUP(Table9[[#This Row],[Feature.Part]],Table6[v2 Feature.Part],1,FALSE),VLOOKUP(CONCATENATE(Table9[[#This Row],[Feature]],\".\",\"All\"),Table6[v2 Feature.Part],1,FALSE))))","v":true},{"$f":"IF(Table9[[#This Row],[Part Covered in Skybridge?]],  IF(COUNTIFS(Table6[v2 Part attainment through these features?],TRUE,Table6[v2 Feature.Part],Table9[[#This Row],[Feature.Part]])>0,TRUE,FALSE),FALSE)","v":false},{"$f":"IF(Table9[[#This Row],[Part attained in v2?]],\nIF(Table9[[#This Row],[Feature]]=\"I01\",COUNTIFS(Table6[WELL v2 Feature],\"I01\",Table6[v1 feature 1 attainment],\"Y\"),\nVLOOKUP(Table9[[#This Row],[Feature.Part]],Table6[[v2 Feature.Part]:[Part points]],7,FALSE)),0)","v":0},{"$f":"IF(Table9[[#This Row],[Part attained in v2?]],IF(Table9[[#This Row],[Type]]=\"Precondition\",\"Y\",Table9[[#This Row],[v2 points]]),0)","v":0},{"$f":"VLOOKUP(Table9[[#This Row],[Feature]],Table5[],12,FALSE)","v":"Nourishment"}]
["L05",1,{"$f":"CONCATENATE(Table6[[#This Row],[WELL v2 Feature]],\".\",Table6[[#This Row],[v2 Part]])","v":"L05.1"},61,null,null,1,3,{"$f":"IF('v1 Project Information'!$C$4=\"Core and Shell\",IF(Table6[[#This Row],[v2 Core Points (if less than max)]]>0,Table6[[#This Row],[v2 Core Points (if less than max)]],VLOOKUP(Table6[[#This Row],[v2 Feature.Part]],Table5[[Feature.Part]:[Points]],4,FALSE)),IF(Table6[[#This Row],[v2 WBS Points (if less than max)]]>0,Table6[[#This Row],[v2 WBS Points (if less than max)]],VLOOKUP(Table6[[#This Row],[v2 Feature.Part]],Table5[[Feature.Part]:[Points]],4,FALSE)))","v":1},{"$f":"VLOOKUP(Table6[[#This Row],[WELL v1 Feature 1]],Table4[],4,FALSE)","v":"N"},{"$f":"_xlfn.IFNA(VLOOKUP(Table6[[#This Row],[WELL v1 Feature 2]],Table4[],4,FALSE),\"Y\")","v":"Y"},{"$f":"_xlfn.IFNA(VLOOKUP(Table6[[#This Row],[WELL v1 Feature 3]],Table4[],4,FALSE),\"Y\")","v":"Y"},{"$f":"IF(COUNTIF(Table6[[#This Row],[v1 feature 1 attainment]:[v1 feature 3 attainment]],\"Y\")=3,TRUE,FALSE)","v":false},{"$f":"VLOOKUP(Table6[[#This Row],[WELL v2 Feature]],Table5[],7,FALSE)","v":4},{"$f":"VLOOKUP(Table6[[#This Row],[WELL v2 Feature]],Table5[],9,FALSE)","v":3},{"$f":"VLOOKUP(Table6[[#This Row],[WELL v2 Feature]],Table5[],10,FALSE)","v":0},{"$f":"VLOOKUP(Table6[[#This Row],[WELL v2 Feature]],Table5[],8,FALSE)","v":"Bonus"},null,null,null,"N14",1,{"$f":"CONCATENATE(Table9[[#This Row],[Feature]],\".\",Table9[[#This Row],[Part]])","v":"N14.1"},{"$f":"VLOOKUP(Table9[[#This Row],[Feature]],Table5[],5,FALSE)","v":"Optimization"},{"$f":"NOT(ISNA(_xlfn.IFNA(VLOOKUP(Table9[[#This Row],[Feature.Part]],Table6[v2 Feature.Part],1,FALSE),VLOOKUP(CONCATENATE(Table9[[#This Row],[Feature]],\".\",\"All\"),Table6[v2 Feature.Part],1,FALSE))))","v":false},{"$f":"IF(Table9[[#This Row],[Part Covered in Skybridge?]],  IF(COUNTIFS(Table6[v2 Part attainment through these features?],TRUE,Table6[v2 Feature.Part],Table9[[#This Row],[Feature.Part]])>0,TRUE,FALSE),FALSE)","v":false},{"$f":"IF(Table9[[#This Row],[Part attained in v2?]],\nIF(Table9[[#This Row],[Feature]]=\"I01\",COUNTIFS(Table6[WELL v2 Feature],\"I01\",Table6[v1 feature 1 attainment],\"Y\"),\nVLOOKUP(Table9[[#This Row],[Feature.Part]],Table6[[v2 Feature.Part]:[Part points]],7,FALSE)),0)","v":0},{"$f":"IF(Table9[[#This Row],[Part attained in v2?]],IF(Table9[[#This Row],[Type]]=\"Precondition\",\"Y\",Table9[[#This Row],[v2 points]]),0)","v":0},{"$f":"VLOOKUP(Table9[[#This Row],[Feature]],Table5[],12,FALSE)","v":"Nourishment"}]
["L05",2,{"$f":"CONCATENATE(Table6[[#This Row],[WELL v2 Feature]],\".\",Table6[[#This Row],[v2 Part]])","v":"L05.2"},56,null,null,1,2,{"$f":"IF('v1 Project Information'!$C$4=\"Core and Shell\",IF(Table6[[#This Row],[v2 Core Points (if less than max)]]>0,Table6[[#This Row],[v2 Core Points (if less than max)]],VLOOKUP(Table6[[#This Row],[v2 Feature.Part]],Table5[[Feature.Part]:[Points]],4,FALSE)),IF(Table6[[#This Row],[v2 WBS Points (if less than max)]]>0,Table6[[#This Row],[v2 WBS Points (if less than max)]],VLOOKUP(Table6[[#This Row],[v2 Feature.Part]],Table5[[Feature.Part]:[Points]],4,FALSE)))","v":1},{"$f":"VLOOKUP(Table6[[#This Row],[WELL v1 Feature 1]],Table4[],4,FALSE)","v":"Y"},{"$f":"_xlfn.IFNA(VLOOKUP(Table6[[#This Row],[WELL v1 Feature 2]],Table4[],4,FALSE),\"Y\")","v":"Y"},{"$f":"_xlfn.IFNA(VLOOKUP(Table6[[#This Row],[WELL v1 Feature 3]],Table4[],4,FALSE),\"Y\")","v":"Y"},{"$f":"IF(COUNTIF(Table6[[#This Row],[v1 feature 1 attainment]:[v1 feature 3 attainment]],\"Y\")=3,TRUE,FALSE)","v":true},{"$f":"VLOOKUP(Table6[[#This Row],[WELL v2 Feature]],Table5[],7,FALSE)","v":4},{"$f":"VLOOKUP(Table6[[#This Row],[WELL v2 Feature]],Table5[],9,FALSE)","v":3},{"$f":"VLOOKUP(Table6[[#This Row],[WELL v2 Feature]],Table5[],10,FALSE)","v":0},{"$f":"VLOOKUP(Table6[[#This Row],[WELL v2 Feature]],Table5[],8,FALSE)","v":"Bonus"},null,null,null,"L01",1,{"$f":"CONCATENATE(Table9[[#This Row],[Feature]],\".\",Table9[[#This Row],[Part]])","v":"L01.1"},{"$f":"VLOOKUP(Table9[[#This Row],[Feature]],Table5[],5,FALSE)","v":"Precondition"},{"$f":"NOT(ISNA(_xlfn.IFNA(VLOOKUP(Table9[[#This Row],[Feature.Part]],Table6[v2 Feature.Part],1,FALSE),VLOOKUP(CONCATENATE(Table9[[#This Row],[Feature]],\".\",\"All\"),Table6[v2 Feature.Part],1,FALSE))))","v":true},{"$f":"IF(Table9[[#This Row],[Part Covered in Skybridge?]],  IF(COUNTIFS(Table6[v2 Part attainment through these features?],TRUE,Table6[v2 Feature.Part],Table9[[#This Row],[Feature.Part]])>0,TRUE,FALSE),FALSE)","v":true},{"$f":"IF(Table9[[#This Row],[Part attained in v2?]],\nIF(Table9[[#This Row],[Feature]]=\"I01\",COUNTIFS(Table6[WELL v2 Feature],\"I01\",Table6[v1 feature 1 attainment],\"Y\"),\nVLOOKUP(Table9[[#This Row],[Feature.Part]],Table6[[v2 Feature.Part]:[Part points]],7,FALSE)),0)","v":"P"},{"$f":"IF(Table9[[#This Row],[Part attained in v2?]],IF(Table9[[#This Row],[Type]]=\"Precondition\",\"Y\",Table9[[#This Row],[v2 points]]),0)","v":"Y"},{"$f":"VLOOKUP(Table9[[#This Row],[Feature]],Table5[],12,FALSE)","v":"Light"}]
["L06",1,{"$f":"CONCATENATE(Table6[[#This Row],[WELL v2 Feature]],\".\",Table6[[#This Row],[v2 Part]])","v":"L06.1"},62,null,null,1,3,{"$f":"IF('v1 Project Information'!$C$4=\"Core and Shell\",IF(Table6[[#This Row],[v2 Core Points (if less than max)]]>0,Table6[[#This Row],[v2 Core Points (if less than max)]],VLOOKUP(Table6[[#This Row],[v2 Feature.Part]],Table5[[Feature.Part]:[Points]],4,FALSE)),IF(Table6[[#This Row],[v2 WBS Points (if less than max)]]>0,Table6[[#This Row],[v2 WBS Points (if less than max)]],VLOOKUP(Table6[[#This Row],[v2 Feature.Part]],Table5[[Feature.Part]:[Points]],4,FALSE)))","v":1},{"$f":"VLOOKUP(Table6[[#This Row],[WELL v1 Feature 1]],Table4[],4,FALSE)","v":"N"},{"$f":"_xlfn.IFNA(VLOOKUP(Table6[[#This Row],[WELL v1 Feature 2]],Table4[],4,FALSE),\"Y\")","v":"Y"},{"$f":"_xlfn.IFNA(VLOOKUP(Table6[[#This Row],[WELL v1 Feature 3]],Table4[],4,FALSE),\"Y\")","v":"Y"},{"$f":"IF(COUNTIF(Table6[[#This Row],[v1 feature 1 attainment]:[v1 feature 3 attainment]],\"Y\")=3,TRUE,FALSE)","v":false},{"$f":"VLOOKUP(Table6[[#This Row],[WELL v2 Feature]],Table5[],7,FALSE)","v":4},{"$f":"VLOOKUP(Table6[[#This Row],[WELL v2 Feature]],Table5[],9,FALSE)","v":3},{"$f":"VLOOKUP(Table6[[#This Row],[WELL v2 Feature]],Table5[],10,FALSE)","v":0},{"$f":"VLOOKUP(Table6[[#This Row],[WELL v2 Feature]],Table5[],8,FALSE)","v":"Bonus"},null,null,null,"L02",1,{"$f":"CONCATENATE(Table9[[#This Row],[Feature]],\".\",Table9[[#This Row],[Part]])","v":"L02.1"},{"$f":"VLOOKUP(Table9[[#This Row],[Feature]],Table5[],5,FALSE)","v":"Precondition"},{"$f":"NOT(ISNA(_xlfn.IFNA(VLOOKUP(Table9[[#This Row],[Feature.Part]],Table6[v2 Feature.Part],1,FALSE),VLOOKUP(CONCATENATE(Table9[[#This Row],[Feature]],\".\",\"All\"),Table6[v2 Feature.Part],1,FALSE))))","v":true},{"$f":"IF(Table9[[#This Row],[Part Covered in Skybridge?]],  IF(COUNTIFS(Table6[v2 Part attainment through these features?],TRUE,Table6[v2 Feature.Part],Table9[[#This Row],[Feature.Part]])>0,TRUE,FALSE),FALSE)","v":true},{"$f":"IF(Table9[[#This Row],[Part attained in v2?]],\nIF(Table9[[#This Row],[Feature]]=\"I01\",COUNTIFS(Table6[WELL v2 Feature],\"I01\",Table6[v1 feature 1 attainment],\"Y\"),\nVLOOKUP(Table9[[#This Row],[Feature.Part]],Table6[[v2 Feature.Part]:[Part points]],7,FALSE)),0)","v":"P"},{"$f":"IF(Table9[[#This Row],[Part attained in v2?]],IF(Table9[[#This Row],[Type]]=\"Precondition\",\"Y\",Table9[[#This Row],[v2 points]]),0)","v":"Y"},{"$f":"VLOOKUP(Table9[[#This Row],[Feature]],Table5[],12,FALSE)","v":"Light"}]
["L07",1,{"$f":"CONCATENATE(Table6[[#This Row],[WELL v2 Feature]],\".\",Table6[[#This Row],[v2 Part]])","v":"L07.1"},53,null,null,null,1.5,{"$f":"IF('v1 Project Information'!$C$4=\"Core and Shell\",IF(Table6[[#This Row],[v2 Core Points (if less than max)]]>0,Table6[[#This Row],[v2 Core Points (if less than max)]],VLOOKUP(Table6[[#This Row],[v2 Feature.Part]],Table5[[Feature.Part]:[Points]],4,FALSE)),IF(Table6[[#This Row],[v2 WBS Points (if less than max)]]>0,Table6[[#This Row],[v2 WBS Points (if less than max)]],VLOOKUP(Table6[[#This Row],[v2 Feature.Part]],Table5[[Feature.Part]:[Points]],4,FALSE)))","v":1},{"$f":"VLOOKUP(Table6[[#This Row],[WELL v1 Feature 1]],Table4[],4,FALSE)","v":"Y"},{"$f":"_xlfn.IFNA(VLOOKUP(Table6[[#This Row],[WELL v1 Feature 2]],Table4[],4,FALSE),\"Y\")","v":"Y"},{"$f":"_xlfn.IFNA(VLOOKUP(Table6[[#This Row],[WELL v1 Feature 3]],Table4[],4,FALSE),\"Y\")","v":"Y"},{"$f":"IF(COUNTIF(Table6[[#This Row],[v1 feature 1 attainment]:[v1 feature 3 attainment]],\"Y\")=3,TRUE,FALSE)","v":true},{"$f":"VLOOKUP(Table6[[#This Row],[WELL v2 Feature]],Table5[],7,FALSE)","v":4},{"$f":"VLOOKUP(Table6[[#This Row],[WELL v2 Feature]],Table5[],9,FALSE)","v":0.5},{"$f":"VLOOKUP(Table6[[#This Row],[WELL v2 Feature]],Table5[],10,FALSE)","v":1},{"$f":"VLOOKUP(Table6[[#This Row],[WELL v2 Feature]],Table5[],8,FALSE)","v":"Limit"},null,null,null,"L03",1,{"$f":"CONCATENATE(Table9[[#This Row],[Feature]],\".\",Table9[[#This Row],[Part]])","v":"L03.1"},{"$f":"VLOOKUP(Table9[[#This Row],[Feature]],Table5[],5,FALSE)","v":"Optimization"},{"$f":"NOT(ISNA(_xlfn.IFNA(VLOOKUP(Table9[[#This Row],[Feature.Part]],Table6[v2 Feature.Part],1,FALSE),VLOOKUP(CONCATENATE(Table9[[#This Row],[Feature]],\".\",\"All\"),Table6[v2 Feature.Part],1,FALSE))))","v":true},{"$f":"IF(Table9[[#This Row],[Part Covered in Skybridge?]],  IF(COUNTIFS(Table6[v2 Part attainment through these features?],TRUE,Table6[v2 Feature.Part],Table9[[#This Row],[Feature.Part]])>0,TRUE,FALSE),FALSE)","v":true},{"$f":"IF(Table9[[#This Row],[Part attained in v2?]],\nIF(Table9[[#This Row],[Feature]]=\"I01\",COUNTIFS(Table6[WELL v2 Feature],\"I01\",Table6[v1 feature 1 attainment],\"Y\"),\nVLOOKUP(Table9[[#This Row],[Feature.Part]],Table6[[v2 Feature.Part]:[Part points]],7,FALSE)),0)","v":1},{"$f":"IF(Table9[[#This Row],[Part attained in v2?]],IF(Table9[[#This Row],[Type]]=\"Precondition\",\"Y\",Table9[[#This Row],[v2 points]]),0)","v":1},{"$f":"VLOOKUP(Table9[[#This Row],[Feature]],Table5[],12,FALSE)","v":"Light"}]
["L08",1,{"$f":"CONCATENATE(Table6[[#This Row],[WELL v2 Feature]],\".\",Table6[[#This Row],[v2 Part]])","v":"L08.1"},58,null,null,null,1.5,{"$f":"IF('v1 Project Information'!$C$4=\"Core and Shell\",IF(Table6[[#This Row],[v2 Core Points (if less than max)]]>0,Table6[[#This Row],[v2 Core Points (if less than max)]],VLOOKUP(Table6[[#This Row],[v2 Feature.Part]],Table5[[Feature.Part]:[Points]],4,FALSE)),IF(Table6[[#This Row],[v2 WBS Points (if less than max)]]>0,Table6[[#This Row],[v2 WBS Points (if less than max)]],VLOOKUP(Table6[[#This Row],[v2 Feature.Part]],Table5[[Feature.Part]:[Points]],4,FALSE)))","v":1},{"$f":"VLOOKUP(Table6[[#This Row],[WELL v1 Feature 1]],Table4[],4,FALSE)","v":"N"},{"$f":"_xlfn.IFNA(VLOOKUP(Table6[[#This Row],[WELL v1 Feature 2]],Table4[],4,FALSE),\"Y\")","v":"Y"},{"$f":"_xlfn.IFNA(VLOOKUP(Table6[[#This Row],[WELL v1 Feature 3]],Table4[],4,FALSE),\"Y\")","v":"Y"},{"$f":"IF(COUNTIF(Table6[[#This Row],[v1 feature 1 attainment]:[v1 feature 3 attainment]],\"Y\")=3,TRUE,FALSE)","v":false},{"$f":"VLOOKUP(Table6[[#This Row],[WELL v2 Feature]],Table5[],7,FALSE)","v":4},{"$f":"VLOOKUP(Table6[[#This Row],[WELL v2 Feature]],Table5[],9,FALSE)","v":0.5},{"$f":"VLOOKUP(Table6[[#This Row],[WELL v2 Feature]],Table5[],10,FALSE)","v":1},{"$f":"VLOOKUP(Table6[[#This Row],[WELL v2 Feature]],Table5[],8,FALSE)","v":"Limit"},null,null,null,"L04",1,{"$f":"CONCATENATE(Table9[[#This Row],[Feature]],\".\",Table9[[#This Row],[Part]])","v":"L04.1"},{"$f":"VLOOKUP(Table9[[#This Row],[Feature]],Table5[],5,FALSE)","v":"Optimization"},{"$f":"NOT(ISNA(_xlfn.IFNA(VLOOKUP(Table9[[#This Row],[Feature.Part]],Table6[v2 Feature.Part],1,FALSE),VLOOKUP(CONCATENATE(Table9[[#This Row],[Feature]],\".\",\"All\"),Table6[v2 Feature.Part],1,FALSE))))","v":true},{"$f":"IF(Table9[[#This Row],[Part Covered in Skybridge?]],  IF(COUNTIFS(Table6[v2 Part attainment through these features?],TRUE,Table6[v2 Feature.Part],Table9[[#This Row],[Feature.Part]])>0,TRUE,FALSE),FALSE)","v":true},{"$f":"IF(Table9[[#This Row],[Part attained in v2?]],\nIF(Table9[[#This Row],[Feature]]=\"I01\",COUNTIFS(Table6[WELL v2 Feature],\"I01\",Table6[v1 feature 1 attainment],\"Y\"),\nVLOOKUP(Table9[[#This Row],[Feature.Part]],Table6[[v2 Feature.Part]:[Part points]],7,FALSE)),0)","v":2},{"$f":"IF(Table9[[#This Row],[Part attained in v2?]],IF(Table9[[#This Row],[Type]]=\"Precondition\",\"Y\",Table9[[#This Row],[v2 points]]),0)","v":2},{"$f":"VLOOKUP(Table9[[#This Row],[Feature]],Table5[],12,FALSE)","v":"Light"}]
["V01",1,{"$f":"CONCATENATE(Table6[[#This Row],[WELL v2 Feature]],\".\",Table6[[#This Row],[v2 Part]])","v":"V01.1"},67,null,null,null,null,{"$f":"IF('v1 Project Information'!$C$4=\"Core and Shell\",IF(Table6[[#This Row],[v2 Core Points (if less than max)]]>0,Table6[[#This Row],[v2 Core Points (if less than max)]],VLOOKUP(Table6[[#This Row],[v2 Feature.Part]],Table5[[Feature.Part]:[Points]],4,FALSE)),IF(Table6[[#This Row],[v2 WBS Points (if less than max)]]>0,Table6[[#This Row],[v2 WBS Points (if less than max)]],VLOOKUP(Table6[[#This Row],[v2 Feature.Part]],Table5[[Feature.Part]:[Points]],4,FALSE)))","v":"P"},{"$f":"VLOOKUP(Table6[[#This Row],[WELL v1 Feature 1]],Table4[],4,FALSE)","v":"N"},{"$f":"_xlfn.IFNA(VLOOKUP(Table6[[#This Row],[WELL v1 Feature 2]],Table4[],4,FALSE),\"Y\")","v":"Y"},{"$f":"_xlfn.IFNA(VLOOKUP(Table6[[#This Row],[WELL v1 Feature 3]],Table4[],4,FALSE),\"Y\")","v":"Y"},{"$f":"IF(COUNTIF(Table6[[#This Row],[v1 feature 1 attainment]:[v1 feature 3 attainment]],\"Y\")=3,TRUE,FALSE)","v":false},{"$f":"VLOOKUP(Table6[[#This Row],[WELL v2 Feature]],Table5[],7,FALSE)","v":5},{"$f":"VLOOKUP(Table6[[#This Row],[WELL v2 Feature]],Table5[],9,FALSE)","v":"P"},{"$f":"VLOOKUP(Table6[[#This Row],[WELL v2 Feature]],Table5[],10,FALSE)","v":0},{"$f":"VLOOKUP(Table6[[#This Row],[WELL v2 Feature]],Table5[],8,FALSE)","v":0},null,null,null,"L05",1,{"$f":"CONCATENATE(Table9[[#This Row],[Feature]],\".\",Table9[[#This Row],[Part]])","v":"L05.1"},{"$f":"VLOOKUP(Table9[[#This Row],[Feature]],Table5[],5,FALSE)","v":"Optimization"},{"$f":"NOT(ISNA(_xlfn.IFNA(VLOOKUP(Table9[[#This Row],[Feature.Part]],Table6[v2 Feature.Part],1,FALSE),VLOOKUP(CONCATENATE(Table9[[#This Row],[Feature]],\".\",\"All\"),Table6[v2 Feature.Part],1,FALSE))))","v":true},{"$f":"IF(Table9[[#This Row],[Part Covered in Skybridge?]],  IF(COUNTIFS(Table6[v2 Part attainment through these features?],TRUE,Table6[v2 Feature.Part],Table9[[#This Row],[Feature.Part]])>0,TRUE,FALSE),FALSE)","v":false},{"$f":"IF(Table9[[#This Row],[Part attained in v2?]],\nIF(Table9[[#This Row],[Feature]]=\"I01\",COUNTIFS(Table6[WELL v2 Feature],\"I01\",Table6[v1 feature 1 attainment],\"Y\"),\nVLOOKUP(Table9[[#This Row],[Feature.Part]],Table6[[v2 Feature.Part]:[Part points]],7,FALSE)),0)","v":0},{"$f":"IF(Table9[[#This Row],[Part attained in v2?]],IF(Table9[[#This Row],[Type]]=\"Precondition\",\"Y\",Table9[[#This Row],[v2 points]]),0)","v":0},{"$f":"VLOOKUP(Table9[[#This Row],[Feature]],Table5[],12,FALSE)","v":"Light"}]
["V02",1,{"$f":"CONCATENATE(Table6[[#This Row],[WELL v2 Feature]],\".\",Table6[[#This Row],[v2 Part]])","v":"V02.1"},73,null,null,null,null,{"$f":"IF('v1 Project Information'!$C$4=\"Core and Shell\",IF(Table6[[#This Row],[v2 Core Points (if less than max)]]>0,Table6[[#This Row],[v2 Core Points (if less than max)]],VLOOKUP(Table6[[#This Row],[v2 Feature.Part]],Table5[[Feature.Part]:[Points]],4,FALSE)),IF(Table6[[#This Row],[v2 WBS Points (if less than max)]]>0,Table6[[#This Row],[v2 WBS Points (if less than max)]],VLOOKUP(Table6[[#This Row],[v2 Feature.Part]],Table5[[Feature.Part]:[Points]],4,FALSE)))","v":"P"},{"$f":"VLOOKUP(Table6[[#This Row],[WELL v1 Feature 1]],Table4[],4,FALSE)","v":"Y"},{"$f":"_xlfn.IFNA(VLOOKUP(Table6[[#This Row],[WELL v1 Feature 2]],Table4[],4,FALSE),\"Y\")","v":"Y"},{"$f":"_xlfn.IFNA(VLOOKUP(Table6[[#This Row],[WELL v1 Feature 3]],Table4[],4,FALSE),\"Y\")","v":"Y"},{"$f":"IF(COUNTIF(Table6[[#This Row],[v1 feature 1 attainment]:[v1 feature 3 attainment]],\"Y\")=3,TRUE,FALSE)","v":true},{"$f":"VLOOKUP(Table6[[#This Row],[WELL v2 Feature]],Table5[],7,FALSE)","v":5},{"$f":"VLOOKUP(Table6[[#This Row],[WELL v2 Feature]],Table5[],9,FALSE)","v":"P"},{"$f":"VLOOKUP(Table6[[#This Row],[WELL v2 Feature]],Table5[],10,FALSE)","v":1},{"$f":"VLOOKUP(Table6[[#This Row],[WELL v2 Feature]],Table5[],8,FALSE)","v":0},null,null,null,"L05",2,{"$f":"CONCATENATE(Table9[[#This Row],[Feature]],\".\",Table9[[#This Row],[Part]])","v":"L05.2"},{"$f":"VLOOKUP(Table9[[#This Row],[Feature]],Table5[],5,FALSE)","v":"Optimization"},{"$f":"NOT(ISNA(_xlfn.IFNA(VLOOKUP(Table9[[#This Row],[Feature.Part]],Table6[v2 Feature.Part],1,FALSE),VLOOKUP(CONCATENATE(Table9[[#This Row],[Feature]],\".\",\"All\"),Table6[v2 Feature.Part],1,FALSE))))","v":true},{"$f":"IF(Table9[[#This Row],[Part Covered in Skybridge?]],  IF(COUNTIFS(Table6[v2 Part attainment through these features?],TRUE,Table6[v2 Feature.Part],Table9[[#This Row],[Feature.Part]])>0,TRUE,FALSE),FALSE)","v":true},{"$f":"IF(Table9[[#This Row],[Part attained in v2?]],\nIF(Table9[[#This Row],[Feature]]=\"I01\",COUNTIFS(Table6[WELL v2 Feature],\"I01\",Table6[v1 feature 1 attainment],\"Y\"),\nVLOOKUP(Table9[[#This Row],[Feature.Part]],Table6[[v2 Feature.Part]:[Part points]],7,FALSE)),0)","v":1},{"$f":"IF(Table9[[#This Row],[Part attained in v2?]],IF(Table9[[#This Row],[Type]]=\"Precondition\",\"Y\",Table9[[#This Row],[v2 points]]),0)","v":1},{"$f":"VLOOKUP(Table9[[#This Row],[Feature]],Table5[],12,FALSE)","v":"Light"}]
["V02",2,{"$f":"CONCATENATE(Table6[[#This Row],[WELL v2 Feature]],\".\",Table6[[#This Row],[v2 Part]])","v":"V02.2"},73,null,null,null,null,{"$f":"IF('v1 Project Information'!$C$4=\"Core and Shell\",IF(Table6[[#This Row],[v2 Core Points (if less than max)]]>0,Table6[[#This Row],[v2 Core Points (if less than max)]],VLOOKUP(Table6[[#This Row],[v2 Feature.Part]],Table5[[Feature.Part]:[Points]],4,FALSE)),IF(Table6[[#This Row],[v2 WBS Points (if less than max)]]>0,Table6[[#This Row],[v2 WBS Points (if less than max)]],VLOOKUP(Table6[[#This Row],[v2 Feature.Part]],Table5[[Feature.Part]:[Points]],4,FALSE)))","v":"P"},{"$f":"VLOOKUP(Table6[[#This Row],[WELL v1 Feature 1]],Table4[],4,FALSE)","v":"Y"},{"$f":"_xlfn.IFNA(VLOOKUP(Table6[[#This Row],[WELL v1 Feature 2]],Table4[],4,FALSE),\"Y\")","v":"Y"},{"$f":"_xlfn.IFNA(VLOOKUP(Table6[[#This Row],[WELL v1 Feature 3]],Table4[],4,FALSE),\"Y\")","v":"Y"},{"$f":"IF(COUNTIF(Table6[[#This Row],[v1 feature 1 attainment]:[v1 feature 3 attainment]],\"Y\")=3,TRUE,FALSE)","v":true},{"$f":"VLOOKUP(Table6[[#This Row],[WELL v2 Feature]],Table5[],7,FALSE)","v":5},{"$f":"VLOOKUP(Table6[[#This Row],[WELL v2 Feature]],Table5[],9,FALSE)","v":"P"},{"$f":"VLOOKUP(Table6[[#This Row],[WELL v2 Feature]],Table5[],10,FALSE)","v":1},{"$f":"VLOOKUP(Table6[[#This Row],[WELL v2 Feature]],Table5[],8,FALSE)","v":0},null,null,null,"L06",1,{"$f":"CONCATENATE(Table9[[#This Row],[Feature]],\".\",Table9[[#This Row],[Part]])","v":"L06.1"},{"$f":"VLOOKUP(Table9[[#This Row],[Feature]],Table5[],5,FALSE)","v":"Optimization"},{"$f":"NOT(ISNA(_xlfn.IFNA(VLOOKUP(Table9[[#This Row],[Feature.Part]],Table6[v2 Feature.Part],1,FALSE),VLOOKUP(CONCATENATE(Table9[[#This Row],[Feature]],\".\",\"All\"),Table6[v2 Feature.Part],1,FALSE))))","v":true},{"$f":"IF(Table9[[#This Row],[Part Covered in Skybridge?]],  IF(COUNTIFS(Table6[v2 Part attainment through these features?],TRUE,Table6[v2 Feature.Part],Table9[[#This Row],[Feature.Part]])>0,TRUE,FALSE),FALSE)","v":false},{"$f":"IF(Table9[[#This Row],[Part attained in v2?]],\nIF(Table9[[#This Row],[Feature]]=\"I01\",COUNTIFS(Table6[WELL v2 Feature],\"I01\",Table6[v1 feature 1 attainment],\"Y\"),\nVLOOKUP(Table9[[#This Row],[Feature.Part]],Table6[[v2 Feature.Part]:[Part points]],7,FALSE)),0)","v":0},{"$f":"IF(Table9[[#This Row],[Part attained in v2?]],IF(Table9[[#This Row],[Type]]=\"Precondition\",\"Y\",Table9[[#This Row],[v2 points]]),0)","v":0},{"$f":"VLOOKUP(Table9[[#This Row],[Feature]],Table5[],12,FALSE)","v":"Light"}]
["V02",3,{"$f":"CONCATENATE(Table6[[#This Row],[WELL v2 Feature]],\".\",Table6[[#This Row],[v2 Part]])","v":"V02.3"},73,null,null,null,null,{"$f":"IF('v1 Project Information'!$C$4=\"Core and Shell\",IF(Table6[[#This Row],[v2 Core Points (if less than max)]]>0,Table6[[#This Row],[v2 Core Points (if less than max)]],VLOOKUP(Table6[[#This Row],[v2 Feature.Part]],Table5[[Feature.Part]:[Points]],4,FALSE)),IF(Table6[[#This Row],[v2 WBS Points (if less than max)]]>0,Table6[[#This Row],[v2 WBS Points (if less than max)]],VLOOKUP(Table6[[#This Row],[v2 Feature.Part]],Table5[[Feature.Part]:[Points]],4,FALSE)))","v":"P"},{"$f":"VLOOKUP(Table6[[#This Row],[WELL v1 Feature 1]],Table4[],4,FALSE)","v":"Y"},{"$f":"_xlfn.IFNA(VLOOKUP(Table6[[#This Row],[WELL v1 Feature 2]],Table4[],4,FALSE),\"Y\")","v":"Y"},{"$f":"_xlfn.IFNA(VLOOKUP(Table6[[#This Row],[WELL v1 Feature 3]],Table4[],4,FALSE),\"Y\")","v":"Y"},{"$f":"IF(COUNTIF(Table6[[#This Row],[v1 feature 1 attainment]:[v1 feature 3 attainment]],\"Y\")=3,TRUE,FALSE)","v":true},{"$f":"VLOOKUP(Table6[[#This Row],[WELL v2 Feature]],Table5[],7,FALSE)","v":5},{"$f":"VLOOKUP(Table6[[#This Row],[WELL v2 Feature]],Table5[],9,FALSE)","v":"P"},{"$f":"VLOOKUP(Table6[[#This Row],[WELL v2 Feature]],Table5[],10,FALSE)","v":1},{"$f":"VLOOKUP(Table6[[#This Row],[WELL v2 Feature]],Table5[],8,FALSE)","v":0},null,null,null,"L07",1,{"$f":"CONCATENATE(Table9[[#This Row],[Feature]],\".\",Table9[[#This Row],[Part]])","v":"L07.1"},{"$f":"VLOOKUP(Table9[[#This Row],[Feature]],Table5[],5,FALSE)","v":"Optimization"},{"$f":"NOT(ISNA(_xlfn.IFNA(VLOOKUP(Table9[[#This Row],[Feature.Part]],Table6[v2 Feature.Part],1,FALSE),VLOOKUP(CONCATENATE(Table9[[#This Row],[Feature]],\".\",\"All\"),Table6[v2 Feature.Part],1,FALSE))))","v":true},{"$f":"IF(Table9[[#This Row],[Part Covered in Skybridge?]],  IF(COUNTIFS(Table6[v2 Part attainment through these features?],TRUE,Table6[v2 Feature.Part],Table9[[#This Row],[Feature.Part]])>0,TRUE,FALSE),FALSE)","v":true},{"$f":"IF(Table9[[#This Row],[Part attained in v2?]],\nIF(Table9[[#This Row],[Feature]]=\"I01\",COUNTIFS(Table6[WELL v2 Feature],\"I01\",Table6[v1 feature 1 attainment],\"Y\"),\nVLOOKUP(Table9[[#This Row],[Feature.Part]],Table6[[v2 Feature.Part]:[Part points]],7,FALSE)),0)","v":1},{"$f":"IF(Table9[[#This Row],[Part attained in v2?]],IF(Table9[[#This Row],[Type]]=\"Precondition\",\"Y\",Table9[[#This Row],[v2 points]]),0)","v":1},{"$f":"VLOOKUP(Table9[[#This Row],[Feature]],Table5[],12,FALSE)","v":"Light"}]
["V02",4,{"$f":"CONCATENATE(Table6[[#This Row],[WELL v2 Feature]],\".\",Table6[[#This Row],[v2 Part]])","v":"V02.4"},73,null,null,null,null,{"$f":"IF('v1 Project Information'!$C$4=\"Core and Shell\",IF(Table6[[#This Row],[v2 Core Points (if less than max)]]>0,Table6[[#This Row],[v2 Core Points (if less than max)]],VLOOKUP(Table6[[#This Row],[v2 Feature.Part]],Table5[[Feature.Part]:[Points]],4,FALSE)),IF(Table6[[#This Row],[v2 WBS Points (if less than max)]]>0,Table6[[#This Row],[v2 WBS Points (if less than max)]],VLOOKUP(Table6[[#This Row],[v2 Feature.Part]],Table5[[Feature.Part]:[Points]],4,FALSE)))","v":"P"},{"$f":"VLOOKUP(Table6[[#This Row],[WELL v1 Feature 1]],Table4[],4,FALSE)","v":"Y"},{"$f":"_xlfn.IFNA(VLOOKUP(Table6[[#This Row],[WELL v1 Feature 2]],Table4[],4,FALSE),\"Y\")","v":"Y"},{"$f":"_xlfn.IFNA(VLOOKUP(Table6[[#This Row],[WELL v1 Feature 3]],Table4[],4,FALSE),\"Y\")","v":"Y"},{"$f":"IF(COUNTIF(Table6[[#This Row],[v1 feature 1 attainment]:[v1 feature 3 attainment]],\"Y\")=3,TRUE,FALSE)","v":true},{"$f":"VLOOKUP(Table6[[#This Row],[WELL v2 Feature]],Table5[],7,FALSE)","v":5},{"$f":"VLOOKUP(Table6[[#This Row],[WELL v2 Feature]],Table5[],9,FALSE)","v":"P"},{"$f":"VLOOKUP(Table6[[#This Row],[WELL v2 Feature]],Table5[],10,FALSE)","v":1},{"$f":"VLOOKUP(Table6[[#This Row],[WELL v2 Feature]],Table5[],8,FALSE)","v":0},null,null,null,"L08",1,{"$f":"CONCATENATE(Table9[[#This Row],[Feature]],\".\",Table9[[#This Row],[Part]])","v":"L08.1"},{"$f":"VLOOKUP(Table9[[#This Row],[Feature]],Table5[],5,FALSE)","v":"Optimization"},{"$f":"NOT(ISNA(_xlfn.IFNA(VLOOKUP(Table9[[#This Row],[Feature.Part]],Table6[v2 Feature.Part],1,FALSE),VLOOKUP(CONCATENATE(Table9[[#This Row],[Feature]],\".\",\"All\"),Table6[v2 Feature.Part],1,FALSE))))","v":true},{"$f":"IF(Table9[[#This Row],[Part Covered in Skybridge?]],  IF(COUNTIFS(Table6[v2 Part attainment through these features?],TRUE,Table6[v2 Feature.Part],Table9[[#This Row],[Feature.Part]])>0,TRUE,FALSE),FALSE)","v":false},{"$f":"IF(Table9[[#This Row],[Part attained in v2?]],\nIF(Table9[[#This Row],[Feature]]=\"I01\",COUNTIFS(Table6[WELL v2 Feature],\"I01\",Table6[v1 feature 1 attainment],\"Y\"),\nVLOOKUP(Table9[[#This Row],[Feature.Part]],Table6[[v2 Feature.Part]:[Part points]],7,FALSE)),0)","v":0},{"$f":"IF(Table9[[#This Row],[Part attained in v2?]],IF(Table9[[#This Row],[Type]]=\"Precondition\",\"Y\",Table9[[#This Row],[v2 points]]),0)","v":0},{"$f":"VLOOKUP(Table9[[#This Row],[Feature]],Table5[],12,FALSE)","v":"Light"}]
["V03",1,{"$f":"CONCATENATE(Table6[[#This Row],[WELL v2 Feature]],\".\",Table6[[#This Row],[v2 Part]])","v":"V03.1"},64,null,null,null,2,{"$f":"IF('v1 Project Information'!$C$4=\"Core and Shell\",IF(Table6[[#This Row],[v2 Core Points (if less than max)]]>0,Table6[[#This Row],[v2 Core Points (if less than max)]],VLOOKUP(Table6[[#This Row],[v2 Feature.Part]],Table5[[Feature.Part]:[Points]],4,FALSE)),IF(Table6[[#This Row],[v2 WBS Points (if less than max)]]>0,Table6[[#This Row],[v2 WBS Points (if less than max)]],VLOOKUP(Table6[[#This Row],[v2 Feature.Part]],Table5[[Feature.Part]:[Points]],4,FALSE)))","v":1},{"$f":"VLOOKUP(Table6[[#This Row],[WELL v1 Feature 1]],Table4[],4,FALSE)","v":"Y"},{"$f":"_xlfn.IFNA(VLOOKUP(Table6[[#This Row],[WELL v1 Feature 2]],Table4[],4,FALSE),\"Y\")","v":"Y"},{"$f":"_xlfn.IFNA(VLOOKUP(Table6[[#This Row],[WELL v1 Feature 3]],Table4[],4,FALSE),\"Y\")","v":"Y"},{"$f":"IF(COUNTIF(Table6[[#This Row],[v1 feature 1 attainment]:[v1 feature 3 attainment]],\"Y\")=3,TRUE,FALSE)","v":true},{"$f":"VLOOKUP(Table6[[#This Row],[WELL v2 Feature]],Table5[],7,FALSE)","v":5},{"$f":"VLOOKUP(Table6[[#This Row],[WELL v2 Feature]],Table5[],9,FALSE)","v":2},{"$f":"VLOOKUP(Table6[[#This Row],[WELL v2 Feature]],Table5[],10,FALSE)","v":0},{"$f":"VLOOKUP(Table6[[#This Row],[WELL v2 Feature]],Table5[],8,FALSE)","v":"Bonus"},null,null,null,"L08",2,{"$f":"CONCATENATE(Table9[[#This Row],[Feature]],\".\",Table9[[#This Row],[Part]])","v":"L08.2"},{"$f":"VLOOKUP(Table9[[#This Row],[Feature]],Table5[],5,FALSE)","v":"Optimization"},{"$f":"NOT(ISNA(_xlfn.IFNA(VLOOKUP(Table9[[#This Row],[Feature.Part]],Table6[v2 Feature.Part],1,FALSE),VLOOKUP(CONCATENATE(Table9[[#This Row],[Feature]],\".\",\"All\"),Table6[v2 Feature.Part],1,FALSE))))","v":false},{"$f":"IF(Table9[[#This Row],[Part Covered in Skybridge?]],  IF(COUNTIFS(Table6[v2 Part attainment through these features?],TRUE,Table6[v2 Feature.Part],Table9[[#This Row],[Feature.Part]])>0,TRUE,FALSE),FALSE)","v":false},{"$f":"IF(Table9[[#This Row],[Part attained in v2?]],\nIF(Table9[[#This Row],[Feature]]=\"I01\",COUNTIFS(Table6[WELL v2 Feature],\"I01\",Table6[v1 feature 1 attainment],\"Y\"),\nVLOOKUP(Table9[[#This Row],[Feature.Part]],Table6[[v2 Feature.Part]:[Part points]],7,FALSE)),0)","v":0},{"$f":"IF(Table9[[#This Row],[Part attained in v2?]],IF(Table9[[#This Row],[Type]]=\"Precondition\",\"Y\",Table9[[#This Row],[v2 points]]),0)","v":0},{"$f":"VLOOKUP(Table9[[#This Row],[Feature]],Table5[],12,FALSE)","v":"Light"}]
["V03",2,{"$f":"CONCATENATE(Table6[[#This Row],[WELL v2 Feature]],\".\",Table6[[#This Row],[v2 Part]])","v":"V03.2"},64,null,null,null,2,{"$f":"IF('v1 Project Information'!$C$4=\"Core and Shell\",IF(Table6[[#This Row],[v2 Core Points (if less than max)]]>0,Table6[[#This Row],[v2 Core Points (if less than max)]],VLOOKUP(Table6[[#This Row],[v2 Feature.Part]],Table5[[Feature.Part]:[Points]],4,FALSE)),IF(Table6[[#This Row],[v2 WBS Points (if less than max)]]>0,Table6[[#This Row],[v2 WBS Points (if less than max)]],VLOOKUP(Table6[[#This Row],[v2 Feature.Part]],Table5[[Feature.Part]:[Points]],4,FALSE)))","v":1},{"$f":"VLOOKUP(Table6[[#This Row],[WELL v1 Feature 1]],Table4[],4,FALSE)","v":"Y"},{"$f":"_xlfn.IFNA(VLOOKUP(Table6[[#This Row],[WELL v1 Feature 2]],Table4[],4,FALSE),\"Y\")","v":"Y"},{"$f":"_xlfn.IFNA(VLOOKUP(Table6[[#This Row],[WELL v1 Feature 3]],Table4[],4,FALSE),\"Y\")","v":"Y"},{"$f":"IF(COUNTIF(Table6[[#This Row],[v1 feature 1 attainment]:[v1 feature 3 attainment]],\"Y\")=3,TRUE,FALSE)","v":true},{"$f":"VLOOKUP(Table6[[#This Row],[WELL v2 Feature]],Table5[],7,FALSE)","v":5},{"$f":"VLOOKUP(Table6[[#This Row],[WELL v2 Feature]],Table5[],9,FALSE)","v":2},{"$f":"VLOOKUP(Table6[[#This Row],[WELL v2 Feature]],Table5[],10,FALSE)","v":0},{"$f":"VLOOKUP(Table6[[#This Row],[WELL v2 Feature]],Table5[],8,FALSE)","v":"Bonus"},null,null,null,"L09",1,{"$f":"CONCATENATE(Table9[[#This Row],[Feature]],\".\",Table9[[#This Row],[Part]])","v":"L09.1"},{"$f":"VLOOKUP(Table9[[#This Row],[Feature]],Table5[],5,FALSE)","v":"Optimization"},{"$f":"NOT(ISNA(_xlfn.IFNA(VLOOKUP(Table9[[#This Row],[Feature.Part]],Table6[v2 Feature.Part],1,FALSE),VLOOKUP(CONCATENATE(Table9[[#This Row],[Feature]],\".\",\"All\"),Table6[v2 Feature.Part],1,FALSE))))","v":false},{"$f":"IF(Table9[[#This Row],[Part Covered in Skybridge?]],  IF(COUNTIFS(Table6[v2 Part attainment through these features?],TRUE,Table6[v2 Feature.Part],Table9[[#This Row],[Feature.Part]])>0,TRUE,FALSE),FALSE)","v":false},{"$f":"IF(Table9[[#This Row],[Part attained in v2?]],\nIF(Table9[[#This Row],[Feature]]=\"I01\",COUNTIFS(Table6[WELL v2 Feature],\"I01\",Table6[v1 feature 1 attainment],\"Y\"),\nVLOOKUP(Table9[[#This Row],[Feature.Part]],Table6[[v2 Feature.Part]:[Part points]],7,FALSE)),0)","v":0},{"$f":"IF(Table9[[#This Row],[Part attained in v2?]],IF(Table9[[#This Row],[Type]]=\"Precondition\",\"Y\",Table9[[#This Row],[v2 points]]),0)","v":0},{"$f":"VLOOKUP(Table9[[#This Row],[Feature]],Table5[],12,FALSE)","v":"Light"}]
["V03",3,{"$f":"CONCATENATE(Table6[[#This Row],[WELL v2 Feature]],\".\",Table6[[#This Row],[v2 Part]])","v":"V03.3"},64,null,null,null,2,{"$f":"IF('v1 Project Information'!$C$4=\"Core and Shell\",IF(Table6[[#This Row],[v2 Core Points (if less than max)]]>0,Table6[[#This Row],[v2 Core Points (if less than max)]],VLOOKUP(Table6[[#This Row],[v2 Feature.Part]],Table5[[Feature.Part]:[Points]],4,FALSE)),IF(Table6[[#This Row],[v2 WBS Points (if less than max)]]>0,Table6[[#This Row],[v2 WBS Points (if less than max)]],VLOOKUP(Table6[[#This Row],[v2 Feature.Part]],Table5[[Feature.Part]:[Points]],4,FALSE)))","v":1},{"$f":"VLOOKUP(Table6[[#This Row],[WELL v1 Feature 1]],Table4[],4,FALSE)","v":"Y"},{"$f":"_xlfn.IFNA(VLOOKUP(Table6[[#This Row],[WELL v1 Feature 2]],Table4[],4,FALSE),\"Y\")","v":"Y"},{"$f":"_xlfn.IFNA(VLOOKUP(Table6[[#This Row],[WELL v1 Feature 3]],Table4[],4,FALSE),\"Y\")","v":"Y"},{"$f":"IF(COUNTIF(Table6[[#This Row],[v1 feature 1 attainment]:[v1 feature 3 attainment]],\"Y\")=3,TRUE,FALSE)","v":true},{"$f":"VLOOKUP(Table6[[#This Row],[WELL v2 Feature]],Table5[],7,FALSE)","v":5},{"$f":"VLOOKUP(Table6[[#This Row],[WELL v2 Feature]],Table5[],9,FALSE)","v":2},{"$f":"VLOOKUP(Table6[[#This Row],[WELL v2 Feature]],Table5[],10,FALSE)","v":0},{"$f":"VLOOKUP(Table6[[#This Row],[WELL v2 Feature]],Table5[],8,FALSE)","v":"Bonus"},null,null,null,"L09",2,{"$f":"CONCATENATE(Table9[[#This Row],[Feature]],\".\",Table9[[#This Row],[Part]])","v":"L09.2"},{"$f":"VLOOKUP(Table9[[#This Row],[Feature]],Table5[],5,FALSE)","v":"Optimization"},{"$f":"NOT(ISNA(_xlfn.IFNA(VLOOKUP(Table9[[#This Row],[Feature.Part]],Table6[v2 Feature.Part],1,FALSE),VLOOKUP(CONCATENATE(Table9[[#This Row],[Feature]],\".\",\"All\"),Table6[v2 Feature.Part],1,FALSE))))","v":false},{"$f":"IF(Table9[[#This Row],[Part Covered in Skybridge?]],  IF(COUNTIFS(Table6[v2 Part attainment through these features?],TRUE,Table6[v2 Feature.Part],Table9[[#This Row],[Feature.Part]])>0,TRUE,FALSE),FALSE)","v":false},{"$f":"IF(Table9[[#This Row],[Part attained in v2?]],\nIF(Table9[[#This Row],[Feature]]=\"I01\",COUNTIFS(Table6[WELL v2 Feature],\"I01\",Table6[v1 feature 1 attainment],\"Y\"),\nVLOOKUP(Table9[[#This Row],[Feature.Part]],Table6[[v2 Feature.Part]:[Part points]],7,FALSE)),0)","v":0},{"$f":"IF(Table9[[#This Row],[Part attained in v2?]],IF(Table9[[#This Row],[Type]]=\"Precondition\",\"Y\",Table9[[#This Row],[v2 points]]),0)","v":0},{"$f":"VLOOKUP(Table9[[#This Row],[Feature]],Table5[],12,FALSE)","v":"Light"}]
["V04",1,{"$f":"CONCATENATE(Table6[[#This Row],[WELL v2 Feature]],\".\",Table6[[#This Row],[v2 Part]])","v":"V04.1"},69,null,null,null,3,{"$f":"IF('v1 Project Information'!$C$4=\"Core and Shell\",IF(Table6[[#This Row],[v2 Core Points (if less than max)]]>0,Table6[[#This Row],[v2 Core Points (if less than max)]],VLOOKUP(Table6[[#This Row],[v2 Feature.Part]],Table5[[Feature.Part]:[Points]],4,FALSE)),IF(Table6[[#This Row],[v2 WBS Points (if less than max)]]>0,Table6[[#This Row],[v2 WBS Points (if less than max)]],VLOOKUP(Table6[[#This Row],[v2 Feature.Part]],Table5[[Feature.Part]:[Points]],4,FALSE)))","v":2},{"$f":"VLOOKUP(Table6[[#This Row],[WELL v1 Feature 1]],Table4[],4,FALSE)","v":"N"},{"$f":"_xlfn.IFNA(VLOOKUP(Table6[[#This Row],[WELL v1 Feature 2]],Table4[],4,FALSE),\"Y\")","v":"Y"},{"$f":"_xlfn.IFNA(VLOOKUP(Table6[[#This Row],[WELL v1 Feature 3]],Table4[],4,FALSE),\"Y\")","v":"Y"},{"$f":"IF(COUNTIF(Table6[[#This Row],[v1 feature 1 attainment]:[v1 feature 3 attainment]],\"Y\")=3,TRUE,FALSE)","v":false},{"$f":"VLOOKUP(Table6[[#This Row],[WELL v2 Feature]],Table5[],7,FALSE)","v":5},{"$f":"VLOOKUP(Table6[[#This Row],[WELL v2 Feature]],Table5[],9,FALSE)","v":3},{"$f":"VLOOKUP(Table6[[#This Row],[WELL v2 Feature]],Table5[],10,FALSE)","v":0},{"$f":"VLOOKUP(Table6[[#This Row],[WELL v2 Feature]],Table5[],8,FALSE)","v":"Bonus"},null,null,null,"V01",1,{"$f":"CONCATENATE(Table9[[#This Row],[Feature]],\".\",Table9[[#This Row],[Part]])","v":"V01.1"},{"$f":"VLOOKUP(Table9[[#This Row],[Feature]],Table5[],5,FALSE)","v":"Precondition"},{"$f":"NOT(ISNA(_xlfn.IFNA(VLOOKUP(Table9[[#This Row],[Feature.Part]],Table6[v2 Feature.Part],1,FALSE),VLOOKUP(CONCATENATE(Table9[[#This Row],[Feature]],\".\",\"All\"),Table6[v2 Feature.Part],1,FALSE))))","v":true},{"$f":"IF(Table9[[#This Row],[Part Covered in Skybridge?]],  IF(COUNTIFS(Table6[v2 Part attainment through these features?],TRUE,Table6[v2 Feature.Part],Table9[[#This Row],[Feature.Part]])>0,TRUE,FALSE),FALSE)","v":false},{"$f":"IF(Table9[[#This Row],[Part attained in v2?]],\nIF(Table9[[#This Row],[Feature]]=\"I01\",COUNTIFS(Table6[WELL v2 Feature],\"I01\",Table6[v1 feature 1 attainment],\"Y\"),\nVLOOKUP(Table9[[#This Row],[Feature.Part]],Table6[[v2 Feature.Part]:[Part points]],7,FALSE)),0)","v":0},{"$f":"IF(Table9[[#This Row],[Part attained in v2?]],IF(Table9[[#This Row],[Type]]=\"Precondition\",\"Y\",Table9[[#This Row],[v2 points]]),0)","v":0},{"$f":"VLOOKUP(Table9[[#This Row],[Feature]],Table5[],12,FALSE)","v":"Movement"}]
["V04",2,{"$f":"CONCATENATE(Table6[[#This Row],[WELL v2 Feature]],\".\",Table6[[#This Row],[v2 Part]])","v":"V04.2"},69,null,null,null,2,{"$f":"IF('v1 Project Information'!$C$4=\"Core and Shell\",IF(Table6[[#This Row],[v2 Core Points (if less than max)]]>0,Table6[[#This Row],[v2 Core Points (if less than max)]],VLOOKUP(Table6[[#This Row],[v2 Feature.Part]],Table5[[Feature.Part]:[Points]],4,FALSE)),IF(Table6[[#This Row],[v2 WBS Points (if less than max)]]>0,Table6[[#This Row],[v2 WBS Points (if less than max)]],VLOOKUP(Table6[[#This Row],[v2 Feature.Part]],Table5[[Feature.Part]:[Points]],4,FALSE)))","v":1},{"$f":"VLOOKUP(Table6[[#This Row],[WELL v1 Feature 1]],Table4[],4,FALSE)","v":"N"},{"$f":"_xlfn.IFNA(VLOOKUP(Table6[[#This Row],[WELL v1 Feature 2]],Table4[],4,FALSE),\"Y\")","v":"Y"},{"$f":"_xlfn.IFNA(VLOOKUP(Table6[[#This Row],[WELL v1 Feature 3]],Table4[],4,FALSE),\"Y\")","v":"Y"},{"$f":"IF(COUNTIF(Table6[[#This Row],[v1 feature 1 attainment]:[v1 feature 3 attainment]],\"Y\")=3,TRUE,FALSE)","v":false},{"$f":"VLOOKUP(Table6[[#This Row],[WELL v2 Feature]],Table5[],7,FALSE)","v":5},{"$f":"VLOOKUP(Table6[[#This Row],[WELL v2 Feature]],Table5[],9,FALSE)","v":3},{"$f":"VLOOKUP(Table6[[#This Row],[WELL v2 Feature]],Table5[],10,FALSE)","v":0},{"$f":"VLOOKUP(Table6[[#This Row],[WELL v2 Feature]],Table5[],8,FALSE)","v":"Bonus"},null,null,null,"V02",1,{"$f":"CONCATENATE(Table9[[#This Row],[Feature]],\".\",Table9[[#This Row],[Part]])","v":"V02.1"},{"$f":"VLOOKUP(Table9[[#This Row],[Feature]],Table5[],5,FALSE)","v":"Precondition"},{"$f":"NOT(ISNA(_xlfn.IFNA(VLOOKUP(Table9[[#This Row],[Feature.Part]],Table6[v2 Feature.Part],1,FALSE),VLOOKUP(CONCATENATE(Table9[[#This Row],[Feature]],\".\",\"All\"),Table6[v2 Feature.Part],1,FALSE))))","v":true},{"$f":"IF(Table9[[#This Row],[Part Covered in Skybridge?]],  IF(COUNTIFS(Table6[v2 Part attainment through these features?],TRUE,Table6[v2 Feature.Part],Table9[[#This Row],[Feature.Part]])>0,TRUE,FALSE),FALSE)","v":true},{"$f":"IF(Table9[[#This Row],[Part attained in v2?]],\nIF(Table9[[#This Row],[Feature]]=\"I01\",COUNTIFS(Table6[WELL v2 Feature],\"I01\",Table6[v1 feature 1 attainment],\"Y\"),\nVLOOKUP(Table9[[#This Row],[Feature.Part]],Table6[[v2 Feature.Part]:[Part points]],7,FALSE)),0)","v":"P"},{"$f":"IF(Table9[[#This Row],[Part attained in v2?]],IF(Table9[[#This Row],[Type]]=\"Precondition\",\"Y\",Table9[[#This Row],[v2 points]]),0)","v":"Y"},{"$f":"VLOOKUP(Table9[[#This Row],[Feature]],Table5[],12,FALSE)","v":"Movement"}]
["V05",1,{"$f":"CONCATENATE(Table6[[#This Row],[WELL v2 Feature]],\".\",Table6[[#This Row],[v2 Part]])","v":"V05.1"},67,null,null,null,3,{"$f":"IF('v1 Project Information'!$C$4=\"Core and Shell\",IF(Table6[[#This Row],[v2 Core Points (if less than max)]]>0,Table6[[#This Row],[v2 Core Points (if less than max)]],VLOOKUP(Table6[[#This Row],[v2 Feature.Part]],Table5[[Feature.Part]:[Points]],4,FALSE)),IF(Table6[[#This Row],[v2 WBS Points (if less than max)]]>0,Table6[[#This Row],[v2 WBS Points (if less than max)]],VLOOKUP(Table6[[#This Row],[v2 Feature.Part]],Table5[[Feature.Part]:[Points]],4,FALSE)))","v":2},{"$f":"VLOOKUP(Table6[[#This Row],[WELL v1 Feature 1]],Table4[],4,FALSE)","v":"N"},{"$f":"_xlfn.IFNA(VLOOKUP(Table6[[#This Row],[WELL v1 Feature 2]],Table4[],4,FALSE),\"Y\")","v":"Y"},{"$f":"_xlfn.IFNA(VLOOKUP(Table6[[#This Row],[WELL v1 Feature 3]],Table4[],4,FALSE),\"Y\")","v":"Y"},{"$f":"IF(COUNTIF(Table6[[#This Row],[v1 feature 1 attainment]:[v1 feature 3 attainment]],\"Y\")=3,TRUE,FALSE)","v":false},{"$f":"VLOOKUP(Table6[[#This Row],[WELL v2 Feature]],Table5[],7,FALSE)","v":5},{"$f":"VLOOKUP(Table6[[#This Row],[WELL v2 Feature]],Table5[],9,FALSE)","v":3},{"$f":"VLOOKUP(Table6[[#This Row],[WELL v2 Feature]],Table5[],10,FALSE)","v":0},{"$f":"VLOOKUP(Table6[[#This Row],[WELL v2 Feature]],Table5[],8,FALSE)","v":"Bonus"},null,null,null,"V02",2,{"$f":"CONCATENATE(Table9[[#This Row],[Feature]],\".\",Table9[[#This Row],[Part]])","v":"V02.2"},{"$f":"VLOOKUP(Table9[[#This Row],[Feature]],Table5[],5,FALSE)","v":"Precondition"},{"$f":"NOT(ISNA(_xlfn.IFNA(VLOOKUP(Table9[[#This Row],[Feature.Part]],Table6[v2 Feature.Part],1,FALSE),VLOOKUP(CONCATENATE(Table9[[#This Row],[Feature]],\".\",\"All\"),Table6[v2 Feature.Part],1,FALSE))))","v":true},{"$f":"IF(Table9[[#This Row],[Part Covered in Skybridge?]],  IF(COUNTIFS(Table6[v2 Part attainment through these features?],TRUE,Table6[v2 Feature.Part],Table9[[#This Row],[Feature.Part]])>0,TRUE,FALSE),FALSE)","v":true},{"$f":"IF(Table9[[#This Row],[Part attained in v2?]],\nIF(Table9[[#This Row],[Feature]]=\"I01\",COUNTIFS(Table6[WELL v2 Feature],\"I01\",Table6[v1 feature 1 attainment],\"Y\"),\nVLOOKUP(Table9[[#This Row],[Feature.Part]],Table6[[v2 Feature.Part]:[Part points]],7,FALSE)),0)","v":"P"},{"$f":"IF(Table9[[#This Row],[Part attained in v2?]],IF(Table9[[#This Row],[Type]]=\"Precondition\",\"Y\",Table9[[#This Row],[v2 points]]),0)","v":"Y"},{"$f":"VLOOKUP(Table9[[#This Row],[Feature]],Table5[],12,FALSE)","v":"Movement"}]
["V06",1,{"$f":"CONCATENATE(Table6[[#This Row],[WELL v2 Feature]],\".\",Table6[[#This Row],[v2 Part]])","v":"V06.1"},66,null,null,1,1.5,{"$f":"IF('v1 Project Information'!$C$4=\"Core and Shell\",IF(Table6[[#This Row],[v2 Core Points (if less than max)]]>0,Table6[[#This Row],[v2 Core Points (if less than max)]],VLOOKUP(Table6[[#This Row],[v2 Feature.Part]],Table5[[Feature.Part]:[Points]],4,FALSE)),IF(Table6[[#This Row],[v2 WBS Points (if less than max)]]>0,Table6[[#This Row],[v2 WBS Points (if less than max)]],VLOOKUP(Table6[[#This Row],[v2 Feature.Part]],Table5[[Feature.Part]:[Points]],4,FALSE)))","v":1},{"$f":"VLOOKUP(Table6[[#This Row],[WELL v1 Feature 1]],Table4[],4,FALSE)","v":"N"},{"$f":"_xlfn.IFNA(VLOOKUP(Table6[[#This Row],[WELL v1 Feature 2]],Table4[],4,FALSE),\"Y\")","v":"Y"},{"$f":"_xlfn.IFNA(VLOOKUP(Table6[[#This Row],[WELL v1 Feature 3]],Table4[],4,FALSE),\"Y\")","v":"Y"},{"$f":"IF(COUNTIF(Table6[[#This Row],[v1 feature 1 attainment]:[v1 feature 3 attainment]],\"Y\")=3,TRUE,FALSE)","v":false},{"$f":"VLOOKUP(Table6[[#This Row],[WELL v2 Feature]],Table5[],7,FALSE)","v":5},{"$f":"VLOOKUP(Table6[[#This Row],[WELL v2 Feature]],Table5[],9,FALSE)","v":1},{"$f":"VLOOKUP(Table6[[#This Row],[WELL v2 Feature]],Table5[],10,FALSE)","v":1},{"$f":"VLOOKUP(Table6[[#This Row],[WELL v2 Feature]],Table5[],8,FALSE)","v":"Limit"},null,null,null,"V02",3,{"$f":"CONCATENATE(Table9[[#This Row],[Feature]],\".\",Table9[[#This Row],[Part]])","v":"V02.3"},{"$f":"VLOOKUP(Table9[[#This Row],[Feature]],Table5[],5,FALSE)","v":"Precondition"},{"$f":"NOT(ISNA(_xlfn.IFNA(VLOOKUP(Table9[[#This Row],[Feature.Part]],Table6[v2 Feature.Part],1,FALSE),VLOOKUP(CONCATENATE(Table9[[#This Row],[Feature]],\".\",\"All\"),Table6[v2 Feature.Part],1,FALSE))))","v":true},{"$f":"IF(Table9[[#This Row],[Part Covered in Skybridge?]],  IF(COUNTIFS(Table6[v2 Part attainment through these features?],TRUE,Table6[v2 Feature.Part],Table9[[#This Row],[Feature.Part]])>0,TRUE,FALSE),FALSE)","v":true},{"$f":"IF(Table9[[#This Row],[Part attained in v2?]],\nIF(Table9[[#This Row],[Feature]]=\"I01\",COUNTIFS(Table6[WELL v2 Feature],\"I01\",Table6[v1 feature 1 attainment],\"Y\"),\nVLOOKUP(Table9[[#This Row],[Feature.Part]],Table6[[v2 Feature.Part]:[Part points]],7,FALSE)),0)","v":"P"},{"$f":"IF(Table9[[#This Row],[Part attained in v2?]],IF(Table9[[#This Row],[Type]]=\"Precondition\",\"Y\",Table9[[#This Row],[v2 points]]),0)","v":"Y"},{"$f":"VLOOKUP(Table9[[#This Row],[Feature]],Table5[],12,FALSE)","v":"Movement"}]
["V07",1,{"$f":"CONCATENATE(Table6[[#This Row],[WELL v2 Feature]],\".\",Table6[[#This Row],[v2 Part]])","v":"V07.1"},71,null,null,1,1.5,{"$f":"IF('v1 Project Information'!$C$4=\"Core and Shell\",IF(Table6[[#This Row],[v2 Core Points (if less than max)]]>0,Table6[[#This Row],[v2 Core Points (if less than max)]],VLOOKUP(Table6[[#This Row],[v2 Feature.Part]],Table5[[Feature.Part]:[Points]],4,FALSE)),IF(Table6[[#This Row],[v2 WBS Points (if less than max)]]>0,Table6[[#This Row],[v2 WBS Points (if less than max)]],VLOOKUP(Table6[[#This Row],[v2 Feature.Part]],Table5[[Feature.Part]:[Points]],4,FALSE)))","v":1},{"$f":"VLOOKUP(Table6[[#This Row],[WELL v1 Feature 1]],Table4[],4,FALSE)","v":"N"},{"$f":"_xlfn.IFNA(VLOOKUP(Table6[[#This Row],[WELL v1 Feature 2]],Table4[],4,FALSE),\"Y\")","v":"Y"},{"$f":"_xlfn.IFNA(VLOOKUP(Table6[[#This Row],[WELL v1 Feature 3]],Table4[],4,FALSE),\"Y\")","v":"Y"},{"$f":"IF(COUNTIF(Table6[[#This Row],[v1 feature 1 attainment]:[v1 feature 3 attainment]],\"Y\")=3,TRUE,FALSE)","v":false},{"$f":"VLOOKUP(Table6[[#This Row],[WELL v2 Feature]],Table5[],7,FALSE)","v":5},{"$f":"VLOOKUP(Table6[[#This Row],[WELL v2 Feature]],Table5[],9,FALSE)","v":1},{"$f":"VLOOKUP(Table6[[#This Row],[WELL v2 Feature]],Table5[],10,FALSE)","v":1},{"$f":"VLOOKUP(Table6[[#This Row],[WELL v2 Feature]],Table5[],8,FALSE)","v":"Limit"},null,null,null,"V02",4,{"$f":"CONCATENATE(Table9[[#This Row],[Feature]],\".\",Table9[[#This Row],[Part]])","v":"V02.4"},{"$f":"VLOOKUP(Table9[[#This Row],[Feature]],Table5[],5,FALSE)","v":"Precondition"},{"$f":"NOT(ISNA(_xlfn.IFNA(VLOOKUP(Table9[[#This Row],[Feature.Part]],Table6[v2 Feature.Part],1,FALSE),VLOOKUP(CONCATENATE(Table9[[#This Row],[Feature]],\".\",\"All\"),Table6[v2 Feature.Part],1,FALSE))))","v":true},{"$f":"IF(Table9[[#This Row],[Part Covered in Skybridge?]],  IF(COUNTIFS(Table6[v2 Part attainment through these features?],TRUE,Table6[v2 Feature.Part],Table9[[#This Row],[Feature.Part]])>0,TRUE,FALSE),FALSE)","v":true},{"$f":"IF(Table9[[#This Row],[Part attained in v2?]],\nIF(Table9[[#This Row],[Feature]]=\"I01\",COUNTIFS(Table6[WELL v2 Feature],\"I01\",Table6[v1 feature 1 attainment],\"Y\"),\nVLOOKUP(Table9[[#This Row],[Feature.Part]],Table6[[v2 Feature.Part]:[Part points]],7,FALSE)),0)","v":"P"},{"$f":"IF(Table9[[#This Row],[Part attained in v2?]],IF(Table9[[#This Row],[Type]]=\"Precondition\",\"Y\",Table9[[#This Row],[v2 points]]),0)","v":"Y"},{"$f":"VLOOKUP(Table9[[#This Row],[Feature]],Table5[],12,FALSE)","v":"Movement"}]
["V08",1,{"$f":"CONCATENATE(Table6[[#This Row],[WELL v2 Feature]],\".\",Table6[[#This Row],[v2 Part]])","v":"V08.1"},68,70,null,null,1.5,{"$f":"IF('v1 Project Information'!$C$4=\"Core and Shell\",IF(Table6[[#This Row],[v2 Core Points (if less than max)]]>0,Table6[[#This Row],[v2 Core Points (if less than max)]],VLOOKUP(Table6[[#This Row],[v2 Feature.Part]],Table5[[Feature.Part]:[Points]],4,FALSE)),IF(Table6[[#This Row],[v2 WBS Points (if less than max)]]>0,Table6[[#This Row],[v2 WBS Points (if less than max)]],VLOOKUP(Table6[[#This Row],[v2 Feature.Part]],Table5[[Feature.Part]:[Points]],4,FALSE)))","v":1},{"$f":"VLOOKUP(Table6[[#This Row],[WELL v1 Feature 1]],Table4[],4,FALSE)","v":"N"},{"$f":"_xlfn.IFNA(VLOOKUP(Table6[[#This Row],[WELL v1 Feature 2]],Table4[],4,FALSE),\"Y\")","v":"N"},{"$f":"_xlfn.IFNA(VLOOKUP(Table6[[#This Row],[WELL v1 Feature 3]],Table4[],4,FALSE),\"Y\")","v":"Y"},{"$f":"IF(COUNTIF(Table6[[#This Row],[v1 feature 1 attainment]:[v1 feature 3 attainment]],\"Y\")=3,TRUE,FALSE)","v":false},{"$f":"VLOOKUP(Table6[[#This Row],[WELL v2 Feature]],Table5[],7,FALSE)","v":5},{"$f":"VLOOKUP(Table6[[#This Row],[WELL v2 Feature]],Table5[],9,FALSE)","v":0.5},{"$f":"VLOOKUP(Table6[[#This Row],[WELL v2 Feature]],Table5[],10,FALSE)","v":1},{"$f":"VLOOKUP(Table6[[#This Row],[WELL v2 Feature]],Table5[],8,FALSE)","v":"Limit"},null,null,null,"V02",5,{"$f":"CONCATENATE(Table9[[#This Row],[Feature]],\".\",Table9[[#This Row],[Part]])","v":"V02.5"},{"$f":"VLOOKUP(Table9[[#This Row],[Feature]],Table5[],5,FALSE)","v":"Precondition"},{"$f":"NOT(ISNA(_xlfn.IFNA(VLOOKUP(Table9[[#This Row],[Feature.Part]],Table6[v2 Feature.Part],1,FALSE),VLOOKUP(CONCATENATE(Table9[[#This Row],[Feature]],\".\",\"All\"),Table6[v2 Feature.Part],1,FALSE))))","v":false},{"$f":"IF(Table9[[#This Row],[Part Covered in Skybridge?]],  IF(COUNTIFS(Table6[v2 Part attainment through these features?],TRUE,Table6[v2 Feature.Part],Table9[[#This Row],[Feature.Part]])>0,TRUE,FALSE),FALSE)","v":false},{"$f":"IF(Table9[[#This Row],[Part attained in v2?]],\nIF(Table9[[#This Row],[Feature]]=\"I01\",COUNTIFS(Table6[WELL v2 Feature],\"I01\",Table6[v1 feature 1 attainment],\"Y\"),\nVLOOKUP(Table9[[#This Row],[Feature.Part]],Table6[[v2 Feature.Part]:[Part points]],7,FALSE)),0)","v":0},{"$f":"IF(Table9[[#This Row],[Part attained in v2?]],IF(Table9[[#This Row],[Type]]=\"Precondition\",\"Y\",Table9[[#This Row],[v2 points]]),0)","v":0},{"$f":"VLOOKUP(Table9[[#This Row],[Feature]],Table5[],12,FALSE)","v":"Movement"}]
["V08",2,{"$f":"CONCATENATE(Table6[[#This Row],[WELL v2 Feature]],\".\",Table6[[#This Row],[v2 Part]])","v":"V08.2"},68,null,null,null,2,{"$f":"IF('v1 Project Information'!$C$4=\"Core and Shell\",IF(Table6[[#This Row],[v2 Core Points (if less than max)]]>0,Table6[[#This Row],[v2 Core Points (if less than max)]],VLOOKUP(Table6[[#This Row],[v2 Feature.Part]],Table5[[Feature.Part]:[Points]],4,FALSE)),IF(Table6[[#This Row],[v2 WBS Points (if less than max)]]>0,Table6[[#This Row],[v2 WBS Points (if less than max)]],VLOOKUP(Table6[[#This Row],[v2 Feature.Part]],Table5[[Feature.Part]:[Points]],4,FALSE)))","v":1},{"$f":"VLOOKUP(Table6[[#This Row],[WELL v1 Feature 1]],Table4[],4,FALSE)","v":"N"},{"$f":"_xlfn.IFNA(VLOOKUP(Table6[[#This Row],[WELL v1 Feature 2]],Table4[],4,FALSE),\"Y\")","v":"Y"},{"$f":"_xlfn.IFNA(VLOOKUP(Table6[[#This Row],[WELL v1 Feature 3]],Table4[],4,FALSE),\"Y\")","v":"Y"},{"$f":"IF(COUNTIF(Table6[[#This Row],[v1 feature 1 attainment]:[v1 feature 3 attainment]],\"Y\")=3,TRUE,FALSE)","v":false},{"$f":"VLOOKUP(Table6[[#This Row],[WELL v2 Feature]],Table5[],7,FALSE)","v":5},{"$f":"VLOOKUP(Table6[[#This Row],[WELL v2 Feature]],Table5[],9,FALSE)","v":0.5},{"$f":"VLOOKUP(Table6[[#This Row],[WELL v2 Feature]],Table5[],10,FALSE)","v":1},{"$f":"VLOOKUP(Table6[[#This Row],[WELL v2 Feature]],Table5[],8,FALSE)","v":"Limit"},null,null,null,"V03",1,{"$f":"CONCATENATE(Table9[[#This Row],[Feature]],\".\",Table9[[#This Row],[Part]])","v":"V03.1"},{"$f":"VLOOKUP(Table9[[#This Row],[Feature]],Table5[],5,FALSE)","v":"Optimization"},{"$f":"NOT(ISNA(_xlfn.IFNA(VLOOKUP(Table9[[#This Row],[Feature.Part]],Table6[v2 Feature.Part],1,FALSE),VLOOKUP(CONCATENATE(Table9[[#This Row],[Feature]],\".\",\"All\"),Table6[v2 Feature.Part],1,FALSE))))","v":true},{"$f":"IF(Table9[[#This Row],[Part Covered in Skybridge?]],  IF(COUNTIFS(Table6[v2 Part attainment through these features?],TRUE,Table6[v2 Feature.Part],Table9[[#This Row],[Feature.Part]])>0,TRUE,FALSE),FALSE)","v":true},{"$f":"IF(Table9[[#This Row],[Part attained in v2?]],\nIF(Table9[[#This Row],[Feature]]=\"I01\",COUNTIFS(Table6[WELL v2 Feature],\"I01\",Table6[v1 feature 1 attainment],\"Y\"),\nVLOOKUP(Table9[[#This Row],[Feature.Part]],Table6[[v2 Feature.Part]:[Part points]],7,FALSE)),0)","v":1},{"$f":"IF(Table9[[#This Row],[Part attained in v2?]],IF(Table9[[#This Row],[Type]]=\"Precondition\",\"Y\",Table9[[#This Row],[v2 points]]),0)","v":1},{"$f":"VLOOKUP(Table9[[#This Row],[Feature]],Table5[],12,FALSE)","v":"Movement"}]
["V09",1,{"$f":"CONCATENATE(Table6[[#This Row],[WELL v2 Feature]],\".\",Table6[[#This Row],[v2 Part]])","v":"V09.1"},65,null,null,null,0.5,{"$f":"IF('v1 Project Information'!$C$4=\"Core and Shell\",IF(Table6[[#This Row],[v2 Core Points (if less than max)]]>0,Table6[[#This Row],[v2 Core Points (if less than max)]],VLOOKUP(Table6[[#This Row],[v2 Feature.Part]],Table5[[Feature.Part]:[Points]],4,FALSE)),IF(Table6[[#This Row],[v2 WBS Points (if less than max)]]>0,Table6[[#This Row],[v2 WBS Points (if less than max)]],VLOOKUP(Table6[[#This Row],[v2 Feature.Part]],Table5[[Feature.Part]:[Points]],4,FALSE)))","v":1},{"$f":"VLOOKUP(Table6[[#This Row],[WELL v1 Feature 1]],Table4[],4,FALSE)","v":"Y"},{"$f":"_xlfn.IFNA(VLOOKUP(Table6[[#This Row],[WELL v1 Feature 2]],Table4[],4,FALSE),\"Y\")","v":"Y"},{"$f":"_xlfn.IFNA(VLOOKUP(Table6[[#This Row],[WELL v1 Feature 3]],Table4[],4,FALSE),\"Y\")","v":"Y"},{"$f":"IF(COUNTIF(Table6[[#This Row],[v1 feature 1 attainment]:[v1 feature 3 attainment]],\"Y\")=3,TRUE,FALSE)","v":true},{"$f":"VLOOKUP(Table6[[#This Row],[WELL v2 Feature]],Table5[],7,FALSE)","v":5},{"$f":"VLOOKUP(Table6[[#This Row],[WELL v2 Feature]],Table5[],9,FALSE)","v":0.5},{"$f":"VLOOKUP(Table6[[#This Row],[WELL v2 Feature]],Table5[],10,FALSE)","v":0},{"$f":"VLOOKUP(Table6[[#This Row],[WELL v2 Feature]],Table5[],8,FALSE)","v":"Limit"},null,null,null,"V03",2,{"$f":"CONCATENATE(Table9[[#This Row],[Feature]],\".\",Table9[[#This Row],[Part]])","v":"V03.2"},{"$f":"VLOOKUP(Table9[[#This Row],[Feature]],Table5[],5,FALSE)","v":"Optimization"},{"$f":"NOT(ISNA(_xlfn.IFNA(VLOOKUP(Table9[[#This Row],[Feature.Part]],Table6[v2 Feature.Part],1,FALSE),VLOOKUP(CONCATENATE(Table9[[#This Row],[Feature]],\".\",\"All\"),Table6[v2 Feature.Part],1,FALSE))))","v":true},{"$f":"IF(Table9[[#This Row],[Part Covered in Skybridge?]],  IF(COUNTIFS(Table6[v2 Part attainment through these features?],TRUE,Table6[v2 Feature.Part],Table9[[#This Row],[Feature.Part]])>0,TRUE,FALSE),FALSE)","v":true},{"$f":"IF(Table9[[#This Row],[Part attained in v2?]],\nIF(Table9[[#This Row],[Feature]]=\"I01\",COUNTIFS(Table6[WELL v2 Feature],\"I01\",Table6[v1 feature 1 attainment],\"Y\"),\nVLOOKUP(Table9[[#This Row],[Feature.Part]],Table6[[v2 Feature.Part]:[Part points]],7,FALSE)),0)","v":1},{"$f":"IF(Table9[[#This Row],[Part attained in v2?]],IF(Table9[[#This Row],[Type]]=\"Precondition\",\"Y\",Table9[[#This Row],[v2 points]]),0)","v":1},{"$f":"VLOOKUP(Table9[[#This Row],[Feature]],Table5[],12,FALSE)","v":"Movement"}]
["V10",1,{"$f":"CONCATENATE(Table6[[#This Row],[WELL v2 Feature]],\".\",Table6[[#This Row],[v2 Part]])","v":"V10.1"},94,null,null,null,0.5,{"$f":"IF('v1 Project Information'!$C$4=\"Core and Shell\",IF(Table6[[#This Row],[v2 Core Points (if less than max)]]>0,Table6[[#This Row],[v2 Core Points (if less than max)]],VLOOKUP(Table6[[#This Row],[v2 Feature.Part]],Table5[[Feature.Part]:[Points]],4,FALSE)),IF(Table6[[#This Row],[v2 WBS Points (if less than max)]]>0,Table6[[#This Row],[v2 WBS Points (if less than max)]],VLOOKUP(Table6[[#This Row],[v2 Feature.Part]],Table5[[Feature.Part]:[Points]],4,FALSE)))","v":1},{"$f":"VLOOKUP(Table6[[#This Row],[WELL v1 Feature 1]],Table4[],4,FALSE)","v":"N"},{"$f":"_xlfn.IFNA(VLOOKUP(Table6[[#This Row],[WELL v1 Feature 2]],Table4[],4,FALSE),\"Y\")","v":"Y"},{"$f":"_xlfn.IFNA(VLOOKUP(Table6[[#This Row],[WELL v1 Feature 3]],Table4[],4,FALSE),\"Y\")","v":"Y"},{"$f":"IF(COUNTIF(Table6[[#This Row],[v1 feature 1 attainment]:[v1 feature 3 attainment]],\"Y\")=3,TRUE,FALSE)","v":false},{"$f":"VLOOKUP(Table6[[#This Row],[WELL v2 Feature]],Table5[],7,FALSE)","v":5},{"$f":"VLOOKUP(Table6[[#This Row],[WELL v2 Feature]],Table5[],9,FALSE)","v":0.5},{"$f":"VLOOKUP(Table6[[#This Row],[WELL v2 Feature]],Table5[],10,FALSE)","v":1},{"$f":"VLOOKUP(Table6[[#This Row],[WELL v2 Feature]],Table5[],8,FALSE)","v":"Limit"},null,null,null,"V03",3,{"$f":"CONCATENATE(Table9[[#This Row],[Feature]],\".\",Table9[[#This Row],[Part]])","v":"V03.3"},{"$f":"VLOOKUP(Table9[[#This Row],[Feature]],Table5[],5,FALSE)","v":"Optimization"},{"$f":"NOT(ISNA(_xlfn.IFNA(VLOOKUP(Table9[[#This Row],[Feature.Part]],Table6[v2 Feature.Part],1,FALSE),VLOOKUP(CONCATENATE(Table9[[#This Row],[Feature]],\".\",\"All\"),Table6[v2 Feature.Part],1,FALSE))))","v":true},{"$f":"IF(Table9[[#This Row],[Part Covered in Skybridge?]],  IF(COUNTIFS(Table6[v2 Part attainment through these features?],TRUE,Table6[v2 Feature.Part],Table9[[#This Row],[Feature.Part]])>0,TRUE,FALSE),FALSE)","v":true},{"$f":"IF(Table9[[#This Row],[Part attained in v2?]],\nIF(Table9[[#This Row],[Feature]]=\"I01\",COUNTIFS(Table6[WELL v2 Feature],\"I01\",Table6[v1 feature 1 attainment],\"Y\"),\nVLOOKUP(Table9[[#This Row],[Feature.Part]],Table6[[v2 Feature.Part]:[Part points]],7,FALSE)),0)","v":1},{"$f":"IF(Table9[[#This Row],[Part attained in v2?]],IF(Table9[[#This Row],[Type]]=\"Precondition\",\"Y\",Table9[[#This Row],[v2 points]]),0)","v":1},{"$f":"VLOOKUP(Table9[[#This Row],[Feature]],Table5[],12,FALSE)","v":"Movement"}]
["T01",1,{"$f":"CONCATENATE(Table6[[#This Row],[WELL v2 Feature]],\".\",Table6[[#This Row],[v2 Part]])","v":"T01.1"},76,null,null,null,null,{"$f":"IF('v1 Project Information'!$C$4=\"Core and Shell\",IF(Table6[[#This Row],[v2 Core Points (if less than max)]]>0,Table6[[#This Row],[v2 Core Points (if less than max)]],VLOOKUP(Table6[[#This Row],[v2 Feature.Part]],Table5[[Feature.Part]:[Points]],4,FALSE)),IF(Table6[[#This Row],[v2 WBS Points (if less than max)]]>0,Table6[[#This Row],[v2 WBS Points (if less than max)]],VLOOKUP(Table6[[#This Row],[v2 Feature.Part]],Table5[[Feature.Part]:[Points]],4,FALSE)))","v":"P"},{"$f":"VLOOKUP(Table6[[#This Row],[WELL v1 Feature 1]],Table4[],4,FALSE)","v":"Y"},{"$f":"_xlfn.IFNA(VLOOKUP(Table6[[#This Row],[WELL v1 Feature 2]],Table4[],4,FALSE),\"Y\")","v":"Y"},{"$f":"_xlfn.IFNA(VLOOKUP(Table6[[#This Row],[WELL v1 Feature 3]],Table4[],4,FALSE),\"Y\")","v":"Y"},{"$f":"IF(COUNTIF(Table6[[#This Row],[v1 feature 1 attainment]:[v1 feature 3 attainment]],\"Y\")=3,TRUE,FALSE)","v":true},{"$f":"VLOOKUP(Table6[[#This Row],[WELL v2 Feature]],Table5[],7,FALSE)","v":6},{"$f":"VLOOKUP(Table6[[#This Row],[WELL v2 Feature]],Table5[],9,FALSE)","v":"P"},{"$f":"VLOOKUP(Table6[[#This Row],[WELL v2 Feature]],Table5[],10,FALSE)","v":0},{"$f":"VLOOKUP(Table6[[#This Row],[WELL v2 Feature]],Table5[],8,FALSE)","v":0},null,null,null,"V04",1,{"$f":"CONCATENATE(Table9[[#This Row],[Feature]],\".\",Table9[[#This Row],[Part]])","v":"V04.1"},{"$f":"VLOOKUP(Table9[[#This Row],[Feature]],Table5[],5,FALSE)","v":"Optimization"},{"$f":"NOT(ISNA(_xlfn.IFNA(VLOOKUP(Table9[[#This Row],[Feature.Part]],Table6[v2 Feature.Part],1,FALSE),VLOOKUP(CONCATENATE(Table9[[#This Row],[Feature]],\".\",\"All\"),Table6[v2 Feature.Part],1,FALSE))))","v":true},{"$f":"IF(Table9[[#This Row],[Part Covered in Skybridge?]],  IF(COUNTIFS(Table6[v2 Part attainment through these features?],TRUE,Table6[v2 Feature.Part],Table9[[#This Row],[Feature.Part]])>0,TRUE,FALSE),FALSE)","v":false},{"$f":"IF(Table9[[#This Row],[Part attained in v2?]],\nIF(Table9[[#This Row],[Feature]]=\"I01\",COUNTIFS(Table6[WELL v2 Feature],\"I01\",Table6[v1 feature 1 attainment],\"Y\"),\nVLOOKUP(Table9[[#This Row],[Feature.Part]],Table6[[v2 Feature.Part]:[Part points]],7,FALSE)),0)","v":0},{"$f":"IF(Table9[[#This Row],[Part attained in v2?]],IF(Table9[[#This Row],[Type]]=\"Precondition\",\"Y\",Table9[[#This Row],[v2 points]]),0)","v":0},{"$f":"VLOOKUP(Table9[[#This Row],[Feature]],Table5[],12,FALSE)","v":"Movement"}]
["T04",1,{"$f":"CONCATENATE(Table6[[#This Row],[WELL v2 Feature]],\".\",Table6[[#This Row],[v2 Part]])","v":"T04.1"},82,null,null,null,1.5,{"$f":"IF('v1 Project Information'!$C$4=\"Core and Shell\",IF(Table6[[#This Row],[v2 Core Points (if less than max)]]>0,Table6[[#This Row],[v2 Core Points (if less than max)]],VLOOKUP(Table6[[#This Row],[v2 Feature.Part]],Table5[[Feature.Part]:[Points]],4,FALSE)),IF(Table6[[#This Row],[v2 WBS Points (if less than max)]]>0,Table6[[#This Row],[v2 WBS Points (if less than max)]],VLOOKUP(Table6[[#This Row],[v2 Feature.Part]],Table5[[Feature.Part]:[Points]],4,FALSE)))","v":1},{"$f":"VLOOKUP(Table6[[#This Row],[WELL v1 Feature 1]],Table4[],4,FALSE)","v":"N"},{"$f":"_xlfn.IFNA(VLOOKUP(Table6[[#This Row],[WELL v1 Feature 2]],Table4[],4,FALSE),\"Y\")","v":"Y"},{"$f":"_xlfn.IFNA(VLOOKUP(Table6[[#This Row],[WELL v1 Feature 3]],Table4[],4,FALSE),\"Y\")","v":"Y"},{"$f":"IF(COUNTIF(Table6[[#This Row],[v1 feature 1 attainment]:[v1 feature 3 attainment]],\"Y\")=3,TRUE,FALSE)","v":false},{"$f":"VLOOKUP(Table6[[#This Row],[WELL v2 Feature]],Table5[],7,FALSE)","v":6},{"$f":"VLOOKUP(Table6[[#This Row],[WELL v2 Feature]],Table5[],9,FALSE)","v":0.5},{"$f":"VLOOKUP(Table6[[#This Row],[WELL v2 Feature]],Table5[],10,FALSE)","v":1},{"$f":"VLOOKUP(Table6[[#This Row],[WELL v2 Feature]],Table5[],8,FALSE)","v":"Limit"},null,null,null,"V04",2,{"$f":"CONCATENATE(Table9[[#This Row],[Feature]],\".\",Table9[[#This Row],[Part]])","v":"V04.2"},{"$f":"VLOOKUP(Table9[[#This Row],[Feature]],Table5[],5,FALSE)","v":"Optimization"},{"$f":"NOT(ISNA(_xlfn.IFNA(VLOOKUP(Table9[[#This Row],[Feature.Part]],Table6[v2 Feature.Part],1,FALSE),VLOOKUP(CONCATENATE(Table9[[#This Row],[Feature]],\".\",\"All\"),Table6[v2 Feature.Part],1,FALSE))))","v":true},{"$f":"IF(Table9[[#This Row],[Part Covered in Skybridge?]],  IF(COUNTIFS(Table6[v2 Part attainment through these features?],TRUE,Table6[v2 Feature.Part],Table9[[#This Row],[Feature.Part]])>0,TRUE,FALSE),FALSE)","v":false},{"$f":"IF(Table9[[#This Row],[Part attained in v2?]],\nIF(Table9[[#This Row],[Feature]]=\"I01\",COUNTIFS(Table6[WELL v2 Feature],\"I01\",Table6[v1 feature 1 attainment],\"Y\"),\nVLOOKUP(Table9[[#This Row],[Feature.Part]],Table6[[v2 Feature.Part]:[Part points]],7,FALSE)),0)","v":0},{"$f":"IF(Table9[[#This Row],[Part attained in v2?]],IF(Table9[[#This Row],[Type]]=\"Precondition\",\"Y\",Table9[[#This Row],[v2 points]]),0)","v":0},{"$f":"VLOOKUP(Table9[[#This Row],[Feature]],Table5[],12,FALSE)","v":"Movement"}]
["T05",1,{"$f":"CONCATENATE(Table6[[#This Row],[WELL v2 Feature]],\".\",Table6[[#This Row],[v2 Part]])","v":"T05.1"},83,null,null,null,2,{"$f":"IF('v1 Project Information'!$C$4=\"Core and Shell\",IF(Table6[[#This Row],[v2 Core Points (if less than max)]]>0,Table6[[#This Row],[v2 Core Points (if less than max)]],VLOOKUP(Table6[[#This Row],[v2 Feature.Part]],Table5[[Feature.Part]:[Points]],4,FALSE)),IF(Table6[[#This Row],[v2 WBS Points (if less than max)]]>0,Table6[[#This Row],[v2 WBS Points (if less than max)]],VLOOKUP(Table6[[#This Row],[v2 Feature.Part]],Table5[[Feature.Part]:[Points]],4,FALSE)))","v":1},{"$f":"VLOOKUP(Table6[[#This Row],[WELL v1 Feature 1]],Table4[],4,FALSE)","v":"N"},{"$f":"_xlfn.IFNA(VLOOKUP(Table6[[#This Row],[WELL v1 Feature 2]],Table4[],4,FALSE),\"Y\")","v":"Y"},{"$f":"_xlfn.IFNA(VLOOKUP(Table6[[#This Row],[WELL v1 Feature 3]],Table4[],4,FALSE),\"Y\")","v":"Y"},{"$f":"IF(COUNTIF(Table6[[#This Row],[v1 feature 1 attainment]:[v1 feature 3 attainment]],\"Y\")=3,TRUE,FALSE)","v":false},{"$f":"VLOOKUP(Table6[[#This Row],[WELL v2 Feature]],Table5[],7,FALSE)","v":6},{"$f":"VLOOKUP(Table6[[#This Row],[WELL v2 Feature]],Table5[],9,FALSE)","v":2},{"$f":"VLOOKUP(Table6[[#This Row],[WELL v2 Feature]],Table5[],10,FALSE)","v":0},{"$f":"VLOOKUP(Table6[[#This Row],[WELL v2 Feature]],Table5[],8,FALSE)","v":"Bonus"},null,null,null,"V05",1,{"$f":"CONCATENATE(Table9[[#This Row],[Feature]],\".\",Table9[[#This Row],[Part]])","v":"V05.1"},{"$f":"VLOOKUP(Table9[[#This Row],[Feature]],Table5[],5,FALSE)","v":"Optimization"},{"$f":"NOT(ISNA(_xlfn.IFNA(VLOOKUP(Table9[[#This Row],[Feature.Part]],Table6[v2 Feature.Part],1,FALSE),VLOOKUP(CONCATENATE(Table9[[#This Row],[Feature]],\".\",\"All\"),Table6[v2 Feature.Part],1,FALSE))))","v":true},{"$f":"IF(Table9[[#This Row],[Part Covered in Skybridge?]],  IF(COUNTIFS(Table6[v2 Part attainment through these features?],TRUE,Table6[v2 Feature.Part],Table9[[#This Row],[Feature.Part]])>0,TRUE,FALSE),FALSE)","v":false},{"$f":"IF(Table9[[#This Row],[Part attained in v2?]],\nIF(Table9[[#This Row],[Feature]]=\"I01\",COUNTIFS(Table6[WELL v2 Feature],\"I01\",Table6[v1 feature 1 attainment],\"Y\"),\nVLOOKUP(Table9[[#This Row],[Feature.Part]],Table6[[v2 Feature.Part]:[Part points]],7,FALSE)),0)","v":0},{"$f":"IF(Table9[[#This Row],[Part attained in v2?]],IF(Table9[[#This Row],[Type]]=\"Precondition\",\"Y\",Table9[[#This Row],[v2 points]]),0)","v":0},{"$f":"VLOOKUP(Table9[[#This Row],[Feature]],Table5[],12,FALSE)","v":"Movement"}]
["T07",1,{"$f":"CONCATENATE(Table6[[#This Row],[WELL v2 Feature]],\".\",Table6[[#This Row],[v2 Part]])","v":"T07.1"},16,null,null,null,2,{"$f":"IF('v1 Project Information'!$C$4=\"Core and Shell\",IF(Table6[[#This Row],[v2 Core Points (if less than max)]]>0,Table6[[#This Row],[v2 Core Points (if less than max)]],VLOOKUP(Table6[[#This Row],[v2 Feature.Part]],Table5[[Feature.Part]:[Points]],4,FALSE)),IF(Table6[[#This Row],[v2 WBS Points (if less than max)]]>0,Table6[[#This Row],[v2 WBS Points (if less than max)]],VLOOKUP(Table6[[#This Row],[v2 Feature.Part]],Table5[[Feature.Part]:[Points]],4,FALSE)))","v":1},{"$f":"VLOOKUP(Table6[[#This Row],[WELL v1 Feature 1]],Table4[],4,FALSE)","v":"N"},{"$f":"_xlfn.IFNA(VLOOKUP(Table6[[#This Row],[WELL v1 Feature 2]],Table4[],4,FALSE),\"Y\")","v":"Y"},{"$f":"_xlfn.IFNA(VLOOKUP(Table6[[#This Row],[WELL v1 Feature 3]],Table4[],4,FALSE),\"Y\")","v":"Y"},{"$f":"IF(COUNTIF(Table6[[#This Row],[v1 feature 1 attainment]:[v1 feature 3 attainment]],\"Y\")=3,TRUE,FALSE)","v":false},{"$f":"VLOOKUP(Table6[[#This Row],[WELL v2 Feature]],Table5[],7,FALSE)","v":6},{"$f":"VLOOKUP(Table6[[#This Row],[WELL v2 Feature]],Table5[],9,FALSE)","v":2},{"$f":"VLOOKUP(Table6[[#This Row],[WELL v2 Feature]],Table5[],10,FALSE)","v":0},{"$f":"VLOOKUP(Table6[[#This Row],[WELL v2 Feature]],Table5[],8,FALSE)","v":"Bonus"},null,null,null,"V05",2,{"$f":"CONCATENATE(Table9[[#This Row],[Feature]],\".\",Table9[[#This Row],[Part]])","v":"V05.2"},{"$f":"VLOOKUP(Table9[[#This Row],[Feature]],Table5[],5,FALSE)","v":"Optimization"},{"$f":"NOT(ISNA(_xlfn.IFNA(VLOOKUP(Table9[[#This Row],[Feature.Part]],Table6[v2 Feature.Part],1,FALSE),VLOOKUP(CONCATENATE(Table9[[#This Row],[Feature]],\".\",\"All\"),Table6[v2 Feature.Part],1,FALSE))))","v":false},{"$f":"IF(Table9[[#This Row],[Part Covered in Skybridge?]],  IF(COUNTIFS(Table6[v2 Part attainment through these features?],TRUE,Table6[v2 Feature.Part],Table9[[#This Row],[Feature.Part]])>0,TRUE,FALSE),FALSE)","v":false},{"$f":"IF(Table9[[#This Row],[Part attained in v2?]],\nIF(Table9[[#This Row],[Feature]]=\"I01\",COUNTIFS(Table6[WELL v2 Feature],\"I01\",Table6[v1 feature 1 attainment],\"Y\"),\nVLOOKUP(Table9[[#This Row],[Feature.Part]],Table6[[v2 Feature.Part]:[Part points]],7,FALSE)),0)","v":0},{"$f":"IF(Table9[[#This Row],[Part attained in v2?]],IF(Table9[[#This Row],[Type]]=\"Precondition\",\"Y\",Table9[[#This Row],[v2 points]]),0)","v":0},{"$f":"VLOOKUP(Table9[[#This Row],[Feature]],Table5[],12,FALSE)","v":"Movement"}]
["S01",1,{"$f":"CONCATENATE(Table6[[#This Row],[WELL v2 Feature]],\".\",Table6[[#This Row],[v2 Part]])","v":"S01.1"},75,null,null,null,null,{"$f":"IF('v1 Project Information'!$C$4=\"Core and Shell\",IF(Table6[[#This Row],[v2 Core Points (if less than max)]]>0,Table6[[#This Row],[v2 Core Points (if less than max)]],VLOOKUP(Table6[[#This Row],[v2 Feature.Part]],Table5[[Feature.Part]:[Points]],4,FALSE)),IF(Table6[[#This Row],[v2 WBS Points (if less than max)]]>0,Table6[[#This Row],[v2 WBS Points (if less than max)]],VLOOKUP(Table6[[#This Row],[v2 Feature.Part]],Table5[[Feature.Part]:[Points]],4,FALSE)))","v":"P"},{"$f":"VLOOKUP(Table6[[#This Row],[WELL v1 Feature 1]],Table4[],4,FALSE)","v":"Y"},{"$f":"_xlfn.IFNA(VLOOKUP(Table6[[#This Row],[WELL v1 Feature 2]],Table4[],4,FALSE),\"Y\")","v":"Y"},{"$f":"_xlfn.IFNA(VLOOKUP(Table6[[#This Row],[WELL v1 Feature 3]],Table4[],4,FALSE),\"Y\")","v":"Y"},{"$f":"IF(COUNTIF(Table6[[#This Row],[v1 feature 1 attainment]:[v1 feature 3 attainment]],\"Y\")=3,TRUE,FALSE)","v":true},{"$f":"VLOOKUP(Table6[[#This Row],[WELL v2 Feature]],Table5[],7,FALSE)","v":7},{"$f":"VLOOKUP(Table6[[#This Row],[WELL v2 Feature]],Table5[],9,FALSE)","v":"P"},{"$f":"VLOOKUP(Table6[[#This Row],[WELL v2 Feature]],Table5[],10,FALSE)","v":0},{"$f":"VLOOKUP(Table6[[#This Row],[WELL v2 Feature]],Table5[],8,FALSE)","v":0},null,null,null,"V06",1,{"$f":"CONCATENATE(Table9[[#This Row],[Feature]],\".\",Table9[[#This Row],[Part]])","v":"V06.1"},{"$f":"VLOOKUP(Table9[[#This Row],[Feature]],Table5[],5,FALSE)","v":"Optimization"},{"$f":"NOT(ISNA(_xlfn.IFNA(VLOOKUP(Table9[[#This Row],[Feature.Part]],Table6[v2 Feature.Part],1,FALSE),VLOOKUP(CONCATENATE(Table9[[#This Row],[Feature]],\".\",\"All\"),Table6[v2 Feature.Part],1,FALSE))))","v":true},{"$f":"IF(Table9[[#This Row],[Part Covered in Skybridge?]],  IF(COUNTIFS(Table6[v2 Part attainment through these features?],TRUE,Table6[v2 Feature.Part],Table9[[#This Row],[Feature.Part]])>0,TRUE,FALSE),FALSE)","v":false},{"$f":"IF(Table9[[#This Row],[Part attained in v2?]],\nIF(Table9[[#This Row],[Feature]]=\"I01\",COUNTIFS(Table6[WELL v2 Feature],\"I01\",Table6[v1 feature 1 attainment],\"Y\"),\nVLOOKUP(Table9[[#This Row],[Feature.Part]],Table6[[v2 Feature.Part]:[Part points]],7,FALSE)),0)","v":0},{"$f":"IF(Table9[[#This Row],[Part attained in v2?]],IF(Table9[[#This Row],[Type]]=\"Precondition\",\"Y\",Table9[[#This Row],[v2 points]]),0)","v":0},{"$f":"VLOOKUP(Table9[[#This Row],[Feature]],Table5[],12,FALSE)","v":"Movement"}]
["S01",2,{"$f":"CONCATENATE(Table6[[#This Row],[WELL v2 Feature]],\".\",Table6[[#This Row],[v2 Part]])","v":"S01.2"},75,null,null,null,null,{"$f":"IF('v1 Project Information'!$C$4=\"Core and Shell\",IF(Table6[[#This Row],[v2 Core Points (if less than max)]]>0,Table6[[#This Row],[v2 Core Points (if less than max)]],VLOOKUP(Table6[[#This Row],[v2 Feature.Part]],Table5[[Feature.Part]:[Points]],4,FALSE)),IF(Table6[[#This Row],[v2 WBS Points (if less than max)]]>0,Table6[[#This Row],[v2 WBS Points (if less than max)]],VLOOKUP(Table6[[#This Row],[v2 Feature.Part]],Table5[[Feature.Part]:[Points]],4,FALSE)))","v":"P"},{"$f":"VLOOKUP(Table6[[#This Row],[WELL v1 Feature 1]],Table4[],4,FALSE)","v":"Y"},{"$f":"_xlfn.IFNA(VLOOKUP(Table6[[#This Row],[WELL v1 Feature 2]],Table4[],4,FALSE),\"Y\")","v":"Y"},{"$f":"_xlfn.IFNA(VLOOKUP(Table6[[#This Row],[WELL v1 Feature 3]],Table4[],4,FALSE),\"Y\")","v":"Y"},{"$f":"IF(COUNTIF(Table6[[#This Row],[v1 feature 1 attainment]:[v1 feature 3 attainment]],\"Y\")=3,TRUE,FALSE)","v":true},{"$f":"VLOOKUP(Table6[[#This Row],[WELL v2 Feature]],Table5[],7,FALSE)","v":7},{"$f":"VLOOKUP(Table6[[#This Row],[WELL v2 Feature]],Table5[],9,FALSE)","v":"P"},{"$f":"VLOOKUP(Table6[[#This Row],[WELL v2 Feature]],Table5[],10,FALSE)","v":0},{"$f":"VLOOKUP(Table6[[#This Row],[WELL v2 Feature]],Table5[],8,FALSE)","v":0},null,null,null,"V07",1,{"$f":"CONCATENATE(Table9[[#This Row],[Feature]],\".\",Table9[[#This Row],[Part]])","v":"V07.1"},{"$f":"VLOOKUP(Table9[[#This Row],[Feature]],Table5[],5,FALSE)","v":"Optimization"},{"$f":"NOT(ISNA(_xlfn.IFNA(VLOOKUP(Table9[[#This Row],[Feature.Part]],Table6[v2 Feature.Part],1,FALSE),VLOOKUP(CONCATENATE(Table9[[#This Row],[Feature]],\".\",\"All\"),Table6[v2 Feature.Part],1,FALSE))))","v":true},{"$f":"IF(Table9[[#This Row],[Part Covered in Skybridge?]],  IF(COUNTIFS(Table6[v2 Part attainment through these features?],TRUE,Table6[v2 Feature.Part],Table9[[#This Row],[Feature.Part]])>0,TRUE,FALSE),FALSE)","v":false},{"$f":"IF(Table9[[#This Row],[Part attained in v2?]],\nIF(Table9[[#This Row],[Feature]]=\"I01\",COUNTIFS(Table6[WELL v2 Feature],\"I01\",Table6[v1 feature 1 attainment],\"Y\"),\nVLOOKUP(Table9[[#This Row],[Feature.Part]],Table6[[v2 Feature.Part]:[Part points]],7,FALSE)),0)","v":0},{"$f":"IF(Table9[[#This Row],[Part attained in v2?]],IF(Table9[[#This Row],[Type]]=\"Precondition\",\"Y\",Table9[[#This Row],[v2 points]]),0)","v":0},{"$f":"VLOOKUP(Table9[[#This Row],[Feature]],Table5[],12,FALSE)","v":"Movement"}]
["S02",1,{"$f":"CONCATENATE(Table6[[#This Row],[WELL v2 Feature]],\".\",Table6[[#This Row],[v2 Part]])","v":"S02.1"},74,75,null,null,1.5,{"$f":"IF('v1 Project Information'!$C$4=\"Core and Shell\",IF(Table6[[#This Row],[v2 Core Points (if less than max)]]>0,Table6[[#This Row],[v2 Core Points (if less than max)]],VLOOKUP(Table6[[#This Row],[v2 Feature.Part]],Table5[[Feature.Part]:[Points]],4,FALSE)),IF(Table6[[#This Row],[v2 WBS Points (if less than max)]]>0,Table6[[#This Row],[v2 WBS Points (if less than max)]],VLOOKUP(Table6[[#This Row],[v2 Feature.Part]],Table5[[Feature.Part]:[Points]],4,FALSE)))","v":3},{"$f":"VLOOKUP(Table6[[#This Row],[WELL v1 Feature 1]],Table4[],4,FALSE)","v":"Y"},{"$f":"_xlfn.IFNA(VLOOKUP(Table6[[#This Row],[WELL v1 Feature 2]],Table4[],4,FALSE),\"Y\")","v":"Y"},{"$f":"_xlfn.IFNA(VLOOKUP(Table6[[#This Row],[WELL v1 Feature 3]],Table4[],4,FALSE),\"Y\")","v":"Y"},{"$f":"IF(COUNTIF(Table6[[#This Row],[v1 feature 1 attainment]:[v1 feature 3 attainment]],\"Y\")=3,TRUE,FALSE)","v":true},{"$f":"VLOOKUP(Table6[[#This Row],[WELL v2 Feature]],Table5[],7,FALSE)","v":7},{"$f":"VLOOKUP(Table6[[#This Row],[WELL v2 Feature]],Table5[],9,FALSE)","v":1.5},{"$f":"VLOOKUP(Table6[[#This Row],[WELL v2 Feature]],Table5[],10,FALSE)","v":1},{"$f":"VLOOKUP(Table6[[#This Row],[WELL v2 Feature]],Table5[],8,FALSE)","v":"Limit"},null,null,null,"V08",1,{"$f":"CONCATENATE(Table9[[#This Row],[Feature]],\".\",Table9[[#This Row],[Part]])","v":"V08.1"},{"$f":"VLOOKUP(Table9[[#This Row],[Feature]],Table5[],5,FALSE)","v":"Optimization"},{"$f":"NOT(ISNA(_xlfn.IFNA(VLOOKUP(Table9[[#This Row],[Feature.Part]],Table6[v2 Feature.Part],1,FALSE),VLOOKUP(CONCATENATE(Table9[[#This Row],[Feature]],\".\",\"All\"),Table6[v2 Feature.Part],1,FALSE))))","v":true},{"$f":"IF(Table9[[#This Row],[Part Covered in Skybridge?]],  IF(COUNTIFS(Table6[v2 Part attainment through these features?],TRUE,Table6[v2 Feature.Part],Table9[[#This Row],[Feature.Part]])>0,TRUE,FALSE),FALSE)","v":false},{"$f":"IF(Table9[[#This Row],[Part attained in v2?]],\nIF(Table9[[#This Row],[Feature]]=\"I01\",COUNTIFS(Table6[WELL v2 Feature],\"I01\",Table6[v1 feature 1 attainment],\"Y\"),\nVLOOKUP(Table9[[#This Row],[Feature.Part]],Table6[[v2 Feature.Part]:[Part points]],7,FALSE)),0)","v":0},{"$f":"IF(Table9[[#This Row],[Part attained in v2?]],IF(Table9[[#This Row],[Type]]=\"Precondition\",\"Y\",Table9[[#This Row],[v2 points]]),0)","v":0},{"$f":"VLOOKUP(Table9[[#This Row],[Feature]],Table5[],12,FALSE)","v":"Movement"}]
["S03",1,{"$f":"CONCATENATE(Table6[[#This Row],[WELL v2 Feature]],\".\",Table6[[#This Row],[v2 Part]])","v":"S03.1"},81,null,null,null,1,{"$f":"IF('v1 Project Information'!$C$4=\"Core and Shell\",IF(Table6[[#This Row],[v2 Core Points (if less than max)]]>0,Table6[[#This Row],[v2 Core Points (if less than max)]],VLOOKUP(Table6[[#This Row],[v2 Feature.Part]],Table5[[Feature.Part]:[Points]],4,FALSE)),IF(Table6[[#This Row],[v2 WBS Points (if less than max)]]>0,Table6[[#This Row],[v2 WBS Points (if less than max)]],VLOOKUP(Table6[[#This Row],[v2 Feature.Part]],Table5[[Feature.Part]:[Points]],4,FALSE)))","v":1},{"$f":"VLOOKUP(Table6[[#This Row],[WELL v1 Feature 1]],Table4[],4,FALSE)","v":"N"},{"$f":"_xlfn.IFNA(VLOOKUP(Table6[[#This Row],[WELL v1 Feature 2]],Table4[],4,FALSE),\"Y\")","v":"Y"},{"$f":"_xlfn.IFNA(VLOOKUP(Table6[[#This Row],[WELL v1 Feature 3]],Table4[],4,FALSE),\"Y\")","v":"Y"},{"$f":"IF(COUNTIF(Table6[[#This Row],[v1 feature 1 attainment]:[v1 feature 3 attainment]],\"Y\")=3,TRUE,FALSE)","v":false},{"$f":"VLOOKUP(Table6[[#This Row],[WELL v2 Feature]],Table5[],7,FALSE)","v":7},{"$f":"VLOOKUP(Table6[[#This Row],[WELL v2 Feature]],Table5[],9,FALSE)","v":1},{"$f":"VLOOKUP(Table6[[#This Row],[WELL v2 Feature]],Table5[],10,FALSE)","v":0},{"$f":"VLOOKUP(Table6[[#This Row],[WELL v2 Feature]],Table5[],8,FALSE)","v":"None"},null,null,null,"V08",2,{"$f":"CONCATENATE(Table9[[#This Row],[Feature]],\".\",Table9[[#This Row],[Part]])","v":"V08.2"},{"$f":"VLOOKUP(Table9[[#This Row],[Feature]],Table5[],5,FALSE)","v":"Optimization"},{"$f":"NOT(ISNA(_xlfn.IFNA(VLOOKUP(Table9[[#This Row],[Feature.Part]],Table6[v2 Feature.Part],1,FALSE),VLOOKUP(CONCATENATE(Table9[[#This Row],[Feature]],\".\",\"All\"),Table6[v2 Feature.Part],1,FALSE))))","v":true},{"$f":"IF(Table9[[#This Row],[Part Covered in Skybridge?]],  IF(COUNTIFS(Table6[v2 Part attainment through these features?],TRUE,Table6[v2 Feature.Part],Table9[[#This Row],[Feature.Part]])>0,TRUE,FALSE),FALSE)","v":false},{"$f":"IF(Table9[[#This Row],[Part attained in v2?]],\nIF(Table9[[#This Row],[Feature]]=\"I01\",COUNTIFS(Table6[WELL v2 Feature],\"I01\",Table6[v1 feature 1 attainment],\"Y\"),\nVLOOKUP(Table9[[#This Row],[Feature.Part]],Table6[[v2 Feature.Part]:[Part points]],7,FALSE)),0)","v":0},{"$f":"IF(Table9[[#This Row],[Part attained in v2?]],IF(Table9[[#This Row],[Type]]=\"Precondition\",\"Y\",Table9[[#This Row],[v2 points]]),0)","v":0},{"$f":"VLOOKUP(Table9[[#This Row],[Feature]],Table5[],12,FALSE)","v":"Movement"}]
["S04",1,{"$f":"CONCATENATE(Table6[[#This Row],[WELL v2 Feature]],\".\",Table6[[#This Row],[v2 Part]])","v":"S04.1"},78,null,null,null,1.5,{"$f":"IF('v1 Project Information'!$C$4=\"Core and Shell\",IF(Table6[[#This Row],[v2 Core Points (if less than max)]]>0,Table6[[#This Row],[v2 Core Points (if less than max)]],VLOOKUP(Table6[[#This Row],[v2 Feature.Part]],Table5[[Feature.Part]:[Points]],4,FALSE)),IF(Table6[[#This Row],[v2 WBS Points (if less than max)]]>0,Table6[[#This Row],[v2 WBS Points (if less than max)]],VLOOKUP(Table6[[#This Row],[v2 Feature.Part]],Table5[[Feature.Part]:[Points]],4,FALSE)))","v":2},{"$f":"VLOOKUP(Table6[[#This Row],[WELL v1 Feature 1]],Table4[],4,FALSE)","v":"N"},{"$f":"_xlfn.IFNA(VLOOKUP(Table6[[#This Row],[WELL v1 Feature 2]],Table4[],4,FALSE),\"Y\")","v":"Y"},{"$f":"_xlfn.IFNA(VLOOKUP(Table6[[#This Row],[WELL v1 Feature 3]],Table4[],4,FALSE),\"Y\")","v":"Y"},{"$f":"IF(COUNTIF(Table6[[#This Row],[v1 feature 1 attainment]:[v1 feature 3 attainment]],\"Y\")=3,TRUE,FALSE)","v":false},{"$f":"VLOOKUP(Table6[[#This Row],[WELL v2 Feature]],Table5[],7,FALSE)","v":7},{"$f":"VLOOKUP(Table6[[#This Row],[WELL v2 Feature]],Table5[],9,FALSE)","v":1},{"$f":"VLOOKUP(Table6[[#This Row],[WELL v2 Feature]],Table5[],10,FALSE)","v":1},{"$f":"VLOOKUP(Table6[[#This Row],[WELL v2 Feature]],Table5[],8,FALSE)","v":"Limit"},null,null,null,"V09",1,{"$f":"CONCATENATE(Table9[[#This Row],[Feature]],\".\",Table9[[#This Row],[Part]])","v":"V09.1"},{"$f":"VLOOKUP(Table9[[#This Row],[Feature]],Table5[],5,FALSE)","v":"Optimization"},{"$f":"NOT(ISNA(_xlfn.IFNA(VLOOKUP(Table9[[#This Row],[Feature.Part]],Table6[v2 Feature.Part],1,FALSE),VLOOKUP(CONCATENATE(Table9[[#This Row],[Feature]],\".\",\"All\"),Table6[v2 Feature.Part],1,FALSE))))","v":true},{"$f":"IF(Table9[[#This Row],[Part Covered in Skybridge?]],  IF(COUNTIFS(Table6[v2 Part attainment through these features?],TRUE,Table6[v2 Feature.Part],Table9[[#This Row],[Feature.Part]])>0,TRUE,FALSE),FALSE)","v":true},{"$f":"IF(Table9[[#This Row],[Part attained in v2?]],\nIF(Table9[[#This Row],[Feature]]=\"I01\",COUNTIFS(Table6[WELL v2 Feature],\"I01\",Table6[v1 feature 1 attainment],\"Y\"),\nVLOOKUP(Table9[[#This Row],[Feature.Part]],Table6[[v2 Feature.Part]:[Part points]],7,FALSE)),0)","v":1},{"$f":"IF(Table9[[#This Row],[Part attained in v2?]],IF(Table9[[#This Row],[Type]]=\"Precondition\",\"Y\",Table9[[#This Row],[v2 points]]),0)","v":1},{"$f":"VLOOKUP(Table9[[#This Row],[Feature]],Table5[],12,FALSE)","v":"Movement"}]
["S05",1,{"$f":"CONCATENATE(Table6[[#This Row],[WELL v2 Feature]],\".\",Table6[[#This Row],[v2 Part]])","v":"S05.1"},80,null,null,null,1.5,{"$f":"IF('v1 Project Information'!$C$4=\"Core and Shell\",IF(Table6[[#This Row],[v2 Core Points (if less than max)]]>0,Table6[[#This Row],[v2 Core Points (if less than max)]],VLOOKUP(Table6[[#This Row],[v2 Feature.Part]],Table5[[Feature.Part]:[Points]],4,FALSE)),IF(Table6[[#This Row],[v2 WBS Points (if less than max)]]>0,Table6[[#This Row],[v2 WBS Points (if less than max)]],VLOOKUP(Table6[[#This Row],[v2 Feature.Part]],Table5[[Feature.Part]:[Points]],4,FALSE)))","v":2},{"$f":"VLOOKUP(Table6[[#This Row],[WELL v1 Feature 1]],Table4[],4,FALSE)","v":"N"},{"$f":"_xlfn.IFNA(VLOOKUP(Table6[[#This Row],[WELL v1 Feature 2]],Table4[],4,FALSE),\"Y\")","v":"Y"},{"$f":"_xlfn.IFNA(VLOOKUP(Table6[[#This Row],[WELL v1 Feature 3]],Table4[],4,FALSE),\"Y\")","v":"Y"},{"$f":"IF(COUNTIF(Table6[[#This Row],[v1 feature 1 attainment]:[v1 feature 3 attainment]],\"Y\")=3,TRUE,FALSE)","v":false},{"$f":"VLOOKUP(Table6[[#This Row],[WELL v2 Feature]],Table5[],7,FALSE)","v":7},{"$f":"VLOOKUP(Table6[[#This Row],[WELL v2 Feature]],Table5[],9,FALSE)","v":1},{"$f":"VLOOKUP(Table6[[#This Row],[WELL v2 Feature]],Table5[],10,FALSE)","v":1},{"$f":"VLOOKUP(Table6[[#This Row],[WELL v2 Feature]],Table5[],8,FALSE)","v":"Limit"},null,null,null,"V10",1,{"$f":"CONCATENATE(Table9[[#This Row],[Feature]],\".\",Table9[[#This Row],[Part]])","v":"V10.1"},{"$f":"VLOOKUP(Table9[[#This Row],[Feature]],Table5[],5,FALSE)","v":"Optimization"},{"$f":"NOT(ISNA(_xlfn.IFNA(VLOOKUP(Table9[[#This Row],[Feature.Part]],Table6[v2 Feature.Part],1,FALSE),VLOOKUP(CONCATENATE(Table9[[#This Row],[Feature]],\".\",\"All\"),Table6[v2 Feature.Part],1,FALSE))))","v":true},{"$f":"IF(Table9[[#This Row],[Part Covered in Skybridge?]],  IF(COUNTIFS(Table6[v2 Part attainment through these features?],TRUE,Table6[v2 Feature.Part],Table9[[#This Row],[Feature.Part]])>0,TRUE,FALSE),FALSE)","v":false},{"$f":"IF(Table9[[#This Row],[Part attained in v2?]],\nIF(Table9[[#This Row],[Feature]]=\"I01\",COUNTIFS(Table6[WELL v2 Feature],\"I01\",Table6[v1 feature 1 attainment],\"Y\"),\nVLOOKUP(Table9[[#This Row],[Feature.Part]],Table6[[v2 Feature.Part]:[Part points]],7,FALSE)),0)","v":0},{"$f":"IF(Table9[[#This Row],[Part attained in v2?]],IF(Table9[[#This Row],[Type]]=\"Precondition\",\"Y\",Table9[[#This Row],[v2 points]]),0)","v":0},{"$f":"VLOOKUP(Table9[[#This Row],[Feature]],Table5[],12,FALSE)","v":"Movement"}]
["S06",1,{"$f":"CONCATENATE(Table6[[#This Row],[WELL v2 Feature]],\".\",Table6[[#This Row],[v2 Part]])","v":"S06.1"},79,null,null,null,2,{"$f":"IF('v1 Project Information'!$C$4=\"Core and Shell\",IF(Table6[[#This Row],[v2 Core Points (if less than max)]]>0,Table6[[#This Row],[v2 Core Points (if less than max)]],VLOOKUP(Table6[[#This Row],[v2 Feature.Part]],Table5[[Feature.Part]:[Points]],4,FALSE)),IF(Table6[[#This Row],[v2 WBS Points (if less than max)]]>0,Table6[[#This Row],[v2 WBS Points (if less than max)]],VLOOKUP(Table6[[#This Row],[v2 Feature.Part]],Table5[[Feature.Part]:[Points]],4,FALSE)))","v":1},{"$f":"VLOOKUP(Table6[[#This Row],[WELL v1 Feature 1]],Table4[],4,FALSE)","v":"N"},{"$f":"_xlfn.IFNA(VLOOKUP(Table6[[#This Row],[WELL v1 Feature 2]],Table4[],4,FALSE),\"Y\")","v":"Y"},{"$f":"_xlfn.IFNA(VLOOKUP(Table6[[#This Row],[WELL v1 Feature 3]],Table4[],4,FALSE),\"Y\")","v":"Y"},{"$f":"IF(COUNTIF(Table6[[#This Row],[v1 feature 1 attainment]:[v1 feature 3 attainment]],\"Y\")=3,TRUE,FALSE)","v":false},{"$f":"VLOOKUP(Table6[[#This Row],[WELL v2 Feature]],Table5[],7,FALSE)","v":7},{"$f":"VLOOKUP(Table6[[#This Row],[WELL v2 Feature]],Table5[],9,FALSE)","v":2},{"$f":"VLOOKUP(Table6[[#This Row],[WELL v2 Feature]],Table5[],10,FALSE)","v":0},{"$f":"VLOOKUP(Table6[[#This Row],[WELL v2 Feature]],Table5[],8,FALSE)","v":"Bonus"},null,null,null,"V11",1,{"$f":"CONCATENATE(Table9[[#This Row],[Feature]],\".\",Table9[[#This Row],[Part]])","v":"V11.1"},{"$f":"VLOOKUP(Table9[[#This Row],[Feature]],Table5[],5,FALSE)","v":"Optimization"},{"$f":"NOT(ISNA(_xlfn.IFNA(VLOOKUP(Table9[[#This Row],[Feature.Part]],Table6[v2 Feature.Part],1,FALSE),VLOOKUP(CONCATENATE(Table9[[#This Row],[Feature]],\".\",\"All\"),Table6[v2 Feature.Part],1,FALSE))))","v":false},{"$f":"IF(Table9[[#This Row],[Part Covered in Skybridge?]],  IF(COUNTIFS(Table6[v2 Part attainment through these features?],TRUE,Table6[v2 Feature.Part],Table9[[#This Row],[Feature.Part]])>0,TRUE,FALSE),FALSE)","v":false},{"$f":"IF(Table9[[#This Row],[Part attained in v2?]],\nIF(Table9[[#This Row],[Feature]]=\"I01\",COUNTIFS(Table6[WELL v2 Feature],\"I01\",Table6[v1 feature 1 attainment],\"Y\"),\nVLOOKUP(Table9[[#This Row],[Feature.Part]],Table6[[v2 Feature.Part]:[Part points]],7,FALSE)),0)","v":0},{"$f":"IF(Table9[[#This Row],[Part attained in v2?]],IF(Table9[[#This Row],[Type]]=\"Precondition\",\"Y\",Table9[[#This Row],[v2 points]]),0)","v":0},{"$f":"VLOOKUP(Table9[[#This Row],[Feature]],Table5[],12,FALSE)","v":"Movement"}]
["S06",2,{"$f":"CONCATENATE(Table6[[#This Row],[WELL v2 Feature]],\".\",Table6[[#This Row],[v2 Part]])","v":"S06.2"},79,80,null,null,1,{"$f":"IF('v1 Project Information'!$C$4=\"Core and Shell\",IF(Table6[[#This Row],[v2 Core Points (if less than max)]]>0,Table6[[#This Row],[v2 Core Points (if less than max)]],VLOOKUP(Table6[[#This Row],[v2 Feature.Part]],Table5[[Feature.Part]:[Points]],4,FALSE)),IF(Table6[[#This Row],[v2 WBS Points (if less than max)]]>0,Table6[[#This Row],[v2 WBS Points (if less than max)]],VLOOKUP(Table6[[#This Row],[v2 Feature.Part]],Table5[[Feature.Part]:[Points]],4,FALSE)))","v":1},{"$f":"VLOOKUP(Table6[[#This Row],[WELL v1 Feature 1]],Table4[],4,FALSE)","v":"N"},{"$f":"_xlfn.IFNA(VLOOKUP(Table6[[#This Row],[WELL v1 Feature 2]],Table4[],4,FALSE),\"Y\")","v":"N"},{"$f":"_xlfn.IFNA(VLOOKUP(Table6[[#This Row],[WELL v1 Feature 3]],Table4[],4,FALSE),\"Y\")","v":"Y"},{"$f":"IF(COUNTIF(Table6[[#This Row],[v1 feature 1 attainment]:[v1 feature 3 attainment]],\"Y\")=3,TRUE,FALSE)","v":false},{"$f":"VLOOKUP(Table6[[#This Row],[WELL v2 Feature]],Table5[],7,FALSE)","v":7},{"$f":"VLOOKUP(Table6[[#This Row],[WELL v2 Feature]],Table5[],9,FALSE)","v":2},{"$f":"VLOOKUP(Table6[[#This Row],[WELL v2 Feature]],Table5[],10,FALSE)","v":0},{"$f":"VLOOKUP(Table6[[#This Row],[WELL v2 Feature]],Table5[],8,FALSE)","v":"Bonus"},null,null,null,"V11",2,{"$f":"CONCATENATE(Table9[[#This Row],[Feature]],\".\",Table9[[#This Row],[Part]])","v":"V11.2"},{"$f":"VLOOKUP(Table9[[#This Row],[Feature]],Table5[],5,FALSE)","v":"Optimization"},{"$f":"NOT(ISNA(_xlfn.IFNA(VLOOKUP(Table9[[#This Row],[Feature.Part]],Table6[v2 Feature.Part],1,FALSE),VLOOKUP(CONCATENATE(Table9[[#This Row],[Feature]],\".\",\"All\"),Table6[v2 Feature.Part],1,FALSE))))","v":false},{"$f":"IF(Table9[[#This Row],[Part Covered in Skybridge?]],  IF(COUNTIFS(Table6[v2 Part attainment through these features?],TRUE,Table6[v2 Feature.Part],Table9[[#This Row],[Feature.Part]])>0,TRUE,FALSE),FALSE)","v":false},{"$f":"IF(Table9[[#This Row],[Part attained in v2?]],\nIF(Table9[[#This Row],[Feature]]=\"I01\",COUNTIFS(Table6[WELL v2 Feature],\"I01\",Table6[v1 feature 1 attainment],\"Y\"),\nVLOOKUP(Table9[[#This Row],[Feature.Part]],Table6[[v2 Feature.Part]:[Part points]],7,FALSE)),0)","v":0},{"$f":"IF(Table9[[#This Row],[Part attained in v2?]],IF(Table9[[#This Row],[Type]]=\"Precondition\",\"Y\",Table9[[#This Row],[v2 points]]),0)","v":0},{"$f":"VLOOKUP(Table9[[#This Row],[Feature]],Table5[],12,FALSE)","v":"Movement"}]
["X01",1,{"$f":"CONCATENATE(Table6[[#This Row],[WELL v2 Feature]],\".\",Table6[[#This Row],[v2 Part]])","v":"X01.1"},11,null,null,null,null,{"$f":"IF('v1 Project Information'!$C$4=\"Core and Shell\",IF(Table6[[#This Row],[v2 Core Points (if less than max)]]>0,Table6[[#This Row],[v2 Core Points (if less than max)]],VLOOKUP(Table6[[#This Row],[v2 Feature.Part]],Table5[[Feature.Part]:[Points]],4,FALSE)),IF(Table6[[#This Row],[v2 WBS Points (if less than max)]]>0,Table6[[#This Row],[v2 WBS Points (if less than max)]],VLOOKUP(Table6[[#This Row],[v2 Feature.Part]],Table5[[Feature.Part]:[Points]],4,FALSE)))","v":"P"},{"$f":"VLOOKUP(Table6[[#This Row],[WELL v1 Feature 1]],Table4[],4,FALSE)","v":"Y"},{"$f":"_xlfn.IFNA(VLOOKUP(Table6[[#This Row],[WELL v1 Feature 2]],Table4[],4,FALSE),\"Y\")","v":"Y"},{"$f":"_xlfn.IFNA(VLOOKUP(Table6[[#This Row],[WELL v1 Feature 3]],Table4[],4,FALSE),\"Y\")","v":"Y"},{"$f":"IF(COUNTIF(Table6[[#This Row],[v1 feature 1 attainment]:[v1 feature 3 attainment]],\"Y\")=3,TRUE,FALSE)","v":true},{"$f":"VLOOKUP(Table6[[#This Row],[WELL v2 Feature]],Table5[],7,FALSE)","v":8},{"$f":"VLOOKUP(Table6[[#This Row],[WELL v2 Feature]],Table5[],9,FALSE)","v":"P"},{"$f":"VLOOKUP(Table6[[#This Row],[WELL v2 Feature]],Table5[],10,FALSE)","v":0},{"$f":"VLOOKUP(Table6[[#This Row],[WELL v2 Feature]],Table5[],8,FALSE)","v":0},null,null,null,"V11",3,{"$f":"CONCATENATE(Table9[[#This Row],[Feature]],\".\",Table9[[#This Row],[Part]])","v":"V11.3"},{"$f":"VLOOKUP(Table9[[#This Row],[Feature]],Table5[],5,FALSE)","v":"Optimization"},{"$f":"NOT(ISNA(_xlfn.IFNA(VLOOKUP(Table9[[#This Row],[Feature.Part]],Table6[v2 Feature.Part],1,FALSE),VLOOKUP(CONCATENATE(Table9[[#This Row],[Feature]],\".\",\"All\"),Table6[v2 Feature.Part],1,FALSE))))","v":false},{"$f":"IF(Table9[[#This Row],[Part Covered in Skybridge?]],  IF(COUNTIFS(Table6[v2 Part attainment through these features?],TRUE,Table6[v2 Feature.Part],Table9[[#This Row],[Feature.Part]])>0,TRUE,FALSE),FALSE)","v":false},{"$f":"IF(Table9[[#This Row],[Part attained in v2?]],\nIF(Table9[[#This Row],[Feature]]=\"I01\",COUNTIFS(Table6[WELL v2 Feature],\"I01\",Table6[v1 feature 1 attainment],\"Y\"),\nVLOOKUP(Table9[[#This Row],[Feature.Part]],Table6[[v2 Feature.Part]:[Part points]],7,FALSE)),0)","v":0},{"$f":"IF(Table9[[#This Row],[Part attained in v2?]],IF(Table9[[#This Row],[Type]]=\"Precondition\",\"Y\",Table9[[#This Row],[v2 points]]),0)","v":0},{"$f":"VLOOKUP(Table9[[#This Row],[Feature]],Table5[],12,FALSE)","v":"Movement"}]
["X01",2,{"$f":"CONCATENATE(Table6[[#This Row],[WELL v2 Feature]],\".\",Table6[[#This Row],[v2 Part]])","v":"X01.2"},11,null,null,null,null,{"$f":"IF('v1 Project Information'!$C$4=\"Core and Shell\",IF(Table6[[#This Row],[v2 Core Points (if less than max)]]>0,Table6[[#This Row],[v2 Core Points (if less than max)]],VLOOKUP(Table6[[#This Row],[v2 Feature.Part]],Table5[[Feature.Part]:[Points]],4,FALSE)),IF(Table6[[#This Row],[v2 WBS Points (if less than max)]]>0,Table6[[#This Row],[v2 WBS Points (if less than max)]],VLOOKUP(Table6[[#This Row],[v2 Feature.Part]],Table5[[Feature.Part]:[Points]],4,FALSE)))","v":"P"},{"$f":"VLOOKUP(Table6[[#This Row],[WELL v1 Feature 1]],Table4[],4,FALSE)","v":"Y"},{"$f":"_xlfn.IFNA(VLOOKUP(Table6[[#This Row],[WELL v1 Feature 2]],Table4[],4,FALSE),\"Y\")","v":"Y"},{"$f":"_xlfn.IFNA(VLOOKUP(Table6[[#This Row],[WELL v1 Feature 3]],Table4[],4,FALSE),\"Y\")","v":"Y"},{"$f":"IF(COUNTIF(Table6[[#This Row],[v1 feature 1 attainment]:[v1 feature 3 attainment]],\"Y\")=3,TRUE,FALSE)","v":true},{"$f":"VLOOKUP(Table6[[#This Row],[WELL v2 Feature]],Table5[],7,FALSE)","v":8},{"$f":"VLOOKUP(Table6[[#This Row],[WELL v2 Feature]],Table5[],9,FALSE)","v":"P"},{"$f":"VLOOKUP(Table6[[#This Row],[WELL v2 Feature]],Table5[],10,FALSE)","v":0},{"$f":"VLOOKUP(Table6[[#This Row],[WELL v2 Feature]],Table5[],8,FALSE)","v":0},null,null,null,"T01",1,{"$f":"CONCATENATE(Table9[[#This Row],[Feature]],\".\",Table9[[#This Row],[Part]])","v":"T01.1"},{"$f":"VLOOKUP(Table9[[#This Row],[Feature]],Table5[],5,FALSE)","v":"Precondition"},{"$f":"NOT(ISNA(_xlfn.IFNA(VLOOKUP(Table9[[#This Row],[Feature.Part]],Table6[v2 Feature.Part],1,FALSE),VLOOKUP(CONCATENATE(Table9[[#This Row],[Feature]],\".\",\"All\"),Table6[v2 Feature.Part],1,FALSE))))","v":true},{"$f":"IF(Table9[[#This Row],[Part Covered in Skybridge?]],  IF(COUNTIFS(Table6[v2 Part attainment through these features?],TRUE,Table6[v2 Feature.Part],Table9[[#This Row],[Feature.Part]])>0,TRUE,FALSE),FALSE)","v":true},{"$f":"IF(Table9[[#This Row],[Part attained in v2?]],\nIF(Table9[[#This Row],[Feature]]=\"I01\",COUNTIFS(Table6[WELL v2 Feature],\"I01\",Table6[v1 feature 1 attainment],\"Y\"),\nVLOOKUP(Table9[[#This Row],[Feature.Part]],Table6[[v2 Feature.Part]:[Part points]],7,FALSE)),0)","v":"P"},{"$f":"IF(Table9[[#This Row],[Part attained in v2?]],IF(Table9[[#This Row],[Type]]=\"Precondition\",\"Y\",Table9[[#This Row],[v2 points]]),0)","v":"Y"},{"$f":"VLOOKUP(Table9[[#This Row],[Feature]],Table5[],12,FALSE)","v":"Thermal Comfort"}]
["X01",3,{"$f":"CONCATENATE(Table6[[#This Row],[WELL v2 Feature]],\".\",Table6[[#This Row],[v2 Part]])","v":"X01.3"},11,null,null,null,null,{"$f":"IF('v1 Project Information'!$C$4=\"Core and Shell\",IF(Table6[[#This Row],[v2 Core Points (if less than max)]]>0,Table6[[#This Row],[v2 Core Points (if less than max)]],VLOOKUP(Table6[[#This Row],[v2 Feature.Part]],Table5[[Feature.Part]:[Points]],4,FALSE)),IF(Table6[[#This Row],[v2 WBS Points (if less than max)]]>0,Table6[[#This Row],[v2 WBS Points (if less than max)]],VLOOKUP(Table6[[#This Row],[v2 Feature.Part]],Table5[[Feature.Part]:[Points]],4,FALSE)))","v":"P"},{"$f":"VLOOKUP(Table6[[#This Row],[WELL v1 Feature 1]],Table4[],4,FALSE)","v":"Y"},{"$f":"_xlfn.IFNA(VLOOKUP(Table6[[#This Row],[WELL v1 Feature 2]],Table4[],4,FALSE),\"Y\")","v":"Y"},{"$f":"_xlfn.IFNA(VLOOKUP(Table6[[#This Row],[WELL v1 Feature 3]],Table4[],4,FALSE),\"Y\")","v":"Y"},{"$f":"IF(COUNTIF(Table6[[#This Row],[v1 feature 1 attainment]:[v1 feature 3 attainment]],\"Y\")=3,TRUE,FALSE)","v":true},{"$f":"VLOOKUP(Table6[[#This Row],[WELL v2 Feature]],Table5[],7,FALSE)","v":8},{"$f":"VLOOKUP(Table6[[#This Row],[WELL v2 Feature]],Table5[],9,FALSE)","v":"P"},{"$f":"VLOOKUP(Table6[[#This Row],[WELL v2 Feature]],Table5[],10,FALSE)","v":0},{"$f":"VLOOKUP(Table6[[#This Row],[WELL v2 Feature]],Table5[],8,FALSE)","v":0},null,null,null,"T01",2,{"$f":"CONCATENATE(Table9[[#This Row],[Feature]],\".\",Table9[[#This Row],[Part]])","v":"T01.2"},{"$f":"VLOOKUP(Table9[[#This Row],[Feature]],Table5[],5,FALSE)","v":"Precondition"},{"$f":"NOT(ISNA(_xlfn.IFNA(VLOOKUP(Table9[[#This Row],[Feature.Part]],Table6[v2 Feature.Part],1,FALSE),VLOOKUP(CONCATENATE(Table9[[#This Row],[Feature]],\".\",\"All\"),Table6[v2 Feature.Part],1,FALSE))))","v":false},{"$f":"IF(Table9[[#This Row],[Part Covered in Skybridge?]],  IF(COUNTIFS(Table6[v2 Part attainment through these features?],TRUE,Table6[v2 Feature.Part],Table9[[#This Row],[Feature.Part]])>0,TRUE,FALSE),FALSE)","v":false},{"$f":"IF(Table9[[#This Row],[Part attained in v2?]],\nIF(Table9[[#This Row],[Feature]]=\"I01\",COUNTIFS(Table6[WELL v2 Feature],\"I01\",Table6[v1 feature 1 attainment],\"Y\"),\nVLOOKUP(Table9[[#This Row],[Feature.Part]],Table6[[v2 Feature.Part]:[Part points]],7,FALSE)),0)","v":0},{"$f":"IF(Table9[[#This Row],[Part attained in v2?]],IF(Table9[[#This Row],[Type]]=\"Precondition\",\"Y\",Table9[[#This Row],[v2 points]]),0)","v":0},{"$f":"VLOOKUP(Table9[[#This Row],[Feature]],Table5[],12,FALSE)","v":"Thermal Comfort"}]
["X02",1,{"$f":"CONCATENATE(Table6[[#This Row],[WELL v2 Feature]],\".\",Table6[[#This Row],[v2 Part]])","v":"X02.1"},11,null,null,null,null,{"$f":"IF('v1 Project Information'!$C$4=\"Core and Shell\",IF(Table6[[#This Row],[v2 Core Points (if less than max)]]>0,Table6[[#This Row],[v2 Core Points (if less than max)]],VLOOKUP(Table6[[#This Row],[v2 Feature.Part]],Table5[[Feature.Part]:[Points]],4,FALSE)),IF(Table6[[#This Row],[v2 WBS Points (if less than max)]]>0,Table6[[#This Row],[v2 WBS Points (if less than max)]],VLOOKUP(Table6[[#This Row],[v2 Feature.Part]],Table5[[Feature.Part]:[Points]],4,FALSE)))","v":"P"},{"$f":"VLOOKUP(Table6[[#This Row],[WELL v1 Feature 1]],Table4[],4,FALSE)","v":"Y"},{"$f":"_xlfn.IFNA(VLOOKUP(Table6[[#This Row],[WELL v1 Feature 2]],Table4[],4,FALSE),\"Y\")","v":"Y"},{"$f":"_xlfn.IFNA(VLOOKUP(Table6[[#This Row],[WELL v1 Feature 3]],Table4[],4,FALSE),\"Y\")","v":"Y"},{"$f":"IF(COUNTIF(Table6[[#This Row],[v1 feature 1 attainment]:[v1 feature 3 attainment]],\"Y\")=3,TRUE,FALSE)","v":true},{"$f":"VLOOKUP(Table6[[#This Row],[WELL v2 Feature]],Table5[],7,FALSE)","v":8},{"$f":"VLOOKUP(Table6[[#This Row],[WELL v2 Feature]],Table5[],9,FALSE)","v":"P"},{"$f":"VLOOKUP(Table6[[#This Row],[WELL v2 Feature]],Table5[],10,FALSE)","v":0},{"$f":"VLOOKUP(Table6[[#This Row],[WELL v2 Feature]],Table5[],8,FALSE)","v":0},null,null,null,"T02",1,{"$f":"CONCATENATE(Table9[[#This Row],[Feature]],\".\",Table9[[#This Row],[Part]])","v":"T02.1"},{"$f":"VLOOKUP(Table9[[#This Row],[Feature]],Table5[],5,FALSE)","v":"Optimization"},{"$f":"NOT(ISNA(_xlfn.IFNA(VLOOKUP(Table9[[#This Row],[Feature.Part]],Table6[v2 Feature.Part],1,FALSE),VLOOKUP(CONCATENATE(Table9[[#This Row],[Feature]],\".\",\"All\"),Table6[v2 Feature.Part],1,FALSE))))","v":false},{"$f":"IF(Table9[[#This Row],[Part Covered in Skybridge?]],  IF(COUNTIFS(Table6[v2 Part attainment through these features?],TRUE,Table6[v2 Feature.Part],Table9[[#This Row],[Feature.Part]])>0,TRUE,FALSE),FALSE)","v":false},{"$f":"IF(Table9[[#This Row],[Part attained in v2?]],\nIF(Table9[[#This Row],[Feature]]=\"I01\",COUNTIFS(Table6[WELL v2 Feature],\"I01\",Table6[v1 feature 1 attainment],\"Y\"),\nVLOOKUP(Table9[[#This Row],[Feature.Part]],Table6[[v2 Feature.Part]:[Part points]],7,FALSE)),0)","v":0},{"$f":"IF(Table9[[#This Row],[Part attained in v2?]],IF(Table9[[#This Row],[Type]]=\"Precondition\",\"Y\",Table9[[#This Row],[v2 points]]),0)","v":0},{"$f":"VLOOKUP(Table9[[#This Row],[Feature]],Table5[],12,FALSE)","v":"Thermal Comfort"}]
["X02",2,{"$f":"CONCATENATE(Table6[[#This Row],[WELL v2 Feature]],\".\",Table6[[#This Row],[v2 Part]])","v":"X02.2"},11,null,null,null,null,{"$f":"IF('v1 Project Information'!$C$4=\"Core and Shell\",IF(Table6[[#This Row],[v2 Core Points (if less than max)]]>0,Table6[[#This Row],[v2 Core Points (if less than max)]],VLOOKUP(Table6[[#This Row],[v2 Feature.Part]],Table5[[Feature.Part]:[Points]],4,FALSE)),IF(Table6[[#This Row],[v2 WBS Points (if less than max)]]>0,Table6[[#This Row],[v2 WBS Points (if less than max)]],VLOOKUP(Table6[[#This Row],[v2 Feature.Part]],Table5[[Feature.Part]:[Points]],4,FALSE)))","v":"P"},{"$f":"VLOOKUP(Table6[[#This Row],[WELL v1 Feature 1]],Table4[],4,FALSE)","v":"Y"},{"$f":"_xlfn.IFNA(VLOOKUP(Table6[[#This Row],[WELL v1 Feature 2]],Table4[],4,FALSE),\"Y\")","v":"Y"},{"$f":"_xlfn.IFNA(VLOOKUP(Table6[[#This Row],[WELL v1 Feature 3]],Table4[],4,FALSE),\"Y\")","v":"Y"},{"$f":"IF(COUNTIF(Table6[[#This Row],[v1 feature 1 attainment]:[v1 feature 3 attainment]],\"Y\")=3,TRUE,FALSE)","v":true},{"$f":"VLOOKUP(Table6[[#This Row],[WELL v2 Feature]],Table5[],7,FALSE)","v":8},{"$f":"VLOOKUP(Table6[[#This Row],[WELL v2 Feature]],Table5[],9,FALSE)","v":"P"},{"$f":"VLOOKUP(Table6[[#This Row],[WELL v2 Feature]],Table5[],10,FALSE)","v":0},{"$f":"VLOOKUP(Table6[[#This Row],[WELL v2 Feature]],Table5[],8,FALSE)","v":0},null,null,null,"T03",1,{"$f":"CONCATENATE(Table9[[#This Row],[Feature]],\".\",Table9[[#This Row],[Part]])","v":"T03.1"},{"$f":"VLOOKUP(Table9[[#This Row],[Feature]],Table5[],5,FALSE)","v":"Optimization"},{"$f":"NOT(ISNA(_xlfn.IFNA(VLOOKUP(Table9[[#This Row],[Feature.Part]],Table6[v2 Feature.Part],1,FALSE),VLOOKUP(CONCATENATE(Table9[[#This Row],[Feature]],\".\",\"All\"),Table6[v2 Feature.Part],1,FALSE))))","v":false},{"$f":"IF(Table9[[#This Row],[Part Covered in Skybridge?]],  IF(COUNTIFS(Table6[v2 Part attainment through these features?],TRUE,Table6[v2 Feature.Part],Table9[[#This Row],[Feature.Part]])>0,TRUE,FALSE),FALSE)","v":false},{"$f":"IF(Table9[[#This Row],[Part attained in v2?]],\nIF(Table9[[#This Row],[Feature]]=\"I01\",COUNTIFS(Table6[WELL v2 Feature],\"I01\",Table6[v1 feature 1 attainment],\"Y\"),\nVLOOKUP(Table9[[#This Row],[Feature.Part]],Table6[[v2 Feature.Part]:[Part points]],7,FALSE)),0)","v":0},{"$f":"IF(Table9[[#This Row],[Part attained in v2?]],IF(Table9[[#This Row],[Type]]=\"Precondition\",\"Y\",Table9[[#This Row],[v2 points]]),0)","v":0},{"$f":"VLOOKUP(Table9[[#This Row],[Feature]],Table5[],12,FALSE)","v":"Thermal Comfort"}]
["X02",3,{"$f":"CONCATENATE(Table6[[#This Row],[WELL v2 Feature]],\".\",Table6[[#This Row],[v2 Part]])","v":"X02.3"},11,null,null,null,null,{"$f":"IF('v1 Project Information'!$C$4=\"Core and Shell\",IF(Table6[[#This Row],[v2 Core Points (if less than max)]]>0,Table6[[#This Row],[v2 Core Points (if less than max)]],VLOOKUP(Table6[[#This Row],[v2 Feature.Part]],Table5[[Feature.Part]:[Points]],4,FALSE)),IF(Table6[[#This Row],[v2 WBS Points (if less than max)]]>0,Table6[[#This Row],[v2 WBS Points (if less than max)]],VLOOKUP(Table6[[#This Row],[v2 Feature.Part]],Table5[[Feature.Part]:[Points]],4,FALSE)))","v":"P"},{"$f":"VLOOKUP(Table6[[#This Row],[WELL v1 Feature 1]],Table4[],4,FALSE)","v":"Y"},{"$f":"_xlfn.IFNA(VLOOKUP(Table6[[#This Row],[WELL v1 Feature 2]],Table4[],4,FALSE),\"Y\")","v":"Y"},{"$f":"_xlfn.IFNA(VLOOKUP(Table6[[#This Row],[WELL v1 Feature 3]],Table4[],4,FALSE),\"Y\")","v":"Y"},{"$f":"IF(COUNTIF(Table6[[#This Row],[v1 feature 1 attainment]:[v1 feature 3 attainment]],\"Y\")=3,TRUE,FALSE)","v":true},{"$f":"VLOOKUP(Table6[[#This Row],[WELL v2 Feature]],Table5[],7,FALSE)","v":8},{"$f":"VLOOKUP(Table6[[#This Row],[WELL v2 Feature]],Table5[],9,FALSE)","v":"P"},{"$f":"VLOOKUP(Table6[[#This Row],[WELL v2 Feature]],Table5[],10,FALSE)","v":0},{"$f":"VLOOKUP(Table6[[#This Row],[WELL v2 Feature]],Table5[],8,FALSE)","v":0},null,null,null,"T04",1,{"$f":"CONCATENATE(Table9[[#This Row],[Feature]],\".\",Table9[[#This Row],[Part]])","v":"T04.1"},{"$f":"VLOOKUP(Table9[[#This Row],[Feature]],Table5[],5,FALSE)","v":"Optimization"},{"$f":"NOT(ISNA(_xlfn.IFNA(VLOOKUP(Table9[[#This Row],[Feature.Part]],Table6[v2 Feature.Part],1,FALSE),VLOOKUP(CONCATENATE(Table9[[#This Row],[Feature]],\".\",\"All\"),Table6[v2 Feature.Part],1,FALSE))))","v":true},{"$f":"IF(Table9[[#This Row],[Part Covered in Skybridge?]],  IF(COUNTIFS(Table6[v2 Part attainment through these features?],TRUE,Table6[v2 Feature.Part],Table9[[#This Row],[Feature.Part]])>0,TRUE,FALSE),FALSE)","v":false},{"$f":"IF(Table9[[#This Row],[Part attained in v2?]],\nIF(Table9[[#This Row],[Feature]]=\"I01\",COUNTIFS(Table6[WELL v2 Feature],\"I01\",Table6[v1 feature 1 attainment],\"Y\"),\nVLOOKUP(Table9[[#This Row],[Feature.Part]],Table6[[v2 Feature.Part]:[Part points]],7,FALSE)),0)","v":0},{"$f":"IF(Table9[[#This Row],[Part attained in v2?]],IF(Table9[[#This Row],[Type]]=\"Precondition\",\"Y\",Table9[[#This Row],[v2 points]]),0)","v":0},{"$f":"VLOOKUP(Table9[[#This Row],[Feature]],Table5[],12,FALSE)","v":"Thermal Comfort"}]
["X05",1,{"$f":"CONCATENATE(Table6[[#This Row],[WELL v2 Feature]],\".\",Table6[[#This Row],[v2 Part]])","v":"X05.1"},25,null,null,null,null,{"$f":"IF('v1 Project Information'!$C$4=\"Core and Shell\",IF(Table6[[#This Row],[v2 Core Points (if less than max)]]>0,Table6[[#This Row],[v2 Core Points (if less than max)]],VLOOKUP(Table6[[#This Row],[v2 Feature.Part]],Table5[[Feature.Part]:[Points]],4,FALSE)),IF(Table6[[#This Row],[v2 WBS Points (if less than max)]]>0,Table6[[#This Row],[v2 WBS Points (if less than max)]],VLOOKUP(Table6[[#This Row],[v2 Feature.Part]],Table5[[Feature.Part]:[Points]],4,FALSE)))","v":1},{"$f":"VLOOKUP(Table6[[#This Row],[WELL v1 Feature 1]],Table4[],4,FALSE)","v":"N"},{"$f":"_xlfn.IFNA(VLOOKUP(Table6[[#This Row],[WELL v1 Feature 2]],Table4[],4,FALSE),\"Y\")","v":"Y"},{"$f":"_xlfn.IFNA(VLOOKUP(Table6[[#This Row],[WELL v1 Feature 3]],Table4[],4,FALSE),\"Y\")","v":"Y"},{"$f":"IF(COUNTIF(Table6[[#This Row],[v1 feature 1 attainment]:[v1 feature 3 attainment]],\"Y\")=3,TRUE,FALSE)","v":false},{"$f":"VLOOKUP(Table6[[#This Row],[WELL v2 Feature]],Table5[],7,FALSE)","v":8},{"$f":"VLOOKUP(Table6[[#This Row],[WELL v2 Feature]],Table5[],9,FALSE)","v":1},{"$f":"VLOOKUP(Table6[[#This Row],[WELL v2 Feature]],Table5[],10,FALSE)","v":0},{"$f":"VLOOKUP(Table6[[#This Row],[WELL v2 Feature]],Table5[],8,FALSE)","v":"None"},null,null,null,"T04",2,{"$f":"CONCATENATE(Table9[[#This Row],[Feature]],\".\",Table9[[#This Row],[Part]])","v":"T04.2"},{"$f":"VLOOKUP(Table9[[#This Row],[Feature]],Table5[],5,FALSE)","v":"Optimization"},{"$f":"NOT(ISNA(_xlfn.IFNA(VLOOKUP(Table9[[#This Row],[Feature.Part]],Table6[v2 Feature.Part],1,FALSE),VLOOKUP(CONCATENATE(Table9[[#This Row],[Feature]],\".\",\"All\"),Table6[v2 Feature.Part],1,FALSE))))","v":false},{"$f":"IF(Table9[[#This Row],[Part Covered in Skybridge?]],  IF(COUNTIFS(Table6[v2 Part attainment through these features?],TRUE,Table6[v2 Feature.Part],Table9[[#This Row],[Feature.Part]])>0,TRUE,FALSE),FALSE)","v":false},{"$f":"IF(Table9[[#This Row],[Part attained in v2?]],\nIF(Table9[[#This Row],[Feature]]=\"I01\",COUNTIFS(Table6[WELL v2 Feature],\"I01\",Table6[v1 feature 1 attainment],\"Y\"),\nVLOOKUP(Table9[[#This Row],[Feature.Part]],Table6[[v2 Feature.Part]:[Part points]],7,FALSE)),0)","v":0},{"$f":"IF(Table9[[#This Row],[Part attained in v2?]],IF(Table9[[#This Row],[Type]]=\"Precondition\",\"Y\",Table9[[#This Row],[v2 points]]),0)","v":0},{"$f":"VLOOKUP(Table9[[#This Row],[Feature]],Table5[],12,FALSE)","v":"Thermal Comfort"}]
["X05",2,{"$f":"CONCATENATE(Table6[[#This Row],[WELL v2 Feature]],\".\",Table6[[#This Row],[v2 Part]])","v":"X05.2"},25,null,null,null,null,{"$f":"IF('v1 Project Information'!$C$4=\"Core and Shell\",IF(Table6[[#This Row],[v2 Core Points (if less than max)]]>0,Table6[[#This Row],[v2 Core Points (if less than max)]],VLOOKUP(Table6[[#This Row],[v2 Feature.Part]],Table5[[Feature.Part]:[Points]],4,FALSE)),IF(Table6[[#This Row],[v2 WBS Points (if less than max)]]>0,Table6[[#This Row],[v2 WBS Points (if less than max)]],VLOOKUP(Table6[[#This Row],[v2 Feature.Part]],Table5[[Feature.Part]:[Points]],4,FALSE)))","v":1},{"$f":"VLOOKUP(Table6[[#This Row],[WELL v1 Feature 1]],Table4[],4,FALSE)","v":"N"},{"$f":"_xlfn.IFNA(VLOOKUP(Table6[[#This Row],[WELL v1 Feature 2]],Table4[],4,FALSE),\"Y\")","v":"Y"},{"$f":"_xlfn.IFNA(VLOOKUP(Table6[[#This Row],[WELL v1 Feature 3]],Table4[],4,FALSE),\"Y\")","v":"Y"},{"$f":"IF(COUNTIF(Table6[[#This Row],[v1 feature 1 attainment]:[v1 feature 3 attainment]],\"Y\")=3,TRUE,FALSE)","v":false},{"$f":"VLOOKUP(Table6[[#This Row],[WELL v2 Feature]],Table5[],7,FALSE)","v":8},{"$f":"VLOOKUP(Table6[[#This Row],[WELL v2 Feature]],Table5[],9,FALSE)","v":1},{"$f":"VLOOKUP(Table6[[#This Row],[WELL v2 Feature]],Table5[],10,FALSE)","v":0},{"$f":"VLOOKUP(Table6[[#This Row],[WELL v2 Feature]],Table5[],8,FALSE)","v":"None"},null,null,null,"T04",3,{"$f":"CONCATENATE(Table9[[#This Row],[Feature]],\".\",Table9[[#This Row],[Part]])","v":"T04.3"},{"$f":"VLOOKUP(Table9[[#This Row],[Feature]],Table5[],5,FALSE)","v":"Optimization"},{"$f":"NOT(ISNA(_xlfn.IFNA(VLOOKUP(Table9[[#This Row],[Feature.Part]],Table6[v2 Feature.Part],1,FALSE),VLOOKUP(CONCATENATE(Table9[[#This Row],[Feature]],\".\",\"All\"),Table6[v2 Feature.Part],1,FALSE))))","v":false},{"$f":"IF(Table9[[#This Row],[Part Covered in Skybridge?]],  IF(COUNTIFS(Table6[v2 Part attainment through these features?],TRUE,Table6[v2 Feature.Part],Table9[[#This Row],[Feature.Part]])>0,TRUE,FALSE),FALSE)","v":false},{"$f":"IF(Table9[[#This Row],[Part attained in v2?]],\nIF(Table9[[#This Row],[Feature]]=\"I01\",COUNTIFS(Table6[WELL v2 Feature],\"I01\",Table6[v1 feature 1 attainment],\"Y\"),\nVLOOKUP(Table9[[#This Row],[Feature.Part]],Table6[[v2 Feature.Part]:[Part points]],7,FALSE)),0)","v":0},{"$f":"IF(Table9[[#This Row],[Part attained in v2?]],IF(Table9[[#This Row],[Type]]=\"Precondition\",\"Y\",Table9[[#This Row],[v2 points]]),0)","v":0},{"$f":"VLOOKUP(Table9[[#This Row],[Feature]],Table5[],12,FALSE)","v":"Thermal Comfort"}]
["X06",1,{"$f":"CONCATENATE(Table6[[#This Row],[WELL v2 Feature]],\".\",Table6[[#This Row],[v2 Part]])","v":"X06.1"},4,null,null,null,null,{"$f":"IF('v1 Project Information'!$C$4=\"Core and Shell\",IF(Table6[[#This Row],[v2 Core Points (if less than max)]]>0,Table6[[#This Row],[v2 Core Points (if less than max)]],VLOOKUP(Table6[[#This Row],[v2 Feature.Part]],Table5[[Feature.Part]:[Points]],4,FALSE)),IF(Table6[[#This Row],[v2 WBS Points (if less than max)]]>0,Table6[[#This Row],[v2 WBS Points (if less than max)]],VLOOKUP(Table6[[#This Row],[v2 Feature.Part]],Table5[[Feature.Part]:[Points]],4,FALSE)))","v":2},{"$f":"VLOOKUP(Table6[[#This Row],[WELL v1 Feature 1]],Table4[],4,FALSE)","v":"Y"},{"$f":"_xlfn.IFNA(VLOOKUP(Table6[[#This Row],[WELL v1 Feature 2]],Table4[],4,FALSE),\"Y\")","v":"Y"},{"$f":"_xlfn.IFNA(VLOOKUP(Table6[[#This Row],[WELL v1 Feature 3]],Table4[],4,FALSE),\"Y\")","v":"Y"},{"$f":"IF(COUNTIF(Table6[[#This Row],[v1 feature 1 attainment]:[v1 feature 3 attainment]],\"Y\")=3,TRUE,FALSE)","v":true},{"$f":"VLOOKUP(Table6[[#This Row],[WELL v2 Feature]],Table5[],7,FALSE)","v":8},{"$f":"VLOOKUP(Table6[[#This Row],[WELL v2 Feature]],Table5[],9,FALSE)","v":2},{"$f":"VLOOKUP(Table6[[#This Row],[WELL v2 Feature]],Table5[],10,FALSE)","v":0},{"$f":"VLOOKUP(Table6[[#This Row],[WELL v2 Feature]],Table5[],8,FALSE)","v":"None"},null,null,null,"T05",1,{"$f":"CONCATENATE(Table9[[#This Row],[Feature]],\".\",Table9[[#This Row],[Part]])","v":"T05.1"},{"$f":"VLOOKUP(Table9[[#This Row],[Feature]],Table5[],5,FALSE)","v":"Optimization"},{"$f":"NOT(ISNA(_xlfn.IFNA(VLOOKUP(Table9[[#This Row],[Feature.Part]],Table6[v2 Feature.Part],1,FALSE),VLOOKUP(CONCATENATE(Table9[[#This Row],[Feature]],\".\",\"All\"),Table6[v2 Feature.Part],1,FALSE))))","v":true},{"$f":"IF(Table9[[#This Row],[Part Covered in Skybridge?]],  IF(COUNTIFS(Table6[v2 Part attainment through these features?],TRUE,Table6[v2 Feature.Part],Table9[[#This Row],[Feature.Part]])>0,TRUE,FALSE),FALSE)","v":false},{"$f":"IF(Table9[[#This Row],[Part attained in v2?]],\nIF(Table9[[#This Row],[Feature]]=\"I01\",COUNTIFS(Table6[WELL v2 Feature],\"I01\",Table6[v1 feature 1 attainment],\"Y\"),\nVLOOKUP(Table9[[#This Row],[Feature.Part]],Table6[[v2 Feature.Part]:[Part points]],7,FALSE)),0)","v":0},{"$f":"IF(Table9[[#This Row],[Part attained in v2?]],IF(Table9[[#This Row],[Type]]=\"Precondition\",\"Y\",Table9[[#This Row],[v2 points]]),0)","v":0},{"$f":"VLOOKUP(Table9[[#This Row],[Feature]],Table5[],12,FALSE)","v":"Thermal Comfort"}]
["X06",2,{"$f":"CONCATENATE(Table6[[#This Row],[WELL v2 Feature]],\".\",Table6[[#This Row],[v2 Part]])","v":"X06.2"},4,null,null,null,null,{"$f":"IF('v1 Project Information'!$C$4=\"Core and Shell\",IF(Table6[[#This Row],[v2 Core Points (if less than max)]]>0,Table6[[#This Row],[v2 Core Points (if less than max)]],VLOOKUP(Table6[[#This Row],[v2 Feature.Part]],Table5[[Feature.Part]:[Points]],4,FALSE)),IF(Table6[[#This Row],[v2 WBS Points (if less than max)]]>0,Table6[[#This Row],[v2 WBS Points (if less than max)]],VLOOKUP(Table6[[#This Row],[v2 Feature.Part]],Table5[[Feature.Part]:[Points]],4,FALSE)))","v":2},{"$f":"VLOOKUP(Table6[[#This Row],[WELL v1 Feature 1]],Table4[],4,FALSE)","v":"Y"},{"$f":"_xlfn.IFNA(VLOOKUP(Table6[[#This Row],[WELL v1 Feature 2]],Table4[],4,FALSE),\"Y\")","v":"Y"},{"$f":"_xlfn.IFNA(VLOOKUP(Table6[[#This Row],[WELL v1 Feature 3]],Table4[],4,FALSE),\"Y\")","v":"Y"},{"$f":"IF(COUNTIF(Table6[[#This Row],[v1 feature 1 attainment]:[v1 feature 3 attainment]],\"Y\")=3,TRUE,FALSE)","v":true},{"$f":"VLOOKUP(Table6[[#This Row],[WELL v2 Feature]],Table5[],7,FALSE)","v":8},{"$f":"VLOOKUP(Table6[[#This Row],[WELL v2 Feature]],Table5[],9,FALSE)","v":2},{"$f":"VLOOKUP(Table6[[#This Row],[WELL v2 Feature]],Table5[],10,FALSE)","v":0},{"$f":"VLOOKUP(Table6[[#This Row],[WELL v2 Feature]],Table5[],8,FALSE)","v":"None"},null,null,null,"T05",2,{"$f":"CONCATENATE(Table9[[#This Row],[Feature]],\".\",Table9[[#This Row],[Part]])","v":"T05.2"},{"$f":"VLOOKUP(Table9[[#This Row],[Feature]],Table5[],5,FALSE)","v":"Optimization"},{"$f":"NOT(ISNA(_xlfn.IFNA(VLOOKUP(Table9[[#This Row],[Feature.Part]],Table6[v2 Feature.Part],1,FALSE),VLOOKUP(CONCATENATE(Table9[[#This Row],[Feature]],\".\",\"All\"),Table6[v2 Feature.Part],1,FALSE))))","v":false},{"$f":"IF(Table9[[#This Row],[Part Covered in Skybridge?]],  IF(COUNTIFS(Table6[v2 Part attainment through these features?],TRUE,Table6[v2 Feature.Part],Table9[[#This Row],[Feature.Part]])>0,TRUE,FALSE),FALSE)","v":false},{"$f":"IF(Table9[[#This Row],[Part attained in v2?]],\nIF(Table9[[#This Row],[Feature]]=\"I01\",COUNTIFS(Table6[WELL v2 Feature],\"I01\",Table6[v1 feature 1 attainment],\"Y\"),\nVLOOKUP(Table9[[#This Row],[Feature.Part]],Table6[[v2 Feature.Part]:[Part points]],7,FALSE)),0)","v":0},{"$f":"IF(Table9[[#This Row],[Part attained in v2?]],IF(Table9[[#This Row],[Type]]=\"Precondition\",\"Y\",Table9[[#This Row],[v2 points]]),0)","v":0},{"$f":"VLOOKUP(Table9[[#This Row],[Feature]],Table5[],12,FALSE)","v":"Thermal Comfort"}]
["X07",1,{"$f":"CONCATENATE(Table6[[#This Row],[WELL v2 Feature]],\".\",Table6[[#This Row],[v2 Part]])","v":"X07.1"},97,null,null,null,null,{"$f":"IF('v1 Project Information'!$C$4=\"Core and Shell\",IF(Table6[[#This Row],[v2 Core Points (if less than max)]]>0,Table6[[#This Row],[v2 Core Points (if less than max)]],VLOOKUP(Table6[[#This Row],[v2 Feature.Part]],Table5[[Feature.Part]:[Points]],4,FALSE)),IF(Table6[[#This Row],[v2 WBS Points (if less than max)]]>0,Table6[[#This Row],[v2 WBS Points (if less than max)]],VLOOKUP(Table6[[#This Row],[v2 Feature.Part]],Table5[[Feature.Part]:[Points]],4,FALSE)))","v":1},{"$f":"VLOOKUP(Table6[[#This Row],[WELL v1 Feature 1]],Table4[],4,FALSE)","v":"N"},{"$f":"_xlfn.IFNA(VLOOKUP(Table6[[#This Row],[WELL v1 Feature 2]],Table4[],4,FALSE),\"Y\")","v":"Y"},{"$f":"_xlfn.IFNA(VLOOKUP(Table6[[#This Row],[WELL v1 Feature 3]],Table4[],4,FALSE),\"Y\")","v":"Y"},{"$f":"IF(COUNTIF(Table6[[#This Row],[v1 feature 1 attainment]:[v1 feature 3 attainment]],\"Y\")=3,TRUE,FALSE)","v":false},{"$f":"VLOOKUP(Table6[[#This Row],[WELL v2 Feature]],Table5[],7,FALSE)","v":8},{"$f":"VLOOKUP(Table6[[#This Row],[WELL v2 Feature]],Table5[],9,FALSE)","v":1},{"$f":"VLOOKUP(Table6[[#This Row],[WELL v2 Feature]],Table5[],10,FALSE)","v":0},{"$f":"VLOOKUP(Table6[[#This Row],[WELL v2 Feature]],Table5[],8,FALSE)","v":"None"},null,null,null,"T06",1,{"$f":"CONCATENATE(Table9[[#This Row],[Feature]],\".\",Table9[[#This Row],[Part]])","v":"T06.1"},{"$f":"VLOOKUP(Table9[[#This Row],[Feature]],Table5[],5,FALSE)","v":"Optimization"},{"$f":"NOT(ISNA(_xlfn.IFNA(VLOOKUP(Table9[[#This Row],[Feature.Part]],Table6[v2 Feature.Part],1,FALSE),VLOOKUP(CONCATENATE(Table9[[#This Row],[Feature]],\".\",\"All\"),Table6[v2 Feature.Part],1,FALSE))))","v":false},{"$f":"IF(Table9[[#This Row],[Part Covered in Skybridge?]],  IF(COUNTIFS(Table6[v2 Part attainment through these features?],TRUE,Table6[v2 Feature.Part],Table9[[#This Row],[Feature.Part]])>0,TRUE,FALSE),FALSE)","v":false},{"$f":"IF(Table9[[#This Row],[Part attained in v2?]],\nIF(Table9[[#This Row],[Feature]]=\"I01\",COUNTIFS(Table6[WELL v2 Feature],\"I01\",Table6[v1 feature 1 attainment],\"Y\"),\nVLOOKUP(Table9[[#This Row],[Feature.Part]],Table6[[v2 Feature.Part]:[Part points]],7,FALSE)),0)","v":0},{"$f":"IF(Table9[[#This Row],[Part attained in v2?]],IF(Table9[[#This Row],[Type]]=\"Precondition\",\"Y\",Table9[[#This Row],[v2 points]]),0)","v":0},{"$f":"VLOOKUP(Table9[[#This Row],[Feature]],Table5[],12,FALSE)","v":"Thermal Comfort"}]
["X08",1,{"$f":"CONCATENATE(Table6[[#This Row],[WELL v2 Feature]],\".\",Table6[[#This Row],[v2 Part]])","v":"X08.1"},26,null,null,null,null,{"$f":"IF('v1 Project Information'!$C$4=\"Core and Shell\",IF(Table6[[#This Row],[v2 Core Points (if less than max)]]>0,Table6[[#This Row],[v2 Core Points (if less than max)]],VLOOKUP(Table6[[#This Row],[v2 Feature.Part]],Table5[[Feature.Part]:[Points]],4,FALSE)),IF(Table6[[#This Row],[v2 WBS Points (if less than max)]]>0,Table6[[#This Row],[v2 WBS Points (if less than max)]],VLOOKUP(Table6[[#This Row],[v2 Feature.Part]],Table5[[Feature.Part]:[Points]],4,FALSE)))","v":1},{"$f":"VLOOKUP(Table6[[#This Row],[WELL v1 Feature 1]],Table4[],4,FALSE)","v":"N"},{"$f":"_xlfn.IFNA(VLOOKUP(Table6[[#This Row],[WELL v1 Feature 2]],Table4[],4,FALSE),\"Y\")","v":"Y"},{"$f":"_xlfn.IFNA(VLOOKUP(Table6[[#This Row],[WELL v1 Feature 3]],Table4[],4,FALSE),\"Y\")","v":"Y"},{"$f":"IF(COUNTIF(Table6[[#This Row],[v1 feature 1 attainment]:[v1 feature 3 attainment]],\"Y\")=3,TRUE,FALSE)","v":false},{"$f":"VLOOKUP(Table6[[#This Row],[WELL v2 Feature]],Table5[],7,FALSE)","v":8},{"$f":"VLOOKUP(Table6[[#This Row],[WELL v2 Feature]],Table5[],9,FALSE)","v":1},{"$f":"VLOOKUP(Table6[[#This Row],[WELL v2 Feature]],Table5[],10,FALSE)","v":0},{"$f":"VLOOKUP(Table6[[#This Row],[WELL v2 Feature]],Table5[],8,FALSE)","v":"None"},null,null,null,"T07",1,{"$f":"CONCATENATE(Table9[[#This Row],[Feature]],\".\",Table9[[#This Row],[Part]])","v":"T07.1"},{"$f":"VLOOKUP(Table9[[#This Row],[Feature]],Table5[],5,FALSE)","v":"Optimization"},{"$f":"NOT(ISNA(_xlfn.IFNA(VLOOKUP(Table9[[#This Row],[Feature.Part]],Table6[v2 Feature.Part],1,FALSE),VLOOKUP(CONCATENATE(Table9[[#This Row],[Feature]],\".\",\"All\"),Table6[v2 Feature.Part],1,FALSE))))","v":true},{"$f":"IF(Table9[[#This Row],[Part Covered in Skybridge?]],  IF(COUNTIFS(Table6[v2 Part attainment through these features?],TRUE,Table6[v2 Feature.Part],Table9[[#This Row],[Feature.Part]])>0,TRUE,FALSE),FALSE)","v":false},{"$f":"IF(Table9[[#This Row],[Part attained in v2?]],\nIF(Table9[[#This Row],[Feature]]=\"I01\",COUNTIFS(Table6[WELL v2 Feature],\"I01\",Table6[v1 feature 1 attainment],\"Y\"),\nVLOOKUP(Table9[[#This Row],[Feature.Part]],Table6[[v2 Feature.Part]:[Part points]],7,FALSE)),0)","v":0},{"$f":"IF(Table9[[#This Row],[Part attained in v2?]],IF(Table9[[#This Row],[Type]]=\"Precondition\",\"Y\",Table9[[#This Row],[v2 points]]),0)","v":0},{"$f":"VLOOKUP(Table9[[#This Row],[Feature]],Table5[],12,FALSE)","v":"Thermal Comfort"}]
["X10",1,{"$f":"CONCATENATE(Table6[[#This Row],[WELL v2 Feature]],\".\",Table6[[#This Row],[v2 Part]])","v":"X10.1"},10,null,null,null,2,{"$f":"IF('v1 Project Information'!$C$4=\"Core and Shell\",IF(Table6[[#This Row],[v2 Core Points (if less than max)]]>0,Table6[[#This Row],[v2 Core Points (if less than max)]],VLOOKUP(Table6[[#This Row],[v2 Feature.Part]],Table5[[Feature.Part]:[Points]],4,FALSE)),IF(Table6[[#This Row],[v2 WBS Points (if less than max)]]>0,Table6[[#This Row],[v2 WBS Points (if less than max)]],VLOOKUP(Table6[[#This Row],[v2 Feature.Part]],Table5[[Feature.Part]:[Points]],4,FALSE)))","v":1},{"$f":"VLOOKUP(Table6[[#This Row],[WELL v1 Feature 1]],Table4[],4,FALSE)","v":"Y"},{"$f":"_xlfn.IFNA(VLOOKUP(Table6[[#This Row],[WELL v1 Feature 2]],Table4[],4,FALSE),\"Y\")","v":"Y"},{"$f":"_xlfn.IFNA(VLOOKUP(Table6[[#This Row],[WELL v1 Feature 3]],Table4[],4,FALSE),\"Y\")","v":"Y"},{"$f":"IF(COUNTIF(Table6[[#This Row],[v1 feature 1 attainment]:[v1 feature 3 attainment]],\"Y\")=3,TRUE,FALSE)","v":true},{"$f":"VLOOKUP(Table6[[#This Row],[WELL v2 Feature]],Table5[],7,FALSE)","v":8},{"$f":"VLOOKUP(Table6[[#This Row],[WELL v2 Feature]],Table5[],9,FALSE)","v":2},{"$f":"VLOOKUP(Table6[[#This Row],[WELL v2 Feature]],Table5[],10,FALSE)","v":0},{"$f":"VLOOKUP(Table6[[#This Row],[WELL v2 Feature]],Table5[],8,FALSE)","v":"Bonus"},null,null,null,"T08",1,{"$f":"CONCATENATE(Table9[[#This Row],[Feature]],\".\",Table9[[#This Row],[Part]])","v":"T08.1"},{"$f":"VLOOKUP(Table9[[#This Row],[Feature]],Table5[],5,FALSE)","v":"Optimization"},{"$f":"NOT(ISNA(_xlfn.IFNA(VLOOKUP(Table9[[#This Row],[Feature.Part]],Table6[v2 Feature.Part],1,FALSE),VLOOKUP(CONCATENATE(Table9[[#This Row],[Feature]],\".\",\"All\"),Table6[v2 Feature.Part],1,FALSE))))","v":false},{"$f":"IF(Table9[[#This Row],[Part Covered in Skybridge?]],  IF(COUNTIFS(Table6[v2 Part attainment through these features?],TRUE,Table6[v2 Feature.Part],Table9[[#This Row],[Feature.Part]])>0,TRUE,FALSE),FALSE)","v":false},{"$f":"IF(Table9[[#This Row],[Part attained in v2?]],\nIF(Table9[[#This Row],[Feature]]=\"I01\",COUNTIFS(Table6[WELL v2 Feature],\"I01\",Table6[v1 feature 1 attainment],\"Y\"),\nVLOOKUP(Table9[[#This Row],[Feature.Part]],Table6[[v2 Feature.Part]:[Part points]],7,FALSE)),0)","v":0},{"$f":"IF(Table9[[#This Row],[Part attained in v2?]],IF(Table9[[#This Row],[Type]]=\"Precondition\",\"Y\",Table9[[#This Row],[v2 points]]),0)","v":0},{"$f":"VLOOKUP(Table9[[#This Row],[Feature]],Table5[],12,FALSE)","v":"Thermal Comfort"}]
["X11",1,{"$f":"CONCATENATE(Table6[[#This Row],[WELL v2 Feature]],\".\",Table6[[#This Row],[v2 Part]])","v":"X11.1"},9,null,null,null,1.5,{"$f":"IF('v1 Project Information'!$C$4=\"Core and Shell\",IF(Table6[[#This Row],[v2 Core Points (if less than max)]]>0,Table6[[#This Row],[v2 Core Points (if less than max)]],VLOOKUP(Table6[[#This Row],[v2 Feature.Part]],Table5[[Feature.Part]:[Points]],4,FALSE)),IF(Table6[[#This Row],[v2 WBS Points (if less than max)]]>0,Table6[[#This Row],[v2 WBS Points (if less than max)]],VLOOKUP(Table6[[#This Row],[v2 Feature.Part]],Table5[[Feature.Part]:[Points]],4,FALSE)))","v":1},{"$f":"VLOOKUP(Table6[[#This Row],[WELL v1 Feature 1]],Table4[],4,FALSE)","v":"Y"},{"$f":"_xlfn.IFNA(VLOOKUP(Table6[[#This Row],[WELL v1 Feature 2]],Table4[],4,FALSE),\"Y\")","v":"Y"},{"$f":"_xlfn.IFNA(VLOOKUP(Table6[[#This Row],[WELL v1 Feature 3]],Table4[],4,FALSE),\"Y\")","v":"Y"},{"$f":"IF(COUNTIF(Table6[[#This Row],[v1 feature 1 attainment]:[v1 feature 3 attainment]],\"Y\")=3,TRUE,FALSE)","v":true},{"$f":"VLOOKUP(Table6[[#This Row],[WELL v2 Feature]],Table5[],7,FALSE)","v":8},{"$f":"VLOOKUP(Table6[[#This Row],[WELL v2 Feature]],Table5[],9,FALSE)","v":0.5},{"$f":"VLOOKUP(Table6[[#This Row],[WELL v2 Feature]],Table5[],10,FALSE)","v":1},{"$f":"VLOOKUP(Table6[[#This Row],[WELL v2 Feature]],Table5[],8,FALSE)","v":"Limit"},null,null,null,"T09",1,{"$f":"CONCATENATE(Table9[[#This Row],[Feature]],\".\",Table9[[#This Row],[Part]])","v":"T09.1"},{"$f":"VLOOKUP(Table9[[#This Row],[Feature]],Table5[],5,FALSE)","v":"Optimization"},{"$f":"NOT(ISNA(_xlfn.IFNA(VLOOKUP(Table9[[#This Row],[Feature.Part]],Table6[v2 Feature.Part],1,FALSE),VLOOKUP(CONCATENATE(Table9[[#This Row],[Feature]],\".\",\"All\"),Table6[v2 Feature.Part],1,FALSE))))","v":false},{"$f":"IF(Table9[[#This Row],[Part Covered in Skybridge?]],  IF(COUNTIFS(Table6[v2 Part attainment through these features?],TRUE,Table6[v2 Feature.Part],Table9[[#This Row],[Feature.Part]])>0,TRUE,FALSE),FALSE)","v":false},{"$f":"IF(Table9[[#This Row],[Part attained in v2?]],\nIF(Table9[[#This Row],[Feature]]=\"I01\",COUNTIFS(Table6[WELL v2 Feature],\"I01\",Table6[v1 feature 1 attainment],\"Y\"),\nVLOOKUP(Table9[[#This Row],[Feature.Part]],Table6[[v2 Feature.Part]:[Part points]],7,FALSE)),0)","v":0},{"$f":"IF(Table9[[#This Row],[Part attained in v2?]],IF(Table9[[#This Row],[Type]]=\"Precondition\",\"Y\",Table9[[#This Row],[v2 points]]),0)","v":0},{"$f":"VLOOKUP(Table9[[#This Row],[Feature]],Table5[],12,FALSE)","v":"Thermal Comfort"}]
["X11",2,{"$f":"CONCATENATE(Table6[[#This Row],[WELL v2 Feature]],\".\",Table6[[#This Row],[v2 Part]])","v":"X11.2"},9,null,null,null,1.5,{"$f":"IF('v1 Project Information'!$C$4=\"Core and Shell\",IF(Table6[[#This Row],[v2 Core Points (if less than max)]]>0,Table6[[#This Row],[v2 Core Points (if less than max)]],VLOOKUP(Table6[[#This Row],[v2 Feature.Part]],Table5[[Feature.Part]:[Points]],4,FALSE)),IF(Table6[[#This Row],[v2 WBS Points (if less than max)]]>0,Table6[[#This Row],[v2 WBS Points (if less than max)]],VLOOKUP(Table6[[#This Row],[v2 Feature.Part]],Table5[[Feature.Part]:[Points]],4,FALSE)))","v":1},{"$f":"VLOOKUP(Table6[[#This Row],[WELL v1 Feature 1]],Table4[],4,FALSE)","v":"Y"},{"$f":"_xlfn.IFNA(VLOOKUP(Table6[[#This Row],[WELL v1 Feature 2]],Table4[],4,FALSE),\"Y\")","v":"Y"},{"$f":"_xlfn.IFNA(VLOOKUP(Table6[[#This Row],[WELL v1 Feature 3]],Table4[],4,FALSE),\"Y\")","v":"Y"},{"$f":"IF(COUNTIF(Table6[[#This Row],[v1 feature 1 attainment]:[v1 feature 3 attainment]],\"Y\")=3,TRUE,FALSE)","v":true},{"$f":"VLOOKUP(Table6[[#This Row],[WELL v2 Feature]],Table5[],7,FALSE)","v":8},{"$f":"VLOOKUP(Table6[[#This Row],[WELL v2 Feature]],Table5[],9,FALSE)","v":0.5},{"$f":"VLOOKUP(Table6[[#This Row],[WELL v2 Feature]],Table5[],10,FALSE)","v":1},{"$f":"VLOOKUP(Table6[[#This Row],[WELL v2 Feature]],Table5[],8,FALSE)","v":"Limit"},null,null,null,"T09",2,{"$f":"CONCATENATE(Table9[[#This Row],[Feature]],\".\",Table9[[#This Row],[Part]])","v":"T09.2"},{"$f":"VLOOKUP(Table9[[#This Row],[Feature]],Table5[],5,FALSE)","v":"Optimization"},{"$f":"NOT(ISNA(_xlfn.IFNA(VLOOKUP(Table9[[#This Row],[Feature.Part]],Table6[v2 Feature.Part],1,FALSE),VLOOKUP(CONCATENATE(Table9[[#This Row],[Feature]],\".\",\"All\"),Table6[v2 Feature.Part],1,FALSE))))","v":false},{"$f":"IF(Table9[[#This Row],[Part Covered in Skybridge?]],  IF(COUNTIFS(Table6[v2 Part attainment through these features?],TRUE,Table6[v2 Feature.Part],Table9[[#This Row],[Feature.Part]])>0,TRUE,FALSE),FALSE)","v":false},{"$f":"IF(Table9[[#This Row],[Part attained in v2?]],\nIF(Table9[[#This Row],[Feature]]=\"I01\",COUNTIFS(Table6[WELL v2 Feature],\"I01\",Table6[v1 feature 1 attainment],\"Y\"),\nVLOOKUP(Table9[[#This Row],[Feature.Part]],Table6[[v2 Feature.Part]:[Part points]],7,FALSE)),0)","v":0},{"$f":"IF(Table9[[#This Row],[Part attained in v2?]],IF(Table9[[#This Row],[Type]]=\"Precondition\",\"Y\",Table9[[#This Row],[v2 points]]),0)","v":0},{"$f":"VLOOKUP(Table9[[#This Row],[Feature]],Table5[],12,FALSE)","v":"Thermal Comfort"}]
["M02",1,{"$f":"CONCATENATE(Table6[[#This Row],[WELL v2 Feature]],\".\",Table6[[#This Row],[v2 Part]])","v":"M02.1"},88,null,null,null,null,{"$f":"IF('v1 Project Information'!$C$4=\"Core and Shell\",IF(Table6[[#This Row],[v2 Core Points (if less than max)]]>0,Table6[[#This Row],[v2 Core Points (if less than max)]],VLOOKUP(Table6[[#This Row],[v2 Feature.Part]],Table5[[Feature.Part]:[Points]],4,FALSE)),IF(Table6[[#This Row],[v2 WBS Points (if less than max)]]>0,Table6[[#This Row],[v2 WBS Points (if less than max)]],VLOOKUP(Table6[[#This Row],[v2 Feature.Part]],Table5[[Feature.Part]:[Points]],4,FALSE)))","v":"P"},{"$f":"VLOOKUP(Table6[[#This Row],[WELL v1 Feature 1]],Table4[],4,FALSE)","v":"Y"},{"$f":"_xlfn.IFNA(VLOOKUP(Table6[[#This Row],[WELL v1 Feature 2]],Table4[],4,FALSE),\"Y\")","v":"Y"},{"$f":"_xlfn.IFNA(VLOOKUP(Table6[[#This Row],[WELL v1 Feature 3]],Table4[],4,FALSE),\"Y\")","v":"Y"},{"$f":"IF(COUNTIF(Table6[[#This Row],[v1 feature 1 attainment]:[v1 feature 3 attainment]],\"Y\")=3,TRUE,FALSE)","v":true},{"$f":"VLOOKUP(Table6[[#This Row],[WELL v2 Feature]],Table5[],7,FALSE)","v":9},{"$f":"VLOOKUP(Table6[[#This Row],[WELL v2 Feature]],Table5[],9,FALSE)","v":"P"},{"$f":"VLOOKUP(Table6[[#This Row],[WELL v2 Feature]],Table5[],10,FALSE)","v":0},{"$f":"VLOOKUP(Table6[[#This Row],[WELL v2 Feature]],Table5[],8,FALSE)","v":0},null,null,null,"S01",1,{"$f":"CONCATENATE(Table9[[#This Row],[Feature]],\".\",Table9[[#This Row],[Part]])","v":"S01.1"},{"$f":"VLOOKUP(Table9[[#This Row],[Feature]],Table5[],5,FALSE)","v":"Precondition"},{"$f":"NOT(ISNA(_xlfn.IFNA(VLOOKUP(Table9[[#This Row],[Feature.Part]],Table6[v2 Feature.Part],1,FALSE),VLOOKUP(CONCATENATE(Table9[[#This Row],[Feature]],\".\",\"All\"),Table6[v2 Feature.Part],1,FALSE))))","v":true},{"$f":"IF(Table9[[#This Row],[Part Covered in Skybridge?]],  IF(COUNTIFS(Table6[v2 Part attainment through these features?],TRUE,Table6[v2 Feature.Part],Table9[[#This Row],[Feature.Part]])>0,TRUE,FALSE),FALSE)","v":true},{"$f":"IF(Table9[[#This Row],[Part attained in v2?]],\nIF(Table9[[#This Row],[Feature]]=\"I01\",COUNTIFS(Table6[WELL v2 Feature],\"I01\",Table6[v1 feature 1 attainment],\"Y\"),\nVLOOKUP(Table9[[#This Row],[Feature.Part]],Table6[[v2 Feature.Part]:[Part points]],7,FALSE)),0)","v":"P"},{"$f":"IF(Table9[[#This Row],[Part attained in v2?]],IF(Table9[[#This Row],[Type]]=\"Precondition\",\"Y\",Table9[[#This Row],[v2 points]]),0)","v":"Y"},{"$f":"VLOOKUP(Table9[[#This Row],[Feature]],Table5[],12,FALSE)","v":"Sound"}]
["M02",2,{"$f":"CONCATENATE(Table6[[#This Row],[WELL v2 Feature]],\".\",Table6[[#This Row],[v2 Part]])","v":"M02.2"},87,null,null,null,null,{"$f":"IF('v1 Project Information'!$C$4=\"Core and Shell\",IF(Table6[[#This Row],[v2 Core Points (if less than max)]]>0,Table6[[#This Row],[v2 Core Points (if less than max)]],VLOOKUP(Table6[[#This Row],[v2 Feature.Part]],Table5[[Feature.Part]:[Points]],4,FALSE)),IF(Table6[[#This Row],[v2 WBS Points (if less than max)]]>0,Table6[[#This Row],[v2 WBS Points (if less than max)]],VLOOKUP(Table6[[#This Row],[v2 Feature.Part]],Table5[[Feature.Part]:[Points]],4,FALSE)))","v":"P"},{"$f":"VLOOKUP(Table6[[#This Row],[WELL v1 Feature 1]],Table4[],4,FALSE)","v":"Y"},{"$f":"_xlfn.IFNA(VLOOKUP(Table6[[#This Row],[WELL v1 Feature 2]],Table4[],4,FALSE),\"Y\")","v":"Y"},{"$f":"_xlfn.IFNA(VLOOKUP(Table6[[#This Row],[WELL v1 Feature 3]],Table4[],4,FALSE),\"Y\")","v":"Y"},{"$f":"IF(COUNTIF(Table6[[#This Row],[v1 feature 1 attainment]:[v1 feature 3 attainment]],\"Y\")=3,TRUE,FALSE)","v":true},{"$f":"VLOOKUP(Table6[[#This Row],[WELL v2 Feature]],Table5[],7,FALSE)","v":9},{"$f":"VLOOKUP(Table6[[#This Row],[WELL v2 Feature]],Table5[],9,FALSE)","v":"P"},{"$f":"VLOOKUP(Table6[[#This Row],[WELL v2 Feature]],Table5[],10,FALSE)","v":0},{"$f":"VLOOKUP(Table6[[#This Row],[WELL v2 Feature]],Table5[],8,FALSE)","v":0},null,null,null,"S01",2,{"$f":"CONCATENATE(Table9[[#This Row],[Feature]],\".\",Table9[[#This Row],[Part]])","v":"S01.2"},{"$f":"VLOOKUP(Table9[[#This Row],[Feature]],Table5[],5,FALSE)","v":"Precondition"},{"$f":"NOT(ISNA(_xlfn.IFNA(VLOOKUP(Table9[[#This Row],[Feature.Part]],Table6[v2 Feature.Part],1,FALSE),VLOOKUP(CONCATENATE(Table9[[#This Row],[Feature]],\".\",\"All\"),Table6[v2 Feature.Part],1,FALSE))))","v":true},{"$f":"IF(Table9[[#This Row],[Part Covered in Skybridge?]],  IF(COUNTIFS(Table6[v2 Part attainment through these features?],TRUE,Table6[v2 Feature.Part],Table9[[#This Row],[Feature.Part]])>0,TRUE,FALSE),FALSE)","v":true},{"$f":"IF(Table9[[#This Row],[Part attained in v2?]],\nIF(Table9[[#This Row],[Feature]]=\"I01\",COUNTIFS(Table6[WELL v2 Feature],\"I01\",Table6[v1 feature 1 attainment],\"Y\"),\nVLOOKUP(Table9[[#This Row],[Feature.Part]],Table6[[v2 Feature.Part]:[Part points]],7,FALSE)),0)","v":"P"},{"$f":"IF(Table9[[#This Row],[Part attained in v2?]],IF(Table9[[#This Row],[Type]]=\"Precondition\",\"Y\",Table9[[#This Row],[v2 points]]),0)","v":"Y"},{"$f":"VLOOKUP(Table9[[#This Row],[Feature]],Table5[],12,FALSE)","v":"Sound"}]
["M06",2,{"$f":"CONCATENATE(Table6[[#This Row],[WELL v2 Feature]],\".\",Table6[[#This Row],[v2 Part]])","v":"M06.2"},90,null,null,null,0.5,{"$f":"IF('v1 Project Information'!$C$4=\"Core and Shell\",IF(Table6[[#This Row],[v2 Core Points (if less than max)]]>0,Table6[[#This Row],[v2 Core Points (if less than max)]],VLOOKUP(Table6[[#This Row],[v2 Feature.Part]],Table5[[Feature.Part]:[Points]],4,FALSE)),IF(Table6[[#This Row],[v2 WBS Points (if less than max)]]>0,Table6[[#This Row],[v2 WBS Points (if less than max)]],VLOOKUP(Table6[[#This Row],[v2 Feature.Part]],Table5[[Feature.Part]:[Points]],4,FALSE)))","v":1},{"$f":"VLOOKUP(Table6[[#This Row],[WELL v1 Feature 1]],Table4[],4,FALSE)","v":"N"},{"$f":"_xlfn.IFNA(VLOOKUP(Table6[[#This Row],[WELL v1 Feature 2]],Table4[],4,FALSE),\"Y\")","v":"Y"},{"$f":"_xlfn.IFNA(VLOOKUP(Table6[[#This Row],[WELL v1 Feature 3]],Table4[],4,FALSE),\"Y\")","v":"Y"},{"$f":"IF(COUNTIF(Table6[[#This Row],[v1 feature 1 attainment]:[v1 feature 3 attainment]],\"Y\")=3,TRUE,FALSE)","v":false},{"$f":"VLOOKUP(Table6[[#This Row],[WELL v2 Feature]],Table5[],7,FALSE)","v":9},{"$f":"VLOOKUP(Table6[[#This Row],[WELL v2 Feature]],Table5[],9,FALSE)","v":0.5},{"$f":"VLOOKUP(Table6[[#This Row],[WELL v2 Feature]],Table5[],10,FALSE)","v":0},{"$f":"VLOOKUP(Table6[[#This Row],[WELL v2 Feature]],Table5[],8,FALSE)","v":"Limit"},null,null,null,"S02",1,{"$f":"CONCATENATE(Table9[[#This Row],[Feature]],\".\",Table9[[#This Row],[Part]])","v":"S02.1"},{"$f":"VLOOKUP(Table9[[#This Row],[Feature]],Table5[],5,FALSE)","v":"Optimization"},{"$f":"NOT(ISNA(_xlfn.IFNA(VLOOKUP(Table9[[#This Row],[Feature.Part]],Table6[v2 Feature.Part],1,FALSE),VLOOKUP(CONCATENATE(Table9[[#This Row],[Feature]],\".\",\"All\"),Table6[v2 Feature.Part],1,FALSE))))","v":true},{"$f":"IF(Table9[[#This Row],[Part Covered in Skybridge?]],  IF(COUNTIFS(Table6[v2 Part attainment through these features?],TRUE,Table6[v2 Feature.Part],Table9[[#This Row],[Feature.Part]])>0,TRUE,FALSE),FALSE)","v":true},{"$f":"IF(Table9[[#This Row],[Part attained in v2?]],\nIF(Table9[[#This Row],[Feature]]=\"I01\",COUNTIFS(Table6[WELL v2 Feature],\"I01\",Table6[v1 feature 1 attainment],\"Y\"),\nVLOOKUP(Table9[[#This Row],[Feature.Part]],Table6[[v2 Feature.Part]:[Part points]],7,FALSE)),0)","v":3},{"$f":"IF(Table9[[#This Row],[Part attained in v2?]],IF(Table9[[#This Row],[Type]]=\"Precondition\",\"Y\",Table9[[#This Row],[v2 points]]),0)","v":3},{"$f":"VLOOKUP(Table9[[#This Row],[Feature]],Table5[],12,FALSE)","v":"Sound"}]
["M07",1,{"$f":"CONCATENATE(Table6[[#This Row],[WELL v2 Feature]],\".\",Table6[[#This Row],[v2 Part]])","v":"M07.1"},89,null,null,null,2,{"$f":"IF('v1 Project Information'!$C$4=\"Core and Shell\",IF(Table6[[#This Row],[v2 Core Points (if less than max)]]>0,Table6[[#This Row],[v2 Core Points (if less than max)]],VLOOKUP(Table6[[#This Row],[v2 Feature.Part]],Table5[[Feature.Part]:[Points]],4,FALSE)),IF(Table6[[#This Row],[v2 WBS Points (if less than max)]]>0,Table6[[#This Row],[v2 WBS Points (if less than max)]],VLOOKUP(Table6[[#This Row],[v2 Feature.Part]],Table5[[Feature.Part]:[Points]],4,FALSE)))","v":1},{"$f":"VLOOKUP(Table6[[#This Row],[WELL v1 Feature 1]],Table4[],4,FALSE)","v":"N"},{"$f":"_xlfn.IFNA(VLOOKUP(Table6[[#This Row],[WELL v1 Feature 2]],Table4[],4,FALSE),\"Y\")","v":"Y"},{"$f":"_xlfn.IFNA(VLOOKUP(Table6[[#This Row],[WELL v1 Feature 3]],Table4[],4,FALSE),\"Y\")","v":"Y"},{"$f":"IF(COUNTIF(Table6[[#This Row],[v1 feature 1 attainment]:[v1 feature 3 attainment]],\"Y\")=3,TRUE,FALSE)","v":false},{"$f":"VLOOKUP(Table6[[#This Row],[WELL v2 Feature]],Table5[],7,FALSE)","v":9},{"$f":"VLOOKUP(Table6[[#This Row],[WELL v2 Feature]],Table5[],9,FALSE)","v":2},{"$f":"VLOOKUP(Table6[[#This Row],[WELL v2 Feature]],Table5[],10,FALSE)","v":0},{"$f":"VLOOKUP(Table6[[#This Row],[WELL v2 Feature]],Table5[],8,FALSE)","v":"Bonus"},null,null,null,"S03",1,{"$f":"CONCATENATE(Table9[[#This Row],[Feature]],\".\",Table9[[#This Row],[Part]])","v":"S03.1"},{"$f":"VLOOKUP(Table9[[#This Row],[Feature]],Table5[],5,FALSE)","v":"Optimization"},{"$f":"NOT(ISNA(_xlfn.IFNA(VLOOKUP(Table9[[#This Row],[Feature.Part]],Table6[v2 Feature.Part],1,FALSE),VLOOKUP(CONCATENATE(Table9[[#This Row],[Feature]],\".\",\"All\"),Table6[v2 Feature.Part],1,FALSE))))","v":true},{"$f":"IF(Table9[[#This Row],[Part Covered in Skybridge?]],  IF(COUNTIFS(Table6[v2 Part attainment through these features?],TRUE,Table6[v2 Feature.Part],Table9[[#This Row],[Feature.Part]])>0,TRUE,FALSE),FALSE)","v":false},{"$f":"IF(Table9[[#This Row],[Part attained in v2?]],\nIF(Table9[[#This Row],[Feature]]=\"I01\",COUNTIFS(Table6[WELL v2 Feature],\"I01\",Table6[v1 feature 1 attainment],\"Y\"),\nVLOOKUP(Table9[[#This Row],[Feature.Part]],Table6[[v2 Feature.Part]:[Part points]],7,FALSE)),0)","v":0},{"$f":"IF(Table9[[#This Row],[Part attained in v2?]],IF(Table9[[#This Row],[Type]]=\"Precondition\",\"Y\",Table9[[#This Row],[v2 points]]),0)","v":0},{"$f":"VLOOKUP(Table9[[#This Row],[Feature]],Table5[],12,FALSE)","v":"Sound"}]
["M09",1,{"$f":"CONCATENATE(Table6[[#This Row],[WELL v2 Feature]],\".\",Table6[[#This Row],[v2 Part]])","v":"M09.1"},100,null,null,null,2,{"$f":"IF('v1 Project Information'!$C$4=\"Core and Shell\",IF(Table6[[#This Row],[v2 Core Points (if less than max)]]>0,Table6[[#This Row],[v2 Core Points (if less than max)]],VLOOKUP(Table6[[#This Row],[v2 Feature.Part]],Table5[[Feature.Part]:[Points]],4,FALSE)),IF(Table6[[#This Row],[v2 WBS Points (if less than max)]]>0,Table6[[#This Row],[v2 WBS Points (if less than max)]],VLOOKUP(Table6[[#This Row],[v2 Feature.Part]],Table5[[Feature.Part]:[Points]],4,FALSE)))","v":1},{"$f":"VLOOKUP(Table6[[#This Row],[WELL v1 Feature 1]],Table4[],4,FALSE)","v":"N"},{"$f":"_xlfn.IFNA(VLOOKUP(Table6[[#This Row],[WELL v1 Feature 2]],Table4[],4,FALSE),\"Y\")","v":"Y"},{"$f":"_xlfn.IFNA(VLOOKUP(Table6[[#This Row],[WELL v1 Feature 3]],Table4[],4,FALSE),\"Y\")","v":"Y"},{"$f":"IF(COUNTIF(Table6[[#This Row],[v1 feature 1 attainment]:[v1 feature 3 attainment]],\"Y\")=3,TRUE,FALSE)","v":false},{"$f":"VLOOKUP(Table6[[#This Row],[WELL v2 Feature]],Table5[],7,FALSE)","v":9},{"$f":"VLOOKUP(Table6[[#This Row],[WELL v2 Feature]],Table5[],9,FALSE)","v":2},{"$f":"VLOOKUP(Table6[[#This Row],[WELL v2 Feature]],Table5[],10,FALSE)","v":0},{"$f":"VLOOKUP(Table6[[#This Row],[WELL v2 Feature]],Table5[],8,FALSE)","v":"Bonus"},null,null,null,"S03",2,{"$f":"CONCATENATE(Table9[[#This Row],[Feature]],\".\",Table9[[#This Row],[Part]])","v":"S03.2"},{"$f":"VLOOKUP(Table9[[#This Row],[Feature]],Table5[],5,FALSE)","v":"Optimization"},{"$f":"NOT(ISNA(_xlfn.IFNA(VLOOKUP(Table9[[#This Row],[Feature.Part]],Table6[v2 Feature.Part],1,FALSE),VLOOKUP(CONCATENATE(Table9[[#This Row],[Feature]],\".\",\"All\"),Table6[v2 Feature.Part],1,FALSE))))","v":false},{"$f":"IF(Table9[[#This Row],[Part Covered in Skybridge?]],  IF(COUNTIFS(Table6[v2 Part attainment through these features?],TRUE,Table6[v2 Feature.Part],Table9[[#This Row],[Feature.Part]])>0,TRUE,FALSE),FALSE)","v":false},{"$f":"IF(Table9[[#This Row],[Part attained in v2?]],\nIF(Table9[[#This Row],[Feature]]=\"I01\",COUNTIFS(Table6[WELL v2 Feature],\"I01\",Table6[v1 feature 1 attainment],\"Y\"),\nVLOOKUP(Table9[[#This Row],[Feature.Part]],Table6[[v2 Feature.Part]:[Part points]],7,FALSE)),0)","v":0},{"$f":"IF(Table9[[#This Row],[Part attained in v2?]],IF(Table9[[#This Row],[Type]]=\"Precondition\",\"Y\",Table9[[#This Row],[v2 points]]),0)","v":0},{"$f":"VLOOKUP(Table9[[#This Row],[Feature]],Table5[],12,FALSE)","v":"Sound"}]
["M09",2,{"$f":"CONCATENATE(Table6[[#This Row],[WELL v2 Feature]],\".\",Table6[[#This Row],[v2 Part]])","v":"M09.2"},100,null,null,null,2,{"$f":"IF('v1 Project Information'!$C$4=\"Core and Shell\",IF(Table6[[#This Row],[v2 Core Points (if less than max)]]>0,Table6[[#This Row],[v2 Core Points (if less than max)]],VLOOKUP(Table6[[#This Row],[v2 Feature.Part]],Table5[[Feature.Part]:[Points]],4,FALSE)),IF(Table6[[#This Row],[v2 WBS Points (if less than max)]]>0,Table6[[#This Row],[v2 WBS Points (if less than max)]],VLOOKUP(Table6[[#This Row],[v2 Feature.Part]],Table5[[Feature.Part]:[Points]],4,FALSE)))","v":1},{"$f":"VLOOKUP(Table6[[#This Row],[WELL v1 Feature 1]],Table4[],4,FALSE)","v":"N"},{"$f":"_xlfn.IFNA(VLOOKUP(Table6[[#This Row],[WELL v1 Feature 2]],Table4[],4,FALSE),\"Y\")","v":"Y"},{"$f":"_xlfn.IFNA(VLOOKUP(Table6[[#This Row],[WELL v1 Feature 3]],Table4[],4,FALSE),\"Y\")","v":"Y"},{"$f":"IF(COUNTIF(Table6[[#This Row],[v1 feature 1 attainment]:[v1 feature 3 attainment]],\"Y\")=3,TRUE,FALSE)","v":false},{"$f":"VLOOKUP(Table6[[#This Row],[WELL v2 Feature]],Table5[],7,FALSE)","v":9},{"$f":"VLOOKUP(Table6[[#This Row],[WELL v2 Feature]],Table5[],9,FALSE)","v":2},{"$f":"VLOOKUP(Table6[[#This Row],[WELL v2 Feature]],Table5[],10,FALSE)","v":0},{"$f":"VLOOKUP(Table6[[#This Row],[WELL v2 Feature]],Table5[],8,FALSE)","v":"Bonus"},null,null,null,"S04",1,{"$f":"CONCATENATE(Table9[[#This Row],[Feature]],\".\",Table9[[#This Row],[Part]])","v":"S04.1"},{"$f":"VLOOKUP(Table9[[#This Row],[Feature]],Table5[],5,FALSE)","v":"Optimization"},{"$f":"NOT(ISNA(_xlfn.IFNA(VLOOKUP(Table9[[#This Row],[Feature.Part]],Table6[v2 Feature.Part],1,FALSE),VLOOKUP(CONCATENATE(Table9[[#This Row],[Feature]],\".\",\"All\"),Table6[v2 Feature.Part],1,FALSE))))","v":true},{"$f":"IF(Table9[[#This Row],[Part Covered in Skybridge?]],  IF(COUNTIFS(Table6[v2 Part attainment through these features?],TRUE,Table6[v2 Feature.Part],Table9[[#This Row],[Feature.Part]])>0,TRUE,FALSE),FALSE)","v":false},{"$f":"IF(Table9[[#This Row],[Part attained in v2?]],\nIF(Table9[[#This Row],[Feature]]=\"I01\",COUNTIFS(Table6[WELL v2 Feature],\"I01\",Table6[v1 feature 1 attainment],\"Y\"),\nVLOOKUP(Table9[[#This Row],[Feature.Part]],Table6[[v2 Feature.Part]:[Part points]],7,FALSE)),0)","v":0},{"$f":"IF(Table9[[#This Row],[Part attained in v2?]],IF(Table9[[#This Row],[Type]]=\"Precondition\",\"Y\",Table9[[#This Row],[v2 points]]),0)","v":0},{"$f":"VLOOKUP(Table9[[#This Row],[Feature]],Table5[],12,FALSE)","v":"Sound"}]
["M11",2,{"$f":"CONCATENATE(Table6[[#This Row],[WELL v2 Feature]],\".\",Table6[[#This Row],[v2 Part]])","v":"M11.2"},95,null,null,null,0.5,{"$f":"IF('v1 Project Information'!$C$4=\"Core and Shell\",IF(Table6[[#This Row],[v2 Core Points (if less than max)]]>0,Table6[[#This Row],[v2 Core Points (if less than max)]],VLOOKUP(Table6[[#This Row],[v2 Feature.Part]],Table5[[Feature.Part]:[Points]],4,FALSE)),IF(Table6[[#This Row],[v2 WBS Points (if less than max)]]>0,Table6[[#This Row],[v2 WBS Points (if less than max)]],VLOOKUP(Table6[[#This Row],[v2 Feature.Part]],Table5[[Feature.Part]:[Points]],4,FALSE)))","v":1},{"$f":"VLOOKUP(Table6[[#This Row],[WELL v1 Feature 1]],Table4[],4,FALSE)","v":"N"},{"$f":"_xlfn.IFNA(VLOOKUP(Table6[[#This Row],[WELL v1 Feature 2]],Table4[],4,FALSE),\"Y\")","v":"Y"},{"$f":"_xlfn.IFNA(VLOOKUP(Table6[[#This Row],[WELL v1 Feature 3]],Table4[],4,FALSE),\"Y\")","v":"Y"},{"$f":"IF(COUNTIF(Table6[[#This Row],[v1 feature 1 attainment]:[v1 feature 3 attainment]],\"Y\")=3,TRUE,FALSE)","v":false},{"$f":"VLOOKUP(Table6[[#This Row],[WELL v2 Feature]],Table5[],7,FALSE)","v":9},{"$f":"VLOOKUP(Table6[[#This Row],[WELL v2 Feature]],Table5[],9,FALSE)","v":0.5},{"$f":"VLOOKUP(Table6[[#This Row],[WELL v2 Feature]],Table5[],10,FALSE)","v":0},{"$f":"VLOOKUP(Table6[[#This Row],[WELL v2 Feature]],Table5[],8,FALSE)","v":"Limit"},null,null,null,"S05",1,{"$f":"CONCATENATE(Table9[[#This Row],[Feature]],\".\",Table9[[#This Row],[Part]])","v":"S05.1"},{"$f":"VLOOKUP(Table9[[#This Row],[Feature]],Table5[],5,FALSE)","v":"Optimization"},{"$f":"NOT(ISNA(_xlfn.IFNA(VLOOKUP(Table9[[#This Row],[Feature.Part]],Table6[v2 Feature.Part],1,FALSE),VLOOKUP(CONCATENATE(Table9[[#This Row],[Feature]],\".\",\"All\"),Table6[v2 Feature.Part],1,FALSE))))","v":true},{"$f":"IF(Table9[[#This Row],[Part Covered in Skybridge?]],  IF(COUNTIFS(Table6[v2 Part attainment through these features?],TRUE,Table6[v2 Feature.Part],Table9[[#This Row],[Feature.Part]])>0,TRUE,FALSE),FALSE)","v":false},{"$f":"IF(Table9[[#This Row],[Part attained in v2?]],\nIF(Table9[[#This Row],[Feature]]=\"I01\",COUNTIFS(Table6[WELL v2 Feature],\"I01\",Table6[v1 feature 1 attainment],\"Y\"),\nVLOOKUP(Table9[[#This Row],[Feature.Part]],Table6[[v2 Feature.Part]:[Part points]],7,FALSE)),0)","v":0},{"$f":"IF(Table9[[#This Row],[Part attained in v2?]],IF(Table9[[#This Row],[Type]]=\"Precondition\",\"Y\",Table9[[#This Row],[v2 points]]),0)","v":0},{"$f":"VLOOKUP(Table9[[#This Row],[Feature]],Table5[],12,FALSE)","v":"Sound"}]
["C01",1,{"$f":"CONCATENATE(Table6[[#This Row],[WELL v2 Feature]],\".\",Table6[[#This Row],[v2 Part]])","v":"C01.1"},84,null,null,null,null,{"$f":"IF('v1 Project Information'!$C$4=\"Core and Shell\",IF(Table6[[#This Row],[v2 Core Points (if less than max)]]>0,Table6[[#This Row],[v2 Core Points (if less than max)]],VLOOKUP(Table6[[#This Row],[v2 Feature.Part]],Table5[[Feature.Part]:[Points]],4,FALSE)),IF(Table6[[#This Row],[v2 WBS Points (if less than max)]]>0,Table6[[#This Row],[v2 WBS Points (if less than max)]],VLOOKUP(Table6[[#This Row],[v2 Feature.Part]],Table5[[Feature.Part]:[Points]],4,FALSE)))","v":"P"},{"$f":"VLOOKUP(Table6[[#This Row],[WELL v1 Feature 1]],Table4[],4,FALSE)","v":"Y"},{"$f":"_xlfn.IFNA(VLOOKUP(Table6[[#This Row],[WELL v1 Feature 2]],Table4[],4,FALSE),\"Y\")","v":"Y"},{"$f":"_xlfn.IFNA(VLOOKUP(Table6[[#This Row],[WELL v1 Feature 3]],Table4[],4,FALSE),\"Y\")","v":"Y"},{"$f":"IF(COUNTIF(Table6[[#This Row],[v1 feature 1 attainment]:[v1 feature 3 attainment]],\"Y\")=3,TRUE,FALSE)","v":true},{"$f":"VLOOKUP(Table6[[#This Row],[WELL v2 Feature]],Table5[],7,FALSE)","v":10},{"$f":"VLOOKUP(Table6[[#This Row],[WELL v2 Feature]],Table5[],9,FALSE)","v":"P"},{"$f":"VLOOKUP(Table6[[#This Row],[WELL v2 Feature]],Table5[],10,FALSE)","v":0},{"$f":"VLOOKUP(Table6[[#This Row],[WELL v2 Feature]],Table5[],8,FALSE)","v":0},null,null,null,"S06",1,{"$f":"CONCATENATE(Table9[[#This Row],[Feature]],\".\",Table9[[#This Row],[Part]])","v":"S06.1"},{"$f":"VLOOKUP(Table9[[#This Row],[Feature]],Table5[],5,FALSE)","v":"Optimization"},{"$f":"NOT(ISNA(_xlfn.IFNA(VLOOKUP(Table9[[#This Row],[Feature.Part]],Table6[v2 Feature.Part],1,FALSE),VLOOKUP(CONCATENATE(Table9[[#This Row],[Feature]],\".\",\"All\"),Table6[v2 Feature.Part],1,FALSE))))","v":true},{"$f":"IF(Table9[[#This Row],[Part Covered in Skybridge?]],  IF(COUNTIFS(Table6[v2 Part attainment through these features?],TRUE,Table6[v2 Feature.Part],Table9[[#This Row],[Feature.Part]])>0,TRUE,FALSE),FALSE)","v":false},{"$f":"IF(Table9[[#This Row],[Part attained in v2?]],\nIF(Table9[[#This Row],[Feature]]=\"I01\",COUNTIFS(Table6[WELL v2 Feature],\"I01\",Table6[v1 feature 1 attainment],\"Y\"),\nVLOOKUP(Table9[[#This Row],[Feature.Part]],Table6[[v2 Feature.Part]:[Part points]],7,FALSE)),0)","v":0},{"$f":"IF(Table9[[#This Row],[Part attained in v2?]],IF(Table9[[#This Row],[Type]]=\"Precondition\",\"Y\",Table9[[#This Row],[v2 points]]),0)","v":0},{"$f":"VLOOKUP(Table9[[#This Row],[Feature]],Table5[],12,FALSE)","v":"Sound"}]
["C02",1,{"$f":"CONCATENATE(Table6[[#This Row],[WELL v2 Feature]],\".\",Table6[[#This Row],[v2 Part]])","v":"C02.1"},85,null,null,null,null,{"$f":"IF('v1 Project Information'!$C$4=\"Core and Shell\",IF(Table6[[#This Row],[v2 Core Points (if less than max)]]>0,Table6[[#This Row],[v2 Core Points (if less than max)]],VLOOKUP(Table6[[#This Row],[v2 Feature.Part]],Table5[[Feature.Part]:[Points]],4,FALSE)),IF(Table6[[#This Row],[v2 WBS Points (if less than max)]]>0,Table6[[#This Row],[v2 WBS Points (if less than max)]],VLOOKUP(Table6[[#This Row],[v2 Feature.Part]],Table5[[Feature.Part]:[Points]],4,FALSE)))","v":"P"},{"$f":"VLOOKUP(Table6[[#This Row],[WELL v1 Feature 1]],Table4[],4,FALSE)","v":"Y"},{"$f":"_xlfn.IFNA(VLOOKUP(Table6[[#This Row],[WELL v1 Feature 2]],Table4[],4,FALSE),\"Y\")","v":"Y"},{"$f":"_xlfn.IFNA(VLOOKUP(Table6[[#This Row],[WELL v1 Feature 3]],Table4[],4,FALSE),\"Y\")","v":"Y"},{"$f":"IF(COUNTIF(Table6[[#This Row],[v1 feature 1 attainment]:[v1 feature 3 attainment]],\"Y\")=3,TRUE,FALSE)","v":true},{"$f":"VLOOKUP(Table6[[#This Row],[WELL v2 Feature]],Table5[],7,FALSE)","v":10},{"$f":"VLOOKUP(Table6[[#This Row],[WELL v2 Feature]],Table5[],9,FALSE)","v":"P"},{"$f":"VLOOKUP(Table6[[#This Row],[WELL v2 Feature]],Table5[],10,FALSE)","v":0},{"$f":"VLOOKUP(Table6[[#This Row],[WELL v2 Feature]],Table5[],8,FALSE)","v":0},null,null,null,"S06",2,{"$f":"CONCATENATE(Table9[[#This Row],[Feature]],\".\",Table9[[#This Row],[Part]])","v":"S06.2"},{"$f":"VLOOKUP(Table9[[#This Row],[Feature]],Table5[],5,FALSE)","v":"Optimization"},{"$f":"NOT(ISNA(_xlfn.IFNA(VLOOKUP(Table9[[#This Row],[Feature.Part]],Table6[v2 Feature.Part],1,FALSE),VLOOKUP(CONCATENATE(Table9[[#This Row],[Feature]],\".\",\"All\"),Table6[v2 Feature.Part],1,FALSE))))","v":true},{"$f":"IF(Table9[[#This Row],[Part Covered in Skybridge?]],  IF(COUNTIFS(Table6[v2 Part attainment through these features?],TRUE,Table6[v2 Feature.Part],Table9[[#This Row],[Feature.Part]])>0,TRUE,FALSE),FALSE)","v":false},{"$f":"IF(Table9[[#This Row],[Part attained in v2?]],\nIF(Table9[[#This Row],[Feature]]=\"I01\",COUNTIFS(Table6[WELL v2 Feature],\"I01\",Table6[v1 feature 1 attainment],\"Y\"),\nVLOOKUP(Table9[[#This Row],[Feature.Part]],Table6[[v2 Feature.Part]:[Part points]],7,FALSE)),0)","v":0},{"$f":"IF(Table9[[#This Row],[Part attained in v2?]],IF(Table9[[#This Row],[Type]]=\"Precondition\",\"Y\",Table9[[#This Row],[v2 points]]),0)","v":0},{"$f":"VLOOKUP(Table9[[#This Row],[Feature]],Table5[],12,FALSE)","v":"Sound"}]
["C02",2,{"$f":"CONCATENATE(Table6[[#This Row],[WELL v2 Feature]],\".\",Table6[[#This Row],[v2 Part]])","v":"C02.2"},85,null,null,null,null,{"$f":"IF('v1 Project Information'!$C$4=\"Core and Shell\",IF(Table6[[#This Row],[v2 Core Points (if less than max)]]>0,Table6[[#This Row],[v2 Core Points (if less than max)]],VLOOKUP(Table6[[#This Row],[v2 Feature.Part]],Table5[[Feature.Part]:[Points]],4,FALSE)),IF(Table6[[#This Row],[v2 WBS Points (if less than max)]]>0,Table6[[#This Row],[v2 WBS Points (if less than max)]],VLOOKUP(Table6[[#This Row],[v2 Feature.Part]],Table5[[Feature.Part]:[Points]],4,FALSE)))","v":"P"},{"$f":"VLOOKUP(Table6[[#This Row],[WELL v1 Feature 1]],Table4[],4,FALSE)","v":"Y"},{"$f":"_xlfn.IFNA(VLOOKUP(Table6[[#This Row],[WELL v1 Feature 2]],Table4[],4,FALSE),\"Y\")","v":"Y"},{"$f":"_xlfn.IFNA(VLOOKUP(Table6[[#This Row],[WELL v1 Feature 3]],Table4[],4,FALSE),\"Y\")","v":"Y"},{"$f":"IF(COUNTIF(Table6[[#This Row],[v1 feature 1 attainment]:[v1 feature 3 attainment]],\"Y\")=3,TRUE,FALSE)","v":true},{"$f":"VLOOKUP(Table6[[#This Row],[WELL v2 Feature]],Table5[],7,FALSE)","v":10},{"$f":"VLOOKUP(Table6[[#This Row],[WELL v2 Feature]],Table5[],9,FALSE)","v":"P"},{"$f":"VLOOKUP(Table6[[#This Row],[WELL v2 Feature]],Table5[],10,FALSE)","v":0},{"$f":"VLOOKUP(Table6[[#This Row],[WELL v2 Feature]],Table5[],8,FALSE)","v":0},null,null,null,"S07",1,{"$f":"CONCATENATE(Table9[[#This Row],[Feature]],\".\",Table9[[#This Row],[Part]])","v":"S07.1"},{"$f":"VLOOKUP(Table9[[#This Row],[Feature]],Table5[],5,FALSE)","v":"Optimization"},{"$f":"NOT(ISNA(_xlfn.IFNA(VLOOKUP(Table9[[#This Row],[Feature.Part]],Table6[v2 Feature.Part],1,FALSE),VLOOKUP(CONCATENATE(Table9[[#This Row],[Feature]],\".\",\"All\"),Table6[v2 Feature.Part],1,FALSE))))","v":false},{"$f":"IF(Table9[[#This Row],[Part Covered in Skybridge?]],  IF(COUNTIFS(Table6[v2 Part attainment through these features?],TRUE,Table6[v2 Feature.Part],Table9[[#This Row],[Feature.Part]])>0,TRUE,FALSE),FALSE)","v":false},{"$f":"IF(Table9[[#This Row],[Part attained in v2?]],\nIF(Table9[[#This Row],[Feature]]=\"I01\",COUNTIFS(Table6[WELL v2 Feature],\"I01\",Table6[v1 feature 1 attainment],\"Y\"),\nVLOOKUP(Table9[[#This Row],[Feature.Part]],Table6[[v2 Feature.Part]:[Part points]],7,FALSE)),0)","v":0},{"$f":"IF(Table9[[#This Row],[Part attained in v2?]],IF(Table9[[#This Row],[Type]]=\"Precondition\",\"Y\",Table9[[#This Row],[v2 points]]),0)","v":0},{"$f":"VLOOKUP(Table9[[#This Row],[Feature]],Table5[],12,FALSE)","v":"Sound"}]
["C04",1,{"$f":"CONCATENATE(Table6[[#This Row],[WELL v2 Feature]],\".\",Table6[[#This Row],[v2 Part]])","v":"C04.1"},86,null,null,null,null,{"$f":"IF('v1 Project Information'!$C$4=\"Core and Shell\",IF(Table6[[#This Row],[v2 Core Points (if less than max)]]>0,Table6[[#This Row],[v2 Core Points (if less than max)]],VLOOKUP(Table6[[#This Row],[v2 Feature.Part]],Table5[[Feature.Part]:[Points]],4,FALSE)),IF(Table6[[#This Row],[v2 WBS Points (if less than max)]]>0,Table6[[#This Row],[v2 WBS Points (if less than max)]],VLOOKUP(Table6[[#This Row],[v2 Feature.Part]],Table5[[Feature.Part]:[Points]],4,FALSE)))","v":"P"},{"$f":"VLOOKUP(Table6[[#This Row],[WELL v1 Feature 1]],Table4[],4,FALSE)","v":"Y"},{"$f":"_xlfn.IFNA(VLOOKUP(Table6[[#This Row],[WELL v1 Feature 2]],Table4[],4,FALSE),\"Y\")","v":"Y"},{"$f":"_xlfn.IFNA(VLOOKUP(Table6[[#This Row],[WELL v1 Feature 3]],Table4[],4,FALSE),\"Y\")","v":"Y"},{"$f":"IF(COUNTIF(Table6[[#This Row],[v1 feature 1 attainment]:[v1 feature 3 attainment]],\"Y\")=3,TRUE,FALSE)","v":true},{"$f":"VLOOKUP(Table6[[#This Row],[WELL v2 Feature]],Table5[],7,FALSE)","v":10},{"$f":"VLOOKUP(Table6[[#This Row],[WELL v2 Feature]],Table5[],9,FALSE)","v":"P"},{"$f":"VLOOKUP(Table6[[#This Row],[WELL v2 Feature]],Table5[],10,FALSE)","v":0},{"$f":"VLOOKUP(Table6[[#This Row],[WELL v2 Feature]],Table5[],8,FALSE)","v":0},null,null,null,"S07",2,{"$f":"CONCATENATE(Table9[[#This Row],[Feature]],\".\",Table9[[#This Row],[Part]])","v":"S07.2"},{"$f":"VLOOKUP(Table9[[#This Row],[Feature]],Table5[],5,FALSE)","v":"Optimization"},{"$f":"NOT(ISNA(_xlfn.IFNA(VLOOKUP(Table9[[#This Row],[Feature.Part]],Table6[v2 Feature.Part],1,FALSE),VLOOKUP(CONCATENATE(Table9[[#This Row],[Feature]],\".\",\"All\"),Table6[v2 Feature.Part],1,FALSE))))","v":false},{"$f":"IF(Table9[[#This Row],[Part Covered in Skybridge?]],  IF(COUNTIFS(Table6[v2 Part attainment through these features?],TRUE,Table6[v2 Feature.Part],Table9[[#This Row],[Feature.Part]])>0,TRUE,FALSE),FALSE)","v":false},{"$f":"IF(Table9[[#This Row],[Part attained in v2?]],\nIF(Table9[[#This Row],[Feature]]=\"I01\",COUNTIFS(Table6[WELL v2 Feature],\"I01\",Table6[v1 feature 1 attainment],\"Y\"),\nVLOOKUP(Table9[[#This Row],[Feature.Part]],Table6[[v2 Feature.Part]:[Part points]],7,FALSE)),0)","v":0},{"$f":"IF(Table9[[#This Row],[Part attained in v2?]],IF(Table9[[#This Row],[Type]]=\"Precondition\",\"Y\",Table9[[#This Row],[v2 points]]),0)","v":0},{"$f":"VLOOKUP(Table9[[#This Row],[Feature]],Table5[],12,FALSE)","v":"Sound"}]
["C04",2,{"$f":"CONCATENATE(Table6[[#This Row],[WELL v2 Feature]],\".\",Table6[[#This Row],[v2 Part]])","v":"C04.2"},86,null,null,null,null,{"$f":"IF('v1 Project Information'!$C$4=\"Core and Shell\",IF(Table6[[#This Row],[v2 Core Points (if less than max)]]>0,Table6[[#This Row],[v2 Core Points (if less than max)]],VLOOKUP(Table6[[#This Row],[v2 Feature.Part]],Table5[[Feature.Part]:[Points]],4,FALSE)),IF(Table6[[#This Row],[v2 WBS Points (if less than max)]]>0,Table6[[#This Row],[v2 WBS Points (if less than max)]],VLOOKUP(Table6[[#This Row],[v2 Feature.Part]],Table5[[Feature.Part]:[Points]],4,FALSE)))","v":"P"},{"$f":"VLOOKUP(Table6[[#This Row],[WELL v1 Feature 1]],Table4[],4,FALSE)","v":"Y"},{"$f":"_xlfn.IFNA(VLOOKUP(Table6[[#This Row],[WELL v1 Feature 2]],Table4[],4,FALSE),\"Y\")","v":"Y"},{"$f":"_xlfn.IFNA(VLOOKUP(Table6[[#This Row],[WELL v1 Feature 3]],Table4[],4,FALSE),\"Y\")","v":"Y"},{"$f":"IF(COUNTIF(Table6[[#This Row],[v1 feature 1 attainment]:[v1 feature 3 attainment]],\"Y\")=3,TRUE,FALSE)","v":true},{"$f":"VLOOKUP(Table6[[#This Row],[WELL v2 Feature]],Table5[],7,FALSE)","v":10},{"$f":"VLOOKUP(Table6[[#This Row],[WELL v2 Feature]],Table5[],9,FALSE)","v":"P"},{"$f":"VLOOKUP(Table6[[#This Row],[WELL v2 Feature]],Table5[],10,FALSE)","v":0},{"$f":"VLOOKUP(Table6[[#This Row],[WELL v2 Feature]],Table5[],8,FALSE)","v":0},null,null,null,"S08",1,{"$f":"CONCATENATE(Table9[[#This Row],[Feature]],\".\",Table9[[#This Row],[Part]])","v":"S08.1"},{"$f":"VLOOKUP(Table9[[#This Row],[Feature]],Table5[],5,FALSE)","v":"Optimization"},{"$f":"NOT(ISNA(_xlfn.IFNA(VLOOKUP(Table9[[#This Row],[Feature.Part]],Table6[v2 Feature.Part],1,FALSE),VLOOKUP(CONCATENATE(Table9[[#This Row],[Feature]],\".\",\"All\"),Table6[v2 Feature.Part],1,FALSE))))","v":false},{"$f":"IF(Table9[[#This Row],[Part Covered in Skybridge?]],  IF(COUNTIFS(Table6[v2 Part attainment through these features?],TRUE,Table6[v2 Feature.Part],Table9[[#This Row],[Feature.Part]])>0,TRUE,FALSE),FALSE)","v":false},{"$f":"IF(Table9[[#This Row],[Part attained in v2?]],\nIF(Table9[[#This Row],[Feature]]=\"I01\",COUNTIFS(Table6[WELL v2 Feature],\"I01\",Table6[v1 feature 1 attainment],\"Y\"),\nVLOOKUP(Table9[[#This Row],[Feature.Part]],Table6[[v2 Feature.Part]:[Part points]],7,FALSE)),0)","v":0},{"$f":"IF(Table9[[#This Row],[Part attained in v2?]],IF(Table9[[#This Row],[Type]]=\"Precondition\",\"Y\",Table9[[#This Row],[v2 points]]),0)","v":0},{"$f":"VLOOKUP(Table9[[#This Row],[Feature]],Table5[],12,FALSE)","v":"Sound"}]
["C06",1,{"$f":"CONCATENATE(Table6[[#This Row],[WELL v2 Feature]],\".\",Table6[[#This Row],[v2 Part]])","v":"C06.1"},92,null,null,1,1,{"$f":"IF('v1 Project Information'!$C$4=\"Core and Shell\",IF(Table6[[#This Row],[v2 Core Points (if less than max)]]>0,Table6[[#This Row],[v2 Core Points (if less than max)]],VLOOKUP(Table6[[#This Row],[v2 Feature.Part]],Table5[[Feature.Part]:[Points]],4,FALSE)),IF(Table6[[#This Row],[v2 WBS Points (if less than max)]]>0,Table6[[#This Row],[v2 WBS Points (if less than max)]],VLOOKUP(Table6[[#This Row],[v2 Feature.Part]],Table5[[Feature.Part]:[Points]],4,FALSE)))","v":1},{"$f":"VLOOKUP(Table6[[#This Row],[WELL v1 Feature 1]],Table4[],4,FALSE)","v":"N"},{"$f":"_xlfn.IFNA(VLOOKUP(Table6[[#This Row],[WELL v1 Feature 2]],Table4[],4,FALSE),\"Y\")","v":"Y"},{"$f":"_xlfn.IFNA(VLOOKUP(Table6[[#This Row],[WELL v1 Feature 3]],Table4[],4,FALSE),\"Y\")","v":"Y"},{"$f":"IF(COUNTIF(Table6[[#This Row],[v1 feature 1 attainment]:[v1 feature 3 attainment]],\"Y\")=3,TRUE,FALSE)","v":false},{"$f":"VLOOKUP(Table6[[#This Row],[WELL v2 Feature]],Table5[],7,FALSE)","v":10},{"$f":"VLOOKUP(Table6[[#This Row],[WELL v2 Feature]],Table5[],9,FALSE)","v":1},{"$f":"VLOOKUP(Table6[[#This Row],[WELL v2 Feature]],Table5[],10,FALSE)","v":0},{"$f":"VLOOKUP(Table6[[#This Row],[WELL v2 Feature]],Table5[],8,FALSE)","v":"Limit"},null,null,null,"S08",2,{"$f":"CONCATENATE(Table9[[#This Row],[Feature]],\".\",Table9[[#This Row],[Part]])","v":"S08.2"},{"$f":"VLOOKUP(Table9[[#This Row],[Feature]],Table5[],5,FALSE)","v":"Optimization"},{"$f":"NOT(ISNA(_xlfn.IFNA(VLOOKUP(Table9[[#This Row],[Feature.Part]],Table6[v2 Feature.Part],1,FALSE),VLOOKUP(CONCATENATE(Table9[[#This Row],[Feature]],\".\",\"All\"),Table6[v2 Feature.Part],1,FALSE))))","v":false},{"$f":"IF(Table9[[#This Row],[Part Covered in Skybridge?]],  IF(COUNTIFS(Table6[v2 Part attainment through these features?],TRUE,Table6[v2 Feature.Part],Table9[[#This Row],[Feature.Part]])>0,TRUE,FALSE),FALSE)","v":false},{"$f":"IF(Table9[[#This Row],[Part attained in v2?]],\nIF(Table9[[#This Row],[Feature]]=\"I01\",COUNTIFS(Table6[WELL v2 Feature],\"I01\",Table6[v1 feature 1 attainment],\"Y\"),\nVLOOKUP(Table9[[#This Row],[Feature.Part]],Table6[[v2 Feature.Part]:[Part points]],7,FALSE)),0)","v":0},{"$f":"IF(Table9[[#This Row],[Part attained in v2?]],IF(Table9[[#This Row],[Type]]=\"Precondition\",\"Y\",Table9[[#This Row],[v2 points]]),0)","v":0},{"$f":"VLOOKUP(Table9[[#This Row],[Feature]],Table5[],12,FALSE)","v":"Sound"}]
["C10",1,{"$f":"CONCATENATE(Table6[[#This Row],[WELL v2 Feature]],\".\",Table6[[#This Row],[v2 Part]])","v":"C10.1"},93,null,null,1,0.5,{"$f":"IF('v1 Project Information'!$C$4=\"Core and Shell\",IF(Table6[[#This Row],[v2 Core Points (if less than max)]]>0,Table6[[#This Row],[v2 Core Points (if less than max)]],VLOOKUP(Table6[[#This Row],[v2 Feature.Part]],Table5[[Feature.Part]:[Points]],4,FALSE)),IF(Table6[[#This Row],[v2 WBS Points (if less than max)]]>0,Table6[[#This Row],[v2 WBS Points (if less than max)]],VLOOKUP(Table6[[#This Row],[v2 Feature.Part]],Table5[[Feature.Part]:[Points]],4,FALSE)))","v":1},{"$f":"VLOOKUP(Table6[[#This Row],[WELL v1 Feature 1]],Table4[],4,FALSE)","v":"N"},{"$f":"_xlfn.IFNA(VLOOKUP(Table6[[#This Row],[WELL v1 Feature 2]],Table4[],4,FALSE),\"Y\")","v":"Y"},{"$f":"_xlfn.IFNA(VLOOKUP(Table6[[#This Row],[WELL v1 Feature 3]],Table4[],4,FALSE),\"Y\")","v":"Y"},{"$f":"IF(COUNTIF(Table6[[#This Row],[v1 feature 1 attainment]:[v1 feature 3 attainment]],\"Y\")=3,TRUE,FALSE)","v":false},{"$f":"VLOOKUP(Table6[[#This Row],[WELL v2 Feature]],Table5[],7,FALSE)","v":10},{"$f":"VLOOKUP(Table6[[#This Row],[WELL v2 Feature]],Table5[],9,FALSE)","v":0.5},{"$f":"VLOOKUP(Table6[[#This Row],[WELL v2 Feature]],Table5[],10,FALSE)","v":0},{"$f":"VLOOKUP(Table6[[#This Row],[WELL v2 Feature]],Table5[],8,FALSE)","v":"Limit"},null,null,null,"X01",1,{"$f":"CONCATENATE(Table9[[#This Row],[Feature]],\".\",Table9[[#This Row],[Part]])","v":"X01.1"},{"$f":"VLOOKUP(Table9[[#This Row],[Feature]],Table5[],5,FALSE)","v":"Precondition"},{"$f":"NOT(ISNA(_xlfn.IFNA(VLOOKUP(Table9[[#This Row],[Feature.Part]],Table6[v2 Feature.Part],1,FALSE),VLOOKUP(CONCATENATE(Table9[[#This Row],[Feature]],\".\",\"All\"),Table6[v2 Feature.Part],1,FALSE))))","v":true},{"$f":"IF(Table9[[#This Row],[Part Covered in Skybridge?]],  IF(COUNTIFS(Table6[v2 Part attainment through these features?],TRUE,Table6[v2 Feature.Part],Table9[[#This Row],[Feature.Part]])>0,TRUE,FALSE),FALSE)","v":true},{"$f":"IF(Table9[[#This Row],[Part attained in v2?]],\nIF(Table9[[#This Row],[Feature]]=\"I01\",COUNTIFS(Table6[WELL v2 Feature],\"I01\",Table6[v1 feature 1 attainment],\"Y\"),\nVLOOKUP(Table9[[#This Row],[Feature.Part]],Table6[[v2 Feature.Part]:[Part points]],7,FALSE)),0)","v":"P"},{"$f":"IF(Table9[[#This Row],[Part attained in v2?]],IF(Table9[[#This Row],[Type]]=\"Precondition\",\"Y\",Table9[[#This Row],[v2 points]]),0)","v":"Y"},{"$f":"VLOOKUP(Table9[[#This Row],[Feature]],Table5[],12,FALSE)","v":"Materials"}]
["C12",3,{"$f":"CONCATENATE(Table6[[#This Row],[WELL v2 Feature]],\".\",Table6[[#This Row],[v2 Part]])","v":"C12.3"},98,null,null,1,1,{"$f":"IF('v1 Project Information'!$C$4=\"Core and Shell\",IF(Table6[[#This Row],[v2 Core Points (if less than max)]]>0,Table6[[#This Row],[v2 Core Points (if less than max)]],VLOOKUP(Table6[[#This Row],[v2 Feature.Part]],Table5[[Feature.Part]:[Points]],4,FALSE)),IF(Table6[[#This Row],[v2 WBS Points (if less than max)]]>0,Table6[[#This Row],[v2 WBS Points (if less than max)]],VLOOKUP(Table6[[#This Row],[v2 Feature.Part]],Table5[[Feature.Part]:[Points]],4,FALSE)))","v":1},{"$f":"VLOOKUP(Table6[[#This Row],[WELL v1 Feature 1]],Table4[],4,FALSE)","v":"N"},{"$f":"_xlfn.IFNA(VLOOKUP(Table6[[#This Row],[WELL v1 Feature 2]],Table4[],4,FALSE),\"Y\")","v":"Y"},{"$f":"_xlfn.IFNA(VLOOKUP(Table6[[#This Row],[WELL v1 Feature 3]],Table4[],4,FALSE),\"Y\")","v":"Y"},{"$f":"IF(COUNTIF(Table6[[#This Row],[v1 feature 1 attainment]:[v1 feature 3 attainment]],\"Y\")=3,TRUE,FALSE)","v":false},{"$f":"VLOOKUP(Table6[[#This Row],[WELL v2 Feature]],Table5[],7,FALSE)","v":10},{"$f":"VLOOKUP(Table6[[#This Row],[WELL v2 Feature]],Table5[],9,FALSE)","v":1},{"$f":"VLOOKUP(Table6[[#This Row],[WELL v2 Feature]],Table5[],10,FALSE)","v":0},{"$f":"VLOOKUP(Table6[[#This Row],[WELL v2 Feature]],Table5[],8,FALSE)","v":"None"},null,null,null,"X01",2,{"$f":"CONCATENATE(Table9[[#This Row],[Feature]],\".\",Table9[[#This Row],[Part]])","v":"X01.2"},{"$f":"VLOOKUP(Table9[[#This Row],[Feature]],Table5[],5,FALSE)","v":"Precondition"},{"$f":"NOT(ISNA(_xlfn.IFNA(VLOOKUP(Table9[[#This Row],[Feature.Part]],Table6[v2 Feature.Part],1,FALSE),VLOOKUP(CONCATENATE(Table9[[#This Row],[Feature]],\".\",\"All\"),Table6[v2 Feature.Part],1,FALSE))))","v":true},{"$f":"IF(Table9[[#This Row],[Part Covered in Skybridge?]],  IF(COUNTIFS(Table6[v2 Part attainment through these features?],TRUE,Table6[v2 Feature.Part],Table9[[#This Row],[Feature.Part]])>0,TRUE,FALSE),FALSE)","v":true},{"$f":"IF(Table9[[#This Row],[Part attained in v2?]],\nIF(Table9[[#This Row],[Feature]]=\"I01\",COUNTIFS(Table6[WELL v2 Feature],\"I01\",Table6[v1 feature 1 attainment],\"Y\"),\nVLOOKUP(Table9[[#This Row],[Feature.Part]],Table6[[v2 Feature.Part]:[Part points]],7,FALSE)),0)","v":"P"},{"$f":"IF(Table9[[#This Row],[Part attained in v2?]],IF(Table9[[#This Row],[Type]]=\"Precondition\",\"Y\",Table9[[#This Row],[v2 points]]),0)","v":"Y"},{"$f":"VLOOKUP(Table9[[#This Row],[Feature]],Table5[],12,FALSE)","v":"Materials"}]
["I01",1,{"$f":"CONCATENATE(Table6[[#This Row],[WELL v2 Feature]],\".\",Table6[[#This Row],[v2 Part]])","v":"I01.1"},101,null,null,null,1,{"$f":"IF('v1 Project Information'!$C$4=\"Core and Shell\",IF(Table6[[#This Row],[v2 Core Points (if less than max)]]>0,Table6[[#This Row],[v2 Core Points (if less than max)]],VLOOKUP(Table6[[#This Row],[v2 Feature.Part]],Table5[[Feature.Part]:[Points]],4,FALSE)),IF(Table6[[#This Row],[v2 WBS Points (if less than max)]]>0,Table6[[#This Row],[v2 WBS Points (if less than max)]],VLOOKUP(Table6[[#This Row],[v2 Feature.Part]],Table5[[Feature.Part]:[Points]],4,FALSE)))","v":10},{"$f":"VLOOKUP(Table6[[#This Row],[WELL v1 Feature 1]],Table4[],4,FALSE)","v":"N"},{"$f":"_xlfn.IFNA(VLOOKUP(Table6[[#This Row],[WELL v1 Feature 2]],Table4[],4,FALSE),\"Y\")","v":"Y"},{"$f":"_xlfn.IFNA(VLOOKUP(Table6[[#This Row],[WELL v1 Feature 3]],Table4[],4,FALSE),\"Y\")","v":"Y"},{"$f":"IF(COUNTIF(Table6[[#This Row],[v1 feature 1 attainment]:[v1 feature 3 attainment]],\"Y\")=3,TRUE,FALSE)","v":false},{"$f":"VLOOKUP(Table6[[#This Row],[WELL v2 Feature]],Table5[],7,FALSE)","v":11},{"$f":"VLOOKUP(Table6[[#This Row],[WELL v2 Feature]],Table5[],9,FALSE)","v":10},{"$f":"VLOOKUP(Table6[[#This Row],[WELL v2 Feature]],Table5[],10,FALSE)","v":0},{"$f":"VLOOKUP(Table6[[#This Row],[WELL v2 Feature]],Table5[],8,FALSE)","v":"None"},null,null,null,"X01",3,{"$f":"CONCATENATE(Table9[[#This Row],[Feature]],\".\",Table9[[#This Row],[Part]])","v":"X01.3"},{"$f":"VLOOKUP(Table9[[#This Row],[Feature]],Table5[],5,FALSE)","v":"Precondition"},{"$f":"NOT(ISNA(_xlfn.IFNA(VLOOKUP(Table9[[#This Row],[Feature.Part]],Table6[v2 Feature.Part],1,FALSE),VLOOKUP(CONCATENATE(Table9[[#This Row],[Feature]],\".\",\"All\"),Table6[v2 Feature.Part],1,FALSE))))","v":true},{"$f":"IF(Table9[[#This Row],[Part Covered in Skybridge?]],  IF(COUNTIFS(Table6[v2 Part attainment through these features?],TRUE,Table6[v2 Feature.Part],Table9[[#This Row],[Feature.Part]])>0,TRUE,FALSE),FALSE)","v":true},{"$f":"IF(Table9[[#This Row],[Part attained in v2?]],\nIF(Table9[[#This Row],[Feature]]=\"I01\",COUNTIFS(Table6[WELL v2 Feature],\"I01\",Table6[v1 feature 1 attainment],\"Y\"),\nVLOOKUP(Table9[[#This Row],[Feature.Part]],Table6[[v2 Feature.Part]:[Part points]],7,FALSE)),0)","v":"P"},{"$f":"IF(Table9[[#This Row],[Part attained in v2?]],IF(Table9[[#This Row],[Type]]=\"Precondition\",\"Y\",Table9[[#This Row],[v2 points]]),0)","v":"Y"},{"$f":"VLOOKUP(Table9[[#This Row],[Feature]],Table5[],12,FALSE)","v":"Materials"}]
["I01",1,{"$f":"CONCATENATE(Table6[[#This Row],[WELL v2 Feature]],\".\",Table6[[#This Row],[v2 Part]])","v":"I01.1"},102,null,null,null,1,{"$f":"IF('v1 Project Information'!$C$4=\"Core and Shell\",IF(Table6[[#This Row],[v2 Core Points (if less than max)]]>0,Table6[[#This Row],[v2 Core Points (if less than max)]],VLOOKUP(Table6[[#This Row],[v2 Feature.Part]],Table5[[Feature.Part]:[Points]],4,FALSE)),IF(Table6[[#This Row],[v2 WBS Points (if less than max)]]>0,Table6[[#This Row],[v2 WBS Points (if less than max)]],VLOOKUP(Table6[[#This Row],[v2 Feature.Part]],Table5[[Feature.Part]:[Points]],4,FALSE)))","v":10},{"$f":"VLOOKUP(Table6[[#This Row],[WELL v1 Feature 1]],Table4[],4,FALSE)","v":"N"},{"$f":"_xlfn.IFNA(VLOOKUP(Table6[[#This Row],[WELL v1 Feature 2]],Table4[],4,FALSE),\"Y\")","v":"Y"},{"$f":"_xlfn.IFNA(VLOOKUP(Table6[[#This Row],[WELL v1 Feature 3]],Table4[],4,FALSE),\"Y\")","v":"Y"},{"$f":"IF(COUNTIF(Table6[[#This Row],[v1 feature 1 attainment]:[v1 feature 3 attainment]],\"Y\")=3,TRUE,FALSE)","v":false},{"$f":"VLOOKUP(Table6[[#This Row],[WELL v2 Feature]],Table5[],7,FALSE)","v":11},{"$f":"VLOOKUP(Table6[[#This Row],[WELL v2 Feature]],Table5[],9,FALSE)","v":10},{"$f":"VLOOKUP(Table6[[#This Row],[WELL v2 Feature]],Table5[],10,FALSE)","v":0},{"$f":"VLOOKUP(Table6[[#This Row],[WELL v2 Feature]],Table5[],8,FALSE)","v":"None"},null,null,null,"X02",1,{"$f":"CONCATENATE(Table9[[#This Row],[Feature]],\".\",Table9[[#This Row],[Part]])","v":"X02.1"},{"$f":"VLOOKUP(Table9[[#This Row],[Feature]],Table5[],5,FALSE)","v":"Precondition"},{"$f":"NOT(ISNA(_xlfn.IFNA(VLOOKUP(Table9[[#This Row],[Feature.Part]],Table6[v2 Feature.Part],1,FALSE),VLOOKUP(CONCATENATE(Table9[[#This Row],[Feature]],\".\",\"All\"),Table6[v2 Feature.Part],1,FALSE))))","v":true},{"$f":"IF(Table9[[#This Row],[Part Covered in Skybridge?]],  IF(COUNTIFS(Table6[v2 Part attainment through these features?],TRUE,Table6[v2 Feature.Part],Table9[[#This Row],[Feature.Part]])>0,TRUE,FALSE),FALSE)","v":true},{"$f":"IF(Table9[[#This Row],[Part attained in v2?]],\nIF(Table9[[#This Row],[Feature]]=\"I01\",COUNTIFS(Table6[WELL v2 Feature],\"I01\",Table6[v1 feature 1 attainment],\"Y\"),\nVLOOKUP(Table9[[#This Row],[Feature.Part]],Table6[[v2 Feature.Part]:[Part points]],7,FALSE)),0)","v":"P"},{"$f":"IF(Table9[[#This Row],[Part attained in v2?]],IF(Table9[[#This Row],[Type]]=\"Precondition\",\"Y\",Table9[[#This Row],[v2 points]]),0)","v":"Y"},{"$f":"VLOOKUP(Table9[[#This Row],[Feature]],Table5[],12,FALSE)","v":"Materials"}]
["I01",1,{"$f":"CONCATENATE(Table6[[#This Row],[WELL v2 Feature]],\".\",Table6[[#This Row],[v2 Part]])","v":"I01.1"},103,null,null,null,1,{"$f":"IF('v1 Project Information'!$C$4=\"Core and Shell\",IF(Table6[[#This Row],[v2 Core Points (if less than max)]]>0,Table6[[#This Row],[v2 Core Points (if less than max)]],VLOOKUP(Table6[[#This Row],[v2 Feature.Part]],Table5[[Feature.Part]:[Points]],4,FALSE)),IF(Table6[[#This Row],[v2 WBS Points (if less than max)]]>0,Table6[[#This Row],[v2 WBS Points (if less than max)]],VLOOKUP(Table6[[#This Row],[v2 Feature.Part]],Table5[[Feature.Part]:[Points]],4,FALSE)))","v":10},{"$f":"VLOOKUP(Table6[[#This Row],[WELL v1 Feature 1]],Table4[],4,FALSE)","v":"N"},{"$f":"_xlfn.IFNA(VLOOKUP(Table6[[#This Row],[WELL v1 Feature 2]],Table4[],4,FALSE),\"Y\")","v":"Y"},{"$f":"_xlfn.IFNA(VLOOKUP(Table6[[#This Row],[WELL v1 Feature 3]],Table4[],4,FALSE),\"Y\")","v":"Y"},{"$f":"IF(COUNTIF(Table6[[#This Row],[v1 feature 1 attainment]:[v1 feature 3 attainment]],\"Y\")=3,TRUE,FALSE)","v":false},{"$f":"VLOOKUP(Table6[[#This Row],[WELL v2 Feature]],Table5[],7,FALSE)","v":11},{"$f":"VLOOKUP(Table6[[#This Row],[WELL v2 Feature]],Table5[],9,FALSE)","v":10},{"$f":"VLOOKUP(Table6[[#This Row],[WELL v2 Feature]],Table5[],10,FALSE)","v":0},{"$f":"VLOOKUP(Table6[[#This Row],[WELL v2 Feature]],Table5[],8,FALSE)","v":"None"},null,null,null,"X02",2,{"$f":"CONCATENATE(Table9[[#This Row],[Feature]],\".\",Table9[[#This Row],[Part]])","v":"X02.2"},{"$f":"VLOOKUP(Table9[[#This Row],[Feature]],Table5[],5,FALSE)","v":"Precondition"},{"$f":"NOT(ISNA(_xlfn.IFNA(VLOOKUP(Table9[[#This Row],[Feature.Part]],Table6[v2 Feature.Part],1,FALSE),VLOOKUP(CONCATENATE(Table9[[#This Row],[Feature]],\".\",\"All\"),Table6[v2 Feature.Part],1,FALSE))))","v":true},{"$f":"IF(Table9[[#This Row],[Part Covered in Skybridge?]],  IF(COUNTIFS(Table6[v2 Part attainment through these features?],TRUE,Table6[v2 Feature.Part],Table9[[#This Row],[Feature.Part]])>0,TRUE,FALSE),FALSE)","v":true},{"$f":"IF(Table9[[#This Row],[Part attained in v2?]],\nIF(Table9[[#This Row],[Feature]]=\"I01\",COUNTIFS(Table6[WELL v2 Feature],\"I01\",Table6[v1 feature 1 attainment],\"Y\"),\nVLOOKUP(Table9[[#This Row],[Feature.Part]],Table6[[v2 Feature.Part]:[Part points]],7,FALSE)),0)","v":"P"},{"$f":"IF(Table9[[#This Row],[Part attained in v2?]],IF(Table9[[#This Row],[Type]]=\"Precondition\",\"Y\",Table9[[#This Row],[v2 points]]),0)","v":"Y"},{"$f":"VLOOKUP(Table9[[#This Row],[Feature]],Table5[],12,FALSE)","v":"Materials"}]
["I01",1,{"$f":"CONCATENATE(Table6[[#This Row],[WELL v2 Feature]],\".\",Table6[[#This Row],[v2 Part]])","v":"I01.1"},104,null,null,null,1,{"$f":"IF('v1 Project Information'!$C$4=\"Core and Shell\",IF(Table6[[#This Row],[v2 Core Points (if less than max)]]>0,Table6[[#This Row],[v2 Core Points (if less than max)]],VLOOKUP(Table6[[#This Row],[v2 Feature.Part]],Table5[[Feature.Part]:[Points]],4,FALSE)),IF(Table6[[#This Row],[v2 WBS Points (if less than max)]]>0,Table6[[#This Row],[v2 WBS Points (if less than max)]],VLOOKUP(Table6[[#This Row],[v2 Feature.Part]],Table5[[Feature.Part]:[Points]],4,FALSE)))","v":10},{"$f":"VLOOKUP(Table6[[#This Row],[WELL v1 Feature 1]],Table4[],4,FALSE)","v":"N"},{"$f":"_xlfn.IFNA(VLOOKUP(Table6[[#This Row],[WELL v1 Feature 2]],Table4[],4,FALSE),\"Y\")","v":"Y"},{"$f":"_xlfn.IFNA(VLOOKUP(Table6[[#This Row],[WELL v1 Feature 3]],Table4[],4,FALSE),\"Y\")","v":"Y"},{"$f":"IF(COUNTIF(Table6[[#This Row],[v1 feature 1 attainment]:[v1 feature 3 attainment]],\"Y\")=3,TRUE,FALSE)","v":false},{"$f":"VLOOKUP(Table6[[#This Row],[WELL v2 Feature]],Table5[],7,FALSE)","v":11},{"$f":"VLOOKUP(Table6[[#This Row],[WELL v2 Feature]],Table5[],9,FALSE)","v":10},{"$f":"VLOOKUP(Table6[[#This Row],[WELL v2 Feature]],Table5[],10,FALSE)","v":0},{"$f":"VLOOKUP(Table6[[#This Row],[WELL v2 Feature]],Table5[],8,FALSE)","v":"None"},null,null,null,"X02",3,{"$f":"CONCATENATE(Table9[[#This Row],[Feature]],\".\",Table9[[#This Row],[Part]])","v":"X02.3"},{"$f":"VLOOKUP(Table9[[#This Row],[Feature]],Table5[],5,FALSE)","v":"Precondition"},{"$f":"NOT(ISNA(_xlfn.IFNA(VLOOKUP(Table9[[#This Row],[Feature.Part]],Table6[v2 Feature.Part],1,FALSE),VLOOKUP(CONCATENATE(Table9[[#This Row],[Feature]],\".\",\"All\"),Table6[v2 Feature.Part],1,FALSE))))","v":true},{"$f":"IF(Table9[[#This Row],[Part Covered in Skybridge?]],  IF(COUNTIFS(Table6[v2 Part attainment through these features?],TRUE,Table6[v2 Feature.Part],Table9[[#This Row],[Feature.Part]])>0,TRUE,FALSE),FALSE)","v":true},{"$f":"IF(Table9[[#This Row],[Part attained in v2?]],\nIF(Table9[[#This Row],[Feature]]=\"I01\",COUNTIFS(Table6[WELL v2 Feature],\"I01\",Table6[v1 feature 1 attainment],\"Y\"),\nVLOOKUP(Table9[[#This Row],[Feature.Part]],Table6[[v2 Feature.Part]:[Part points]],7,FALSE)),0)","v":"P"},{"$f":"IF(Table9[[#This Row],[Part attained in v2?]],IF(Table9[[#This Row],[Type]]=\"Precondition\",\"Y\",Table9[[#This Row],[v2 points]]),0)","v":"Y"},{"$f":"VLOOKUP(Table9[[#This Row],[Feature]],Table5[],12,FALSE)","v":"Materials"}]
["I01",1,{"$f":"CONCATENATE(Table6[[#This Row],[WELL v2 Feature]],\".\",Table6[[#This Row],[v2 Part]])","v":"I01.1"},105,null,null,null,1,{"$f":"IF('v1 Project Information'!$C$4=\"Core and Shell\",IF(Table6[[#This Row],[v2 Core Points (if less than max)]]>0,Table6[[#This Row],[v2 Core Points (if less than max)]],VLOOKUP(Table6[[#This Row],[v2 Feature.Part]],Table5[[Feature.Part]:[Points]],4,FALSE)),IF(Table6[[#This Row],[v2 WBS Points (if less than max)]]>0,Table6[[#This Row],[v2 WBS Points (if less than max)]],VLOOKUP(Table6[[#This Row],[v2 Feature.Part]],Table5[[Feature.Part]:[Points]],4,FALSE)))","v":10},{"$f":"VLOOKUP(Table6[[#This Row],[WELL v1 Feature 1]],Table4[],4,FALSE)","v":"N"},{"$f":"_xlfn.IFNA(VLOOKUP(Table6[[#This Row],[WELL v1 Feature 2]],Table4[],4,FALSE),\"Y\")","v":"Y"},{"$f":"_xlfn.IFNA(VLOOKUP(Table6[[#This Row],[WELL v1 Feature 3]],Table4[],4,FALSE),\"Y\")","v":"Y"},{"$f":"IF(COUNTIF(Table6[[#This Row],[v1 feature 1 attainment]:[v1 feature 3 attainment]],\"Y\")=3,TRUE,FALSE)","v":false},{"$f":"VLOOKUP(Table6[[#This Row],[WELL v2 Feature]],Table5[],7,FALSE)","v":11},{"$f":"VLOOKUP(Table6[[#This Row],[WELL v2 Feature]],Table5[],9,FALSE)","v":10},{"$f":"VLOOKUP(Table6[[#This Row],[WELL v2 Feature]],Table5[],10,FALSE)","v":0},{"$f":"VLOOKUP(Table6[[#This Row],[WELL v2 Feature]],Table5[],8,FALSE)","v":"None"},null,null,null,"X03",1,{"$f":"CONCATENATE(Table9[[#This Row],[Feature]],\".\",Table9[[#This Row],[Part]])","v":"X03.1"},{"$f":"VLOOKUP(Table9[[#This Row],[Feature]],Table5[],5,FALSE)","v":"Precondition"},{"$f":"NOT(ISNA(_xlfn.IFNA(VLOOKUP(Table9[[#This Row],[Feature.Part]],Table6[v2 Feature.Part],1,FALSE),VLOOKUP(CONCATENATE(Table9[[#This Row],[Feature]],\".\",\"All\"),Table6[v2 Feature.Part],1,FALSE))))","v":false},{"$f":"IF(Table9[[#This Row],[Part Covered in Skybridge?]],  IF(COUNTIFS(Table6[v2 Part attainment through these features?],TRUE,Table6[v2 Feature.Part],Table9[[#This Row],[Feature.Part]])>0,TRUE,FALSE),FALSE)","v":false},{"$f":"IF(Table9[[#This Row],[Part attained in v2?]],\nIF(Table9[[#This Row],[Feature]]=\"I01\",COUNTIFS(Table6[WELL v2 Feature],\"I01\",Table6[v1 feature 1 attainment],\"Y\"),\nVLOOKUP(Table9[[#This Row],[Feature.Part]],Table6[[v2 Feature.Part]:[Part points]],7,FALSE)),0)","v":0},{"$f":"IF(Table9[[#This Row],[Part attained in v2?]],IF(Table9[[#This Row],[Type]]=\"Precondition\",\"Y\",Table9[[#This Row],[v2 points]]),0)","v":0},{"$f":"VLOOKUP(Table9[[#This Row],[Feature]],Table5[],12,FALSE)","v":"Materials"}]
["I05",1,{"$f":"CONCATENATE(Table6[[#This Row],[WELL v2 Feature]],\".\",Table6[[#This Row],[v2 Part]])","v":"I05.1"},106,null,null,null,1,{"$f":"IF('v1 Project Information'!$C$4=\"Core and Shell\",IF(Table6[[#This Row],[v2 Core Points (if less than max)]]>0,Table6[[#This Row],[v2 Core Points (if less than max)]],VLOOKUP(Table6[[#This Row],[v2 Feature.Part]],Table5[[Feature.Part]:[Points]],4,FALSE)),IF(Table6[[#This Row],[v2 WBS Points (if less than max)]]>0,Table6[[#This Row],[v2 WBS Points (if less than max)]],VLOOKUP(Table6[[#This Row],[v2 Feature.Part]],Table5[[Feature.Part]:[Points]],4,FALSE)))","v":5},{"$f":"VLOOKUP(Table6[[#This Row],[WELL v1 Feature 1]],Table4[],4,FALSE)","v":{"$error":"#N/A"}},{"$f":"_xlfn.IFNA(VLOOKUP(Table6[[#This Row],[WELL v1 Feature 2]],Table4[],4,FALSE),\"Y\")","v":"Y"},{"$f":"_xlfn.IFNA(VLOOKUP(Table6[[#This Row],[WELL v1 Feature 3]],Table4[],4,FALSE),\"Y\")","v":"Y"},{"$f":"IF(COUNTIF(Table6[[#This Row],[v1 feature 1 attainment]:[v1 feature 3 attainment]],\"Y\")=3,TRUE,FALSE)","v":false},{"$f":"VLOOKUP(Table6[[#This Row],[WELL v2 Feature]],Table5[],7,FALSE)","v":11},{"$f":"VLOOKUP(Table6[[#This Row],[WELL v2 Feature]],Table5[],9,FALSE)","v":5},{"$f":"VLOOKUP(Table6[[#This Row],[WELL v2 Feature]],Table5[],10,FALSE)","v":0},{"$f":"VLOOKUP(Table6[[#This Row],[WELL v2 Feature]],Table5[],8,FALSE)","v":"None"},null,null,null,"X03",2,{"$f":"CONCATENATE(Table9[[#This Row],[Feature]],\".\",Table9[[#This Row],[Part]])","v":"X03.2"},{"$f":"VLOOKUP(Table9[[#This Row],[Feature]],Table5[],5,FALSE)","v":"Precondition"},{"$f":"NOT(ISNA(_xlfn.IFNA(VLOOKUP(Table9[[#This Row],[Feature.Part]],Table6[v2 Feature.Part],1,FALSE),VLOOKUP(CONCATENATE(Table9[[#This Row],[Feature]],\".\",\"All\"),Table6[v2 Feature.Part],1,FALSE))))","v":false},{"$f":"IF(Table9[[#This Row],[Part Covered in Skybridge?]],  IF(COUNTIFS(Table6[v2 Part attainment through these features?],TRUE,Table6[v2 Feature.Part],Table9[[#This Row],[Feature.Part]])>0,TRUE,FALSE),FALSE)","v":false},{"$f":"IF(Table9[[#This Row],[Part attained in v2?]],\nIF(Table9[[#This Row],[Feature]]=\"I01\",COUNTIFS(Table6[WELL v2 Feature],\"I01\",Table6[v1 feature 1 attainment],\"Y\"),\nVLOOKUP(Table9[[#This Row],[Feature.Part]],Table6[[v2 Feature.Part]:[Part points]],7,FALSE)),0)","v":0},{"$f":"IF(Table9[[#This Row],[Part attained in v2?]],IF(Table9[[#This Row],[Type]]=\"Precondition\",\"Y\",Table9[[#This Row],[v2 points]]),0)","v":0},{"$f":"VLOOKUP(Table9[[#This Row],[Feature]],Table5[],12,FALSE)","v":"Materials"}]
["C11",1,{"$f":"CONCATENATE(Table6[[#This Row],[WELL v2 Feature]],\".\",Table6[[#This Row],[v2 Part]])","v":"C11.1"},96,null,null,null,1,{"$f":"IF('v1 Project Information'!$C$4=\"Core and Shell\",IF(Table6[[#This Row],[v2 Core Points (if less than max)]]>0,Table6[[#This Row],[v2 Core Points (if less than max)]],VLOOKUP(Table6[[#This Row],[v2 Feature.Part]],Table5[[Feature.Part]:[Points]],4,FALSE)),IF(Table6[[#This Row],[v2 WBS Points (if less than max)]]>0,Table6[[#This Row],[v2 WBS Points (if less than max)]],VLOOKUP(Table6[[#This Row],[v2 Feature.Part]],Table5[[Feature.Part]:[Points]],4,FALSE)))","v":1},{"$f":"VLOOKUP(Table6[[#This Row],[WELL v1 Feature 1]],Table4[],4,FALSE)","v":"N"},{"$f":"_xlfn.IFNA(VLOOKUP(Table6[[#This Row],[WELL v1 Feature 2]],Table4[],4,FALSE),\"Y\")","v":"Y"},{"$f":"_xlfn.IFNA(VLOOKUP(Table6[[#This Row],[WELL v1 Feature 3]],Table4[],4,FALSE),\"Y\")","v":"Y"},{"$f":"IF(COUNTIF(Table6[[#This Row],[v1 feature 1 attainment]:[v1 feature 3 attainment]],\"Y\")=3,TRUE,FALSE)","v":false},{"$f":"VLOOKUP(Table6[[#This Row],[WELL v2 Feature]],Table5[],7,FALSE)","v":10},{"$f":"VLOOKUP(Table6[[#This Row],[WELL v2 Feature]],Table5[],9,FALSE)","v":0.5},{"$f":"VLOOKUP(Table6[[#This Row],[WELL v2 Feature]],Table5[],10,FALSE)","v":0},{"$f":"VLOOKUP(Table6[[#This Row],[WELL v2 Feature]],Table5[],8,FALSE)","v":"Limit"},null,null,null,"X04",1,{"$f":"CONCATENATE(Table9[[#This Row],[Feature]],\".\",Table9[[#This Row],[Part]])","v":"X04.1"},{"$f":"VLOOKUP(Table9[[#This Row],[Feature]],Table5[],5,FALSE)","v":"Optimization"},{"$f":"NOT(ISNA(_xlfn.IFNA(VLOOKUP(Table9[[#This Row],[Feature.Part]],Table6[v2 Feature.Part],1,FALSE),VLOOKUP(CONCATENATE(Table9[[#This Row],[Feature]],\".\",\"All\"),Table6[v2 Feature.Part],1,FALSE))))","v":false},{"$f":"IF(Table9[[#This Row],[Part Covered in Skybridge?]],  IF(COUNTIFS(Table6[v2 Part attainment through these features?],TRUE,Table6[v2 Feature.Part],Table9[[#This Row],[Feature.Part]])>0,TRUE,FALSE),FALSE)","v":false},{"$f":"IF(Table9[[#This Row],[Part attained in v2?]],\nIF(Table9[[#This Row],[Feature]]=\"I01\",COUNTIFS(Table6[WELL v2 Feature],\"I01\",Table6[v1 feature 1 attainment],\"Y\"),\nVLOOKUP(Table9[[#This Row],[Feature.Part]],Table6[[v2 Feature.Part]:[Part points]],7,FALSE)),0)","v":0},{"$f":"IF(Table9[[#This Row],[Part attained in v2?]],IF(Table9[[#This Row],[Type]]=\"Precondition\",\"Y\",Table9[[#This Row],[v2 points]]),0)","v":0},{"$f":"VLOOKUP(Table9[[#This Row],[Feature]],Table5[],12,FALSE)","v":"Materials"}]
[null,null,null,null,null,null,null,null,null,null,null,null,null,null,null,null,null,null,null,null,"X05",1,{"$f":"CONCATENATE(Table9[[#This Row],[Feature]],\".\",Table9[[#This Row],[Part]])","v":"X05.1"},{"$f":"VLOOKUP(Table9[[#This Row],[Feature]],Table5[],5,FALSE)","v":"Optimization"},{"$f":"NOT(ISNA(_xlfn.IFNA(VLOOKUP(Table9[[#This Row],[Feature.Part]],Table6[v2 Feature.Part],1,FALSE),VLOOKUP(CONCATENATE(Table9[[#This Row],[Feature]],\".\",\"All\"),Table6[v2 Feature.Part],1,FALSE))))","v":true},{"$f":"IF(Table9[[#This Row],[Part Covered in Skybridge?]],  IF(COUNTIFS(Table6[v2 Part attainment through these features?],TRUE,Table6[v2 Feature.Part],Table9[[#This Row],[Feature.Part]])>0,TRUE,FALSE),FALSE)","v":false},{"$f":"IF(Table9[[#This Row],[Part attained in v2?]],\nIF(Table9[[#This Row],[Feature]]=\"I01\",COUNTIFS(Table6[WELL v2 Feature],\"I01\",Table6[v1 feature 1 attainment],\"Y\"),\nVLOOKUP(Table9[[#This Row],[Feature.Part]],Table6[[v2 Feature.Part]:[Part points]],7,FALSE)),0)","v":0},{"$f":"IF(Table9[[#This Row],[Part attained in v2?]],IF(Table9[[#This Row],[Type]]=\"Precondition\",\"Y\",Table9[[#This Row],[v2 points]]),0)","v":0},{"$f":"VLOOKUP(Table9[[#This Row],[Feature]],Table5[],12,FALSE)","v":"Materials"}]
[null,null,null,null,null,null,null,null,null,null,null,null,null,null,null,null,null,null,null,null,"X05",2,{"$f":"CONCATENATE(Table9[[#This Row],[Feature]],\".\",Table9[[#This Row],[Part]])","v":"X05.2"},{"$f":"VLOOKUP(Table9[[#This Row],[Feature]],Table5[],5,FALSE)","v":"Optimization"},{"$f":"NOT(ISNA(_xlfn.IFNA(VLOOKUP(Table9[[#This Row],[Feature.Part]],Table6[v2 Feature.Part],1,FALSE),VLOOKUP(CONCATENATE(Table9[[#This Row],[Feature]],\".\",\"All\"),Table6[v2 Feature.Part],1,FALSE))))","v":true},{"$f":"IF(Table9[[#This Row],[Part Covered in Skybridge?]],  IF(COUNTIFS(Table6[v2 Part attainment through these features?],TRUE,Table6[v2 Feature.Part],Table9[[#This Row],[Feature.Part]])>0,TRUE,FALSE),FALSE)","v":false},{"$f":"IF(Table9[[#This Row],[Part attained in v2?]],\nIF(Table9[[#This Row],[Feature]]=\"I01\",COUNTIFS(Table6[WELL v2 Feature],\"I01\",Table6[v1 feature 1 attainment],\"Y\"),\nVLOOKUP(Table9[[#This Row],[Feature.Part]],Table6[[v2 Feature.Part]:[Part points]],7,FALSE)),0)","v":0},{"$f":"IF(Table9[[#This Row],[Part attained in v2?]],IF(Table9[[#This Row],[Type]]=\"Precondition\",\"Y\",Table9[[#This Row],[v2 points]]),0)","v":0},{"$f":"VLOOKUP(Table9[[#This Row],[Feature]],Table5[],12,FALSE)","v":"Materials"}]
[null,null,null,null,null,null,null,null,null,null,null,null,null,null,null,null,null,null,null,null,"X06",1,{"$f":"CONCATENATE(Table9[[#This Row],[Feature]],\".\",Table9[[#This Row],[Part]])","v":"X06.1"},{"$f":"VLOOKUP(Table9[[#This Row],[Feature]],Table5[],5,FALSE)","v":"Optimization"},{"$f":"NOT(ISNA(_xlfn.IFNA(VLOOKUP(Table9[[#This Row],[Feature.Part]],Table6[v2 Feature.Part],1,FALSE),VLOOKUP(CONCATENATE(Table9[[#This Row],[Feature]],\".\",\"All\"),Table6[v2 Feature.Part],1,FALSE))))","v":true},{"$f":"IF(Table9[[#This Row],[Part Covered in Skybridge?]],  IF(COUNTIFS(Table6[v2 Part attainment through these features?],TRUE,Table6[v2 Feature.Part],Table9[[#This Row],[Feature.Part]])>0,TRUE,FALSE),FALSE)","v":true},{"$f":"IF(Table9[[#This Row],[Part attained in v2?]],\nIF(Table9[[#This Row],[Feature]]=\"I01\",COUNTIFS(Table6[WELL v2 Feature],\"I01\",Table6[v1 feature 1 attainment],\"Y\"),\nVLOOKUP(Table9[[#This Row],[Feature.Part]],Table6[[v2 Feature.Part]:[Part points]],7,FALSE)),0)","v":2},{"$f":"IF(Table9[[#This Row],[Part attained in v2?]],IF(Table9[[#This Row],[Type]]=\"Precondition\",\"Y\",Table9[[#This Row],[v2 points]]),0)","v":2},{"$f":"VLOOKUP(Table9[[#This Row],[Feature]],Table5[],12,FALSE)","v":"Materials"}]
[null,null,null,null,null,null,null,null,null,null,null,null,null,null,null,null,null,null,null,null,"X06",2,{"$f":"CONCATENATE(Table9[[#This Row],[Feature]],\".\",Table9[[#This Row],[Part]])","v":"X06.2"},{"$f":"VLOOKUP(Table9[[#This Row],[Feature]],Table5[],5,FALSE)","v":"Optimization"},{"$f":"NOT(ISNA(_xlfn.IFNA(VLOOKUP(Table9[[#This Row],[Feature.Part]],Table6[v2 Feature.Part],1,FALSE),VLOOKUP(CONCATENATE(Table9[[#This Row],[Feature]],\".\",\"All\"),Table6[v2 Feature.Part],1,FALSE))))","v":true},{"$f":"IF(Table9[[#This Row],[Part Covered in Skybridge?]],  IF(COUNTIFS(Table6[v2 Part attainment through these features?],TRUE,Table6[v2 Feature.Part],Table9[[#This Row],[Feature.Part]])>0,TRUE,FALSE),FALSE)","v":true},{"$f":"IF(Table9[[#This Row],[Part attained in v2?]],\nIF(Table9[[#This Row],[Feature]]=\"I01\",COUNTIFS(Table6[WELL v2 Feature],\"I01\",Table6[v1 feature 1 attainment],\"Y\"),\nVLOOKUP(Table9[[#This Row],[Feature.Part]],Table6[[v2 Feature.Part]:[Part points]],7,FALSE)),0)","v":2},{"$f":"IF(Table9[[#This Row],[Part attained in v2?]],IF(Table9[[#This Row],[Type]]=\"Precondition\",\"Y\",Table9[[#This Row],[v2 points]]),0)","v":2},{"$f":"VLOOKUP(Table9[[#This Row],[Feature]],Table5[],12,FALSE)","v":"Materials"}]
[null,null,null,null,null,null,null,null,null,null,null,null,null,null,null,null,null,null,null,null,"X07",1,{"$f":"CONCATENATE(Table9[[#This Row],[Feature]],\".\",Table9[[#This Row],[Part]])","v":"X07.1"},{"$f":"VLOOKUP(Table9[[#This Row],[Feature]],Table5[],5,FALSE)","v":"Optimization"},{"$f":"NOT(ISNA(_xlfn.IFNA(VLOOKUP(Table9[[#This Row],[Feature.Part]],Table6[v2 Feature.Part],1,FALSE),VLOOKUP(CONCATENATE(Table9[[#This Row],[Feature]],\".\",\"All\"),Table6[v2 Feature.Part],1,FALSE))))","v":true},{"$f":"IF(Table9[[#This Row],[Part Covered in Skybridge?]],  IF(COUNTIFS(Table6[v2 Part attainment through these features?],TRUE,Table6[v2 Feature.Part],Table9[[#This Row],[Feature.Part]])>0,TRUE,FALSE),FALSE)","v":false},{"$f":"IF(Table9[[#This Row],[Part attained in v2?]],\nIF(Table9[[#This Row],[Feature]]=\"I01\",COUNTIFS(Table6[WELL v2 Feature],\"I01\",Table6[v1 feature 1 attainment],\"Y\"),\nVLOOKUP(Table9[[#This Row],[Feature.Part]],Table6[[v2 Feature.Part]:[Part points]],7,FALSE)),0)","v":0},{"$f":"IF(Table9[[#This Row],[Part attained in v2?]],IF(Table9[[#This Row],[Type]]=\"Precondition\",\"Y\",Table9[[#This Row],[v2 points]]),0)","v":0},{"$f":"VLOOKUP(Table9[[#This Row],[Feature]],Table5[],12,FALSE)","v":"Materials"}]
[null,null,null,null,null,null,null,null,null,null,null,null,null,null,null,null,null,null,null,null,"X07",2,{"$f":"CONCATENATE(Table9[[#This Row],[Feature]],\".\",Table9[[#This Row],[Part]])","v":"X07.2"},{"$f":"VLOOKUP(Table9[[#This Row],[Feature]],Table5[],5,FALSE)","v":"Optimization"},{"$f":"NOT(ISNA(_xlfn.IFNA(VLOOKUP(Table9[[#This Row],[Feature.Part]],Table6[v2 Feature.Part],1,FALSE),VLOOKUP(CONCATENATE(Table9[[#This Row],[Feature]],\".\",\"All\"),Table6[v2 Feature.Part],1,FALSE))))","v":false},{"$f":"IF(Table9[[#This Row],[Part Covered in Skybridge?]],  IF(COUNTIFS(Table6[v2 Part attainment through these features?],TRUE,Table6[v2 Feature.Part],Table9[[#This Row],[Feature.Part]])>0,TRUE,FALSE),FALSE)","v":false},{"$f":"IF(Table9[[#This Row],[Part attained in v2?]],\nIF(Table9[[#This Row],[Feature]]=\"I01\",COUNTIFS(Table6[WELL v2 Feature],\"I01\",Table6[v1 feature 1 attainment],\"Y\"),\nVLOOKUP(Table9[[#This Row],[Feature.Part]],Table6[[v2 Feature.Part]:[Part points]],7,FALSE)),0)","v":0},{"$f":"IF(Table9[[#This Row],[Part attained in v2?]],IF(Table9[[#This Row],[Type]]=\"Precondition\",\"Y\",Table9[[#This Row],[v2 points]]),0)","v":0},{"$f":"VLOOKUP(Table9[[#This Row],[Feature]],Table5[],12,FALSE)","v":"Materials"}]
[null,null,null,null,null,null,null,null,null,null,null,null,null,null,null,null,null,null,null,null,"X07",3,{"$f":"CONCATENATE(Table9[[#This Row],[Feature]],\".\",Table9[[#This Row],[Part]])","v":"X07.3"},{"$f":"VLOOKUP(Table9[[#This Row],[Feature]],Table5[],5,FALSE)","v":"Optimization"},{"$f":"NOT(ISNA(_xlfn.IFNA(VLOOKUP(Table9[[#This Row],[Feature.Part]],Table6[v2 Feature.Part],1,FALSE),VLOOKUP(CONCATENATE(Table9[[#This Row],[Feature]],\".\",\"All\"),Table6[v2 Feature.Part],1,FALSE))))","v":false},{"$f":"IF(Table9[[#This Row],[Part Covered in Skybridge?]],  IF(COUNTIFS(Table6[v2 Part attainment through these features?],TRUE,Table6[v2 Feature.Part],Table9[[#This Row],[Feature.Part]])>0,TRUE,FALSE),FALSE)","v":false},{"$f":"IF(Table9[[#This Row],[Part attained in v2?]],\nIF(Table9[[#This Row],[Feature]]=\"I01\",COUNTIFS(Table6[WELL v2 Feature],\"I01\",Table6[v1 feature 1 attainment],\"Y\"),\nVLOOKUP(Table9[[#This Row],[Feature.Part]],Table6[[v2 Feature.Part]:[Part points]],7,FALSE)),0)","v":0},{"$f":"IF(Table9[[#This Row],[Part attained in v2?]],IF(Table9[[#This Row],[Type]]=\"Precondition\",\"Y\",Table9[[#This Row],[v2 points]]),0)","v":0},{"$f":"VLOOKUP(Table9[[#This Row],[Feature]],Table5[],12,FALSE)","v":"Materials"}]
[null,null,null,null,null,null,null,null,null,null,null,null,null,null,null,null,null,null,null,null,"X08",1,{"$f":"CONCATENATE(Table9[[#This Row],[Feature]],\".\",Table9[[#This Row],[Part]])","v":"X08.1"},{"$f":"VLOOKUP(Table9[[#This Row],[Feature]],Table5[],5,FALSE)","v":"Optimization"},{"$f":"NOT(ISNA(_xlfn.IFNA(VLOOKUP(Table9[[#This Row],[Feature.Part]],Table6[v2 Feature.Part],1,FALSE),VLOOKUP(CONCATENATE(Table9[[#This Row],[Feature]],\".\",\"All\"),Table6[v2 Feature.Part],1,FALSE))))","v":true},{"$f":"IF(Table9[[#This Row],[Part Covered in Skybridge?]],  IF(COUNTIFS(Table6[v2 Part attainment through these features?],TRUE,Table6[v2 Feature.Part],Table9[[#This Row],[Feature.Part]])>0,TRUE,FALSE),FALSE)","v":false},{"$f":"IF(Table9[[#This Row],[Part attained in v2?]],\nIF(Table9[[#This Row],[Feature]]=\"I01\",COUNTIFS(Table6[WELL v2 Feature],\"I01\",Table6[v1 feature 1 attainment],\"Y\"),\nVLOOKUP(Table9[[#This Row],[Feature.Part]],Table6[[v2 Feature.Part]:[Part points]],7,FALSE)),0)","v":0},{"$f":"IF(Table9[[#This Row],[Part attained in v2?]],IF(Table9[[#This Row],[Type]]=\"Precondition\",\"Y\",Table9[[#This Row],[v2 points]]),0)","v":0},{"$f":"VLOOKUP(Table9[[#This Row],[Feature]],Table5[],12,FALSE)","v":"Materials"}]
[null,null,null,null,null,null,null,null,null,null,null,null,null,null,null,null,null,null,null,null,"X08",2,{"$f":"CONCATENATE(Table9[[#This Row],[Feature]],\".\",Table9[[#This Row],[Part]])","v":"X08.2"},{"$f":"VLOOKUP(Table9[[#This Row],[Feature]],Table5[],5,FALSE)","v":"Optimization"},{"$f":"NOT(ISNA(_xlfn.IFNA(VLOOKUP(Table9[[#This Row],[Feature.Part]],Table6[v2 Feature.Part],1,FALSE),VLOOKUP(CONCATENATE(Table9[[#This Row],[Feature]],\".\",\"All\"),Table6[v2 Feature.Part],1,FALSE))))","v":false},{"$f":"IF(Table9[[#This Row],[Part Covered in Skybridge?]],  IF(COUNTIFS(Table6[v2 Part attainment through these features?],TRUE,Table6[v2 Feature.Part],Table9[[#This Row],[Feature.Part]])>0,TRUE,FALSE),FALSE)","v":false},{"$f":"IF(Table9[[#This Row],[Part attained in v2?]],\nIF(Table9[[#This Row],[Feature]]=\"I01\",COUNTIFS(Table6[WELL v2 Feature],\"I01\",Table6[v1 feature 1 attainment],\"Y\"),\nVLOOKUP(Table9[[#This Row],[Feature.Part]],Table6[[v2 Feature.Part]:[Part points]],7,FALSE)),0)","v":0},{"$f":"IF(Table9[[#This Row],[Part attained in v2?]],IF(Table9[[#This Row],[Type]]=\"Precondition\",\"Y\",Table9[[#This Row],[v2 points]]),0)","v":0},{"$f":"VLOOKUP(Table9[[#This Row],[Feature]],Table5[],12,FALSE)","v":"Materials"}]
[null,null,null,null,null,null,null,null,null,null,null,null,null,null,null,null,null,null,null,null,"X09",1,{"$f":"CONCATENATE(Table9[[#This Row],[Feature]],\".\",Table9[[#This Row],[Part]])","v":"X09.1"},{"$f":"VLOOKUP(Table9[[#This Row],[Feature]],Table5[],5,FALSE)","v":"Optimization"},{"$f":"NOT(ISNA(_xlfn.IFNA(VLOOKUP(Table9[[#This Row],[Feature.Part]],Table6[v2 Feature.Part],1,FALSE),VLOOKUP(CONCATENATE(Table9[[#This Row],[Feature]],\".\",\"All\"),Table6[v2 Feature.Part],1,FALSE))))","v":false},{"$f":"IF(Table9[[#This Row],[Part Covered in Skybridge?]],  IF(COUNTIFS(Table6[v2 Part attainment through these features?],TRUE,Table6[v2 Feature.Part],Table9[[#This Row],[Feature.Part]])>0,TRUE,FALSE),FALSE)","v":false},{"$f":"IF(Table9[[#This Row],[Part attained in v2?]],\nIF(Table9[[#This Row],[Feature]]=\"I01\",COUNTIFS(Table6[WELL v2 Feature],\"I01\",Table6[v1 feature 1 attainment],\"Y\"),\nVLOOKUP(Table9[[#This Row],[Feature.Part]],Table6[[v2 Feature.Part]:[Part points]],7,FALSE)),0)","v":0},{"$f":"IF(Table9[[#This Row],[Part attained in v2?]],IF(Table9[[#This Row],[Type]]=\"Precondition\",\"Y\",Table9[[#This Row],[v2 points]]),0)","v":0},{"$f":"VLOOKUP(Table9[[#This Row],[Feature]],Table5[],12,FALSE)","v":"Materials"}]
[null,null,null,null,null,null,null,null,null,null,null,null,null,null,null,null,null,null,null,null,"X10",1,{"$f":"CONCATENATE(Table9[[#This Row],[Feature]],\".\",Table9[[#This Row],[Part]])","v":"X10.1"},{"$f":"VLOOKUP(Table9[[#This Row],[Feature]],Table5[],5,FALSE)","v":"Optimization"},{"$f":"NOT(ISNA(_xlfn.IFNA(VLOOKUP(Table9[[#This Row],[Feature.Part]],Table6[v2 Feature.Part],1,FALSE),VLOOKUP(CONCATENATE(Table9[[#This Row],[Feature]],\".\",\"All\"),Table6[v2 Feature.Part],1,FALSE))))","v":true},{"$f":"IF(Table9[[#This Row],[Part Covered in Skybridge?]],  IF(COUNTIFS(Table6[v2 Part attainment through these features?],TRUE,Table6[v2 Feature.Part],Table9[[#This Row],[Feature.Part]])>0,TRUE,FALSE),FALSE)","v":true},{"$f":"IF(Table9[[#This Row],[Part attained in v2?]],\nIF(Table9[[#This Row],[Feature]]=\"I01\",COUNTIFS(Table6[WELL v2 Feature],\"I01\",Table6[v1 feature 1 attainment],\"Y\"),\nVLOOKUP(Table9[[#This Row],[Feature.Part]],Table6[[v2 Feature.Part]:[Part points]],7,FALSE)),0)","v":1},{"$f":"IF(Table9[[#This Row],[Part attained in v2?]],IF(Table9[[#This Row],[Type]]=\"Precondition\",\"Y\",Table9[[#This Row],[v2 points]]),0)","v":1},{"$f":"VLOOKUP(Table9[[#This Row],[Feature]],Table5[],12,FALSE)","v":"Materials"}]
[null,null,null,null,null,null,null,null,null,null,null,null,null,null,null,null,null,null,null,null,"X11",1,{"$f":"CONCATENATE(Table9[[#This Row],[Feature]],\".\",Table9[[#This Row],[Part]])","v":"X11.1"},{"$f":"VLOOKUP(Table9[[#This Row],[Feature]],Table5[],5,FALSE)","v":"Optimization"},{"$f":"NOT(ISNA(_xlfn.IFNA(VLOOKUP(Table9[[#This Row],[Feature.Part]],Table6[v2 Feature.Part],1,FALSE),VLOOKUP(CONCATENATE(Table9[[#This Row],[Feature]],\".\",\"All\"),Table6[v2 Feature.Part],1,FALSE))))","v":true},{"$f":"IF(Table9[[#This Row],[Part Covered in Skybridge?]],  IF(COUNTIFS(Table6[v2 Part attainment through these features?],TRUE,Table6[v2 Feature.Part],Table9[[#This Row],[Feature.Part]])>0,TRUE,FALSE),FALSE)","v":true},{"$f":"IF(Table9[[#This Row],[Part attained in v2?]],\nIF(Table9[[#This Row],[Feature]]=\"I01\",COUNTIFS(Table6[WELL v2 Feature],\"I01\",Table6[v1 feature 1 attainment],\"Y\"),\nVLOOKUP(Table9[[#This Row],[Feature.Part]],Table6[[v2 Feature.Part]:[Part points]],7,FALSE)),0)","v":1},{"$f":"IF(Table9[[#This Row],[Part attained in v2?]],IF(Table9[[#This Row],[Type]]=\"Precondition\",\"Y\",Table9[[#This Row],[v2 points]]),0)","v":1},{"$f":"VLOOKUP(Table9[[#This Row],[Feature]],Table5[],12,FALSE)","v":"Materials"}]
[null,null,null,null,null,null,null,null,null,null,null,null,null,null,null,null,null,null,null,null,"X11",2,{"$f":"CONCATENATE(Table9[[#This Row],[Feature]],\".\",Table9[[#This Row],[Part]])","v":"X11.2"},{"$f":"VLOOKUP(Table9[[#This Row],[Feature]],Table5[],5,FALSE)","v":"Optimization"},{"$f":"NOT(ISNA(_xlfn.IFNA(VLOOKUP(Table9[[#This Row],[Feature.Part]],Table6[v2 Feature.Part],1,FALSE),VLOOKUP(CONCATENATE(Table9[[#This Row],[Feature]],\".\",\"All\"),Table6[v2 Feature.Part],1,FALSE))))","v":true},{"$f":"IF(Table9[[#This Row],[Part Covered in Skybridge?]],  IF(COUNTIFS(Table6[v2 Part attainment through these features?],TRUE,Table6[v2 Feature.Part],Table9[[#This Row],[Feature.Part]])>0,TRUE,FALSE),FALSE)","v":true},{"$f":"IF(Table9[[#This Row],[Part attained in v2?]],\nIF(Table9[[#This Row],[Feature]]=\"I01\",COUNTIFS(Table6[WELL v2 Feature],\"I01\",Table6[v1 feature 1 attainment],\"Y\"),\nVLOOKUP(Table9[[#This Row],[Feature.Part]],Table6[[v2 Feature.Part]:[Part points]],7,FALSE)),0)","v":1},{"$f":"IF(Table9[[#This Row],[Part attained in v2?]],IF(Table9[[#This Row],[Type]]=\"Precondition\",\"Y\",Table9[[#This Row],[v2 points]]),0)","v":1},{"$f":"VLOOKUP(Table9[[#This Row],[Feature]],Table5[],12,FALSE)","v":"Materials"}]
[null,null,null,null,null,null,null,null,null,null,null,null,null,null,null,null,null,null,null,null,"X12",1,{"$f":"CONCATENATE(Table9[[#This Row],[Feature]],\".\",Table9[[#This Row],[Part]])","v":"X12.1"},{"$f":"VLOOKUP(Table9[[#This Row],[Feature]],Table5[],5,FALSE)","v":"Optimization"},{"$f":"NOT(ISNA(_xlfn.IFNA(VLOOKUP(Table9[[#This Row],[Feature.Part]],Table6[v2 Feature.Part],1,FALSE),VLOOKUP(CONCATENATE(Table9[[#This Row],[Feature]],\".\",\"All\"),Table6[v2 Feature.Part],1,FALSE))))","v":false},{"$f":"IF(Table9[[#This Row],[Part Covered in Skybridge?]],  IF(COUNTIFS(Table6[v2 Part attainment through these features?],TRUE,Table6[v2 Feature.Part],Table9[[#This Row],[Feature.Part]])>0,TRUE,FALSE),FALSE)","v":false},{"$f":"IF(Table9[[#This Row],[Part attained in v2?]],\nIF(Table9[[#This Row],[Feature]]=\"I01\",COUNTIFS(Table6[WELL v2 Feature],\"I01\",Table6[v1 feature 1 attainment],\"Y\"),\nVLOOKUP(Table9[[#This Row],[Feature.Part]],Table6[[v2 Feature.Part]:[Part points]],7,FALSE)),0)","v":0},{"$f":"IF(Table9[[#This Row],[Part attained in v2?]],IF(Table9[[#This Row],[Type]]=\"Precondition\",\"Y\",Table9[[#This Row],[v2 points]]),0)","v":0},{"$f":"VLOOKUP(Table9[[#This Row],[Feature]],Table5[],12,FALSE)","v":"Materials"}]
[null,null,null,null,null,null,null,null,null,null,null,null,null,null,null,null,null,null,null,null,"X12",2,{"$f":"CONCATENATE(Table9[[#This Row],[Feature]],\".\",Table9[[#This Row],[Part]])","v":"X12.2"},{"$f":"VLOOKUP(Table9[[#This Row],[Feature]],Table5[],5,FALSE)","v":"Optimization"},{"$f":"NOT(ISNA(_xlfn.IFNA(VLOOKUP(Table9[[#This Row],[Feature.Part]],Table6[v2 Feature.Part],1,FALSE),VLOOKUP(CONCATENATE(Table9[[#This Row],[Feature]],\".\",\"All\"),Table6[v2 Feature.Part],1,FALSE))))","v":false},{"$f":"IF(Table9[[#This Row],[Part Covered in Skybridge?]],  IF(COUNTIFS(Table6[v2 Part attainment through these features?],TRUE,Table6[v2 Feature.Part],Table9[[#This Row],[Feature.Part]])>0,TRUE,FALSE),FALSE)","v":false},{"$f":"IF(Table9[[#This Row],[Part attained in v2?]],\nIF(Table9[[#This Row],[Feature]]=\"I01\",COUNTIFS(Table6[WELL v2 Feature],\"I01\",Table6[v1 feature 1 attainment],\"Y\"),\nVLOOKUP(Table9[[#This Row],[Feature.Part]],Table6[[v2 Feature.Part]:[Part points]],7,FALSE)),0)","v":0},{"$f":"IF(Table9[[#This Row],[Part attained in v2?]],IF(Table9[[#This Row],[Type]]=\"Precondition\",\"Y\",Table9[[#This Row],[v2 points]]),0)","v":0},{"$f":"VLOOKUP(Table9[[#This Row],[Feature]],Table5[],12,FALSE)","v":"Materials"}]
[null,null,null,null,null,null,null,null,null,null,null,null,null,null,null,null,null,null,null,null,"M01",1,{"$f":"CONCATENATE(Table9[[#This Row],[Feature]],\".\",Table9[[#This Row],[Part]])","v":"M01.1"},{"$f":"VLOOKUP(Table9[[#This Row],[Feature]],Table5[],5,FALSE)","v":"Precondition"},{"$f":"NOT(ISNA(_xlfn.IFNA(VLOOKUP(Table9[[#This Row],[Feature.Part]],Table6[v2 Feature.Part],1,FALSE),VLOOKUP(CONCATENATE(Table9[[#This Row],[Feature]],\".\",\"All\"),Table6[v2 Feature.Part],1,FALSE))))","v":false},{"$f":"IF(Table9[[#This Row],[Part Covered in Skybridge?]],  IF(COUNTIFS(Table6[v2 Part attainment through these features?],TRUE,Table6[v2 Feature.Part],Table9[[#This Row],[Feature.Part]])>0,TRUE,FALSE),FALSE)","v":false},{"$f":"IF(Table9[[#This Row],[Part attained in v2?]],\nIF(Table9[[#This Row],[Feature]]=\"I01\",COUNTIFS(Table6[WELL v2 Feature],\"I01\",Table6[v1 feature 1 attainment],\"Y\"),\nVLOOKUP(Table9[[#This Row],[Feature.Part]],Table6[[v2 Feature.Part]:[Part points]],7,FALSE)),0)","v":0},{"$f":"IF(Table9[[#This Row],[Part attained in v2?]],IF(Table9[[#This Row],[Type]]=\"Precondition\",\"Y\",Table9[[#This Row],[v2 points]]),0)","v":0},{"$f":"VLOOKUP(Table9[[#This Row],[Feature]],Table5[],12,FALSE)","v":"Mind"}]
[null,null,null,null,null,null,null,null,null,null,null,null,null,null,null,null,null,null,null,null,"M02",1,{"$f":"CONCATENATE(Table9[[#This Row],[Feature]],\".\",Table9[[#This Row],[Part]])","v":"M02.1"},{"$f":"VLOOKUP(Table9[[#This Row],[Feature]],Table5[],5,FALSE)","v":"Precondition"},{"$f":"NOT(ISNA(_xlfn.IFNA(VLOOKUP(Table9[[#This Row],[Feature.Part]],Table6[v2 Feature.Part],1,FALSE),VLOOKUP(CONCATENATE(Table9[[#This Row],[Feature]],\".\",\"All\"),Table6[v2 Feature.Part],1,FALSE))))","v":true},{"$f":"IF(Table9[[#This Row],[Part Covered in Skybridge?]],  IF(COUNTIFS(Table6[v2 Part attainment through these features?],TRUE,Table6[v2 Feature.Part],Table9[[#This Row],[Feature.Part]])>0,TRUE,FALSE),FALSE)","v":true},{"$f":"IF(Table9[[#This Row],[Part attained in v2?]],\nIF(Table9[[#This Row],[Feature]]=\"I01\",COUNTIFS(Table6[WELL v2 Feature],\"I01\",Table6[v1 feature 1 attainment],\"Y\"),\nVLOOKUP(Table9[[#This Row],[Feature.Part]],Table6[[v2 Feature.Part]:[Part points]],7,FALSE)),0)","v":"P"},{"$f":"IF(Table9[[#This Row],[Part attained in v2?]],IF(Table9[[#This Row],[Type]]=\"Precondition\",\"Y\",Table9[[#This Row],[v2 points]]),0)","v":"Y"},{"$f":"VLOOKUP(Table9[[#This Row],[Feature]],Table5[],12,FALSE)","v":"Mind"}]
[null,null,null,null,null,null,null,null,null,null,null,null,null,null,null,null,null,null,null,null,"M02",2,{"$f":"CONCATENATE(Table9[[#This Row],[Feature]],\".\",Table9[[#This Row],[Part]])","v":"M02.2"},{"$f":"VLOOKUP(Table9[[#This Row],[Feature]],Table5[],5,FALSE)","v":"Precondition"},{"$f":"NOT(ISNA(_xlfn.IFNA(VLOOKUP(Table9[[#This Row],[Feature.Part]],Table6[v2 Feature.Part],1,FALSE),VLOOKUP(CONCATENATE(Table9[[#This Row],[Feature]],\".\",\"All\"),Table6[v2 Feature.Part],1,FALSE))))","v":true},{"$f":"IF(Table9[[#This Row],[Part Covered in Skybridge?]],  IF(COUNTIFS(Table6[v2 Part attainment through these features?],TRUE,Table6[v2 Feature.Part],Table9[[#This Row],[Feature.Part]])>0,TRUE,FALSE),FALSE)","v":true},{"$f":"IF(Table9[[#This Row],[Part attained in v2?]],\nIF(Table9[[#This Row],[Feature]]=\"I01\",COUNTIFS(Table6[WELL v2 Feature],\"I01\",Table6[v1 feature 1 attainment],\"Y\"),\nVLOOKUP(Table9[[#This Row],[Feature.Part]],Table6[[v2 Feature.Part]:[Part points]],7,FALSE)),0)","v":"P"},{"$f":"IF(Table9[[#This Row],[Part attained in v2?]],IF(Table9[[#This Row],[Type]]=\"Precondition\",\"Y\",Table9[[#This Row],[v2 points]]),0)","v":"Y"},{"$f":"VLOOKUP(Table9[[#This Row],[Feature]],Table5[],12,FALSE)","v":"Mind"}]
[null,null,null,null,null,null,null,null,null,null,null,null,null,null,null,null,null,null,null,null,"M03",1,{"$f":"CONCATENATE(Table9[[#This Row],[Feature]],\".\",Table9[[#This Row],[Part]])","v":"M03.1"},{"$f":"VLOOKUP(Table9[[#This Row],[Feature]],Table5[],5,FALSE)","v":"Optimization"},{"$f":"NOT(ISNA(_xlfn.IFNA(VLOOKUP(Table9[[#This Row],[Feature.Part]],Table6[v2 Feature.Part],1,FALSE),VLOOKUP(CONCATENATE(Table9[[#This Row],[Feature]],\".\",\"All\"),Table6[v2 Feature.Part],1,FALSE))))","v":false},{"$f":"IF(Table9[[#This Row],[Part Covered in Skybridge?]],  IF(COUNTIFS(Table6[v2 Part attainment through these features?],TRUE,Table6[v2 Feature.Part],Table9[[#This Row],[Feature.Part]])>0,TRUE,FALSE),FALSE)","v":false},{"$f":"IF(Table9[[#This Row],[Part attained in v2?]],\nIF(Table9[[#This Row],[Feature]]=\"I01\",COUNTIFS(Table6[WELL v2 Feature],\"I01\",Table6[v1 feature 1 attainment],\"Y\"),\nVLOOKUP(Table9[[#This Row],[Feature.Part]],Table6[[v2 Feature.Part]:[Part points]],7,FALSE)),0)","v":0},{"$f":"IF(Table9[[#This Row],[Part attained in v2?]],IF(Table9[[#This Row],[Type]]=\"Precondition\",\"Y\",Table9[[#This Row],[v2 points]]),0)","v":0},{"$f":"VLOOKUP(Table9[[#This Row],[Feature]],Table5[],12,FALSE)","v":"Mind"}]
[null,null,null,null,null,null,null,null,null,null,null,null,null,null,null,null,null,null,null,null,"M03",2,{"$f":"CONCATENATE(Table9[[#This Row],[Feature]],\".\",Table9[[#This Row],[Part]])","v":"M03.2"},{"$f":"VLOOKUP(Table9[[#This Row],[Feature]],Table5[],5,FALSE)","v":"Optimization"},{"$f":"NOT(ISNA(_xlfn.IFNA(VLOOKUP(Table9[[#This Row],[Feature.Part]],Table6[v2 Feature.Part],1,FALSE),VLOOKUP(CONCATENATE(Table9[[#This Row],[Feature]],\".\",\"All\"),Table6[v2 Feature.Part],1,FALSE))))","v":false},{"$f":"IF(Table9[[#This Row],[Part Covered in Skybridge?]],  IF(COUNTIFS(Table6[v2 Part attainment through these features?],TRUE,Table6[v2 Feature.Part],Table9[[#This Row],[Feature.Part]])>0,TRUE,FALSE),FALSE)","v":false},{"$f":"IF(Table9[[#This Row],[Part attained in v2?]],\nIF(Table9[[#This Row],[Feature]]=\"I01\",COUNTIFS(Table6[WELL v2 Feature],\"I01\",Table6[v1 feature 1 attainment],\"Y\"),\nVLOOKUP(Table9[[#This Row],[Feature.Part]],Table6[[v2 Feature.Part]:[Part points]],7,FALSE)),0)","v":0},{"$f":"IF(Table9[[#This Row],[Part attained in v2?]],IF(Table9[[#This Row],[Type]]=\"Precondition\",\"Y\",Table9[[#This Row],[v2 points]]),0)","v":0},{"$f":"VLOOKUP(Table9[[#This Row],[Feature]],Table5[],12,FALSE)","v":"Mind"}]
[null,null,null,null,null,null,null,null,null,null,null,null,null,null,null,null,null,null,null,null,"M03",3,{"$f":"CONCATENATE(Table9[[#This Row],[Feature]],\".\",Table9[[#This Row],[Part]])","v":"M03.3"},{"$f":"VLOOKUP(Table9[[#This Row],[Feature]],Table5[],5,FALSE)","v":"Optimization"},{"$f":"NOT(ISNA(_xlfn.IFNA(VLOOKUP(Table9[[#This Row],[Feature.Part]],Table6[v2 Feature.Part],1,FALSE),VLOOKUP(CONCATENATE(Table9[[#This Row],[Feature]],\".\",\"All\"),Table6[v2 Feature.Part],1,FALSE))))","v":false},{"$f":"IF(Table9[[#This Row],[Part Covered in Skybridge?]],  IF(COUNTIFS(Table6[v2 Part attainment through these features?],TRUE,Table6[v2 Feature.Part],Table9[[#This Row],[Feature.Part]])>0,TRUE,FALSE),FALSE)","v":false},{"$f":"IF(Table9[[#This Row],[Part attained in v2?]],\nIF(Table9[[#This Row],[Feature]]=\"I01\",COUNTIFS(Table6[WELL v2 Feature],\"I01\",Table6[v1 feature 1 attainment],\"Y\"),\nVLOOKUP(Table9[[#This Row],[Feature.Part]],Table6[[v2 Feature.Part]:[Part points]],7,FALSE)),0)","v":0},{"$f":"IF(Table9[[#This Row],[Part attained in v2?]],IF(Table9[[#This Row],[Type]]=\"Precondition\",\"Y\",Table9[[#This Row],[v2 points]]),0)","v":0},{"$f":"VLOOKUP(Table9[[#This Row],[Feature]],Table5[],12,FALSE)","v":"Mind"}]
[null,null,null,null,null,null,null,null,null,null,null,null,null,null,null,null,null,null,null,null,"M03",4,{"$f":"CONCATENATE(Table9[[#This Row],[Feature]],\".\",Table9[[#This Row],[Part]])","v":"M03.4"},{"$f":"VLOOKUP(Table9[[#This Row],[Feature]],Table5[],5,FALSE)","v":"Optimization"},{"$f":"NOT(ISNA(_xlfn.IFNA(VLOOKUP(Table9[[#This Row],[Feature.Part]],Table6[v2 Feature.Part],1,FALSE),VLOOKUP(CONCATENATE(Table9[[#This Row],[Feature]],\".\",\"All\"),Table6[v2 Feature.Part],1,FALSE))))","v":false},{"$f":"IF(Table9[[#This Row],[Part Covered in Skybridge?]],  IF(COUNTIFS(Table6[v2 Part attainment through these features?],TRUE,Table6[v2 Feature.Part],Table9[[#This Row],[Feature.Part]])>0,TRUE,FALSE),FALSE)","v":false},{"$f":"IF(Table9[[#This Row],[Part attained in v2?]],\nIF(Table9[[#This Row],[Feature]]=\"I01\",COUNTIFS(Table6[WELL v2 Feature],\"I01\",Table6[v1 feature 1 attainment],\"Y\"),\nVLOOKUP(Table9[[#This Row],[Feature.Part]],Table6[[v2 Feature.Part]:[Part points]],7,FALSE)),0)","v":0},{"$f":"IF(Table9[[#This Row],[Part attained in v2?]],IF(Table9[[#This Row],[Type]]=\"Precondition\",\"Y\",Table9[[#This Row],[v2 points]]),0)","v":0},{"$f":"VLOOKUP(Table9[[#This Row],[Feature]],Table5[],12,FALSE)","v":"Mind"}]
[null,null,null,null,null,null,null,null,null,null,null,null,null,null,null,null,null,null,null,null,"M04",1,{"$f":"CONCATENATE(Table9[[#This Row],[Feature]],\".\",Table9[[#This Row],[Part]])","v":"M04.1"},{"$f":"VLOOKUP(Table9[[#This Row],[Feature]],Table5[],5,FALSE)","v":"Optimization"},{"$f":"NOT(ISNA(_xlfn.IFNA(VLOOKUP(Table9[[#This Row],[Feature.Part]],Table6[v2 Feature.Part],1,FALSE),VLOOKUP(CONCATENATE(Table9[[#This Row],[Feature]],\".\",\"All\"),Table6[v2 Feature.Part],1,FALSE))))","v":false},{"$f":"IF(Table9[[#This Row],[Part Covered in Skybridge?]],  IF(COUNTIFS(Table6[v2 Part attainment through these features?],TRUE,Table6[v2 Feature.Part],Table9[[#This Row],[Feature.Part]])>0,TRUE,FALSE),FALSE)","v":false},{"$f":"IF(Table9[[#This Row],[Part attained in v2?]],\nIF(Table9[[#This Row],[Feature]]=\"I01\",COUNTIFS(Table6[WELL v2 Feature],\"I01\",Table6[v1 feature 1 attainment],\"Y\"),\nVLOOKUP(Table9[[#This Row],[Feature.Part]],Table6[[v2 Feature.Part]:[Part points]],7,FALSE)),0)","v":0},{"$f":"IF(Table9[[#This Row],[Part attained in v2?]],IF(Table9[[#This Row],[Type]]=\"Precondition\",\"Y\",Table9[[#This Row],[v2 points]]),0)","v":0},{"$f":"VLOOKUP(Table9[[#This Row],[Feature]],Table5[],12,FALSE)","v":"Mind"}]
[null,null,null,null,null,null,null,null,null,null,null,null,null,null,null,null,null,null,null,null,"M04",2,{"$f":"CONCATENATE(Table9[[#This Row],[Feature]],\".\",Table9[[#This Row],[Part]])","v":"M04.2"},{"$f":"VLOOKUP(Table9[[#This Row],[Feature]],Table5[],5,FALSE)","v":"Optimization"},{"$f":"NOT(ISNA(_xlfn.IFNA(VLOOKUP(Table9[[#This Row],[Feature.Part]],Table6[v2 Feature.Part],1,FALSE),VLOOKUP(CONCATENATE(Table9[[#This Row],[Feature]],\".\",\"All\"),Table6[v2 Feature.Part],1,FALSE))))","v":false},{"$f":"IF(Table9[[#This Row],[Part Covered in Skybridge?]],  IF(COUNTIFS(Table6[v2 Part attainment through these features?],TRUE,Table6[v2 Feature.Part],Table9[[#This Row],[Feature.Part]])>0,TRUE,FALSE),FALSE)","v":false},{"$f":"IF(Table9[[#This Row],[Part attained in v2?]],\nIF(Table9[[#This Row],[Feature]]=\"I01\",COUNTIFS(Table6[WELL v2 Feature],\"I01\",Table6[v1 feature 1 attainment],\"Y\"),\nVLOOKUP(Table9[[#This Row],[Feature.Part]],Table6[[v2 Feature.Part]:[Part points]],7,FALSE)),0)","v":0},{"$f":"IF(Table9[[#This Row],[Part attained in v2?]],IF(Table9[[#This Row],[Type]]=\"Precondition\",\"Y\",Table9[[#This Row],[v2 points]]),0)","v":0},{"$f":"VLOOKUP(Table9[[#This Row],[Feature]],Table5[],12,FALSE)","v":"Mind"}]
[null,null,null,null,null,null,null,null,null,null,null,null,null,null,null,null,null,null,null,null,"M05",1,{"$f":"CONCATENATE(Table9[[#This Row],[Feature]],\".\",Table9[[#This Row],[Part]])","v":"M05.1"},{"$f":"VLOOKUP(Table9[[#This Row],[Feature]],Table5[],5,FALSE)","v":"Optimization"},{"$f":"NOT(ISNA(_xlfn.IFNA(VLOOKUP(Table9[[#This Row],[Feature.Part]],Table6[v2 Feature.Part],1,FALSE),VLOOKUP(CONCATENATE(Table9[[#This Row],[Feature]],\".\",\"All\"),Table6[v2 Feature.Part],1,FALSE))))","v":false},{"$f":"IF(Table9[[#This Row],[Part Covered in Skybridge?]],  IF(COUNTIFS(Table6[v2 Part attainment through these features?],TRUE,Table6[v2 Feature.Part],Table9[[#This Row],[Feature.Part]])>0,TRUE,FALSE),FALSE)","v":false},{"$f":"IF(Table9[[#This Row],[Part attained in v2?]],\nIF(Table9[[#This Row],[Feature]]=\"I01\",COUNTIFS(Table6[WELL v2 Feature],\"I01\",Table6[v1 feature 1 attainment],\"Y\"),\nVLOOKUP(Table9[[#This Row],[Feature.Part]],Table6[[v2 Feature.Part]:[Part points]],7,FALSE)),0)","v":0},{"$f":"IF(Table9[[#This Row],[Part attained in v2?]],IF(Table9[[#This Row],[Type]]=\"Precondition\",\"Y\",Table9[[#This Row],[v2 points]]),0)","v":0},{"$f":"VLOOKUP(Table9[[#This Row],[Feature]],Table5[],12,FALSE)","v":"Mind"}]
[null,null,null,null,null,null,null,null,null,null,null,null,null,null,null,null,null,null,null,null,"M06",1,{"$f":"CONCATENATE(Table9[[#This Row],[Feature]],\".\",Table9[[#This Row],[Part]])","v":"M06.1"},{"$f":"VLOOKUP(Table9[[#This Row],[Feature]],Table5[],5,FALSE)","v":"Optimization"},{"$f":"NOT(ISNA(_xlfn.IFNA(VLOOKUP(Table9[[#This Row],[Feature.Part]],Table6[v2 Feature.Part],1,FALSE),VLOOKUP(CONCATENATE(Table9[[#This Row],[Feature]],\".\",\"All\"),Table6[v2 Feature.Part],1,FALSE))))","v":false},{"$f":"IF(Table9[[#This Row],[Part Covered in Skybridge?]],  IF(COUNTIFS(Table6[v2 Part attainment through these features?],TRUE,Table6[v2 Feature.Part],Table9[[#This Row],[Feature.Part]])>0,TRUE,FALSE),FALSE)","v":false},{"$f":"IF(Table9[[#This Row],[Part attained in v2?]],\nIF(Table9[[#This Row],[Feature]]=\"I01\",COUNTIFS(Table6[WELL v2 Feature],\"I01\",Table6[v1 feature 1 attainment],\"Y\"),\nVLOOKUP(Table9[[#This Row],[Feature.Part]],Table6[[v2 Feature.Part]:[Part points]],7,FALSE)),0)","v":0},{"$f":"IF(Table9[[#This Row],[Part attained in v2?]],IF(Table9[[#This Row],[Type]]=\"Precondition\",\"Y\",Table9[[#This Row],[v2 points]]),0)","v":0},{"$f":"VLOOKUP(Table9[[#This Row],[Feature]],Table5[],12,FALSE)","v":"Mind"}]
[null,null,null,null,null,null,null,null,null,null,null,null,null,null,null,null,null,null,null,null,"M06",2,{"$f":"CONCATENATE(Table9[[#This Row],[Feature]],\".\",Table9[[#This Row],[Part]])","v":"M06.2"},{"$f":"VLOOKUP(Table9[[#This Row],[Feature]],Table5[],5,FALSE)","v":"Optimization"},{"$f":"NOT(ISNA(_xlfn.IFNA(VLOOKUP(Table9[[#This Row],[Feature.Part]],Table6[v2 Feature.Part],1,FALSE),VLOOKUP(CONCATENATE(Table9[[#This Row],[Feature]],\".\",\"All\"),Table6[v2 Feature.Part],1,FALSE))))","v":true},{"$f":"IF(Table9[[#This Row],[Part Covered in Skybridge?]],  IF(COUNTIFS(Table6[v2 Part attainment through these features?],TRUE,Table6[v2 Feature.Part],Table9[[#This Row],[Feature.Part]])>0,TRUE,FALSE),FALSE)","v":false},{"$f":"IF(Table9[[#This Row],[Part attained in v2?]],\nIF(Table9[[#This Row],[Feature]]=\"I01\",COUNTIFS(Table6[WELL v2 Feature],\"I01\",Table6[v1 feature 1 attainment],\"Y\"),\nVLOOKUP(Table9[[#This Row],[Feature.Part]],Table6[[v2 Feature.Part]:[Part points]],7,FALSE)),0)","v":0},{"$f":"IF(Table9[[#This Row],[Part attained in v2?]],IF(Table9[[#This Row],[Type]]=\"Precondition\",\"Y\",Table9[[#This Row],[v2 points]]),0)","v":0},{"$f":"VLOOKUP(Table9[[#This Row],[Feature]],Table5[],12,FALSE)","v":"Mind"}]
[null,null,null,null,null,null,null,null,null,null,null,null,null,null,null,null,null,null,null,null,"M07",1,{"$f":"CONCATENATE(Table9[[#This Row],[Feature]],\".\",Table9[[#This Row],[Part]])","v":"M07.1"},{"$f":"VLOOKUP(Table9[[#This Row],[Feature]],Table5[],5,FALSE)","v":"Optimization"},{"$f":"NOT(ISNA(_xlfn.IFNA(VLOOKUP(Table9[[#This Row],[Feature.Part]],Table6[v2 Feature.Part],1,FALSE),VLOOKUP(CONCATENATE(Table9[[#This Row],[Feature]],\".\",\"All\"),Table6[v2 Feature.Part],1,FALSE))))","v":true},{"$f":"IF(Table9[[#This Row],[Part Covered in Skybridge?]],  IF(COUNTIFS(Table6[v2 Part attainment through these features?],TRUE,Table6[v2 Feature.Part],Table9[[#This Row],[Feature.Part]])>0,TRUE,FALSE),FALSE)","v":false},{"$f":"IF(Table9[[#This Row],[Part attained in v2?]],\nIF(Table9[[#This Row],[Feature]]=\"I01\",COUNTIFS(Table6[WELL v2 Feature],\"I01\",Table6[v1 feature 1 attainment],\"Y\"),\nVLOOKUP(Table9[[#This Row],[Feature.Part]],Table6[[v2 Feature.Part]:[Part points]],7,FALSE)),0)","v":0},{"$f":"IF(Table9[[#This Row],[Part attained in v2?]],IF(Table9[[#This Row],[Type]]=\"Precondition\",\"Y\",Table9[[#This Row],[v2 points]]),0)","v":0},{"$f":"VLOOKUP(Table9[[#This Row],[Feature]],Table5[],12,FALSE)","v":"Mind"}]
[null,null,null,null,null,null,null,null,null,null,null,null,null,null,null,null,null,null,null,null,"M08",1,{"$f":"CONCATENATE(Table9[[#This Row],[Feature]],\".\",Table9[[#This Row],[Part]])","v":"M08.1"},{"$f":"VLOOKUP(Table9[[#This Row],[Feature]],Table5[],5,FALSE)","v":"Optimization"},{"$f":"NOT(ISNA(_xlfn.IFNA(VLOOKUP(Table9[[#This Row],[Feature.Part]],Table6[v2 Feature.Part],1,FALSE),VLOOKUP(CONCATENATE(Table9[[#This Row],[Feature]],\".\",\"All\"),Table6[v2 Feature.Part],1,FALSE))))","v":false},{"$f":"IF(Table9[[#This Row],[Part Covered in Skybridge?]],  IF(COUNTIFS(Table6[v2 Part attainment through these features?],TRUE,Table6[v2 Feature.Part],Table9[[#This Row],[Feature.Part]])>0,TRUE,FALSE),FALSE)","v":false},{"$f":"IF(Table9[[#This Row],[Part attained in v2?]],\nIF(Table9[[#This Row],[Feature]]=\"I01\",COUNTIFS(Table6[WELL v2 Feature],\"I01\",Table6[v1 feature 1 attainment],\"Y\"),\nVLOOKUP(Table9[[#This Row],[Feature.Part]],Table6[[v2 Feature.Part]:[Part points]],7,FALSE)),0)","v":0},{"$f":"IF(Table9[[#This Row],[Part attained in v2?]],IF(Table9[[#This Row],[Type]]=\"Precondition\",\"Y\",Table9[[#This Row],[v2 points]]),0)","v":0},{"$f":"VLOOKUP(Table9[[#This Row],[Feature]],Table5[],12,FALSE)","v":"Mind"}]
[null,null,null,null,null,null,null,null,null,null,null,null,null,null,null,null,null,null,null,null,"M09",1,{"$f":"CONCATENATE(Table9[[#This Row],[Feature]],\".\",Table9[[#This Row],[Part]])","v":"M09.1"},{"$f":"VLOOKUP(Table9[[#This Row],[Feature]],Table5[],5,FALSE)","v":"Optimization"},{"$f":"NOT(ISNA(_xlfn.IFNA(VLOOKUP(Table9[[#This Row],[Feature.Part]],Table6[v2 Feature.Part],1,FALSE),VLOOKUP(CONCATENATE(Table9[[#This Row],[Feature]],\".\",\"All\"),Table6[v2 Feature.Part],1,FALSE))))","v":true},{"$f":"IF(Table9[[#This Row],[Part Covered in Skybridge?]],  IF(COUNTIFS(Table6[v2 Part attainment through these features?],TRUE,Table6[v2 Feature.Part],Table9[[#This Row],[Feature.Part]])>0,TRUE,FALSE),FALSE)","v":false},{"$f":"IF(Table9[[#This Row],[Part attained in v2?]],\nIF(Table9[[#This Row],[Feature]]=\"I01\",COUNTIFS(Table6[WELL v2 Feature],\"I01\",Table6[v1 feature 1 attainment],\"Y\"),\nVLOOKUP(Table9[[#This Row],[Feature.Part]],Table6[[v2 Feature.Part]:[Part points]],7,FALSE)),0)","v":0},{"$f":"IF(Table9[[#This Row],[Part attained in v2?]],IF(Table9[[#This Row],[Type]]=\"Precondition\",\"Y\",Table9[[#This Row],[v2 points]]),0)","v":0},{"$f":"VLOOKUP(Table9[[#This Row],[Feature]],Table5[],12,FALSE)","v":"Mind"}]
[null,null,null,null,null,null,null,null,null,null,null,null,null,null,null,null,null,null,null,null,"M09",2,{"$f":"CONCATENATE(Table9[[#This Row],[Feature]],\".\",Table9[[#This Row],[Part]])","v":"M09.2"},{"$f":"VLOOKUP(Table9[[#This Row],[Feature]],Table5[],5,FALSE)","v":"Optimization"},{"$f":"NOT(ISNA(_xlfn.IFNA(VLOOKUP(Table9[[#This Row],[Feature.Part]],Table6[v2 Feature.Part],1,FALSE),VLOOKUP(CONCATENATE(Table9[[#This Row],[Feature]],\".\",\"All\"),Table6[v2 Feature.Part],1,FALSE))))","v":true},{"$f":"IF(Table9[[#This Row],[Part Covered in Skybridge?]],  IF(COUNTIFS(Table6[v2 Part attainment through these features?],TRUE,Table6[v2 Feature.Part],Table9[[#This Row],[Feature.Part]])>0,TRUE,FALSE),FALSE)","v":false},{"$f":"IF(Table9[[#This Row],[Part attained in v2?]],\nIF(Table9[[#This Row],[Feature]]=\"I01\",COUNTIFS(Table6[WELL v2 Feature],\"I01\",Table6[v1 feature 1 attainment],\"Y\"),\nVLOOKUP(Table9[[#This Row],[Feature.Part]],Table6[[v2 Feature.Part]:[Part points]],7,FALSE)),0)","v":0},{"$f":"IF(Table9[[#This Row],[Part attained in v2?]],IF(Table9[[#This Row],[Type]]=\"Precondition\",\"Y\",Table9[[#This Row],[v2 points]]),0)","v":0},{"$f":"VLOOKUP(Table9[[#This Row],[Feature]],Table5[],12,FALSE)","v":"Mind"}]
[null,null,null,null,null,null,null,null,null,null,null,null,null,null,null,null,null,null,null,null,"M10",1,{"$f":"CONCATENATE(Table9[[#This Row],[Feature]],\".\",Table9[[#This Row],[Part]])","v":"M10.1"},{"$f":"VLOOKUP(Table9[[#This Row],[Feature]],Table5[],5,FALSE)","v":"Optimization"},{"$f":"NOT(ISNA(_xlfn.IFNA(VLOOKUP(Table9[[#This Row],[Feature.Part]],Table6[v2 Feature.Part],1,FALSE),VLOOKUP(CONCATENATE(Table9[[#This Row],[Feature]],\".\",\"All\"),Table6[v2 Feature.Part],1,FALSE))))","v":false},{"$f":"IF(Table9[[#This Row],[Part Covered in Skybridge?]],  IF(COUNTIFS(Table6[v2 Part attainment through these features?],TRUE,Table6[v2 Feature.Part],Table9[[#This Row],[Feature.Part]])>0,TRUE,FALSE),FALSE)","v":false},{"$f":"IF(Table9[[#This Row],[Part attained in v2?]],\nIF(Table9[[#This Row],[Feature]]=\"I01\",COUNTIFS(Table6[WELL v2 Feature],\"I01\",Table6[v1 feature 1 attainment],\"Y\"),\nVLOOKUP(Table9[[#This Row],[Feature.Part]],Table6[[v2 Feature.Part]:[Part points]],7,FALSE)),0)","v":0},{"$f":"IF(Table9[[#This Row],[Part attained in v2?]],IF(Table9[[#This Row],[Type]]=\"Precondition\",\"Y\",Table9[[#This Row],[v2 points]]),0)","v":0},{"$f":"VLOOKUP(Table9[[#This Row],[Feature]],Table5[],12,FALSE)","v":"Mind"}]
[null,null,null,null,null,null,null,null,null,null,null,null,null,null,null,null,null,null,null,null,"M10",2,{"$f":"CONCATENATE(Table9[[#This Row],[Feature]],\".\",Table9[[#This Row],[Part]])","v":"M10.2"},{"$f":"VLOOKUP(Table9[[#This Row],[Feature]],Table5[],5,FALSE)","v":"Optimization"},{"$f":"NOT(ISNA(_xlfn.IFNA(VLOOKUP(Table9[[#This Row],[Feature.Part]],Table6[v2 Feature.Part],1,FALSE),VLOOKUP(CONCATENATE(Table9[[#This Row],[Feature]],\".\",\"All\"),Table6[v2 Feature.Part],1,FALSE))))","v":false},{"$f":"IF(Table9[[#This Row],[Part Covered in Skybridge?]],  IF(COUNTIFS(Table6[v2 Part attainment through these features?],TRUE,Table6[v2 Feature.Part],Table9[[#This Row],[Feature.Part]])>0,TRUE,FALSE),FALSE)","v":false},{"$f":"IF(Table9[[#This Row],[Part attained in v2?]],\nIF(Table9[[#This Row],[Feature]]=\"I01\",COUNTIFS(Table6[WELL v2 Feature],\"I01\",Table6[v1 feature 1 attainment],\"Y\"),\nVLOOKUP(Table9[[#This Row],[Feature.Part]],Table6[[v2 Feature.Part]:[Part points]],7,FALSE)),0)","v":0},{"$f":"IF(Table9[[#This Row],[Part attained in v2?]],IF(Table9[[#This Row],[Type]]=\"Precondition\",\"Y\",Table9[[#This Row],[v2 points]]),0)","v":0},{"$f":"VLOOKUP(Table9[[#This Row],[Feature]],Table5[],12,FALSE)","v":"Mind"}]
[null,null,null,null,null,null,null,null,null,null,null,null,null,null,null,null,null,null,null,null,"M11",1,{"$f":"CONCATENATE(Table9[[#This Row],[Feature]],\".\",Table9[[#This Row],[Part]])","v":"M11.1"},{"$f":"VLOOKUP(Table9[[#This Row],[Feature]],Table5[],5,FALSE)","v":"Optimization"},{"$f":"NOT(ISNA(_xlfn.IFNA(VLOOKUP(Table9[[#This Row],[Feature.Part]],Table6[v2 Feature.Part],1,FALSE),VLOOKUP(CONCATENATE(Table9[[#This Row],[Feature]],\".\",\"All\"),Table6[v2 Feature.Part],1,FALSE))))","v":false},{"$f":"IF(Table9[[#This Row],[Part Covered in Skybridge?]],  IF(COUNTIFS(Table6[v2 Part attainment through these features?],TRUE,Table6[v2 Feature.Part],Table9[[#This Row],[Feature.Part]])>0,TRUE,FALSE),FALSE)","v":false},{"$f":"IF(Table9[[#This Row],[Part attained in v2?]],\nIF(Table9[[#This Row],[Feature]]=\"I01\",COUNTIFS(Table6[WELL v2 Feature],\"I01\",Table6[v1 feature 1 attainment],\"Y\"),\nVLOOKUP(Table9[[#This Row],[Feature.Part]],Table6[[v2 Feature.Part]:[Part points]],7,FALSE)),0)","v":0},{"$f":"IF(Table9[[#This Row],[Part attained in v2?]],IF(Table9[[#This Row],[Type]]=\"Precondition\",\"Y\",Table9[[#This Row],[v2 points]]),0)","v":0},{"$f":"VLOOKUP(Table9[[#This Row],[Feature]],Table5[],12,FALSE)","v":"Mind"}]
[null,null,null,null,null,null,null,null,null,null,null,null,null,null,null,null,null,null,null,null,"M11",2,{"$f":"CONCATENATE(Table9[[#This Row],[Feature]],\".\",Table9[[#This Row],[Part]])","v":"M11.2"},{"$f":"VLOOKUP(Table9[[#This Row],[Feature]],Table5[],5,FALSE)","v":"Optimization"},{"$f":"NOT(ISNA(_xlfn.IFNA(VLOOKUP(Table9[[#This Row],[Feature.Part]],Table6[v2 Feature.Part],1,FALSE),VLOOKUP(CONCATENATE(Table9[[#This Row],[Feature]],\".\",\"All\"),Table6[v2 Feature.Part],1,FALSE))))","v":true},{"$f":"IF(Table9[[#This Row],[Part Covered in Skybridge?]],  IF(COUNTIFS(Table6[v2 Part attainment through these features?],TRUE,Table6[v2 Feature.Part],Table9[[#This Row],[Feature.Part]])>0,TRUE,FALSE),FALSE)","v":false},{"$f":"IF(Table9[[#This Row],[Part attained in v2?]],\nIF(Table9[[#This Row],[Feature]]=\"I01\",COUNTIFS(Table6[WELL v2 Feature],\"I01\",Table6[v1 feature 1 attainment],\"Y\"),\nVLOOKUP(Table9[[#This Row],[Feature.Part]],Table6[[v2 Feature.Part]:[Part points]],7,FALSE)),0)","v":0},{"$f":"IF(Table9[[#This Row],[Part attained in v2?]],IF(Table9[[#This Row],[Type]]=\"Precondition\",\"Y\",Table9[[#This Row],[v2 points]]),0)","v":0},{"$f":"VLOOKUP(Table9[[#This Row],[Feature]],Table5[],12,FALSE)","v":"Mind"}]
[null,null,null,null,null,null,null,null,null,null,null,null,null,null,null,null,null,null,null,null,"C01",1,{"$f":"CONCATENATE(Table9[[#This Row],[Feature]],\".\",Table9[[#This Row],[Part]])","v":"C01.1"},{"$f":"VLOOKUP(Table9[[#This Row],[Feature]],Table5[],5,FALSE)","v":"Precondition"},{"$f":"NOT(ISNA(_xlfn.IFNA(VLOOKUP(Table9[[#This Row],[Feature.Part]],Table6[v2 Feature.Part],1,FALSE),VLOOKUP(CONCATENATE(Table9[[#This Row],[Feature]],\".\",\"All\"),Table6[v2 Feature.Part],1,FALSE))))","v":true},{"$f":"IF(Table9[[#This Row],[Part Covered in Skybridge?]],  IF(COUNTIFS(Table6[v2 Part attainment through these features?],TRUE,Table6[v2 Feature.Part],Table9[[#This Row],[Feature.Part]])>0,TRUE,FALSE),FALSE)","v":true},{"$f":"IF(Table9[[#This Row],[Part attained in v2?]],\nIF(Table9[[#This Row],[Feature]]=\"I01\",COUNTIFS(Table6[WELL v2 Feature],\"I01\",Table6[v1 feature 1 attainment],\"Y\"),\nVLOOKUP(Table9[[#This Row],[Feature.Part]],Table6[[v2 Feature.Part]:[Part points]],7,FALSE)),0)","v":"P"},{"$f":"IF(Table9[[#This Row],[Part attained in v2?]],IF(Table9[[#This Row],[Type]]=\"Precondition\",\"Y\",Table9[[#This Row],[v2 points]]),0)","v":"Y"},{"$f":"VLOOKUP(Table9[[#This Row],[Feature]],Table5[],12,FALSE)","v":"Community"}]
[null,null,null,null,null,null,null,null,null,null,null,null,null,null,null,null,null,null,null,null,"C02",1,{"$f":"CONCATENATE(Table9[[#This Row],[Feature]],\".\",Table9[[#This Row],[Part]])","v":"C02.1"},{"$f":"VLOOKUP(Table9[[#This Row],[Feature]],Table5[],5,FALSE)","v":"Precondition"},{"$f":"NOT(ISNA(_xlfn.IFNA(VLOOKUP(Table9[[#This Row],[Feature.Part]],Table6[v2 Feature.Part],1,FALSE),VLOOKUP(CONCATENATE(Table9[[#This Row],[Feature]],\".\",\"All\"),Table6[v2 Feature.Part],1,FALSE))))","v":true},{"$f":"IF(Table9[[#This Row],[Part Covered in Skybridge?]],  IF(COUNTIFS(Table6[v2 Part attainment through these features?],TRUE,Table6[v2 Feature.Part],Table9[[#This Row],[Feature.Part]])>0,TRUE,FALSE),FALSE)","v":true},{"$f":"IF(Table9[[#This Row],[Part attained in v2?]],\nIF(Table9[[#This Row],[Feature]]=\"I01\",COUNTIFS(Table6[WELL v2 Feature],\"I01\",Table6[v1 feature 1 attainment],\"Y\"),\nVLOOKUP(Table9[[#This Row],[Feature.Part]],Table6[[v2 Feature.Part]:[Part points]],7,FALSE)),0)","v":"P"},{"$f":"IF(Table9[[#This Row],[Part attained in v2?]],IF(Table9[[#This Row],[Type]]=\"Precondition\",\"Y\",Table9[[#This Row],[v2 points]]),0)","v":"Y"},{"$f":"VLOOKUP(Table9[[#This Row],[Feature]],Table5[],12,FALSE)","v":"Community"}]
[null,null,null,null,null,null,null,null,null,null,null,null,null,null,null,null,null,null,null,null,"C02",2,{"$f":"CONCATENATE(Table9[[#This Row],[Feature]],\".\",Table9[[#This Row],[Part]])","v":"C02.2"},{"$f":"VLOOKUP(Table9[[#This Row],[Feature]],Table5[],5,FALSE)","v":"Precondition"},{"$f":"NOT(ISNA(_xlfn.IFNA(VLOOKUP(Table9[[#This Row],[Feature.Part]],Table6[v2 Feature.Part],1,FALSE),VLOOKUP(CONCATENATE(Table9[[#This Row],[Feature]],\".\",\"All\"),Table6[v2 Feature.Part],1,FALSE))))","v":true},{"$f":"IF(Table9[[#This Row],[Part Covered in Skybridge?]],  IF(COUNTIFS(Table6[v2 Part attainment through these features?],TRUE,Table6[v2 Feature.Part],Table9[[#This Row],[Feature.Part]])>0,TRUE,FALSE),FALSE)","v":true},{"$f":"IF(Table9[[#This Row],[Part attained in v2?]],\nIF(Table9[[#This Row],[Feature]]=\"I01\",COUNTIFS(Table6[WELL v2 Feature],\"I01\",Table6[v1 feature 1 attainment],\"Y\"),\nVLOOKUP(Table9[[#This Row],[Feature.Part]],Table6[[v2 Feature.Part]:[Part points]],7,FALSE)),0)","v":"P"},{"$f":"IF(Table9[[#This Row],[Part attained in v2?]],IF(Table9[[#This Row],[Type]]=\"Precondition\",\"Y\",Table9[[#This Row],[v2 points]]),0)","v":"Y"},{"$f":"VLOOKUP(Table9[[#This Row],[Feature]],Table5[],12,FALSE)","v":"Community"}]
[null,null,null,null,null,null,null,null,null,null,null,null,null,null,null,null,null,null,null,null,"C03",1,{"$f":"CONCATENATE(Table9[[#This Row],[Feature]],\".\",Table9[[#This Row],[Part]])","v":"C03.1"},{"$f":"VLOOKUP(Table9[[#This Row],[Feature]],Table5[],5,FALSE)","v":"Precondition"},{"$f":"NOT(ISNA(_xlfn.IFNA(VLOOKUP(Table9[[#This Row],[Feature.Part]],Table6[v2 Feature.Part],1,FALSE),VLOOKUP(CONCATENATE(Table9[[#This Row],[Feature]],\".\",\"All\"),Table6[v2 Feature.Part],1,FALSE))))","v":false},{"$f":"IF(Table9[[#This Row],[Part Covered in Skybridge?]],  IF(COUNTIFS(Table6[v2 Part attainment through these features?],TRUE,Table6[v2 Feature.Part],Table9[[#This Row],[Feature.Part]])>0,TRUE,FALSE),FALSE)","v":false},{"$f":"IF(Table9[[#This Row],[Part attained in v2?]],\nIF(Table9[[#This Row],[Feature]]=\"I01\",COUNTIFS(Table6[WELL v2 Feature],\"I01\",Table6[v1 feature 1 attainment],\"Y\"),\nVLOOKUP(Table9[[#This Row],[Feature.Part]],Table6[[v2 Feature.Part]:[Part points]],7,FALSE)),0)","v":0},{"$f":"IF(Table9[[#This Row],[Part attained in v2?]],IF(Table9[[#This Row],[Type]]=\"Precondition\",\"Y\",Table9[[#This Row],[v2 points]]),0)","v":0},{"$f":"VLOOKUP(Table9[[#This Row],[Feature]],Table5[],12,FALSE)","v":"Community"}]
[null,null,null,null,null,null,null,null,null,null,null,null,null,null,null,null,null,null,null,null,"C04",1,{"$f":"CONCATENATE(Table9[[#This Row],[Feature]],\".\",Table9[[#This Row],[Part]])","v":"C04.1"},{"$f":"VLOOKUP(Table9[[#This Row],[Feature]],Table5[],5,FALSE)","v":"Precondition"},{"$f":"NOT(ISNA(_xlfn.IFNA(VLOOKUP(Table9[[#This Row],[Feature.Part]],Table6[v2 Feature.Part],1,FALSE),VLOOKUP(CONCATENATE(Table9[[#This Row],[Feature]],\".\",\"All\"),Table6[v2 Feature.Part],1,FALSE))))","v":true},{"$f":"IF(Table9[[#This Row],[Part Covered in Skybridge?]],  IF(COUNTIFS(Table6[v2 Part attainment through these features?],TRUE,Table6[v2 Feature.Part],Table9[[#This Row],[Feature.Part]])>0,TRUE,FALSE),FALSE)","v":true},{"$f":"IF(Table9[[#This Row],[Part attained in v2?]],\nIF(Table9[[#This Row],[Feature]]=\"I01\",COUNTIFS(Table6[WELL v2 Feature],\"I01\",Table6[v1 feature 1 attainment],\"Y\"),\nVLOOKUP(Table9[[#This Row],[Feature.Part]],Table6[[v2 Feature.Part]:[Part points]],7,FALSE)),0)","v":"P"},{"$f":"IF(Table9[[#This Row],[Part attained in v2?]],IF(Table9[[#This Row],[Type]]=\"Precondition\",\"Y\",Table9[[#This Row],[v2 points]]),0)","v":"Y"},{"$f":"VLOOKUP(Table9[[#This Row],[Feature]],Table5[],12,FALSE)","v":"Community"}]
[null,null,null,null,null,null,null,null,null,null,null,null,null,null,null,null,null,null,null,null,"C04",2,{"$f":"CONCATENATE(Table9[[#This Row],[Feature]],\".\",Table9[[#This Row],[Part]])","v":"C04.2"},{"$f":"VLOOKUP(Table9[[#This Row],[Feature]],Table5[],5,FALSE)","v":"Precondition"},{"$f":"NOT(ISNA(_xlfn.IFNA(VLOOKUP(Table9[[#This Row],[Feature.Part]],Table6[v2 Feature.Part],1,FALSE),VLOOKUP(CONCATENATE(Table9[[#This Row],[Feature]],\".\",\"All\"),Table6[v2 Feature.Part],1,FALSE))))","v":true},{"$f":"IF(Table9[[#This Row],[Part Covered in Skybridge?]],  IF(COUNTIFS(Table6[v2 Part attainment through these features?],TRUE,Table6[v2 Feature.Part],Table9[[#This Row],[Feature.Part]])>0,TRUE,FALSE),FALSE)","v":true},{"$f":"IF(Table9[[#This Row],[Part attained in v2?]],\nIF(Table9[[#This Row],[Feature]]=\"I01\",COUNTIFS(Table6[WELL v2 Feature],\"I01\",Table6[v1 feature 1 attainment],\"Y\"),\nVLOOKUP(Table9[[#This Row],[Feature.Part]],Table6[[v2 Feature.Part]:[Part points]],7,FALSE)),0)","v":"P"},{"$f":"IF(Table9[[#This Row],[Part attained in v2?]],IF(Table9[[#This Row],[Type]]=\"Precondition\",\"Y\",Table9[[#This Row],[v2 points]]),0)","v":"Y"},{"$f":"VLOOKUP(Table9[[#This Row],[Feature]],Table5[],12,FALSE)","v":"Community"}]
[null,null,null,null,null,null,null,null,null,null,null,null,null,null,null,null,null,null,null,null,"C05",1,{"$f":"CONCATENATE(Table9[[#This Row],[Feature]],\".\",Table9[[#This Row],[Part]])","v":"C05.1"},{"$f":"VLOOKUP(Table9[[#This Row],[Feature]],Table5[],5,FALSE)","v":"Optimization"},{"$f":"NOT(ISNA(_xlfn.IFNA(VLOOKUP(Table9[[#This Row],[Feature.Part]],Table6[v2 Feature.Part],1,FALSE),VLOOKUP(CONCATENATE(Table9[[#This Row],[Feature]],\".\",\"All\"),Table6[v2 Feature.Part],1,FALSE))))","v":false},{"$f":"IF(Table9[[#This Row],[Part Covered in Skybridge?]],  IF(COUNTIFS(Table6[v2 Part attainment through these features?],TRUE,Table6[v2 Feature.Part],Table9[[#This Row],[Feature.Part]])>0,TRUE,FALSE),FALSE)","v":false},{"$f":"IF(Table9[[#This Row],[Part attained in v2?]],\nIF(Table9[[#This Row],[Feature]]=\"I01\",COUNTIFS(Table6[WELL v2 Feature],\"I01\",Table6[v1 feature 1 attainment],\"Y\"),\nVLOOKUP(Table9[[#This Row],[Feature.Part]],Table6[[v2 Feature.Part]:[Part points]],7,FALSE)),0)","v":0},{"$f":"IF(Table9[[#This Row],[Part attained in v2?]],IF(Table9[[#This Row],[Type]]=\"Precondition\",\"Y\",Table9[[#This Row],[v2 points]]),0)","v":0},{"$f":"VLOOKUP(Table9[[#This Row],[Feature]],Table5[],12,FALSE)","v":"Community"}]
[null,null,null,null,null,null,null,null,null,null,null,null,null,null,null,null,null,null,null,null,"C05",2,{"$f":"CONCATENATE(Table9[[#This Row],[Feature]],\".\",Table9[[#This Row],[Part]])","v":"C05.2"},{"$f":"VLOOKUP(Table9[[#This Row],[Feature]],Table5[],5,FALSE)","v":"Optimization"},{"$f":"NOT(ISNA(_xlfn.IFNA(VLOOKUP(Table9[[#This Row],[Feature.Part]],Table6[v2 Feature.Part],1,FALSE),VLOOKUP(CONCATENATE(Table9[[#This Row],[Feature]],\".\",\"All\"),Table6[v2 Feature.Part],1,FALSE))))","v":false},{"$f":"IF(Table9[[#This Row],[Part Covered in Skybridge?]],  IF(COUNTIFS(Table6[v2 Part attainment through these features?],TRUE,Table6[v2 Feature.Part],Table9[[#This Row],[Feature.Part]])>0,TRUE,FALSE),FALSE)","v":false},{"$f":"IF(Table9[[#This Row],[Part attained in v2?]],\nIF(Table9[[#This Row],[Feature]]=\"I01\",COUNTIFS(Table6[WELL v2 Feature],\"I01\",Table6[v1 feature 1 attainment],\"Y\"),\nVLOOKUP(Table9[[#This Row],[Feature.Part]],Table6[[v2 Feature.Part]:[Part points]],7,FALSE)),0)","v":0},{"$f":"IF(Table9[[#This Row],[Part attained in v2?]],IF(Table9[[#This Row],[Type]]=\"Precondition\",\"Y\",Table9[[#This Row],[v2 points]]),0)","v":0},{"$f":"VLOOKUP(Table9[[#This Row],[Feature]],Table5[],12,FALSE)","v":"Community"}]
[null,null,null,null,null,null,null,null,null,null,null,null,null,null,null,null,null,null,null,null,"C05",3,{"$f":"CONCATENATE(Table9[[#This Row],[Feature]],\".\",Table9[[#This Row],[Part]])","v":"C05.3"},{"$f":"VLOOKUP(Table9[[#This Row],[Feature]],Table5[],5,FALSE)","v":"Optimization"},{"$f":"NOT(ISNA(_xlfn.IFNA(VLOOKUP(Table9[[#This Row],[Feature.Part]],Table6[v2 Feature.Part],1,FALSE),VLOOKUP(CONCATENATE(Table9[[#This Row],[Feature]],\".\",\"All\"),Table6[v2 Feature.Part],1,FALSE))))","v":false},{"$f":"IF(Table9[[#This Row],[Part Covered in Skybridge?]],  IF(COUNTIFS(Table6[v2 Part attainment through these features?],TRUE,Table6[v2 Feature.Part],Table9[[#This Row],[Feature.Part]])>0,TRUE,FALSE),FALSE)","v":false},{"$f":"IF(Table9[[#This Row],[Part attained in v2?]],\nIF(Table9[[#This Row],[Feature]]=\"I01\",COUNTIFS(Table6[WELL v2 Feature],\"I01\",Table6[v1 feature 1 attainment],\"Y\"),\nVLOOKUP(Table9[[#This Row],[Feature.Part]],Table6[[v2 Feature.Part]:[Part points]],7,FALSE)),0)","v":0},{"$f":"IF(Table9[[#This Row],[Part attained in v2?]],IF(Table9[[#This Row],[Type]]=\"Precondition\",\"Y\",Table9[[#This Row],[v2 points]]),0)","v":0},{"$f":"VLOOKUP(Table9[[#This Row],[Feature]],Table5[],12,FALSE)","v":"Community"}]
[null,null,null,null,null,null,null,null,null,null,null,null,null,null,null,null,null,null,null,null,"C05",4,{"$f":"CONCATENATE(Table9[[#This Row],[Feature]],\".\",Table9[[#This Row],[Part]])","v":"C05.4"},{"$f":"VLOOKUP(Table9[[#This Row],[Feature]],Table5[],5,FALSE)","v":"Optimization"},{"$f":"NOT(ISNA(_xlfn.IFNA(VLOOKUP(Table9[[#This Row],[Feature.Part]],Table6[v2 Feature.Part],1,FALSE),VLOOKUP(CONCATENATE(Table9[[#This Row],[Feature]],\".\",\"All\"),Table6[v2 Feature.Part],1,FALSE))))","v":false},{"$f":"IF(Table9[[#This Row],[Part Covered in Skybridge?]],  IF(COUNTIFS(Table6[v2 Part attainment through these features?],TRUE,Table6[v2 Feature.Part],Table9[[#This Row],[Feature.Part]])>0,TRUE,FALSE),FALSE)","v":false},{"$f":"IF(Table9[[#This Row],[Part attained in v2?]],\nIF(Table9[[#This Row],[Feature]]=\"I01\",COUNTIFS(Table6[WELL v2 Feature],\"I01\",Table6[v1 feature 1 attainment],\"Y\"),\nVLOOKUP(Table9[[#This Row],[Feature.Part]],Table6[[v2 Feature.Part]:[Part points]],7,FALSE)),0)","v":0},{"$f":"IF(Table9[[#This Row],[Part attained in v2?]],IF(Table9[[#This Row],[Type]]=\"Precondition\",\"Y\",Table9[[#This Row],[v2 points]]),0)","v":0},{"$f":"VLOOKUP(Table9[[#This Row],[Feature]],Table5[],12,FALSE)","v":"Community"}]
[null,null,null,null,null,null,null,null,null,null,null,null,null,null,null,null,null,null,null,null,"C06",1,{"$f":"CONCATENATE(Table9[[#This Row],[Feature]],\".\",Table9[[#This Row],[Part]])","v":"C06.1"},{"$f":"VLOOKUP(Table9[[#This Row],[Feature]],Table5[],5,FALSE)","v":"Optimization"},{"$f":"NOT(ISNA(_xlfn.IFNA(VLOOKUP(Table9[[#This Row],[Feature.Part]],Table6[v2 Feature.Part],1,FALSE),VLOOKUP(CONCATENATE(Table9[[#This Row],[Feature]],\".\",\"All\"),Table6[v2 Feature.Part],1,FALSE))))","v":true},{"$f":"IF(Table9[[#This Row],[Part Covered in Skybridge?]],  IF(COUNTIFS(Table6[v2 Part attainment through these features?],TRUE,Table6[v2 Feature.Part],Table9[[#This Row],[Feature.Part]])>0,TRUE,FALSE),FALSE)","v":false},{"$f":"IF(Table9[[#This Row],[Part attained in v2?]],\nIF(Table9[[#This Row],[Feature]]=\"I01\",COUNTIFS(Table6[WELL v2 Feature],\"I01\",Table6[v1 feature 1 attainment],\"Y\"),\nVLOOKUP(Table9[[#This Row],[Feature.Part]],Table6[[v2 Feature.Part]:[Part points]],7,FALSE)),0)","v":0},{"$f":"IF(Table9[[#This Row],[Part attained in v2?]],IF(Table9[[#This Row],[Type]]=\"Precondition\",\"Y\",Table9[[#This Row],[v2 points]]),0)","v":0},{"$f":"VLOOKUP(Table9[[#This Row],[Feature]],Table5[],12,FALSE)","v":"Community"}]
[null,null,null,null,null,null,null,null,null,null,null,null,null,null,null,null,null,null,null,null,"C06",2,{"$f":"CONCATENATE(Table9[[#This Row],[Feature]],\".\",Table9[[#This Row],[Part]])","v":"C06.2"},{"$f":"VLOOKUP(Table9[[#This Row],[Feature]],Table5[],5,FALSE)","v":"Optimization"},{"$f":"NOT(ISNA(_xlfn.IFNA(VLOOKUP(Table9[[#This Row],[Feature.Part]],Table6[v2 Feature.Part],1,FALSE),VLOOKUP(CONCATENATE(Table9[[#This Row],[Feature]],\".\",\"All\"),Table6[v2 Feature.Part],1,FALSE))))","v":false},{"$f":"IF(Table9[[#This Row],[Part Covered in Skybridge?]],  IF(COUNTIFS(Table6[v2 Part attainment through these features?],TRUE,Table6[v2 Feature.Part],Table9[[#This Row],[Feature.Part]])>0,TRUE,FALSE),FALSE)","v":false},{"$f":"IF(Table9[[#This Row],[Part attained in v2?]],\nIF(Table9[[#This Row],[Feature]]=\"I01\",COUNTIFS(Table6[WELL v2 Feature],\"I01\",Table6[v1 feature 1 attainment],\"Y\"),\nVLOOKUP(Table9[[#This Row],[Feature.Part]],Table6[[v2 Feature.Part]:[Part points]],7,FALSE)),0)","v":0},{"$f":"IF(Table9[[#This Row],[Part attained in v2?]],IF(Table9[[#This Row],[Type]]=\"Precondition\",\"Y\",Table9[[#This Row],[v2 points]]),0)","v":0},{"$f":"VLOOKUP(Table9[[#This Row],[Feature]],Table5[],12,FALSE)","v":"Community"}]
[null,null,null,null,null,null,null,null,null,null,null,null,null,null,null,null,null,null,null,null,"C06",3,{"$f":"CONCATENATE(Table9[[#This Row],[Feature]],\".\",Table9[[#This Row],[Part]])","v":"C06.3"},{"$f":"VLOOKUP(Table9[[#This Row],[Feature]],Table5[],5,FALSE)","v":"Optimization"},{"$f":"NOT(ISNA(_xlfn.IFNA(VLOOKUP(Table9[[#This Row],[Feature.Part]],Table6[v2 Feature.Part],1,FALSE),VLOOKUP(CONCATENATE(Table9[[#This Row],[Feature]],\".\",\"All\"),Table6[v2 Feature.Part],1,FALSE))))","v":false},{"$f":"IF(Table9[[#This Row],[Part Covered in Skybridge?]],  IF(COUNTIFS(Table6[v2 Part attainment through these features?],TRUE,Table6[v2 Feature.Part],Table9[[#This Row],[Feature.Part]])>0,TRUE,FALSE),FALSE)","v":false},{"$f":"IF(Table9[[#This Row],[Part attained in v2?]],\nIF(Table9[[#This Row],[Feature]]=\"I01\",COUNTIFS(Table6[WELL v2 Feature],\"I01\",Table6[v1 feature 1 attainment],\"Y\"),\nVLOOKUP(Table9[[#This Row],[Feature.Part]],Table6[[v2 Feature.Part]:[Part points]],7,FALSE)),0)","v":0},{"$f":"IF(Table9[[#This Row],[Part attained in v2?]],IF(Table9[[#This Row],[Type]]=\"Precondition\",\"Y\",Table9[[#This Row],[v2 points]]),0)","v":0},{"$f":"VLOOKUP(Table9[[#This Row],[Feature]],Table5[],12,FALSE)","v":"Community"}]
[null,null,null,null,null,null,null,null,null,null,null,null,null,null,null,null,null,null,null,null,"C07",1,{"$f":"CONCATENATE(Table9[[#This Row],[Feature]],\".\",Table9[[#This Row],[Part]])","v":"C07.1"},{"$f":"VLOOKUP(Table9[[#This Row],[Feature]],Table5[],5,FALSE)","v":"Optimization"},{"$f":"NOT(ISNA(_xlfn.IFNA(VLOOKUP(Table9[[#This Row],[Feature.Part]],Table6[v2 Feature.Part],1,FALSE),VLOOKUP(CONCATENATE(Table9[[#This Row],[Feature]],\".\",\"All\"),Table6[v2 Feature.Part],1,FALSE))))","v":false},{"$f":"IF(Table9[[#This Row],[Part Covered in Skybridge?]],  IF(COUNTIFS(Table6[v2 Part attainment through these features?],TRUE,Table6[v2 Feature.Part],Table9[[#This Row],[Feature.Part]])>0,TRUE,FALSE),FALSE)","v":false},{"$f":"IF(Table9[[#This Row],[Part attained in v2?]],\nIF(Table9[[#This Row],[Feature]]=\"I01\",COUNTIFS(Table6[WELL v2 Feature],\"I01\",Table6[v1 feature 1 attainment],\"Y\"),\nVLOOKUP(Table9[[#This Row],[Feature.Part]],Table6[[v2 Feature.Part]:[Part points]],7,FALSE)),0)","v":0},{"$f":"IF(Table9[[#This Row],[Part attained in v2?]],IF(Table9[[#This Row],[Type]]=\"Precondition\",\"Y\",Table9[[#This Row],[v2 points]]),0)","v":0},{"$f":"VLOOKUP(Table9[[#This Row],[Feature]],Table5[],12,FALSE)","v":"Community"}]
[null,null,null,null,null,null,null,null,null,null,null,null,null,null,null,null,null,null,null,null,"C07",2,{"$f":"CONCATENATE(Table9[[#This Row],[Feature]],\".\",Table9[[#This Row],[Part]])","v":"C07.2"},{"$f":"VLOOKUP(Table9[[#This Row],[Feature]],Table5[],5,FALSE)","v":"Optimization"},{"$f":"NOT(ISNA(_xlfn.IFNA(VLOOKUP(Table9[[#This Row],[Feature.Part]],Table6[v2 Feature.Part],1,FALSE),VLOOKUP(CONCATENATE(Table9[[#This Row],[Feature]],\".\",\"All\"),Table6[v2 Feature.Part],1,FALSE))))","v":false},{"$f":"IF(Table9[[#This Row],[Part Covered in Skybridge?]],  IF(COUNTIFS(Table6[v2 Part attainment through these features?],TRUE,Table6[v2 Feature.Part],Table9[[#This Row],[Feature.Part]])>0,TRUE,FALSE),FALSE)","v":false},{"$f":"IF(Table9[[#This Row],[Part attained in v2?]],\nIF(Table9[[#This Row],[Feature]]=\"I01\",COUNTIFS(Table6[WELL v2 Feature],\"I01\",Table6[v1 feature 1 attainment],\"Y\"),\nVLOOKUP(Table9[[#This Row],[Feature.Part]],Table6[[v2 Feature.Part]:[Part points]],7,FALSE)),0)","v":0},{"$f":"IF(Table9[[#This Row],[Part attained in v2?]],IF(Table9[[#This Row],[Type]]=\"Precondition\",\"Y\",Table9[[#This Row],[v2 points]]),0)","v":0},{"$f":"VLOOKUP(Table9[[#This Row],[Feature]],Table5[],12,FALSE)","v":"Community"}]
[null,null,null,null,null,null,null,null,null,null,null,null,null,null,null,null,null,null,null,null,"C08",1,{"$f":"CONCATENATE(Table9[[#This Row],[Feature]],\".\",Table9[[#This Row],[Part]])","v":"C08.1"},{"$f":"VLOOKUP(Table9[[#This Row],[Feature]],Table5[],5,FALSE)","v":"Optimization"},{"$f":"NOT(ISNA(_xlfn.IFNA(VLOOKUP(Table9[[#This Row],[Feature.Part]],Table6[v2 Feature.Part],1,FALSE),VLOOKUP(CONCATENATE(Table9[[#This Row],[Feature]],\".\",\"All\"),Table6[v2 Feature.Part],1,FALSE))))","v":false},{"$f":"IF(Table9[[#This Row],[Part Covered in Skybridge?]],  IF(COUNTIFS(Table6[v2 Part attainment through these features?],TRUE,Table6[v2 Feature.Part],Table9[[#This Row],[Feature.Part]])>0,TRUE,FALSE),FALSE)","v":false},{"$f":"IF(Table9[[#This Row],[Part attained in v2?]],\nIF(Table9[[#This Row],[Feature]]=\"I01\",COUNTIFS(Table6[WELL v2 Feature],\"I01\",Table6[v1 feature 1 attainment],\"Y\"),\nVLOOKUP(Table9[[#This Row],[Feature.Part]],Table6[[v2 Feature.Part]:[Part points]],7,FALSE)),0)","v":0},{"$f":"IF(Table9[[#This Row],[Part attained in v2?]],IF(Table9[[#This Row],[Type]]=\"Precondition\",\"Y\",Table9[[#This Row],[v2 points]]),0)","v":0},{"$f":"VLOOKUP(Table9[[#This Row],[Feature]],Table5[],12,FALSE)","v":"Community"}]
[null,null,null,null,null,null,null,null,null,null,null,null,null,null,null,null,null,null,null,null,"C09",1,{"$f":"CONCATENATE(Table9[[#This Row],[Feature]],\".\",Table9[[#This Row],[Part]])","v":"C09.1"},{"$f":"VLOOKUP(Table9[[#This Row],[Feature]],Table5[],5,FALSE)","v":"Optimization"},{"$f":"NOT(ISNA(_xlfn.IFNA(VLOOKUP(Table9[[#This Row],[Feature.Part]],Table6[v2 Feature.Part],1,FALSE),VLOOKUP(CONCATENATE(Table9[[#This Row],[Feature]],\".\",\"All\"),Table6[v2 Feature.Part],1,FALSE))))","v":false},{"$f":"IF(Table9[[#This Row],[Part Covered in Skybridge?]],  IF(COUNTIFS(Table6[v2 Part attainment through these features?],TRUE,Table6[v2 Feature.Part],Table9[[#This Row],[Feature.Part]])>0,TRUE,FALSE),FALSE)","v":false},{"$f":"IF(Table9[[#This Row],[Part attained in v2?]],\nIF(Table9[[#This Row],[Feature]]=\"I01\",COUNTIFS(Table6[WELL v2 Feature],\"I01\",Table6[v1 feature 1 attainment],\"Y\"),\nVLOOKUP(Table9[[#This Row],[Feature.Part]],Table6[[v2 Feature.Part]:[Part points]],7,FALSE)),0)","v":0},{"$f":"IF(Table9[[#This Row],[Part attained in v2?]],IF(Table9[[#This Row],[Type]]=\"Precondition\",\"Y\",Table9[[#This Row],[v2 points]]),0)","v":0},{"$f":"VLOOKUP(Table9[[#This Row],[Feature]],Table5[],12,FALSE)","v":"Community"}]
[null,null,null,null,null,null,null,null,null,null,null,null,null,null,null,null,null,null,null,null,"C09",2,{"$f":"CONCATENATE(Table9[[#This Row],[Feature]],\".\",Table9[[#This Row],[Part]])","v":"C09.2"},{"$f":"VLOOKUP(Table9[[#This Row],[Feature]],Table5[],5,FALSE)","v":"Optimization"},{"$f":"NOT(ISNA(_xlfn.IFNA(VLOOKUP(Table9[[#This Row],[Feature.Part]],Table6[v2 Feature.Part],1,FALSE),VLOOKUP(CONCATENATE(Table9[[#This Row],[Feature]],\".\",\"All\"),Table6[v2 Feature.Part],1,FALSE))))","v":false},{"$f":"IF(Table9[[#This Row],[Part Covered in Skybridge?]],  IF(COUNTIFS(Table6[v2 Part attainment through these features?],TRUE,Table6[v2 Feature.Part],Table9[[#This Row],[Feature.Part]])>0,TRUE,FALSE),FALSE)","v":false},{"$f":"IF(Table9[[#This Row],[Part attained in v2?]],\nIF(Table9[[#This Row],[Feature]]=\"I01\",COUNTIFS(Table6[WELL v2 Feature],\"I01\",Table6[v1 feature 1 attainment],\"Y\"),\nVLOOKUP(Table9[[#This Row],[Feature.Part]],Table6[[v2 Feature.Part]:[Part points]],7,FALSE)),0)","v":0},{"$f":"IF(Table9[[#This Row],[Part attained in v2?]],IF(Table9[[#This Row],[Type]]=\"Precondition\",\"Y\",Table9[[#This Row],[v2 points]]),0)","v":0},{"$f":"VLOOKUP(Table9[[#This Row],[Feature]],Table5[],12,FALSE)","v":"Community"}]
[null,null,null,null,null,null,null,null,null,null,null,null,null,null,null,null,null,null,null,null,"C10",1,{"$f":"CONCATENATE(Table9[[#This Row],[Feature]],\".\",Table9[[#This Row],[Part]])","v":"C10.1"},{"$f":"VLOOKUP(Table9[[#This Row],[Feature]],Table5[],5,FALSE)","v":"Optimization"},{"$f":"NOT(ISNA(_xlfn.IFNA(VLOOKUP(Table9[[#This Row],[Feature.Part]],Table6[v2 Feature.Part],1,FALSE),VLOOKUP(CONCATENATE(Table9[[#This Row],[Feature]],\".\",\"All\"),Table6[v2 Feature.Part],1,FALSE))))","v":true},{"$f":"IF(Table9[[#This Row],[Part Covered in Skybridge?]],  IF(COUNTIFS(Table6[v2 Part attainment through these features?],TRUE,Table6[v2 Feature.Part],Table9[[#This Row],[Feature.Part]])>0,TRUE,FALSE),FALSE)","v":false},{"$f":"IF(Table9[[#This Row],[Part attained in v2?]],\nIF(Table9[[#This Row],[Feature]]=\"I01\",COUNTIFS(Table6[WELL v2 Feature],\"I01\",Table6[v1 feature 1 attainment],\"Y\"),\nVLOOKUP(Table9[[#This Row],[Feature.Part]],Table6[[v2 Feature.Part]:[Part points]],7,FALSE)),0)","v":0},{"$f":"IF(Table9[[#This Row],[Part attained in v2?]],IF(Table9[[#This Row],[Type]]=\"Precondition\",\"Y\",Table9[[#This Row],[v2 points]]),0)","v":0},{"$f":"VLOOKUP(Table9[[#This Row],[Feature]],Table5[],12,FALSE)","v":"Community"}]
[null,null,null,null,null,null,null,null,null,null,null,null,null,null,null,null,null,null,null,null,"C10",2,{"$f":"CONCATENATE(Table9[[#This Row],[Feature]],\".\",Table9[[#This Row],[Part]])","v":"C10.2"},{"$f":"VLOOKUP(Table9[[#This Row],[Feature]],Table5[],5,FALSE)","v":"Optimization"},{"$f":"NOT(ISNA(_xlfn.IFNA(VLOOKUP(Table9[[#This Row],[Feature.Part]],Table6[v2 Feature.Part],1,FALSE),VLOOKUP(CONCATENATE(Table9[[#This Row],[Feature]],\".\",\"All\"),Table6[v2 Feature.Part],1,FALSE))))","v":false},{"$f":"IF(Table9[[#This Row],[Part Covered in Skybridge?]],  IF(COUNTIFS(Table6[v2 Part attainment through these features?],TRUE,Table6[v2 Feature.Part],Table9[[#This Row],[Feature.Part]])>0,TRUE,FALSE),FALSE)","v":false},{"$f":"IF(Table9[[#This Row],[Part attained in v2?]],\nIF(Table9[[#This Row],[Feature]]=\"I01\",COUNTIFS(Table6[WELL v2 Feature],\"I01\",Table6[v1 feature 1 attainment],\"Y\"),\nVLOOKUP(Table9[[#This Row],[Feature.Part]],Table6[[v2 Feature.Part]:[Part points]],7,FALSE)),0)","v":0},{"$f":"IF(Table9[[#This Row],[Part attained in v2?]],IF(Table9[[#This Row],[Type]]=\"Precondition\",\"Y\",Table9[[#This Row],[v2 points]]),0)","v":0},{"$f":"VLOOKUP(Table9[[#This Row],[Feature]],Table5[],12,FALSE)","v":"Community"}]
[null,null,null,null,null,null,null,null,null,null,null,null,null,null,null,null,null,null,null,null,"C10",3,{"$f":"CONCATENATE(Table9[[#This Row],[Feature]],\".\",Table9[[#This Row],[Part]])","v":"C10.3"},{"$f":"VLOOKUP(Table9[[#This Row],[Feature]],Table5[],5,FALSE)","v":"Optimization"},{"$f":"NOT(ISNA(_xlfn.IFNA(VLOOKUP(Table9[[#This Row],[Feature.Part]],Table6[v2 Feature.Part],1,FALSE),VLOOKUP(CONCATENATE(Table9[[#This Row],[Feature]],\".\",\"All\"),Table6[v2 Feature.Part],1,FALSE))))","v":false},{"$f":"IF(Table9[[#This Row],[Part Covered in Skybridge?]],  IF(COUNTIFS(Table6[v2 Part attainment through these features?],TRUE,Table6[v2 Feature.Part],Table9[[#This Row],[Feature.Part]])>0,TRUE,FALSE),FALSE)","v":false},{"$f":"IF(Table9[[#This Row],[Part attained in v2?]],\nIF(Table9[[#This Row],[Feature]]=\"I01\",COUNTIFS(Table6[WELL v2 Feature],\"I01\",Table6[v1 feature 1 attainment],\"Y\"),\nVLOOKUP(Table9[[#This Row],[Feature.Part]],Table6[[v2 Feature.Part]:[Part points]],7,FALSE)),0)","v":0},{"$f":"IF(Table9[[#This Row],[Part attained in v2?]],IF(Table9[[#This Row],[Type]]=\"Precondition\",\"Y\",Table9[[#This Row],[v2 points]]),0)","v":0},{"$f":"VLOOKUP(Table9[[#This Row],[Feature]],Table5[],12,FALSE)","v":"Community"}]
[null,null,null,null,null,null,null,null,null,null,null,null,null,null,null,null,null,null,null,null,"C11",1,{"$f":"CONCATENATE(Table9[[#This Row],[Feature]],\".\",Table9[[#This Row],[Part]])","v":"C11.1"},{"$f":"VLOOKUP(Table9[[#This Row],[Feature]],Table5[],5,FALSE)","v":"Optimization"},{"$f":"NOT(ISNA(_xlfn.IFNA(VLOOKUP(Table9[[#This Row],[Feature.Part]],Table6[v2 Feature.Part],1,FALSE),VLOOKUP(CONCATENATE(Table9[[#This Row],[Feature]],\".\",\"All\"),Table6[v2 Feature.Part],1,FALSE))))","v":true},{"$f":"IF(Table9[[#This Row],[Part Covered in Skybridge?]],  IF(COUNTIFS(Table6[v2 Part attainment through these features?],TRUE,Table6[v2 Feature.Part],Table9[[#This Row],[Feature.Part]])>0,TRUE,FALSE),FALSE)","v":false},{"$f":"IF(Table9[[#This Row],[Part attained in v2?]],\nIF(Table9[[#This Row],[Feature]]=\"I01\",COUNTIFS(Table6[WELL v2 Feature],\"I01\",Table6[v1 feature 1 attainment],\"Y\"),\nVLOOKUP(Table9[[#This Row],[Feature.Part]],Table6[[v2 Feature.Part]:[Part points]],7,FALSE)),0)","v":0},{"$f":"IF(Table9[[#This Row],[Part attained in v2?]],IF(Table9[[#This Row],[Type]]=\"Precondition\",\"Y\",Table9[[#This Row],[v2 points]]),0)","v":0},{"$f":"VLOOKUP(Table9[[#This Row],[Feature]],Table5[],12,FALSE)","v":"Community"}]
[null,null,null,null,null,null,null,null,null,null,null,null,null,null,null,null,null,null,null,null,"C11",2,{"$f":"CONCATENATE(Table9[[#This Row],[Feature]],\".\",Table9[[#This Row],[Part]])","v":"C11.2"},{"$f":"VLOOKUP(Table9[[#This Row],[Feature]],Table5[],5,FALSE)","v":"Optimization"},{"$f":"NOT(ISNA(_xlfn.IFNA(VLOOKUP(Table9[[#This Row],[Feature.Part]],Table6[v2 Feature.Part],1,FALSE),VLOOKUP(CONCATENATE(Table9[[#This Row],[Feature]],\".\",\"All\"),Table6[v2 Feature.Part],1,FALSE))))","v":false},{"$f":"IF(Table9[[#This Row],[Part Covered in Skybridge?]],  IF(COUNTIFS(Table6[v2 Part attainment through these features?],TRUE,Table6[v2 Feature.Part],Table9[[#This Row],[Feature.Part]])>0,TRUE,FALSE),FALSE)","v":false},{"$f":"IF(Table9[[#This Row],[Part attained in v2?]],\nIF(Table9[[#This Row],[Feature]]=\"I01\",COUNTIFS(Table6[WELL v2 Feature],\"I01\",Table6[v1 feature 1 attainment],\"Y\"),\nVLOOKUP(Table9[[#This Row],[Feature.Part]],Table6[[v2 Feature.Part]:[Part points]],7,FALSE)),0)","v":0},{"$f":"IF(Table9[[#This Row],[Part attained in v2?]],IF(Table9[[#This Row],[Type]]=\"Precondition\",\"Y\",Table9[[#This Row],[v2 points]]),0)","v":0},{"$f":"VLOOKUP(Table9[[#This Row],[Feature]],Table5[],12,FALSE)","v":"Community"}]
[null,null,null,null,null,null,null,null,null,null,null,null,null,null,null,null,null,null,null,null,"C12",1,{"$f":"CONCATENATE(Table9[[#This Row],[Feature]],\".\",Table9[[#This Row],[Part]])","v":"C12.1"},{"$f":"VLOOKUP(Table9[[#This Row],[Feature]],Table5[],5,FALSE)","v":"Optimization"},{"$f":"NOT(ISNA(_xlfn.IFNA(VLOOKUP(Table9[[#This Row],[Feature.Part]],Table6[v2 Feature.Part],1,FALSE),VLOOKUP(CONCATENATE(Table9[[#This Row],[Feature]],\".\",\"All\"),Table6[v2 Feature.Part],1,FALSE))))","v":false},{"$f":"IF(Table9[[#This Row],[Part Covered in Skybridge?]],  IF(COUNTIFS(Table6[v2 Part attainment through these features?],TRUE,Table6[v2 Feature.Part],Table9[[#This Row],[Feature.Part]])>0,TRUE,FALSE),FALSE)","v":false},{"$f":"IF(Table9[[#This Row],[Part attained in v2?]],\nIF(Table9[[#This Row],[Feature]]=\"I01\",COUNTIFS(Table6[WELL v2 Feature],\"I01\",Table6[v1 feature 1 attainment],\"Y\"),\nVLOOKUP(Table9[[#This Row],[Feature.Part]],Table6[[v2 Feature.Part]:[Part points]],7,FALSE)),0)","v":0},{"$f":"IF(Table9[[#This Row],[Part attained in v2?]],IF(Table9[[#This Row],[Type]]=\"Precondition\",\"Y\",Table9[[#This Row],[v2 points]]),0)","v":0},{"$f":"VLOOKUP(Table9[[#This Row],[Feature]],Table5[],12,FALSE)","v":"Community"}]
[null,null,null,null,null,null,null,null,null,null,null,null,null,null,null,null,null,null,null,null,"C12",2,{"$f":"CONCATENATE(Table9[[#This Row],[Feature]],\".\",Table9[[#This Row],[Part]])","v":"C12.2"},{"$f":"VLOOKUP(Table9[[#This Row],[Feature]],Table5[],5,FALSE)","v":"Optimization"},{"$f":"NOT(ISNA(_xlfn.IFNA(VLOOKUP(Table9[[#This Row],[Feature.Part]],Table6[v2 Feature.Part],1,FALSE),VLOOKUP(CONCATENATE(Table9[[#This Row],[Feature]],\".\",\"All\"),Table6[v2 Feature.Part],1,FALSE))))","v":false},{"$f":"IF(Table9[[#This Row],[Part Covered in Skybridge?]],  IF(COUNTIFS(Table6[v2 Part attainment through these features?],TRUE,Table6[v2 Feature.Part],Table9[[#This Row],[Feature.Part]])>0,TRUE,FALSE),FALSE)","v":false},{"$f":"IF(Table9[[#This Row],[Part attained in v2?]],\nIF(Table9[[#This Row],[Feature]]=\"I01\",COUNTIFS(Table6[WELL v2 Feature],\"I01\",Table6[v1 feature 1 attainment],\"Y\"),\nVLOOKUP(Table9[[#This Row],[Feature.Part]],Table6[[v2 Feature.Part]:[Part points]],7,FALSE)),0)","v":0},{"$f":"IF(Table9[[#This Row],[Part attained in v2?]],IF(Table9[[#This Row],[Type]]=\"Precondition\",\"Y\",Table9[[#This Row],[v2 points]]),0)","v":0},{"$f":"VLOOKUP(Table9[[#This Row],[Feature]],Table5[],12,FALSE)","v":"Community"}]
[null,null,null,null,null,null,null,null,null,null,null,null,null,null,null,null,null,null,null,null,"C12",3,{"$f":"CONCATENATE(Table9[[#This Row],[Feature]],\".\",Table9[[#This Row],[Part]])","v":"C12.3"},{"$f":"VLOOKUP(Table9[[#This Row],[Feature]],Table5[],5,FALSE)","v":"Optimization"},{"$f":"NOT(ISNA(_xlfn.IFNA(VLOOKUP(Table9[[#This Row],[Feature.Part]],Table6[v2 Feature.Part],1,FALSE),VLOOKUP(CONCATENATE(Table9[[#This Row],[Feature]],\".\",\"All\"),Table6[v2 Feature.Part],1,FALSE))))","v":true},{"$f":"IF(Table9[[#This Row],[Part Covered in Skybridge?]],  IF(COUNTIFS(Table6[v2 Part attainment through these features?],TRUE,Table6[v2 Feature.Part],Table9[[#This Row],[Feature.Part]])>0,TRUE,FALSE),FALSE)","v":false},{"$f":"IF(Table9[[#This Row],[Part attained in v2?]],\nIF(Table9[[#This Row],[Feature]]=\"I01\",COUNTIFS(Table6[WELL v2 Feature],\"I01\",Table6[v1 feature 1 attainment],\"Y\"),\nVLOOKUP(Table9[[#This Row],[Feature.Part]],Table6[[v2 Feature.Part]:[Part points]],7,FALSE)),0)","v":0},{"$f":"IF(Table9[[#This Row],[Part attained in v2?]],IF(Table9[[#This Row],[Type]]=\"Precondition\",\"Y\",Table9[[#This Row],[v2 points]]),0)","v":0},{"$f":"VLOOKUP(Table9[[#This Row],[Feature]],Table5[],12,FALSE)","v":"Community"}]
[null,null,null,null,null,null,null,null,null,null,null,null,null,null,null,null,null,null,null,null,"C13",1,{"$f":"CONCATENATE(Table9[[#This Row],[Feature]],\".\",Table9[[#This Row],[Part]])","v":"C13.1"},{"$f":"VLOOKUP(Table9[[#This Row],[Feature]],Table5[],5,FALSE)","v":"Optimization"},{"$f":"NOT(ISNA(_xlfn.IFNA(VLOOKUP(Table9[[#This Row],[Feature.Part]],Table6[v2 Feature.Part],1,FALSE),VLOOKUP(CONCATENATE(Table9[[#This Row],[Feature]],\".\",\"All\"),Table6[v2 Feature.Part],1,FALSE))))","v":false},{"$f":"IF(Table9[[#This Row],[Part Covered in Skybridge?]],  IF(COUNTIFS(Table6[v2 Part attainment through these features?],TRUE,Table6[v2 Feature.Part],Table9[[#This Row],[Feature.Part]])>0,TRUE,FALSE),FALSE)","v":false},{"$f":"IF(Table9[[#This Row],[Part attained in v2?]],\nIF(Table9[[#This Row],[Feature]]=\"I01\",COUNTIFS(Table6[WELL v2 Feature],\"I01\",Table6[v1 feature 1 attainment],\"Y\"),\nVLOOKUP(Table9[[#This Row],[Feature.Part]],Table6[[v2 Feature.Part]:[Part points]],7,FALSE)),0)","v":0},{"$f":"IF(Table9[[#This Row],[Part attained in v2?]],IF(Table9[[#This Row],[Type]]=\"Precondition\",\"Y\",Table9[[#This Row],[v2 points]]),0)","v":0},{"$f":"VLOOKUP(Table9[[#This Row],[Feature]],Table5[],12,FALSE)","v":"Community"}]
[null,null,null,null,null,null,null,null,null,null,null,null,null,null,null,null,null,null,null,null,"C14",1,{"$f":"CONCATENATE(Table9[[#This Row],[Feature]],\".\",Table9[[#This Row],[Part]])","v":"C14.1"},{"$f":"VLOOKUP(Table9[[#This Row],[Feature]],Table5[],5,FALSE)","v":"Optimization"},{"$f":"NOT(ISNA(_xlfn.IFNA(VLOOKUP(Table9[[#This Row],[Feature.Part]],Table6[v2 Feature.Part],1,FALSE),VLOOKUP(CONCATENATE(Table9[[#This Row],[Feature]],\".\",\"All\"),Table6[v2 Feature.Part],1,FALSE))))","v":false},{"$f":"IF(Table9[[#This Row],[Part Covered in Skybridge?]],  IF(COUNTIFS(Table6[v2 Part attainment through these features?],TRUE,Table6[v2 Feature.Part],Table9[[#This Row],[Feature.Part]])>0,TRUE,FALSE),FALSE)","v":false},{"$f":"IF(Table9[[#This Row],[Part attained in v2?]],\nIF(Table9[[#This Row],[Feature]]=\"I01\",COUNTIFS(Table6[WELL v2 Feature],\"I01\",Table6[v1 feature 1 attainment],\"Y\"),\nVLOOKUP(Table9[[#This Row],[Feature.Part]],Table6[[v2 Feature.Part]:[Part points]],7,FALSE)),0)","v":0},{"$f":"IF(Table9[[#This Row],[Part attained in v2?]],IF(Table9[[#This Row],[Type]]=\"Precondition\",\"Y\",Table9[[#This Row],[v2 points]]),0)","v":0},{"$f":"VLOOKUP(Table9[[#This Row],[Feature]],Table5[],12,FALSE)","v":"Community"}]
[null,null,null,null,null,null,null,null,null,null,null,null,null,null,null,null,null,null,null,null,"C14",2,{"$f":"CONCATENATE(Table9[[#This Row],[Feature]],\".\",Table9[[#This Row],[Part]])","v":"C14.2"},{"$f":"VLOOKUP(Table9[[#This Row],[Feature]],Table5[],5,FALSE)","v":"Optimization"},{"$f":"NOT(ISNA(_xlfn.IFNA(VLOOKUP(Table9[[#This Row],[Feature.Part]],Table6[v2 Feature.Part],1,FALSE),VLOOKUP(CONCATENATE(Table9[[#This Row],[Feature]],\".\",\"All\"),Table6[v2 Feature.Part],1,FALSE))))","v":false},{"$f":"IF(Table9[[#This Row],[Part Covered in Skybridge?]],  IF(COUNTIFS(Table6[v2 Part attainment through these features?],TRUE,Table6[v2 Feature.Part],Table9[[#This Row],[Feature.Part]])>0,TRUE,FALSE),FALSE)","v":false},{"$f":"IF(Table9[[#This Row],[Part attained in v2?]],\nIF(Table9[[#This Row],[Feature]]=\"I01\",COUNTIFS(Table6[WELL v2 Feature],\"I01\",Table6[v1 feature 1 attainment],\"Y\"),\nVLOOKUP(Table9[[#This Row],[Feature.Part]],Table6[[v2 Feature.Part]:[Part points]],7,FALSE)),0)","v":0},{"$f":"IF(Table9[[#This Row],[Part attained in v2?]],IF(Table9[[#This Row],[Type]]=\"Precondition\",\"Y\",Table9[[#This Row],[v2 points]]),0)","v":0},{"$f":"VLOOKUP(Table9[[#This Row],[Feature]],Table5[],12,FALSE)","v":"Community"}]
[null,null,null,null,null,null,null,null,null,null,null,null,null,null,null,null,null,null,null,null,"C15",1,{"$f":"CONCATENATE(Table9[[#This Row],[Feature]],\".\",Table9[[#This Row],[Part]])","v":"C15.1"},{"$f":"VLOOKUP(Table9[[#This Row],[Feature]],Table5[],5,FALSE)","v":"Optimization"},{"$f":"NOT(ISNA(_xlfn.IFNA(VLOOKUP(Table9[[#This Row],[Feature.Part]],Table6[v2 Feature.Part],1,FALSE),VLOOKUP(CONCATENATE(Table9[[#This Row],[Feature]],\".\",\"All\"),Table6[v2 Feature.Part],1,FALSE))))","v":false},{"$f":"IF(Table9[[#This Row],[Part Covered in Skybridge?]],  IF(COUNTIFS(Table6[v2 Part attainment through these features?],TRUE,Table6[v2 Feature.Part],Table9[[#This Row],[Feature.Part]])>0,TRUE,FALSE),FALSE)","v":false},{"$f":"IF(Table9[[#This Row],[Part attained in v2?]],\nIF(Table9[[#This Row],[Feature]]=\"I01\",COUNTIFS(Table6[WELL v2 Feature],\"I01\",Table6[v1 feature 1 attainment],\"Y\"),\nVLOOKUP(Table9[[#This Row],[Feature.Part]],Table6[[v2 Feature.Part]:[Part points]],7,FALSE)),0)","v":0},{"$f":"IF(Table9[[#This Row],[Part attained in v2?]],IF(Table9[[#This Row],[Type]]=\"Precondition\",\"Y\",Table9[[#This Row],[v2 points]]),0)","v":0},{"$f":"VLOOKUP(Table9[[#This Row],[Feature]],Table5[],12,FALSE)","v":"Community"}]
[null,null,null,null,null,null,null,null,null,null,null,null,null,null,null,null,null,null,null,null,"C15",2,{"$f":"CONCATENATE(Table9[[#This Row],[Feature]],\".\",Table9[[#This Row],[Part]])","v":"C15.2"},{"$f":"VLOOKUP(Table9[[#This Row],[Feature]],Table5[],5,FALSE)","v":"Optimization"},{"$f":"NOT(ISNA(_xlfn.IFNA(VLOOKUP(Table9[[#This Row],[Feature.Part]],Table6[v2 Feature.Part],1,FALSE),VLOOKUP(CONCATENATE(Table9[[#This Row],[Feature]],\".\",\"All\"),Table6[v2 Feature.Part],1,FALSE))))","v":false},{"$f":"IF(Table9[[#This Row],[Part Covered in Skybridge?]],  IF(COUNTIFS(Table6[v2 Part attainment through these features?],TRUE,Table6[v2 Feature.Part],Table9[[#This Row],[Feature.Part]])>0,TRUE,FALSE),FALSE)","v":false},{"$f":"IF(Table9[[#This Row],[Part attained in v2?]],\nIF(Table9[[#This Row],[Feature]]=\"I01\",COUNTIFS(Table6[WELL v2 Feature],\"I01\",Table6[v1 feature 1 attainment],\"Y\"),\nVLOOKUP(Table9[[#This Row],[Feature.Part]],Table6[[v2 Feature.Part]:[Part points]],7,FALSE)),0)","v":0},{"$f":"IF(Table9[[#This Row],[Part attained in v2?]],IF(Table9[[#This Row],[Type]]=\"Precondition\",\"Y\",Table9[[#This Row],[v2 points]]),0)","v":0},{"$f":"VLOOKUP(Table9[[#This Row],[Feature]],Table5[],12,FALSE)","v":"Community"}]
[null,null,null,null,null,null,null,null,null,null,null,null,null,null,null,null,null,null,null,null,"C15",3,{"$f":"CONCATENATE(Table9[[#This Row],[Feature]],\".\",Table9[[#This Row],[Part]])","v":"C15.3"},{"$f":"VLOOKUP(Table9[[#This Row],[Feature]],Table5[],5,FALSE)","v":"Optimization"},{"$f":"NOT(ISNA(_xlfn.IFNA(VLOOKUP(Table9[[#This Row],[Feature.Part]],Table6[v2 Feature.Part],1,FALSE),VLOOKUP(CONCATENATE(Table9[[#This Row],[Feature]],\".\",\"All\"),Table6[v2 Feature.Part],1,FALSE))))","v":false},{"$f":"IF(Table9[[#This Row],[Part Covered in Skybridge?]],  IF(COUNTIFS(Table6[v2 Part attainment through these features?],TRUE,Table6[v2 Feature.Part],Table9[[#This Row],[Feature.Part]])>0,TRUE,FALSE),FALSE)","v":false},{"$f":"IF(Table9[[#This Row],[Part attained in v2?]],\nIF(Table9[[#This Row],[Feature]]=\"I01\",COUNTIFS(Table6[WELL v2 Feature],\"I01\",Table6[v1 feature 1 attainment],\"Y\"),\nVLOOKUP(Table9[[#This Row],[Feature.Part]],Table6[[v2 Feature.Part]:[Part points]],7,FALSE)),0)","v":0},{"$f":"IF(Table9[[#This Row],[Part attained in v2?]],IF(Table9[[#This Row],[Type]]=\"Precondition\",\"Y\",Table9[[#This Row],[v2 points]]),0)","v":0},{"$f":"VLOOKUP(Table9[[#This Row],[Feature]],Table5[],12,FALSE)","v":"Community"}]
[null,null,null,null,null,null,null,null,null,null,null,null,null,null,null,null,null,null,null,null,"C16",1,{"$f":"CONCATENATE(Table9[[#This Row],[Feature]],\".\",Table9[[#This Row],[Part]])","v":"C16.1"},{"$f":"VLOOKUP(Table9[[#This Row],[Feature]],Table5[],5,FALSE)","v":"Optimization"},{"$f":"NOT(ISNA(_xlfn.IFNA(VLOOKUP(Table9[[#This Row],[Feature.Part]],Table6[v2 Feature.Part],1,FALSE),VLOOKUP(CONCATENATE(Table9[[#This Row],[Feature]],\".\",\"All\"),Table6[v2 Feature.Part],1,FALSE))))","v":false},{"$f":"IF(Table9[[#This Row],[Part Covered in Skybridge?]],  IF(COUNTIFS(Table6[v2 Part attainment through these features?],TRUE,Table6[v2 Feature.Part],Table9[[#This Row],[Feature.Part]])>0,TRUE,FALSE),FALSE)","v":false},{"$f":"IF(Table9[[#This Row],[Part attained in v2?]],\nIF(Table9[[#This Row],[Feature]]=\"I01\",COUNTIFS(Table6[WELL v2 Feature],\"I01\",Table6[v1 feature 1 attainment],\"Y\"),\nVLOOKUP(Table9[[#This Row],[Feature.Part]],Table6[[v2 Feature.Part]:[Part points]],7,FALSE)),0)","v":0},{"$f":"IF(Table9[[#This Row],[Part attained in v2?]],IF(Table9[[#This Row],[Type]]=\"Precondition\",\"Y\",Table9[[#This Row],[v2 points]]),0)","v":0},{"$f":"VLOOKUP(Table9[[#This Row],[Feature]],Table5[],12,FALSE)","v":"Community"}]
[null,null,null,null,null,null,null,null,null,null,null,null,null,null,null,null,null,null,null,null,"C17",1,{"$f":"CONCATENATE(Table9[[#This Row],[Feature]],\".\",Table9[[#This Row],[Part]])","v":"C17.1"},{"$f":"VLOOKUP(Table9[[#This Row],[Feature]],Table5[],5,FALSE)","v":"Optimization"},{"$f":"NOT(ISNA(_xlfn.IFNA(VLOOKUP(Table9[[#This Row],[Feature.Part]],Table6[v2 Feature.Part],1,FALSE),VLOOKUP(CONCATENATE(Table9[[#This Row],[Feature]],\".\",\"All\"),Table6[v2 Feature.Part],1,FALSE))))","v":false},{"$f":"IF(Table9[[#This Row],[Part Covered in Skybridge?]],  IF(COUNTIFS(Table6[v2 Part attainment through these features?],TRUE,Table6[v2 Feature.Part],Table9[[#This Row],[Feature.Part]])>0,TRUE,FALSE),FALSE)","v":false},{"$f":"IF(Table9[[#This Row],[Part attained in v2?]],\nIF(Table9[[#This Row],[Feature]]=\"I01\",COUNTIFS(Table6[WELL v2 Feature],\"I01\",Table6[v1 feature 1 attainment],\"Y\"),\nVLOOKUP(Table9[[#This Row],[Feature.Part]],Table6[[v2 Feature.Part]:[Part points]],7,FALSE)),0)","v":0},{"$f":"IF(Table9[[#This Row],[Part attained in v2?]],IF(Table9[[#This Row],[Type]]=\"Precondition\",\"Y\",Table9[[#This Row],[v2 points]]),0)","v":0},{"$f":"VLOOKUP(Table9[[#This Row],[Feature]],Table5[],12,FALSE)","v":"Community"}]
[null,null,null,null,null,null,null,null,null,null,null,null,null,null,null,null,null,null,null,null,"C17",2,{"$f":"CONCATENATE(Table9[[#This Row],[Feature]],\".\",Table9[[#This Row],[Part]])","v":"C17.2"},{"$f":"VLOOKUP(Table9[[#This Row],[Feature]],Table5[],5,FALSE)","v":"Optimization"},{"$f":"NOT(ISNA(_xlfn.IFNA(VLOOKUP(Table9[[#This Row],[Feature.Part]],Table6[v2 Feature.Part],1,FALSE),VLOOKUP(CONCATENATE(Table9[[#This Row],[Feature]],\".\",\"All\"),Table6[v2 Feature.Part],1,FALSE))))","v":false},{"$f":"IF(Table9[[#This Row],[Part Covered in Skybridge?]],  IF(COUNTIFS(Table6[v2 Part attainment through these features?],TRUE,Table6[v2 Feature.Part],Table9[[#This Row],[Feature.Part]])>0,TRUE,FALSE),FALSE)","v":false},{"$f":"IF(Table9[[#This Row],[Part attained in v2?]],\nIF(Table9[[#This Row],[Feature]]=\"I01\",COUNTIFS(Table6[WELL v2 Feature],\"I01\",Table6[v1 feature 1 attainment],\"Y\"),\nVLOOKUP(Table9[[#This Row],[Feature.Part]],Table6[[v2 Feature.Part]:[Part points]],7,FALSE)),0)","v":0},{"$f":"IF(Table9[[#This Row],[Part attained in v2?]],IF(Table9[[#This Row],[Type]]=\"Precondition\",\"Y\",Table9[[#This Row],[v2 points]]),0)","v":0},{"$f":"VLOOKUP(Table9[[#This Row],[Feature]],Table5[],12,FALSE)","v":"Community"}]
[null,null,null,null,null,null,null,null,null,null,null,null,null,null,null,null,null,null,null,null,"I01",1,{"$f":"CONCATENATE(Table9[[#This Row],[Feature]],\".\",Table9[[#This Row],[Part]])","v":"I01.1"},{"$f":"VLOOKUP(Table9[[#This Row],[Feature]],Table5[],5,FALSE)","v":"Optimization"},{"$f":"NOT(ISNA(_xlfn.IFNA(VLOOKUP(Table9[[#This Row],[Feature.Part]],Table6[v2 Feature.Part],1,FALSE),VLOOKUP(CONCATENATE(Table9[[#This Row],[Feature]],\".\",\"All\"),Table6[v2 Feature.Part],1,FALSE))))","v":true},{"$f":"IF(Table9[[#This Row],[Part Covered in Skybridge?]],  IF(COUNTIFS(Table6[v2 Part attainment through these features?],TRUE,Table6[v2 Feature.Part],Table9[[#This Row],[Feature.Part]])>0,TRUE,FALSE),FALSE)","v":false},{"$f":"IF(Table9[[#This Row],[Part attained in v2?]],\nIF(Table9[[#This Row],[Feature]]=\"I01\",COUNTIFS(Table6[WELL v2 Feature],\"I01\",Table6[v1 feature 1 attainment],\"Y\"),\nVLOOKUP(Table9[[#This Row],[Feature.Part]],Table6[[v2 Feature.Part]:[Part points]],7,FALSE)),0)","v":0},{"$f":"IF(Table9[[#This Row],[Part attained in v2?]],IF(Table9[[#This Row],[Type]]=\"Precondition\",\"Y\",Table9[[#This Row],[v2 points]]),0)","v":0},{"$f":"VLOOKUP(Table9[[#This Row],[Feature]],Table5[],12,FALSE)","v":"Innovations"}]
[null,null,null,null,null,null,null,null,null,null,null,null,null,null,null,null,null,null,null,null,"I02",1,{"$f":"CONCATENATE(Table9[[#This Row],[Feature]],\".\",Table9[[#This Row],[Part]])","v":"I02.1"},{"$f":"VLOOKUP(Table9[[#This Row],[Feature]],Table5[],5,FALSE)","v":"Optimization"},{"$f":"NOT(ISNA(_xlfn.IFNA(VLOOKUP(Table9[[#This Row],[Feature.Part]],Table6[v2 Feature.Part],1,FALSE),VLOOKUP(CONCATENATE(Table9[[#This Row],[Feature]],\".\",\"All\"),Table6[v2 Feature.Part],1,FALSE))))","v":false},{"$f":"IF(Table9[[#This Row],[Part Covered in Skybridge?]],  IF(COUNTIFS(Table6[v2 Part attainment through these features?],TRUE,Table6[v2 Feature.Part],Table9[[#This Row],[Feature.Part]])>0,TRUE,FALSE),FALSE)","v":false},{"$f":"IF(Table9[[#This Row],[Part attained in v2?]],\nIF(Table9[[#This Row],[Feature]]=\"I01\",COUNTIFS(Table6[WELL v2 Feature],\"I01\",Table6[v1 feature 1 attainment],\"Y\"),\nVLOOKUP(Table9[[#This Row],[Feature.Part]],Table6[[v2 Feature.Part]:[Part points]],7,FALSE)),0)","v":0},{"$f":"IF(Table9[[#This Row],[Part attained in v2?]],IF(Table9[[#This Row],[Type]]=\"Precondition\",\"Y\",Table9[[#This Row],[v2 points]]),0)","v":0},{"$f":"VLOOKUP(Table9[[#This Row],[Feature]],Table5[],12,FALSE)","v":"Innovations"}]
[null,null,null,null,null,null,null,null,null,null,null,null,null,null,null,null,null,null,null,null,"I03",1,{"$f":"CONCATENATE(Table9[[#This Row],[Feature]],\".\",Table9[[#This Row],[Part]])","v":"I03.1"},{"$f":"VLOOKUP(Table9[[#This Row],[Feature]],Table5[],5,FALSE)","v":"Optimization"},{"$f":"NOT(ISNA(_xlfn.IFNA(VLOOKUP(Table9[[#This Row],[Feature.Part]],Table6[v2 Feature.Part],1,FALSE),VLOOKUP(CONCATENATE(Table9[[#This Row],[Feature]],\".\",\"All\"),Table6[v2 Feature.Part],1,FALSE))))","v":false},{"$f":"IF(Table9[[#This Row],[Part Covered in Skybridge?]],  IF(COUNTIFS(Table6[v2 Part attainment through these features?],TRUE,Table6[v2 Feature.Part],Table9[[#This Row],[Feature.Part]])>0,TRUE,FALSE),FALSE)","v":false},{"$f":"IF(Table9[[#This Row],[Part attained in v2?]],\nIF(Table9[[#This Row],[Feature]]=\"I01\",COUNTIFS(Table6[WELL v2 Feature],\"I01\",Table6[v1 feature 1 attainment],\"Y\"),\nVLOOKUP(Table9[[#This Row],[Feature.Part]],Table6[[v2 Feature.Part]:[Part points]],7,FALSE)),0)","v":0},{"$f":"IF(Table9[[#This Row],[Part attained in v2?]],IF(Table9[[#This Row],[Type]]=\"Precondition\",\"Y\",Table9[[#This Row],[v2 points]]),0)","v":0},{"$f":"VLOOKUP(Table9[[#This Row],[Feature]],Table5[],12,FALSE)","v":"Innovations"}]
[null,null,null,null,null,null,null,null,null,null,null,null,null,null,null,null,null,null,null,null,"I04",1,{"$f":"CONCATENATE(Table9[[#This Row],[Feature]],\".\",Table9[[#This Row],[Part]])","v":"I04.1"},{"$f":"VLOOKUP(Table9[[#This Row],[Feature]],Table5[],5,FALSE)","v":"Optimization"},{"$f":"NOT(ISNA(_xlfn.IFNA(VLOOKUP(Table9[[#This Row],[Feature.Part]],Table6[v2 Feature.Part],1,FALSE),VLOOKUP(CONCATENATE(Table9[[#This Row],[Feature]],\".\",\"All\"),Table6[v2 Feature.Part],1,FALSE))))","v":false},{"$f":"IF(Table9[[#This Row],[Part Covered in Skybridge?]],  IF(COUNTIFS(Table6[v2 Part attainment through these features?],TRUE,Table6[v2 Feature.Part],Table9[[#This Row],[Feature.Part]])>0,TRUE,FALSE),FALSE)","v":false},{"$f":"IF(Table9[[#This Row],[Part attained in v2?]],\nIF(Table9[[#This Row],[Feature]]=\"I01\",COUNTIFS(Table6[WELL v2 Feature],\"I01\",Table6[v1 feature 1 attainment],\"Y\"),\nVLOOKUP(Table9[[#This Row],[Feature.Part]],Table6[[v2 Feature.Part]:[Part points]],7,FALSE)),0)","v":0},{"$f":"IF(Table9[[#This Row],[Part attained in v2?]],IF(Table9[[#This Row],[Type]]=\"Precondition\",\"Y\",Table9[[#This Row],[v2 points]]),0)","v":0},{"$f":"VLOOKUP(Table9[[#This Row],[Feature]],Table5[],12,FALSE)","v":"Innovations"}]
[null,null,null,null,null,null,null,null,null,null,null,null,null,null,null,null,null,null,null,null,"I05",1,{"$f":"CONCATENATE(Table9[[#This Row],[Feature]],\".\",Table9[[#This Row],[Part]])","v":"I05.1"},{"$f":"VLOOKUP(Table9[[#This Row],[Feature]],Table5[],5,FALSE)","v":"Optimization"},{"$f":"NOT(ISNA(_xlfn.IFNA(VLOOKUP(Table9[[#This Row],[Feature.Part]],Table6[v2 Feature.Part],1,FALSE),VLOOKUP(CONCATENATE(Table9[[#This Row],[Feature]],\".\",\"All\"),Table6[v2 Feature.Part],1,FALSE))))","v":true},{"$f":"IF(Table9[[#This Row],[Part Covered in Skybridge?]],  IF(COUNTIFS(Table6[v2 Part attainment through these features?],TRUE,Table6[v2 Feature.Part],Table9[[#This Row],[Feature.Part]])>0,TRUE,FALSE),FALSE)","v":false},{"$f":"IF(Table9[[#This Row],[Part attained in v2?]],\nIF(Table9[[#This Row],[Feature]]=\"I01\",COUNTIFS(Table6[WELL v2 Feature],\"I01\",Table6[v1 feature 1 attainment],\"Y\"),\nVLOOKUP(Table9[[#This Row],[Feature.Part]],Table6[[v2 Feature.Part]:[Part points]],7,FALSE)),0)","v":0},{"$f":"IF(Table9[[#This Row],[Part attained in v2?]],IF(Table9[[#This Row],[Type]]=\"Precondition\",\"Y\",Table9[[#This Row],[v2 points]]),0)","v":0},{"$f":"VLOOKUP(Table9[[#This Row],[Feature]],Table5[],12,FALSE)","v":"Innovations"}]

{"sheet":"Tables","index":9,"n_rows":210,"n_cols":26,"rows_kept":210,"cut":false,"hidden":true,"merged":[[1,1,1,5],[1,6,1,10],[1,11,1,12],[1,14,1,18]]}
[]
[null,"Table 5: v2 parts",null,null,null,null,null,null,null,null,null,null,null,null,"Table 4: v1 features (Incl. achievement)",null,null,null,null,null,"Points awarded"]
[null,"Feature","Part","Feature.Part","Part Description","Precondition","Points","Concept Order","Core pt mod","Core pt","Extra pt?","Feature name","Concept",null,"v1 Feature  Number","Feature Name","Precondition","Attainment","Innovation-Legacy Points","New and Existing Buildings","New and Existing Interiors","Core and Shell","Legacy Concept",null,"v2 Points","Status"]
[null,"A01",1,"A01.1","Meet Thresholds for Particulate Matter","Precondition","P",1,0,"P",0,"Air Quality","Air",null,1,"Air quality standards",{"$f":"OFFSET(Table4[[#This Row],[Innovation-Legacy Points]],0,MATCH(project_type,Table4[[#Headers],[New and Existing Buildings]:[Core and Shell]],0))","v":"P"},{"$f":"IF(INDEX('v1 Achieved Features'!$B$5:$D$123,MATCH(O4,'v1 Achieved Features'!$D$5:$D$123,0),1)=\"Yes\",\"Y\",\"N\")","v":"Y"},null,"P","P","P",null,null,0,"Not Certified"]
[null,"A01",2,"A01.2","Meet Thresholds for Organic Gases","Precondition","P",1,0,"P",0,"Air Quality","Air",null,2,"Smoking ban",{"$f":"OFFSET(Table4[[#This Row],[Innovation-Legacy Points]],0,MATCH(project_type,Table4[[#Headers],[New and Existing Buildings]:[Core and Shell]],0))","v":"P"},{"$f":"IF(INDEX('v1 Achieved Features'!$B$5:$D$123,MATCH(O5,'v1 Achieved Features'!$D$5:$D$123,0),1)=\"Yes\",\"Y\",\"N\")","v":"Y"},null,"P","P","P",null,null,40,"Bronze"]
[null,"A01",3,"A01.3","Meet Thresholds for Inorganic Gases","Precondition","P",1,0,"P",0,"Air Quality","Air",null,3,"Ventilation effectiveness",{"$f":"OFFSET(Table4[[#This Row],[Innovation-Legacy Points]],0,MATCH(project_type,Table4[[#Headers],[New and Existing Buildings]:[Core and Shell]],0))","v":"P"},{"$f":"IF(INDEX('v1 Achieved Features'!$B$5:$D$123,MATCH(O6,'v1 Achieved Features'!$D$5:$D$123,0),1)=\"Yes\",\"Y\",\"N\")","v":"Y"},null,"P","P","P",null,null,50,"Silver"]
[null,"A01",4,"A01.4","Meet Thresholds for Radon","Precondition","P",1,0,"P",0,"Air Quality","Air",null,4,"VOC reduction",{"$f":"OFFSET(Table4[[#This Row],[Innovation-Legacy Points]],0,MATCH(project_type,Table4[[#Headers],[New and Existing Buildings]:[Core and Shell]],0))","v":"P"},{"$f":"IF(INDEX('v1 Achieved Features'!$B$5:$D$123,MATCH(O7,'v1 Achieved Features'!$D$5:$D$123,0),1)=\"Yes\",\"Y\",\"N\")","v":"Y"},null,"P","P","P",null,null,60,"Gold"]
[null,"A01",5,"A01.5","Monitor Air Parameters","Precondition","P",1,0,"P",0,"Air Quality","Air",null,5,"Air filtration",{"$f":"OFFSET(Table4[[#This Row],[Innovation-Legacy Points]],0,MATCH(project_type,Table4[[#Headers],[New and Existing Buildings]:[Core and Shell]],0))","v":"P"},{"$f":"IF(INDEX('v1 Achieved Features'!$B$5:$D$123,MATCH(O8,'v1 Achieved Features'!$D$5:$D$123,0),1)=\"Yes\",\"Y\",\"N\")","v":"Y"},null,"P","P","P",null,null,80,"Platinum"]
[null,"A02",1,"A02.1","Prohibit Indoor Smoking","Precondition","P",1,0,"P",0,"Smoke-Free Environment","Air",null,6,"Microbe and mold control",{"$f":"OFFSET(Table4[[#This Row],[Innovation-Legacy Points]],0,MATCH(project_type,Table4[[#Headers],[New and Existing Buildings]:[Core and Shell]],0))","v":"P"},{"$f":"IF(INDEX('v1 Achieved Features'!$B$5:$D$123,MATCH(O9,'v1 Achieved Features'!$D$5:$D$123,0),1)=\"Yes\",\"Y\",\"N\")","v":"Y"},null,"P","P","P"]
[null,"A02",2,"A02.2","Prohibit Outdoor Smoking","Precondition","P",1,0,"P",0,"Smoke-Free Environment","Air",null,7,"Construction pollution management",{"$f":"OFFSET(Table4[[#This Row],[Innovation-Legacy Points]],0,MATCH(project_type,Table4[[#Headers],[New and Existing Buildings]:[Core and Shell]],0))","v":"P"},{"$f":"IF(INDEX('v1 Achieved Features'!$B$5:$D$123,MATCH(O10,'v1 Achieved Features'!$D$5:$D$123,0),1)=\"Yes\",\"Y\",\"N\")","v":"Y"},null,"P","P","P"]
[null,"A03",1,"A03.1","Ensure Adequate Ventilation","Precondition","P",1,0,"P",0,"Ventilation Design","Air",null,8,"Healthy entrance",{"$f":"OFFSET(Table4[[#This Row],[Innovation-Legacy Points]],0,MATCH(project_type,Table4[[#Headers],[New and Existing Buildings]:[Core and Shell]],0))","v":"P"},{"$f":"IF(INDEX('v1 Achieved Features'!$B$5:$D$123,MATCH(O11,'v1 Achieved Features'!$D$5:$D$123,0),1)=\"Yes\",\"Y\",\"N\")","v":"Y"},null,"P","O","P"]
[null,"A04",1,"A04.1","Mitigate Construction Pollution","Precondition","P",1,0,"P",0,"Construction Pollution Management","Air",null,9,"Cleaning protocol",{"$f":"OFFSET(Table4[[#This Row],[Innovation-Legacy Points]],0,MATCH(project_type,Table4[[#Headers],[New and Existing Buildings]:[Core and Shell]],0))","v":"P"},{"$f":"IF(INDEX('v1 Achieved Features'!$B$5:$D$123,MATCH(O12,'v1 Achieved Features'!$D$5:$D$123,0),1)=\"Yes\",\"Y\",\"N\")","v":"Y"},null,"P","P","N/A"]
[null,"A05",1,"A05.1","Meet Enhanced Thresholds for Particulate Matter","Optimization",2,1,"None",2,0,"Enhanced Air Quality","Air",null,10,"Pesticide management",{"$f":"OFFSET(Table4[[#This Row],[Innovation-Legacy Points]],0,MATCH(project_type,Table4[[#Headers],[New and Existing Buildings]:[Core and Shell]],0))","v":"P"},{"$f":"IF(INDEX('v1 Achieved Features'!$B$5:$D$123,MATCH(O13,'v1 Achieved Features'!$D$5:$D$123,0),1)=\"Yes\",\"Y\",\"N\")","v":"Y"},null,"P","N/A","P"]
[null,"A05",2,"A05.2","Meet Enhanced Thresholds for Organic Gases","Optimization",1,1,"None",1,0,"Enhanced Air Quality","Air",null,11,"Fundamental material safety",{"$f":"OFFSET(Table4[[#This Row],[Innovation-Legacy Points]],0,MATCH(project_type,Table4[[#Headers],[New and Existing Buildings]:[Core and Shell]],0))","v":"P"},{"$f":"IF(INDEX('v1 Achieved Features'!$B$5:$D$123,MATCH(O14,'v1 Achieved Features'!$D$5:$D$123,0),1)=\"Yes\",\"Y\",\"N\")","v":"Y"},null,"P","P","P"]
[null,"A05",3,"A05.3","Meet Enhanced Thresholds for Inorganic Gases","Optimization",1,1,"None",1,0,"Enhanced Air Quality","Air",null,12,"Moisture management",{"$f":"OFFSET(Table4[[#This Row],[Innovation-Legacy Points]],0,MATCH(project_type,Table4[[#Headers],[New and Existing Buildings]:[Core and Shell]],0))","v":"P"},{"$f":"IF(INDEX('v1 Achieved Features'!$B$5:$D$123,MATCH(O15,'v1 Achieved Features'!$D$5:$D$123,0),1)=\"Yes\",\"Y\",\"N\")","v":"Y"},null,"P","N/A","P"]
[null,"A06",1,"A06.1","Increase Outdoor Air Supply","Optimization",2,1,"Bonus",3,0,"Enhanced Ventilation Design","Air",null,13,"Air flush",{"$f":"OFFSET(Table4[[#This Row],[Innovation-Legacy Points]],0,MATCH(project_type,Table4[[#Headers],[New and Existing Buildings]:[Core and Shell]],0))","v":"O"},{"$f":"IF(INDEX('v1 Achieved Features'!$B$5:$D$123,MATCH(O16,'v1 Achieved Features'!$D$5:$D$123,0),1)=\"Yes\",\"Y\",\"N\")","v":"N"},null,"O","O","N/A"]
[null,"A06",2,"A06.2","Improve Ventilation Effectiveness","Optimization",1,1,"Bonus",2,0,"Enhanced Ventilation Design","Air",null,14,"Air infiltration management",{"$f":"OFFSET(Table4[[#This Row],[Innovation-Legacy Points]],0,MATCH(project_type,Table4[[#Headers],[New and Existing Buildings]:[Core and Shell]],0))","v":"O"},{"$f":"IF(INDEX('v1 Achieved Features'!$B$5:$D$123,MATCH(O17,'v1 Achieved Features'!$D$5:$D$123,0),1)=\"Yes\",\"Y\",\"N\")","v":"N"},null,"O","O","O"]
[null,"A07",1,"A07.1","Provide Operable Windows","Optimization",1,1,"Bonus",2,0,"Operable Windows","Air",null,15,"Increased ventilation",{"$f":"OFFSET(Table4[[#This Row],[Innovation-Legacy Points]],0,MATCH(project_type,Table4[[#Headers],[New and Existing Buildings]:[Core and Shell]],0))","v":"O"},{"$f":"IF(INDEX('v1 Achieved Features'!$B$5:$D$123,MATCH(O18,'v1 Achieved Features'!$D$5:$D$123,0),1)=\"Yes\",\"Y\",\"N\")","v":"N"},null,"O","O","O"]
[null,"A07",2,"A07.2","Manage Window Use","Optimization",1,1,"Bonus",2,0,"Operable Windows","Air",null,16,"Humidity control",{"$f":"OFFSET(Table4[[#This Row],[Innovation-Legacy Points]],0,MATCH(project_type,Table4[[#Headers],[New and Existing Buildings]:[Core and Shell]],0))","v":"O"},{"$f":"IF(INDEX('v1 Achieved Features'!$B$5:$D$123,MATCH(O19,'v1 Achieved Features'!$D$5:$D$123,0),1)=\"Yes\",\"Y\",\"N\")","v":"N"},null,"O","O","N/A"]
[null,"A08",1,"A08.1","Install Indoor Air Monitors","Optimization",1,1,"Limit",0.5,1,"Air Quality Monitoring and Awareness","Air",null,17,"Direct source ventilation",{"$f":"OFFSET(Table4[[#This Row],[Innovation-Legacy Points]],0,MATCH(project_type,Table4[[#Headers],[New and Existing Buildings]:[Core and Shell]],0))","v":"O"},{"$f":"IF(INDEX('v1 Achieved Features'!$B$5:$D$123,MATCH(O20,'v1 Achieved Features'!$D$5:$D$123,0),1)=\"Yes\",\"Y\",\"N\")","v":"N"},null,"O","O","O"]
[null,"A08",2,"A08.2","Promote Air Quality Awareness","Optimization",1,1,"None",1,0,"Air Quality Monitoring and Awareness","Air",null,18,"Air quality monitoring and feedback",{"$f":"OFFSET(Table4[[#This Row],[Innovation-Legacy Points]],0,MATCH(project_type,Table4[[#Headers],[New and Existing Buildings]:[Core and Shell]],0))","v":"O"},{"$f":"IF(INDEX('v1 Achieved Features'!$B$5:$D$123,MATCH(O21,'v1 Achieved Features'!$D$5:$D$123,0),1)=\"Yes\",\"Y\",\"N\")","v":"N"},null,"O","O","N/A"]
[null,"A09",1,"A09.1","Design Healthy Entryways","Optimization",1,1,"Bonus",2,0,"Pollution Infiltration Management","Air",null,19,"Operable windows",{"$f":"OFFSET(Table4[[#This Row],[Innovation-Legacy Points]],0,MATCH(project_type,Table4[[#Headers],[New and Existing Buildings]:[Core and Shell]],0))","v":"O"},{"$f":"IF(INDEX('v1 Achieved Features'!$B$5:$D$123,MATCH(O22,'v1 Achieved Features'!$D$5:$D$123,0),1)=\"Yes\",\"Y\",\"N\")","v":"N"},null,"O","O","O"]
[null,"A09",2,"A09.2","Perform Envelope Commissioning","Optimization",1,1,"Bonus",2,0,"Pollution Infiltration Management","Air",null,20,"Outdoor air systems",{"$f":"OFFSET(Table4[[#This Row],[Innovation-Legacy Points]],0,MATCH(project_type,Table4[[#Headers],[New and Existing Buildings]:[Core and Shell]],0))","v":"O"},{"$f":"IF(INDEX('v1 Achieved Features'!$B$5:$D$123,MATCH(O23,'v1 Achieved Features'!$D$5:$D$123,0),1)=\"Yes\",\"Y\",\"N\")","v":"N"},0.5,"O","O","O","Air"]
[null,"A10",1,"A10.1","Manage Combustion","Optimization",1,1,"Bonus",2,0,"Combustion Minimization","Air",null,21,"Displacement ventilation",{"$f":"OFFSET(Table4[[#This Row],[Innovation-Legacy Points]],0,MATCH(project_type,Table4[[#Headers],[New and Existing Buildings]:[Core and Shell]],0))","v":"O"},{"$f":"IF(INDEX('v1 Achieved Features'!$B$5:$D$123,MATCH(O24,'v1 Achieved Features'!$D$5:$D$123,0),1)=\"Yes\",\"Y\",\"N\")","v":"N"},null,"O","O","N/A"]
[null,"A11",1,"A11.1","Manage Pollution and Exhaust","Optimization",1,1,"Limit",0.5,0,"Source Separation","Air",null,22,"Pest control",{"$f":"OFFSET(Table4[[#This Row],[Innovation-Legacy Points]],0,MATCH(project_type,Table4[[#Headers],[New and Existing Buildings]:[Core and Shell]],0))","v":"O"},{"$f":"IF(INDEX('v1 Achieved Features'!$B$5:$D$123,MATCH(O25,'v1 Achieved Features'!$D$5:$D$123,0),1)=\"Yes\",\"Y\",\"N\")","v":"N"},0.5,"O","O","N/A","Materials"]
[null,"A12",1,"A12.1","Implement Particle Filtration","Optimization",1,1,"Bonus",2,0,"Air Filtration","Air",null,23,"Advanced air purification",{"$f":"OFFSET(Table4[[#This Row],[Innovation-Legacy Points]],0,MATCH(project_type,Table4[[#Headers],[New and Existing Buildings]:[Core and Shell]],0))","v":"O"},{"$f":"IF(INDEX('v1 Achieved Features'!$B$5:$D$123,MATCH(O26,'v1 Achieved Features'!$D$5:$D$123,0),1)=\"Yes\",\"Y\",\"N\")","v":"N"},null,"O","O","O"]
[null,"A13",1,"A13.1","Improve Supply Air","Optimization",1,1,"Bonus",2,0,"Enhanced Supply Air","Air",null,24,"Combustion minimization",{"$f":"OFFSET(Table4[[#This Row],[Innovation-Legacy Points]],0,MATCH(project_type,Table4[[#Headers],[New and Existing Buildings]:[Core and Shell]],0))","v":"O"},{"$f":"IF(INDEX('v1 Achieved Features'!$B$5:$D$123,MATCH(O27,'v1 Achieved Features'!$D$5:$D$123,0),1)=\"Yes\",\"Y\",\"N\")","v":"N"},null,"O","O","O"]
[null,"A14",1,"A14.1","Implement Ultraviolet Air Treatment","Optimization",1,1,"Bonus",2,0,"Microbe and Mold Control","Air",null,25,"Toxic material reduction",{"$f":"OFFSET(Table4[[#This Row],[Innovation-Legacy Points]],0,MATCH(project_type,Table4[[#Headers],[New and Existing Buildings]:[Core and Shell]],0))","v":"O"},{"$f":"IF(INDEX('v1 Achieved Features'!$B$5:$D$123,MATCH(O28,'v1 Achieved Features'!$D$5:$D$123,0),1)=\"Yes\",\"Y\",\"N\")","v":"N"},null,"O","O","N/A"]
[null,"W01",1,"W01.1","Verify Water Quality Indicators","Precondition","P",2,0,"P",0,"Water Quality Indicators","Water",null,26,"Enhanced material safety",{"$f":"OFFSET(Table4[[#This Row],[Innovation-Legacy Points]],0,MATCH(project_type,Table4[[#Headers],[New and Existing Buildings]:[Core and Shell]],0))","v":"O"},{"$f":"IF(INDEX('v1 Achieved Features'!$B$5:$D$123,MATCH(O29,'v1 Achieved Features'!$D$5:$D$123,0),1)=\"Yes\",\"Y\",\"N\")","v":"N"},null,"O","O","N/A"]
[null,"W02",1,"W02.1","Meet Chemical Thresholds","Precondition","P",2,0,"P",0,"Drinking Water Quality","Water",null,27,"Antimicrobial activity for surfaces",{"$f":"OFFSET(Table4[[#This Row],[Innovation-Legacy Points]],0,MATCH(project_type,Table4[[#Headers],[New and Existing Buildings]:[Core and Shell]],0))","v":"O"},{"$f":"IF(INDEX('v1 Achieved Features'!$B$5:$D$123,MATCH(O30,'v1 Achieved Features'!$D$5:$D$123,0),1)=\"Yes\",\"Y\",\"N\")","v":"N"},0.5,"O","O","N/A","Materials"]
[null,"W02",2,"W02.2","Meet Thresholds for Organics and Pesticides","Precondition","P",2,0,"P",0,"Drinking Water Quality","Water",null,28,"Cleanable environment",{"$f":"OFFSET(Table4[[#This Row],[Innovation-Legacy Points]],0,MATCH(project_type,Table4[[#Headers],[New and Existing Buildings]:[Core and Shell]],0))","v":"O"},{"$f":"IF(INDEX('v1 Achieved Features'!$B$5:$D$123,MATCH(O31,'v1 Achieved Features'!$D$5:$D$123,0),1)=\"Yes\",\"Y\",\"N\")","v":"N"},0.5,"O","O","N/A","Materials"]
[null,"W03",1,"W03.1","Monitor Chemical and Biological Water Quality","Precondition","P",2,0,"P",0,"Basic Water Management","Water",null,29,"Cleaning equipment",{"$f":"OFFSET(Table4[[#This Row],[Innovation-Legacy Points]],0,MATCH(project_type,Table4[[#Headers],[New and Existing Buildings]:[Core and Shell]],0))","v":"O"},{"$f":"IF(INDEX('v1 Achieved Features'!$B$5:$D$123,MATCH(O32,'v1 Achieved Features'!$D$5:$D$123,0),1)=\"Yes\",\"Y\",\"N\")","v":"N"},0.5,"O","O","N/A","Materials"]
[null,"W03",2,"W03.2","Implement Legionella Management Plan","Precondition","P",2,0,"P",0,"Basic Water Management","Water",null,30,"Fundamental water quality",{"$f":"OFFSET(Table4[[#This Row],[Innovation-Legacy Points]],0,MATCH(project_type,Table4[[#Headers],[New and Existing Buildings]:[Core and Shell]],0))","v":"P"},{"$f":"IF(INDEX('v1 Achieved Features'!$B$5:$D$123,MATCH(O33,'v1 Achieved Features'!$D$5:$D$123,0),1)=\"Yes\",\"Y\",\"N\")","v":"Y"},null,"P","P","P"]
[null,"W04",1,"W04.1","Meet Thresholds for Drinking Water Taste","Optimization",1,2,"Bonus",2,0,"Enhanced Water Quality","Water",null,31,"Inorganic contaminants",{"$f":"OFFSET(Table4[[#This Row],[Innovation-Legacy Points]],0,MATCH(project_type,Table4[[#Headers],[New and Existing Buildings]:[Core and Shell]],0))","v":"P"},{"$f":"IF(INDEX('v1 Achieved Features'!$B$5:$D$123,MATCH(O34,'v1 Achieved Features'!$D$5:$D$123,0),1)=\"Yes\",\"Y\",\"N\")","v":"Y"},null,"P","P","P"]
[null,"W05",1,"W05.1","Assess and Maintain Drinking Water Quality","Optimization",2,2,"None",2,0,"Drinking Water Quality Management","Water",null,32,"Organic contaminants",{"$f":"OFFSET(Table4[[#This Row],[Innovation-Legacy Points]],0,MATCH(project_type,Table4[[#Headers],[New and Existing Buildings]:[Core and Shell]],0))","v":"P"},{"$f":"IF(INDEX('v1 Achieved Features'!$B$5:$D$123,MATCH(O35,'v1 Achieved Features'!$D$5:$D$123,0),1)=\"Yes\",\"Y\",\"N\")","v":"Y"},null,"P","P","P"]
[null,"W05",2,"W05.2","Promote Drinking Water Transparency","Optimization",1,2,"None",1,0,"Drinking Water Quality Management","Water",null,33,"Agricultural contaminants",{"$f":"OFFSET(Table4[[#This Row],[Innovation-Legacy Points]],0,MATCH(project_type,Table4[[#Headers],[New and Existing Buildings]:[Core and Shell]],0))","v":"P"},{"$f":"IF(INDEX('v1 Achieved Features'!$B$5:$D$123,MATCH(O36,'v1 Achieved Features'!$D$5:$D$123,0),1)=\"Yes\",\"Y\",\"N\")","v":"Y"},null,"P","P","P"]
[null,"W06",1,"W06.1","Ensure Drinking Water Access","Optimization",1,2,"None",1,0,"Drinking Water Promotion","Water",null,34,"Public water additives",{"$f":"OFFSET(Table4[[#This Row],[Innovation-Legacy Points]],0,MATCH(project_type,Table4[[#Headers],[New and Existing Buildings]:[Core and Shell]],0))","v":"P"},{"$f":"IF(INDEX('v1 Achieved Features'!$B$5:$D$123,MATCH(O37,'v1 Achieved Features'!$D$5:$D$123,0),1)=\"Yes\",\"Y\",\"N\")","v":"Y"},null,"P","P","P"]
[null,"W07",1,"W07.1","Design Envelope for Moisture Protection","Optimization",1,2,"Bonus",2,0,"Moisture Management","Water",null,35,"Periodic water quality testing",{"$f":"OFFSET(Table4[[#This Row],[Innovation-Legacy Points]],0,MATCH(project_type,Table4[[#Headers],[New and Existing Buildings]:[Core and Shell]],0))","v":"O"},{"$f":"IF(INDEX('v1 Achieved Features'!$B$5:$D$123,MATCH(O38,'v1 Achieved Features'!$D$5:$D$123,0),1)=\"Yes\",\"Y\",\"N\")","v":"N"},null,"O","O","N/A"]
[null,"W07",2,"W07.2","Design Interiors for Moisture Management","Optimization",1,2,"Bonus",2,0,"Moisture Management","Water",null,36,"Water treatment",{"$f":"OFFSET(Table4[[#This Row],[Innovation-Legacy Points]],0,MATCH(project_type,Table4[[#Headers],[New and Existing Buildings]:[Core and Shell]],0))","v":"O"},{"$f":"IF(INDEX('v1 Achieved Features'!$B$5:$D$123,MATCH(O39,'v1 Achieved Features'!$D$5:$D$123,0),1)=\"Yes\",\"Y\",\"N\")","v":"N"},null,"O","O","O"]
[null,"W07",3,"W07.3","Implement Mold and Moisture Management Plan","Optimization",1,2,"Bonus",2,0,"Moisture Management","Water",null,37,"Drinking water promotion",{"$f":"OFFSET(Table4[[#This Row],[Innovation-Legacy Points]],0,MATCH(project_type,Table4[[#Headers],[New and Existing Buildings]:[Core and Shell]],0))","v":"O"},{"$f":"IF(INDEX('v1 Achieved Features'!$B$5:$D$123,MATCH(O40,'v1 Achieved Features'!$D$5:$D$123,0),1)=\"Yes\",\"Y\",\"N\")","v":"N"},null,"O","O","O"]
[null,"W08",1,"W08.1","Provide Bathroom Accommodations","Optimization",2,2,"None",2,0,"Hygiene Support","Water",null,38,"Fruits and vegetables",{"$f":"OFFSET(Table4[[#This Row],[Innovation-Legacy Points]],0,MATCH(project_type,Table4[[#Headers],[New and Existing Buildings]:[Core and Shell]],0))","v":"P"},{"$f":"IF(INDEX('v1 Achieved Features'!$B$5:$D$123,MATCH(O41,'v1 Achieved Features'!$D$5:$D$123,0),1)=\"Yes\",\"Y\",\"N\")","v":"Y"},null,"P","P","N/A"]
[null,"W08",2,"W08.2","Enhance Bathroom Accommodations","Optimization",1,2,"None",1,0,"Hygiene Support","Water",null,39,"Processed foods",{"$f":"OFFSET(Table4[[#This Row],[Innovation-Legacy Points]],0,MATCH(project_type,Table4[[#Headers],[New and Existing Buildings]:[Core and Shell]],0))","v":"P"},{"$f":"IF(INDEX('v1 Achieved Features'!$B$5:$D$123,MATCH(O42,'v1 Achieved Features'!$D$5:$D$123,0),1)=\"Yes\",\"Y\",\"N\")","v":"Y"},null,"P","P","P"]
[null,"W08",3,"W08.3","Support Effective Handwashing","Optimization",1,2,"None",1,0,"Hygiene Support","Water",null,40,"Food allergies",{"$f":"OFFSET(Table4[[#This Row],[Innovation-Legacy Points]],0,MATCH(project_type,Table4[[#Headers],[New and Existing Buildings]:[Core and Shell]],0))","v":"P"},{"$f":"IF(INDEX('v1 Achieved Features'!$B$5:$D$123,MATCH(O43,'v1 Achieved Features'!$D$5:$D$123,0),1)=\"Yes\",\"Y\",\"N\")","v":"Y"},null,"P","P","P"]
[null,"W08",4,"W08.4","Provide Handwashing Supplies and Signage","Optimization",1,2,"None",1,0,"Hygiene Support","Water",null,41,"Hand washing",{"$f":"OFFSET(Table4[[#This Row],[Innovation-Legacy Points]],0,MATCH(project_type,Table4[[#Headers],[New and Existing Buildings]:[Core and Shell]],0))","v":"P"},{"$f":"IF(INDEX('v1 Achieved Features'!$B$5:$D$123,MATCH(O44,'v1 Achieved Features'!$D$5:$D$123,0),1)=\"Yes\",\"Y\",\"N\")","v":"Y"},null,"P","P","N/A"]
[null,"W09",1,"W09.1","Implement Safety Plan for Non-Potable Water Capture and Reuse","Optimization",2,2,"None",2,0,"β Onsite Non-Potable Water Reuse","Water",null,42,"Food contamination",{"$f":"OFFSET(Table4[[#This Row],[Innovation-Legacy Points]],0,MATCH(project_type,Table4[[#Headers],[New and Existing Buildings]:[Core and Shell]],0))","v":"P"},{"$f":"IF(INDEX('v1 Achieved Features'!$B$5:$D$123,MATCH(O45,'v1 Achieved Features'!$D$5:$D$123,0),1)=\"Yes\",\"Y\",\"N\")","v":"Y"},0.5,"P","P","N/A","Nourishment"]
[null,"N01",1,"N01.1","Provide Fruits and Vegetables","Precondition","P",3,0,"P",0,"Fruits and Vegetables","Nourishment",null,43,"Artificial ingredients",{"$f":"OFFSET(Table4[[#This Row],[Innovation-Legacy Points]],0,MATCH(project_type,Table4[[#Headers],[New and Existing Buildings]:[Core and Shell]],0))","v":"P"},{"$f":"IF(INDEX('v1 Achieved Features'!$B$5:$D$123,MATCH(O46,'v1 Achieved Features'!$D$5:$D$123,0),1)=\"Yes\",\"Y\",\"N\")","v":"Y"},null,"P","P","O"]
[null,"N01",2,"N01.2","Promote Fruit and Vegetable Visibility","Precondition","P",3,0,"P",0,"Fruits and Vegetables","Nourishment",null,44,"Nutritional information",{"$f":"OFFSET(Table4[[#This Row],[Innovation-Legacy Points]],0,MATCH(project_type,Table4[[#Headers],[New and Existing Buildings]:[Core and Shell]],0))","v":"P"},{"$f":"IF(INDEX('v1 Achieved Features'!$B$5:$D$123,MATCH(O47,'v1 Achieved Features'!$D$5:$D$123,0),1)=\"Yes\",\"Y\",\"N\")","v":"Y"},null,"P","P","O"]
[null,"N02",1,"N02.1","Provide Nutritional Information","Precondition","P",3,0,"P",0,"Nutritional Transparency","Nourishment",null,45,"Food advertising",{"$f":"OFFSET(Table4[[#This Row],[Innovation-Legacy Points]],0,MATCH(project_type,Table4[[#Headers],[New and Existing Buildings]:[Core and Shell]],0))","v":"P"},{"$f":"IF(INDEX('v1 Achieved Features'!$B$5:$D$123,MATCH(O48,'v1 Achieved Features'!$D$5:$D$123,0),1)=\"Yes\",\"Y\",\"N\")","v":"Y"},null,"P","P","O"]
[null,"N02",2,"N02.2","Address Food Allergens","Precondition","P",3,0,"P",0,"Nutritional Transparency","Nourishment",null,46,"Safe food preparation materials",{"$f":"OFFSET(Table4[[#This Row],[Innovation-Legacy Points]],0,MATCH(project_type,Table4[[#Headers],[New and Existing Buildings]:[Core and Shell]],0))","v":"O"},{"$f":"IF(INDEX('v1 Achieved Features'!$B$5:$D$123,MATCH(O49,'v1 Achieved Features'!$D$5:$D$123,0),1)=\"Yes\",\"Y\",\"N\")","v":"N"},0.5,"O","O","N/A","Nourishment"]
[null,"N02",3,"N02.3","Label Sugar Content","Precondition","P",3,0,"P",0,"Nutritional Transparency","Nourishment",null,47,"Serving sizes",{"$f":"OFFSET(Table4[[#This Row],[Innovation-Legacy Points]],0,MATCH(project_type,Table4[[#Headers],[New and Existing Buildings]:[Core and Shell]],0))","v":"O"},{"$f":"IF(INDEX('v1 Achieved Features'!$B$5:$D$123,MATCH(O50,'v1 Achieved Features'!$D$5:$D$123,0),1)=\"Yes\",\"Y\",\"N\")","v":"N"},null,"O","O","N/A"]
[null,"N03",1,"N03.1","Limit Total Sugars","Optimization",1,3,"None",1,0,"Refined Ingredients","Nourishment",null,48,"Special diets",{"$f":"OFFSET(Table4[[#This Row],[Innovation-Legacy Points]],0,MATCH(project_type,Table4[[#Headers],[New and Existing Buildings]:[Core and Shell]],0))","v":"O"},{"$f":"IF(INDEX('v1 Achieved Features'!$B$5:$D$123,MATCH(O51,'v1 Achieved Features'!$D$5:$D$123,0),1)=\"Yes\",\"Y\",\"N\")","v":"N"},null,"O","O","N/A"]
[null,"N03",2,"N03.2","Promote Whole Grains","Optimization",1,3,"None",1,0,"Refined Ingredients","Nourishment",null,49,"Responsible food production",{"$f":"OFFSET(Table4[[#This Row],[Innovation-Legacy Points]],0,MATCH(project_type,Table4[[#Headers],[New and Existing Buildings]:[Core and Shell]],0))","v":"O"},{"$f":"IF(INDEX('v1 Achieved Features'!$B$5:$D$123,MATCH(O52,'v1 Achieved Features'!$D$5:$D$123,0),1)=\"Yes\",\"Y\",\"N\")","v":"N"},null,"O","O","N/A"]
[null,"N04",1,"N04.1","Optimize Food Advertising","Optimization",1,3,"None",1,0,"Food Advertising","Nourishment",null,50,"Food storage",{"$f":"OFFSET(Table4[[#This Row],[Innovation-Legacy Points]],0,MATCH(project_type,Table4[[#Headers],[New and Existing Buildings]:[Core and Shell]],0))","v":"O"},{"$f":"IF(INDEX('v1 Achieved Features'!$B$5:$D$123,MATCH(O53,'v1 Achieved Features'!$D$5:$D$123,0),1)=\"Yes\",\"Y\",\"N\")","v":"N"},null,"O","O","N/A"]
[null,"N05",1,"N05.1","Limit Artificial Ingredients","Optimization",1,3,"None",1,0,"Artificial Ingredients","Nourishment",null,51,"Food production",{"$f":"OFFSET(Table4[[#This Row],[Innovation-Legacy Points]],0,MATCH(project_type,Table4[[#Headers],[New and Existing Buildings]:[Core and Shell]],0))","v":"O"},{"$f":"IF(INDEX('v1 Achieved Features'!$B$5:$D$123,MATCH(O54,'v1 Achieved Features'!$D$5:$D$123,0),1)=\"Yes\",\"Y\",\"N\")","v":"N"},null,"O","O","O"]
[null,"N06",1,"N06.1","Promote Healthy Portions","Optimization",1,3,"None",1,0,"Portion Sizes","Nourishment",null,52,"Mindful eating",{"$f":"OFFSET(Table4[[#This Row],[Innovation-Legacy Points]],0,MATCH(project_type,Table4[[#Headers],[New and Existing Buildings]:[Core and Shell]],0))","v":"O"},{"$f":"IF(INDEX('v1 Achieved Features'!$B$5:$D$123,MATCH(O55,'v1 Achieved Features'!$D$5:$D$123,0),1)=\"Yes\",\"Y\",\"N\")","v":"N"},null,"O","O","O"]
[null,"N07",1,"N07.1","Provide Nutrition Education","Optimization",1,3,"None",1,0,"Nutrition Education","Nourishment",null,53,"Visual lighting design",{"$f":"OFFSET(Table4[[#This Row],[Innovation-Legacy Points]],0,MATCH(project_type,Table4[[#Headers],[New and Existing Buildings]:[Core and Shell]],0))","v":"P"},{"$f":"IF(INDEX('v1 Achieved Features'!$B$5:$D$123,MATCH(O56,'v1 Achieved Features'!$D$5:$D$123,0),1)=\"Yes\",\"Y\",\"N\")","v":"Y"},null,"P","P","N/A"]
[null,"N08",1,"N08.1","Support Mindful Eating","Optimization",2,3,"Limit",1,1,"Mindful Eating","Nourishment",null,54,"Circadian lighting design",{"$f":"OFFSET(Table4[[#This Row],[Innovation-Legacy Points]],0,MATCH(project_type,Table4[[#Headers],[New and Existing Buildings]:[Core and Shell]],0))","v":"P"},{"$f":"IF(INDEX('v1 Achieved Features'!$B$5:$D$123,MATCH(O57,'v1 Achieved Features'!$D$5:$D$123,0),1)=\"Yes\",\"Y\",\"N\")","v":"Y"},null,"P","P","N/A"]
[null,"N09",1,"N09.1","Accommodate Special Diets","Optimization",1,3,"None",1,0,"Special Diets","Nourishment",null,55,"Electric light glare control",{"$f":"OFFSET(Table4[[#This Row],[Innovation-Legacy Points]],0,MATCH(project_type,Table4[[#Headers],[New and Existing Buildings]:[Core and Shell]],0))","v":"P"},{"$f":"IF(INDEX('v1 Achieved Features'!$B$5:$D$123,MATCH(O58,'v1 Achieved Features'!$D$5:$D$123,0),1)=\"Yes\",\"Y\",\"N\")","v":"Y"},null,"P","P","P"]
[null,"N09",2,"N09.2","Label Food Allergens","Optimization",1,3,"None",1,0,"Special Diets","Nourishment",null,56,"Solar glare control",{"$f":"OFFSET(Table4[[#This Row],[Innovation-Legacy Points]],0,MATCH(project_type,Table4[[#Headers],[New and Existing Buildings]:[Core and Shell]],0))","v":"P"},{"$f":"IF(INDEX('v1 Achieved Features'!$B$5:$D$123,MATCH(O59,'v1 Achieved Features'!$D$5:$D$123,0),1)=\"Yes\",\"Y\",\"N\")","v":"Y"},null,"P","P","O"]
[null,"N10",1,"N10.1","Provide Meal Support","Optimization",1,3,"Limit",0.5,1,"Food Preparation","Nourishment",null,57,"Low-glare workstation design",{"$f":"OFFSET(Table4[[#This Row],[Innovation-Legacy Points]],0,MATCH(project_type,Table4[[#Headers],[New and Existing Buildings]:[Core and Shell]],0))","v":"O"},{"$f":"IF(INDEX('v1 Achieved Features'!$B$5:$D$123,MATCH(O60,'v1 Achieved Features'!$D$5:$D$123,0),1)=\"Yes\",\"Y\",\"N\")","v":"N"},0.5,"O","O","N/A","Light"]
[null,"N11",1,"N11.1","Implement Responsible Sourcing","Optimization",1,3,"None",1,0,"Responsible Food Sourcing","Nourishment",null,58,"Color quality",{"$f":"OFFSET(Table4[[#This Row],[Innovation-Legacy Points]],0,MATCH(project_type,Table4[[#Headers],[New and Existing Buildings]:[Core and Shell]],0))","v":"O"},{"$f":"IF(INDEX('v1 Achieved Features'!$B$5:$D$123,MATCH(O61,'v1 Achieved Features'!$D$5:$D$123,0),1)=\"Yes\",\"Y\",\"N\")","v":"N"},null,"O","O","N/A"]
[null,"N12",1,"N12.1","Provide Gardening Space","Optimization",2,3,"Limit",1,1,"Food Production","Nourishment",null,59,"Surface design",{"$f":"OFFSET(Table4[[#This Row],[Innovation-Legacy Points]],0,MATCH(project_type,Table4[[#Headers],[New and Existing Buildings]:[Core and Shell]],0))","v":"O"},{"$f":"IF(INDEX('v1 Achieved Features'!$B$5:$D$123,MATCH(O62,'v1 Achieved Features'!$D$5:$D$123,0),1)=\"Yes\",\"Y\",\"N\")","v":"N"},0.5,"O","O","N/A","Light"]
[null,"N13",1,"N13.1","Ensure Local Food Access","Optimization",1,3,"Bonus",2,0,"Local Food Environment","Nourishment",null,60,"Automated shading and dimming controls",{"$f":"OFFSET(Table4[[#This Row],[Innovation-Legacy Points]],0,MATCH(project_type,Table4[[#Headers],[New and Existing Buildings]:[Core and Shell]],0))","v":"O"},{"$f":"IF(INDEX('v1 Achieved Features'!$B$5:$D$123,MATCH(O63,'v1 Achieved Features'!$D$5:$D$123,0),1)=\"Yes\",\"Y\",\"N\")","v":"N"},0.5,"O","O","N/A","Light"]
[null,"N14",1,"N14.1","Limit Red and Processed Meats","Optimization",1,3,"None",1,0,"β Red and Processed Meats","Nourishment",null,61,"Right to light",{"$f":"OFFSET(Table4[[#This Row],[Innovation-Legacy Points]],0,MATCH(project_type,Table4[[#Headers],[New and Existing Buildings]:[Core and Shell]],0))","v":"O"},{"$f":"IF(INDEX('v1 Achieved Features'!$B$5:$D$123,MATCH(O64,'v1 Achieved Features'!$D$5:$D$123,0),1)=\"Yes\",\"Y\",\"N\")","v":"N"},null,"O","O","O"]
[null,"L01",1,"L01.1","Provide Indoor Light","Precondition","P",4,0,"P",0,"Light Exposure","Light",null,62,"Daylight modeling",{"$f":"OFFSET(Table4[[#This Row],[Innovation-Legacy Points]],0,MATCH(project_type,Table4[[#Headers],[New and Existing Buildings]:[Core and Shell]],0))","v":"O"},{"$f":"IF(INDEX('v1 Achieved Features'!$B$5:$D$123,MATCH(O65,'v1 Achieved Features'!$D$5:$D$123,0),1)=\"Yes\",\"Y\",\"N\")","v":"N"},null,"O","O","O"]
[null,"L02",1,"L02.1","Provide Visual Acuity","Precondition","P",4,0,"P",1,"Visual Lighting Design","Light",null,63,"Daylighting fenestration",{"$f":"OFFSET(Table4[[#This Row],[Innovation-Legacy Points]],0,MATCH(project_type,Table4[[#Headers],[New and Existing Buildings]:[Core and Shell]],0))","v":"O"},{"$f":"IF(INDEX('v1 Achieved Features'!$B$5:$D$123,MATCH(O66,'v1 Achieved Features'!$D$5:$D$123,0),1)=\"Yes\",\"Y\",\"N\")","v":"N"},0.5,"O","O","O","Light"]
[null,"L03",1,"L03.1","Meet Lighting for Day-Active People","Optimization",3,4,"Bonus",4,0,"Circadian Lighting Design","Light",null,64,"Interior fitness circulation",{"$f":"OFFSET(Table4[[#This Row],[Innovation-Legacy Points]],0,MATCH(project_type,Table4[[#Headers],[New and Existing Buildings]:[Core and Shell]],0))","v":"P"},{"$f":"IF(INDEX('v1 Achieved Features'!$B$5:$D$123,MATCH(O67,'v1 Achieved Features'!$D$5:$D$123,0),1)=\"Yes\",\"Y\",\"N\")","v":"Y"},null,"P","O","P"]
[null,"L04",1,"L04.1","Manage Glare from Electric Lighting","Optimization",2,4,"Limit",1,1,"Electric Light Glare Control","Light",null,65,"Activity incentive programs",{"$f":"OFFSET(Table4[[#This Row],[Innovation-Legacy Points]],0,MATCH(project_type,Table4[[#Headers],[New and Existing Buildings]:[Core and Shell]],0))","v":"P"},{"$f":"IF(INDEX('v1 Achieved Features'!$B$5:$D$123,MATCH(O68,'v1 Achieved Features'!$D$5:$D$123,0),1)=\"Yes\",\"Y\",\"N\")","v":"Y"},null,"P","P","N/A"]
[null,"L05",1,"L05.1","Implement Daylight Plan","Optimization",2,4,"Bonus",3,0,"Daylight Design Strategies","Light",null,66,"Structured fitness opportunities",{"$f":"OFFSET(Table4[[#This Row],[Innovation-Legacy Points]],0,MATCH(project_type,Table4[[#Headers],[New and Existing Buildings]:[Core and Shell]],0))","v":"O"},{"$f":"IF(INDEX('v1 Achieved Features'!$B$5:$D$123,MATCH(O69,'v1 Achieved Features'!$D$5:$D$123,0),1)=\"Yes\",\"Y\",\"N\")","v":"N"},0.5,"O","O","N/A","Movement"]
[null,"L05",2,"L05.2","Integrate Solar Shading","Optimization",2,4,"Bonus",3,0,"Daylight Design Strategies","Light",null,67,"Exterior active design",{"$f":"OFFSET(Table4[[#This Row],[Innovation-Legacy Points]],0,MATCH(project_type,Table4[[#Headers],[New and Existing Buildings]:[Core and Shell]],0))","v":"O"},{"$f":"IF(INDEX('v1 Achieved Features'!$B$5:$D$123,MATCH(O70,'v1 Achieved Features'!$D$5:$D$123,0),1)=\"Yes\",\"Y\",\"N\")","v":"N"},null,"O","O","O"]
[null,"L06",1,"L06.1","Conduct Daylight Simulation","Optimization",2,4,"Bonus",3,0,"Daylight Simulation","Light",null,68,"Physical activity spaces",{"$f":"OFFSET(Table4[[#This Row],[Innovation-Legacy Points]],0,MATCH(project_type,Table4[[#Headers],[New and Existing Buildings]:[Core and Shell]],0))","v":"O"},{"$f":"IF(INDEX('v1 Achieved Features'!$B$5:$D$123,MATCH(O71,'v1 Achieved Features'!$D$5:$D$123,0),1)=\"Yes\",\"Y\",\"N\")","v":"N"},null,"O","O","O"]
[null,"L07",1,"L07.1","Balance Visual Lighting","Optimization",1,4,"Limit",0.5,1,"Visual Balance","Light",null,69,"Active transportation support",{"$f":"OFFSET(Table4[[#This Row],[Innovation-Legacy Points]],0,MATCH(project_type,Table4[[#Headers],[New and Existing Buildings]:[Core and Shell]],0))","v":"O"},{"$f":"IF(INDEX('v1 Achieved Features'!$B$5:$D$123,MATCH(O72,'v1 Achieved Features'!$D$5:$D$123,0),1)=\"Yes\",\"Y\",\"N\")","v":"N"},null,"O","O","O"]
[null,"L08",1,"L08.1","Enhance Color Rendering Quality","Optimization",1,4,"Limit",0.5,1,"Electric Light Quality","Light",null,70,"Fitness equipment",{"$f":"OFFSET(Table4[[#This Row],[Innovation-Legacy Points]],0,MATCH(project_type,Table4[[#Headers],[New and Existing Buildings]:[Core and Shell]],0))","v":"O"},{"$f":"IF(INDEX('v1 Achieved Features'!$B$5:$D$123,MATCH(O73,'v1 Achieved Features'!$D$5:$D$123,0),1)=\"Yes\",\"Y\",\"N\")","v":"N"},null,"O","O","O"]
[null,"L08",2,"L08.2","Manage Flicker","Optimization",2,4,"Limit",1,1,"Electric Light Quality","Light",null,71,"Active furnishings",{"$f":"OFFSET(Table4[[#This Row],[Innovation-Legacy Points]],0,MATCH(project_type,Table4[[#Headers],[New and Existing Buildings]:[Core and Shell]],0))","v":"O"},{"$f":"IF(INDEX('v1 Achieved Features'!$B$5:$D$123,MATCH(O74,'v1 Achieved Features'!$D$5:$D$123,0),1)=\"Yes\",\"Y\",\"N\")","v":"N"},null,"O","O","N/A"]
[null,"L09",1,"L09.1","Enhance Occupant Controllability","Optimization",2,4,"Limit",1,1,"Occupant Lighting Control","Light",null,72,"Accessible design",{"$f":"OFFSET(Table4[[#This Row],[Innovation-Legacy Points]],0,MATCH(project_type,Table4[[#Headers],[New and Existing Buildings]:[Core and Shell]],0))","v":"P"},{"$f":"IF(INDEX('v1 Achieved Features'!$B$5:$D$123,MATCH(O75,'v1 Achieved Features'!$D$5:$D$123,0),1)=\"Yes\",\"Y\",\"N\")","v":"Y"},0.5,"P","P","P","Community"]
[null,"L09",2,"L09.2","Provide Supplemental Lighting","Optimization",1,4,"Limit",0.5,1,"Occupant Lighting Control","Light",null,73,"Ergonomics: visual and physical",{"$f":"OFFSET(Table4[[#This Row],[Innovation-Legacy Points]],0,MATCH(project_type,Table4[[#Headers],[New and Existing Buildings]:[Core and Shell]],0))","v":"P"},{"$f":"IF(INDEX('v1 Achieved Features'!$B$5:$D$123,MATCH(O76,'v1 Achieved Features'!$D$5:$D$123,0),1)=\"Yes\",\"Y\",\"N\")","v":"Y"},null,"P","P","N/A"]
[null,"V01",1,"V01.1","Design Active Buildings and Communities","Precondition","P",5,null,"P",0,"Active Buildings and Communities","Movement",null,74,"Exterior noise intrusion",{"$f":"OFFSET(Table4[[#This Row],[Innovation-Legacy Points]],0,MATCH(project_type,Table4[[#Headers],[New and Existing Buildings]:[Core and Shell]],0))","v":"P"},{"$f":"IF(INDEX('v1 Achieved Features'!$B$5:$D$123,MATCH(O77,'v1 Achieved Features'!$D$5:$D$123,0),1)=\"Yes\",\"Y\",\"N\")","v":"Y"},null,"P","P","P"]
[null,"V02",1,"V02.1","Support Visual Ergonomics","Precondition","P",5,0,"P",1,"Ergonomic Workstation Design","Movement",null,75,"Internally generated noise",{"$f":"OFFSET(Table4[[#This Row],[Innovation-Legacy Points]],0,MATCH(project_type,Table4[[#Headers],[New and Existing Buildings]:[Core and Shell]],0))","v":"P"},{"$f":"IF(INDEX('v1 Achieved Features'!$B$5:$D$123,MATCH(O78,'v1 Achieved Features'!$D$5:$D$123,0),1)=\"Yes\",\"Y\",\"N\")","v":"Y"},null,"P","O","O"]
[null,"V02",2,"V02.2","Provide Height-Adjustable Work Surfaces","Precondition","P",5,0,"P",1,"Ergonomic Workstation Design","Movement",null,76,"Thermal comfort",{"$f":"OFFSET(Table4[[#This Row],[Innovation-Legacy Points]],0,MATCH(project_type,Table4[[#Headers],[New and Existing Buildings]:[Core and Shell]],0))","v":"P"},{"$f":"IF(INDEX('v1 Achieved Features'!$B$5:$D$123,MATCH(O79,'v1 Achieved Features'!$D$5:$D$123,0),1)=\"Yes\",\"Y\",\"N\")","v":"Y"},null,"P","P","P"]
[null,"V02",3,"V02.3","Provide Chair Adjustability","Precondition","P",5,0,"P",1,"Ergonomic Workstation Design","Movement",null,77,"Olfactory comfort",{"$f":"OFFSET(Table4[[#This Row],[Innovation-Legacy Points]],0,MATCH(project_type,Table4[[#Headers],[New and Existing Buildings]:[Core and Shell]],0))","v":"O"},{"$f":"IF(INDEX('v1 Achieved Features'!$B$5:$D$123,MATCH(O80,'v1 Achieved Features'!$D$5:$D$123,0),1)=\"Yes\",\"Y\",\"N\")","v":"N"},0.5,"O","O","N/A","Air"]
[null,"V02",4,"V02.4","Provide Support at Standing Workstations","Precondition","P",5,0,"P",1,"Ergonomic Workstation Design","Movement",null,78,"Reverberation time",{"$f":"OFFSET(Table4[[#This Row],[Innovation-Legacy Points]],0,MATCH(project_type,Table4[[#Headers],[New and Existing Buildings]:[Core and Shell]],0))","v":"O"},{"$f":"IF(INDEX('v1 Achieved Features'!$B$5:$D$123,MATCH(O81,'v1 Achieved Features'!$D$5:$D$123,0),1)=\"Yes\",\"Y\",\"N\")","v":"N"},null,"O","O","N/A"]
[null,"V02",5,"V02.5","Provide Workstation Orientation","Precondition","P",5,0,"P",0,"Ergonomic Workstation Design","Movement",null,79,"Sound masking",{"$f":"OFFSET(Table4[[#This Row],[Innovation-Legacy Points]],0,MATCH(project_type,Table4[[#Headers],[New and Existing Buildings]:[Core and Shell]],0))","v":"O"},{"$f":"IF(INDEX('v1 Achieved Features'!$B$5:$D$123,MATCH(O82,'v1 Achieved Features'!$D$5:$D$123,0),1)=\"Yes\",\"Y\",\"N\")","v":"N"},null,"O","O","N/A"]
[null,"V03",1,"V03.1","Design Aesthetic Staircases","Optimization",1,5,"Bonus",2,0,"Circulation Network","Movement",null,80,"Sound reducing surfaces",{"$f":"OFFSET(Table4[[#This Row],[Innovation-Legacy Points]],0,MATCH(project_type,Table4[[#Headers],[New and Existing Buildings]:[Core and Shell]],0))","v":"O"},{"$f":"IF(INDEX('v1 Achieved Features'!$B$5:$D$123,MATCH(O83,'v1 Achieved Features'!$D$5:$D$123,0),1)=\"Yes\",\"Y\",\"N\")","v":"N"},null,"O","O","N/A"]
[null,"V03",2,"V03.2","Integrate Point-of-Decision Signage","Optimization",1,5,"Bonus",2,0,"Circulation Network","Movement",null,81,"Sound barriers",{"$f":"OFFSET(Table4[[#This Row],[Innovation-Legacy Points]],0,MATCH(project_type,Table4[[#Headers],[New and Existing Buildings]:[Core and Shell]],0))","v":"O"},{"$f":"IF(INDEX('v1 Achieved Features'!$B$5:$D$123,MATCH(O84,'v1 Achieved Features'!$D$5:$D$123,0),1)=\"Yes\",\"Y\",\"N\")","v":"N"},null,"O","O","N/A"]
[null,"V03",3,"V03.3","Promote Visible Stairs","Optimization",1,5,"Bonus",2,0,"Circulation Network","Movement",null,82,"Individual thermal control",{"$f":"OFFSET(Table4[[#This Row],[Innovation-Legacy Points]],0,MATCH(project_type,Table4[[#Headers],[New and Existing Buildings]:[Core and Shell]],0))","v":"O"},{"$f":"IF(INDEX('v1 Achieved Features'!$B$5:$D$123,MATCH(O85,'v1 Achieved Features'!$D$5:$D$123,0),1)=\"Yes\",\"Y\",\"N\")","v":"N"},null,"O","O","N/A"]
[null,"V04",1,"V04.1","Provide Cycling Infrastructure","Optimization",2,5,"Bonus",3,0,"Facilities for Active Occupants","Movement",null,83,"Radiant thermal comfort",{"$f":"OFFSET(Table4[[#This Row],[Innovation-Legacy Points]],0,MATCH(project_type,Table4[[#Headers],[New and Existing Buildings]:[Core and Shell]],0))","v":"O"},{"$f":"IF(INDEX('v1 Achieved Features'!$B$5:$D$123,MATCH(O86,'v1 Achieved Features'!$D$5:$D$123,0),1)=\"Yes\",\"Y\",\"N\")","v":"N"},null,"O","O","O"]
[null,"V04",2,"V04.2","Provide Showers, Lockers and Changing Facilities","Optimization",1,5,"Bonus",2,0,"Facilities for Active Occupants","Movement",null,84,"Health and wellness awareness",{"$f":"OFFSET(Table4[[#This Row],[Innovation-Legacy Points]],0,MATCH(project_type,Table4[[#Headers],[New and Existing Buildings]:[Core and Shell]],0))","v":"P"},{"$f":"IF(INDEX('v1 Achieved Features'!$B$5:$D$123,MATCH(O87,'v1 Achieved Features'!$D$5:$D$123,0),1)=\"Yes\",\"Y\",\"N\")","v":"Y"},null,"P","P","P"]
[null,"V05",1,"V05.1","Select Sites with Pedestrian-friendly Streets","Optimization",2,5,"Bonus",3,0,"Site Planning and Selection","Movement",null,85,"Integrative design",{"$f":"OFFSET(Table4[[#This Row],[Innovation-Legacy Points]],0,MATCH(project_type,Table4[[#Headers],[New and Existing Buildings]:[Core and Shell]],0))","v":"P"},{"$f":"IF(INDEX('v1 Achieved Features'!$B$5:$D$123,MATCH(O88,'v1 Achieved Features'!$D$5:$D$123,0),1)=\"Yes\",\"Y\",\"N\")","v":"Y"},null,"P","P","P"]
[null,"V05",2,"V05.2","Select Sites with Access to Mass Transit","Optimization",2,5,"Bonus",3,0,"Site Planning and Selection","Movement",null,86,"Post-occupancy surveys",{"$f":"OFFSET(Table4[[#This Row],[Innovation-Legacy Points]],0,MATCH(project_type,Table4[[#Headers],[New and Existing Buildings]:[Core and Shell]],0))","v":"P"},{"$f":"IF(INDEX('v1 Achieved Features'!$B$5:$D$123,MATCH(O89,'v1 Achieved Features'!$D$5:$D$123,0),1)=\"Yes\",\"Y\",\"N\")","v":"Y"},null,"P","P","N/A"]
[null,"V06",1,"V06.1","Offer Physical Activity Opportunities","Optimization",2,5,"Limit",1,1,"Physical Activity Opportunities","Movement",null,87,"Beauty and design I",{"$f":"OFFSET(Table4[[#This Row],[Innovation-Legacy Points]],0,MATCH(project_type,Table4[[#Headers],[New and Existing Buildings]:[Core and Shell]],0))","v":"P"},{"$f":"IF(INDEX('v1 Achieved Features'!$B$5:$D$123,MATCH(O90,'v1 Achieved Features'!$D$5:$D$123,0),1)=\"Yes\",\"Y\",\"N\")","v":"Y"},null,"P","P","P"]
[null,"V07",1,"V07.1","Provide Active Workstations","Optimization",2,5,"Limit",1,1,"Active Furnishings","Movement",null,88,"Biophilia I - qualitative",{"$f":"OFFSET(Table4[[#This Row],[Innovation-Legacy Points]],0,MATCH(project_type,Table4[[#Headers],[New and Existing Buildings]:[Core and Shell]],0))","v":"P"},{"$f":"IF(INDEX('v1 Achieved Features'!$B$5:$D$123,MATCH(O91,'v1 Achieved Features'!$D$5:$D$123,0),1)=\"Yes\",\"Y\",\"N\")","v":"Y"},null,"P","P","O"]
[null,"V08",1,"V08.1","Provide Indoor Activity Spaces","Optimization",1,5,"Limit",0.5,1,"Physical Activity Spaces and Equipment","Movement",null,89,"Adaptable spaces",{"$f":"OFFSET(Table4[[#This Row],[Innovation-Legacy Points]],0,MATCH(project_type,Table4[[#Headers],[New and Existing Buildings]:[Core and Shell]],0))","v":"O"},{"$f":"IF(INDEX('v1 Achieved Features'!$B$5:$D$123,MATCH(O92,'v1 Achieved Features'!$D$5:$D$123,0),1)=\"Yes\",\"Y\",\"N\")","v":"N"},null,"O","O","N/A"]
[null,"V08",2,"V08.2","Provide Outdoor Physical Activity Space","Optimization",1,5,"Bonus",2,0,"Physical Activity Spaces and Equipment","Movement",null,90,"Healthy sleep policy",{"$f":"OFFSET(Table4[[#This Row],[Innovation-Legacy Points]],0,MATCH(project_type,Table4[[#Headers],[New and Existing Buildings]:[Core and Shell]],0))","v":"O"},{"$f":"IF(INDEX('v1 Achieved Features'!$B$5:$D$123,MATCH(O93,'v1 Achieved Features'!$D$5:$D$123,0),1)=\"Yes\",\"Y\",\"N\")","v":"N"},null,"O","O","N/A"]
[null,"V09",1,"V09.1","Offer Physical Activity Incentives","Optimization",1,5,"Limit",0.5,0,"Physical Activity Promotion","Movement",null,91,"Business travel",{"$f":"OFFSET(Table4[[#This Row],[Innovation-Legacy Points]],0,MATCH(project_type,Table4[[#Headers],[New and Existing Buildings]:[Core and Shell]],0))","v":"O"},{"$f":"IF(INDEX('v1 Achieved Features'!$B$5:$D$123,MATCH(O94,'v1 Achieved Features'!$D$5:$D$123,0),1)=\"Yes\",\"Y\",\"N\")","v":"N"},0.5,"O","O","N/A","Mind"]
[null,"V10",1,"V10.1","Provide Self-Monitoring Tools","Optimization",1,5,"Limit",0.5,1,"Self-Monitoring","Movement",null,92,"Building health policy",{"$f":"OFFSET(Table4[[#This Row],[Innovation-Legacy Points]],0,MATCH(project_type,Table4[[#Headers],[New and Existing Buildings]:[Core and Shell]],0))","v":"O"},{"$f":"IF(INDEX('v1 Achieved Features'!$B$5:$D$123,MATCH(O95,'v1 Achieved Features'!$D$5:$D$123,0),1)=\"Yes\",\"Y\",\"N\")","v":"N"},null,"O","O","N/A"]
[null,"V11",1,"V11.1","Implement an Ergonomics Program","Optimization",1,5,"None",1,1,"β Ergonomics Programming","Movement",null,93,"Workplace family support",{"$f":"OFFSET(Table4[[#This Row],[Innovation-Legacy Points]],0,MATCH(project_type,Table4[[#Headers],[New and Existing Buildings]:[Core and Shell]],0))","v":"O"},{"$f":"IF(INDEX('v1 Achieved Features'!$B$5:$D$123,MATCH(O96,'v1 Achieved Features'!$D$5:$D$123,0),1)=\"Yes\",\"Y\",\"N\")","v":"N"},null,"O","O","N/A"]
[null,"V11",2,"V11.2","Commit to Ergonomic Improvements","Optimization",1,5,"None",1,1,"β Ergonomics Programming","Movement",null,94,"Self-monitoring",{"$f":"OFFSET(Table4[[#This Row],[Innovation-Legacy Points]],0,MATCH(project_type,Table4[[#Headers],[New and Existing Buildings]:[Core and Shell]],0))","v":"O"},{"$f":"IF(INDEX('v1 Achieved Features'!$B$5:$D$123,MATCH(O97,'v1 Achieved Features'!$D$5:$D$123,0),1)=\"Yes\",\"Y\",\"N\")","v":"N"},null,"O","O","N/A"]
[null,"V11",3,"V11.3","Support Remote Work Ergonomics","Optimization",1,5,"None",1,0,"β Ergonomics Programming","Movement",null,95,"Stress and addiction treatment",{"$f":"OFFSET(Table4[[#This Row],[Innovation-Legacy Points]],0,MATCH(project_type,Table4[[#Headers],[New and Existing Buildings]:[Core and Shell]],0))","v":"O"},{"$f":"IF(INDEX('v1 Achieved Features'!$B$5:$D$123,MATCH(O98,'v1 Achieved Features'!$D$5:$D$123,0),1)=\"Yes\",\"Y\",\"N\")","v":"N"},null,"O","O","N/A"]
[null,"T01",1,"T01.1","Provide Acceptable Thermal Environment","Precondition","P",6,0,"P",0,"Thermal Performance","Thermal Comfort",null,96,"Altruism",{"$f":"OFFSET(Table4[[#This Row],[Innovation-Legacy Points]],0,MATCH(project_type,Table4[[#Headers],[New and Existing Buildings]:[Core and Shell]],0))","v":"O"},{"$f":"IF(INDEX('v1 Achieved Features'!$B$5:$D$123,MATCH(O99,'v1 Achieved Features'!$D$5:$D$123,0),1)=\"Yes\",\"Y\",\"N\")","v":"N"},null,"O","O","O"]
[null,"T01",2,"T01.2","Monitor Thermal Parameters","Precondition","P",6,0,"P",0,"Thermal Performance","Thermal Comfort",null,97,"Material transparency",{"$f":"OFFSET(Table4[[#This Row],[Innovation-Legacy Points]],0,MATCH(project_type,Table4[[#Headers],[New and Existing Buildings]:[Core and Shell]],0))","v":"O"},{"$f":"IF(INDEX('v1 Achieved Features'!$B$5:$D$123,MATCH(O100,'v1 Achieved Features'!$D$5:$D$123,0),1)=\"Yes\",\"Y\",\"N\")","v":"N"},null,"O","O","N/A"]
[null,"T02",1,"T02.1","Survey for Thermal Comfort","Optimization",3,6,"None",3,0,"Verified Thermal Comfort","Thermal Comfort",null,98,"Organizational transparency",{"$f":"OFFSET(Table4[[#This Row],[Innovation-Legacy Points]],0,MATCH(project_type,Table4[[#Headers],[New and Existing Buildings]:[Core and Shell]],0))","v":"O"},{"$f":"IF(INDEX('v1 Achieved Features'!$B$5:$D$123,MATCH(O101,'v1 Achieved Features'!$D$5:$D$123,0),1)=\"Yes\",\"Y\",\"N\")","v":"N"},null,"O","O","O"]
[null,"T03",1,"T03.1","Provide Thermostat Control","Optimization",2,6,"Bonus",3,0,"Thermal Zoning","Thermal Comfort",null,99,"Beauty and design II",{"$f":"OFFSET(Table4[[#This Row],[Innovation-Legacy Points]],0,MATCH(project_type,Table4[[#Headers],[New and Existing Buildings]:[Core and Shell]],0))","v":"O"},{"$f":"IF(INDEX('v1 Achieved Features'!$B$5:$D$123,MATCH(O102,'v1 Achieved Features'!$D$5:$D$123,0),1)=\"Yes\",\"Y\",\"N\")","v":"N"},0.5,"O","O","O","Mind"]
[null,"T04",1,"T04.1","Provide Personal Cooling Options","Optimization",1,6,"Limit",0.5,1,"Individual Thermal Control","Thermal Comfort",null,100,"Biophilia II - quantitative",{"$f":"OFFSET(Table4[[#This Row],[Innovation-Legacy Points]],0,MATCH(project_type,Table4[[#Headers],[New and Existing Buildings]:[Core and Shell]],0))","v":"O"},{"$f":"IF(INDEX('v1 Achieved Features'!$B$5:$D$123,MATCH(O103,'v1 Achieved Features'!$D$5:$D$123,0),1)=\"Yes\",\"Y\",\"N\")","v":"N"},null,"O","O","O"]
[null,"T04",2,"T04.2","Provide Personal Heating Options","Optimization",1,6,"Limit",0.5,1,"Individual Thermal Control","Thermal Comfort",null,101,"Innovation 1",{"$f":"OFFSET(Table4[[#This Row],[Innovation-Legacy Points]],0,MATCH(project_type,Table4[[#Headers],[New and Existing Buildings]:[Core and Shell]],0))","v":"O"},{"$f":"IF(INDEX('v1 Achieved Features'!$B$5:$D$123,MATCH(O104,'v1 Achieved Features'!$D$5:$D$123,0),1)=\"Yes\",\"Y\",\"N\")","v":"N"},null,"O","O","O"]
[null,"T04",3,"T04.3","Allow Flexible Dress Code","Optimization",1,6,"Limit",0.5,0,"Individual Thermal Control","Thermal Comfort",null,102,"Innovation 2",{"$f":"OFFSET(Table4[[#This Row],[Innovation-Legacy Points]],0,MATCH(project_type,Table4[[#Headers],[New and Existing Buildings]:[Core and Shell]],0))","v":"O"},{"$f":"IF(INDEX('v1 Achieved Features'!$B$5:$D$123,MATCH(O105,'v1 Achieved Features'!$D$5:$D$123,0),1)=\"Yes\",\"Y\",\"N\")","v":"N"},null,"O","O","O"]
[null,"T05",1,"T05.1","Implement Radiant Heating","Optimization",1,6,"Bonus",2,0,"Radiant Thermal Comfort","Thermal Comfort",null,103,"Innovation 3",{"$f":"OFFSET(Table4[[#This Row],[Innovation-Legacy Points]],0,MATCH(project_type,Table4[[#Headers],[New and Existing Buildings]:[Core and Shell]],0))","v":"O"},{"$f":"IF(INDEX('v1 Achieved Features'!$B$5:$D$123,MATCH(O106,'v1 Achieved Features'!$D$5:$D$123,0),1)=\"Yes\",\"Y\",\"N\")","v":"N"},null,"O","O","O"]
[null,"T05",2,"T05.2","Implement Radiant Cooling","Optimization",1,6,"Bonus",2,0,"Radiant Thermal Comfort","Thermal Comfort",null,104,"Innovation 4",{"$f":"OFFSET(Table4[[#This Row],[Innovation-Legacy Points]],0,MATCH(project_type,Table4[[#Headers],[New and Existing Buildings]:[Core and Shell]],0))","v":"O"},{"$f":"IF(INDEX('v1 Achieved Features'!$B$5:$D$123,MATCH(O107,'v1 Achieved Features'!$D$5:$D$123,0),1)=\"Yes\",\"Y\",\"N\")","v":"N"},null,"O","O","O"]
[null,"T06",1,"T06.1","Monitor Thermal Environment","Optimization",1,6,"Limit",0.5,1,"Thermal Comfort Monitoring","Thermal Comfort",null,105,"Innovation 5",{"$f":"OFFSET(Table4[[#This Row],[Innovation-Legacy Points]],0,MATCH(project_type,Table4[[#Headers],[New and Existing Buildings]:[Core and Shell]],0))","v":"O"},{"$f":"IF(INDEX('v1 Achieved Features'!$B$5:$D$123,MATCH(O108,'v1 Achieved Features'!$D$5:$D$123,0),1)=\"Yes\",\"Y\",\"N\")","v":"N"},null,"O","O","O"]
[null,"T07",1,"T07.1","Manage Relative Humidity","Optimization",1,6,"Bonus",2,0,"Humidity Control","Thermal Comfort"]
[null,"T08",1,"T08.1","Provide Windows with Multiple Opening Modes","Optimization",1,6,"Bonus",2,0,"β Enhanced Operable Windows","Thermal Comfort"]
[null,"T09",1,"T09.1","Manage Outdoor Heat","Optimization",1,6,"Bonus",2,0,"β Outdoor Thermal Comfort","Thermal Comfort"]
[null,"T09",2,"T09.2","Avoid Excessive Wind","Optimization",1,6,"Bonus",2,0,"β Outdoor Thermal Comfort","Thermal Comfort"]
[null,"S01",1,"S01.1","Label Acoustic Zones","Precondition","P",7,0,"P",0,"Sound Mapping","Sound"]
[null,"S01",2,"S01.2","Provide Acoustic Design Plan","Precondition","P",7,null,"P",0,"Sound Mapping","Sound"]
[null,"S02",1,"S02.1","Limit Background Noise Levels","Optimization",3,7,"Limit",1.5,1,"Maximum Noise Levels","Sound"]
[null,"S03",1,"S03.1","Design for Sound Isolation at Walls and Doors","Optimization",1,7,"None",1,0,"Sound Barriers","Sound"]
[null,"S03",2,"S03.2","Achieve Sound Isolation at Walls","Optimization",2,7,"None",2,0,"Sound Barriers","Sound"]
[null,"S04",1,"S04.1","Achieve Reverberation Time Thresholds","Optimization",2,7,"Limit",1,1,"Reverberation Time","Sound"]
[null,"S05",1,"S05.1","Implement Sound Reducing Surfaces","Optimization",2,7,"Limit",1,1,"Sound Reducing Surfaces","Sound"]
[null,"S06",1,"S06.1","Provide Minimum Background Sound","Optimization",1,7,"Bonus",2,0,"Minimum Background Sound","Sound"]
[null,"S06",2,"S06.2","Provide Enhanced Speech Reduction","Optimization",1,7,"None",1,0,"Minimum Background Sound","Sound"]
[null,"S07",1,"S07.1","Specify Impact Noise Reducing Flooring","Optimization",1,7,"Bonus",2,0,"β Impact Noise Management","Sound"]
[null,"S07",2,"S07.2","Meet Thresholds for Impact Noise Rating","Optimization",2,7,"Bonus",3,0,"β Impact Noise Management","Sound"]
[null,"S08",1,"S08.1","Provide Enhanced Speech Intelligibility","Optimization",1,7,"Limit",0.5,0,"β Enhanced Audio Devices","Sound"]
[null,"S08",2,"S08.2","Prioritize Audio Devices and Policies","Optimization",1,7,"Limit",0.5,0,"β Enhanced Audio Devices","Sound"]
[null,"X01",1,"X01.1","Restrict Asbestos","Precondition","P",8,0,"P",0,"Material Restrictions","Materials"]
[null,"X01",2,"X01.2","Restrict Mercury","Precondition","P",8,0,"P",0,"Material Restrictions","Materials"]
[null,"X01",3,"X01.3","Restrict Lead","Precondition","P",8,0,"P",0,"Material Restrictions","Materials"]
[null,"X02",1,"X02.1","Manage Asbestos Hazards","Precondition","P",8,0,"P",0,"Interior Hazardous Materials Management","Materials"]
[null,"X02",2,"X02.2","Manage Lead Paint Hazards","Precondition","P",8,0,"P",0,"Interior Hazardous Materials Management","Materials"]
[null,"X02",3,"X02.3","Manage Polychlorinated Biphenyl (PCB) Hazards","Precondition","P",8,0,"P",0,"Interior Hazardous Materials Management","Materials"]
[null,"X03",1,"X03.1","Manage Exterior CCA Hazards","Precondition","P",8,0,"P",0,"CCA and Lead Management","Materials"]
[null,"X03",2,"X03.2","Manage Lead Hazards","Precondition","P",8,0,"P",0,"CCA and Lead Management","Materials"]
[null,"X04",1,"X04.1","Assess and Mitigate Site Hazards","Optimization",1,8,"Bonus",2,0,"Site Remediation","Materials"]
[null,"X05",1,"X05.1","Select Compliant Interior Furnishings","Optimization",1,8,"None",1,0,"Enhanced Material Restrictions","Materials"]
[null,"X05",2,"X05.2","Select Compliant Architectural and Interior Products","Optimization",1,8,"None",1,0,"Enhanced Material Restrictions","Materials"]
[null,"X06",1,"X06.1","Limit VOCs from Wet-Applied Products","Optimization",2,8,"None",2,0,"VOC  Restrictions","Materials"]
[null,"X06",2,"X06.2","Restrict VOC Emissions from Furniture, Architectural and Interior Products","Optimization",2,8,"None",2,0,"VOC  Restrictions","Materials"]
[null,"X07",1,"X07.1","Select Products with Disclosed Ingredients","Optimization",1,8,"None",1,0,"Materials Transparency","Materials"]
[null,"X07",2,"X07.2","Select Products with Enhanced Ingredient Disclosure","Optimization",1,8,"None",1,0,"Materials Transparency","Materials"]
[null,"X07",3,"X07.3","Select Products with Third-Party Verified Ingredients","Optimization",1,8,"None",1,0,"Materials Transparency","Materials"]
[null,"X08",1,"X08.1","Select Materials with Enhanced Chemical Restrictions","Optimization",1,8,"None",1,0,"Materials Optimization","Materials"]
[null,"X08",2,"X08.2","Select Optimized Products","Optimization",1,8,"None",1,0,"Materials Optimization","Materials"]
[null,"X09",1,"X09.1","Implement a Waste Management Plan","Optimization",1,8,"Bonus",2,0,"Waste Management","Materials"]
[null,"X10",1,"X10.1","Manage Pests","Optimization",1,8,"Bonus",2,0,"Pest Management and Pesticide Use","Materials"]
[null,"X11",1,"X11.1","Improve Cleaning Practices","Optimization",1,8,"Limit",0.5,1,"Cleaning Products and Protocols","Materials"]
[null,"X11",2,"X11.2","Select Preferred Cleaning Products","Optimization",1,8,"Limit",0.5,1,"Cleaning Products and Protocols","Materials"]
[null,"X12",1,"X12.1","Reduce Respiratory Particle Exposure","Optimization",1,8,"None",1,0,"β Contact Reduction","Materials"]
[null,"X12",2,"X12.2","Address Surface Hand Touch","Optimization",1,8,"None",1,0,"β Contact Reduction","Materials"]
[null,"M01",1,"M01.1","Promote Mental Health and Well-being","Precondition","P",9,0,"P",0,"Mental Health Promotion","Mind"]
[null,"M02",1,"M02.1","Provide Connection to Nature","Precondition","P",9,0,"P",0,"Nature and Place","Mind"]
[null,"M02",2,"M02.2","Provide Connection to Place","Precondition","P",9,0,"P",0,"Nature and Place","Mind"]
[null,"M03",1,"M03.1","Offer Mental Health Screening","Optimization",1,9,"Limit",0.5,0,"Mental Health Services","Mind"]
[null,"M03",2,"M03.2","Offer Mental Health Services","Optimization",1,9,"Limit",0.5,0,"Mental Health Services","Mind"]
[null,"M03",3,"M03.3","Offer Workplace Support","Optimization",1,9,"Limit",0.5,0,"Mental Health Services","Mind"]
[null,"M03",4,"M03.4","β Support Mental Health Recovery","Optimization",1,9,"Limit",0.5,0,"Mental Health Services","Mind"]
[null,"M04",1,"M04.1","Offer Mental Health Education","Optimization",1,9,"Limit",0.5,0,"Mental Health Education","Mind"]
[null,"M04",2,"M04.2","Offer Mental Health Education for Managers","Optimization",1,9,"Limit",0.5,0,"Mental Health Education","Mind"]
[null,"M05",1,"M05.1","Develop Stress Management Plan","Optimization",2,9,"Limit",1,0,"Stress Management","Mind"]
[null,"M06",1,"M06.1","Support Healthy Working Hours","Optimization",1,9,"Limit",0.5,0,"Restorative Opportunities","Mind"]
[null,"M06",2,"M06.2","Provide Nap Policy and Space","Optimization",1,9,"Limit",0.5,0,"Restorative Opportunities","Mind"]
[null,"M07",1,"M07.1","Provide Restorative Space","Optimization",1,9,"Bonus",2,0,"Restorative Spaces","Mind"]
[null,"M08",1,"M08.1","Provide Restorative Programming","Optimization",1,9,"Limit",0.5,0,"Restorative Programming","Mind"]
[null,"M09",1,"M09.1","Provide Nature Access Indoors","Optimization",1,9,"Bonus",2,0,"Enhanced Access to Nature","Mind"]
[null,"M09",2,"M09.2","Provide Nature Access Outdoors","Optimization",1,9,"Bonus",2,0,"Enhanced Access to Nature","Mind"]
[null,"M10",1,"M10.1","Provide Tobacco Cessation Resources","Optimization",2,9,"Limit",1,0,"Tobacco Cessation","Mind"]
[null,"M10",2,"M10.2","Limit Tobacco Availability","Optimization",1,9,"None",1,0,"Tobacco Cessation","Mind"]
[null,"M11",1,"M11.1","Offer Substance Use Education","Optimization",1,9,"Limit",0.5,0,"Substance Use Services","Mind"]
[null,"M11",2,"M11.2","Provide Substance Use and Addiction Services","Optimization",1,9,"Limit",0.5,1,"Substance Use Services","Mind"]
[null,"C01",1,"C01.1","Provide WELL Feature Guide","Precondition","P",10,0,"P",0,"Health and Wellness Promotion","Community"]
[null,"C02",1,"C02.1","Facilitate Stakeholder Charrette","Precondition","P",10,0,"P",0,"Integrative Design","Community"]
[null,"C02",2,"C02.2","Promote Health-Oriented Mission","Precondition","P",10,0,"P",0,"Integrative Design","Community"]
[null,"C03",1,"C03.1","Develop Emergency Preparedness Plan","Precondition","P",10,0,"P",0,"Emergency Preparedness","Community"]
[null,"C04",1,"C04.1","Select Project Survey","Precondition","P",10,null,"P",0,"Occupant Survey","Community"]
[null,"C04",2,"C04.2","Administer Survey and Report Results","Precondition","P",10,null,"P",0,"Occupant Survey","Community"]
[null,"C05",1,"C05.1","Utilize Enhanced Survey","Optimization",1,10,"Limit",0.5,0,"Enhanced Occupant Survey","Community"]
[null,"C05",2,"C05.2","Utilize Pre- and Post-Occupancy Survey","Optimization",1,10,"Limit",0.5,0,"Enhanced Occupant Survey","Community"]
[null,"C05",3,"C05.3","Implement Action Plan","Optimization",1,10,"Limit",0.5,0,"Enhanced Occupant Survey","Community"]
[null,"C05",4,"C05.4","Facilitate Interviews, Focus Groups and/or Observation","Optimization",1,10,"Limit",0.5,0,"Enhanced Occupant Survey","Community"]
[null,"C06",1,"C06.1","Promote Health Benefits","Optimization",2,10,"Limit",1,0,"Health Services and Benefits","Community"]
[null,"C06",2,"C06.2","Offer On-Demand Health Services","Optimization",1,10,"Limit",0.5,0,"Health Services and Benefits","Community"]
[null,"C06",3,"C06.3","Offer Sick Leave","Optimization",1,10,"Limit",0.5,0,"Health Services and Benefits","Community"]
[null,"C07",1,"C07.1","Promote Culture of Health","Optimization",1,10,"Limit",0.5,0,"Enhanced Health and Wellness Promotion","Community"]
[null,"C07",2,"C07.2","Health Promotion Leader","Optimization",1,10,"Limit",0.5,0,"Enhanced Health and Wellness Promotion","Community"]
[null,"C08",1,"C08.1","Offer New Parent Leave","Optimization",3,10,"Limit",1.5,0,"New Parent Support","Community"]
[null,"C09",1,"C09.1","Offer Workplace Breastfeeding Support","Optimization",1,10,"Limit",0.5,0,"New Mother Support","Community"]
[null,"C09",2,"C09.2","Design Lactation Room","Optimization",2,10,"Limit",1,0,"New Mother Support","Community"]
[null,"C10",1,"C10.1","Offer Childcare Support","Optimization",1,10,"Limit",0.5,0,"Family Support","Community"]
[null,"C10",2,"C10.2","Offer Family Leave","Optimization",1,10,"Limit",0.5,0,"Family Support","Community"]
[null,"C10",3,"C10.3","Offer Bereavement Support","Optimization",1,10,"Limit",0.5,0,"Family Support","Community"]
[null,"C11",1,"C11.1","Promote Community Engagement","Optimization",1,10,"Limit",0.5,0,"Civic Engagement","Community"]
[null,"C11",2,"C11.2","Provide Community Space","Optimization",1,10,"None",1,0,"Civic Engagement","Community"]
[null,"C12",1,"C12.1","Create DEI Assessment and Action Plan","Optimization",1,10,"None",1,0,"Diversity and Inclusion","Community"]
[null,"C12",2,"C12.2","Implement DEI Support Systems","Optimization",1,10,"None",1,0,"Diversity and Inclusion","Community"]
[null,"C12",3,"C12.3","Implement DEI Hiring Practices and Wage Equity","Optimization",1,10,"None",1,0,"Diversity and Inclusion","Community"]
[null,"C13",1,"C13.1","Integrate Universal Design","Optimization",2,10,"Bonus",3,0,"Accessibility and Universal Design","Community"]
[null,"C14",1,"C14.1","Promote Emergency Resources","Optimization",1,10,"Bonus",2,0,"Emergency Resources","Community"]
[null,"C14",2,"C14.2","Provide Opioid Response Kit and Training","Optimization",1,10,"Bonus",2,0,"Emergency Resources","Community"]
[null,"C15",1,"C15.1","Promote Business Continuity","Optimization",1,10,"None",1,0,"β Emergency Resilience and Recovery","Community"]
[null,"C15",2,"C15.2","Support Emergency Resilience","Optimization",1,10,"None",1,0,"β Emergency Resilience and Recovery","Community"]
[null,"C15",3,"C15.3","Facilitate Healthy Re-entry","Optimization",1,10,"None",1,0,"β Emergency Resilience and Recovery","Community"]
[null,"C16",1,"C16.1","Allocate Affordable Units","Optimization",2,10,"None",2,0,"β Housing Equity","Community"]
[null,"C17",1,"C17.1","Disclose Labor Practices","Optimization",1,10,"None",1,0,"β Responsible Labor Practices","Community"]
[null,"C17",2,"C17.2","Implement Responsible Labor Practices","Optimization",2,10,"None",2,0,"β Responsible Labor Practices","Community"]
[null,"I01",1,"I01.1","Propose Innovations","Optimization",10,11,"None",10,0,"Innovate WELL","Innovations"]
[null,"I02",1,"I02.1","Achieve WELL AP","Optimization",1,11,"None",1,0,"WELL Accredited Professional (WELL AP)","Innovations"]
[null,"I03",1,"I03.1","Offer WELL Educational Tours","Optimization",1,11,"None",1,0,"Experience WELL Certification","Innovations"]
[null,"I04",1,"I04.1","Complete Health and Wellness Programs","Optimization",1,11,"None",1,0,"Gateways to Wellness","Innovations"]
[null,"I05",1,"I05.1","Achieve Green Building Certification","Optimization",5,11,"None",5,0,"Green Building Rating Systems","Innovations"]
[null,"C18",1,"C18.1","Support Victims of Domestic Violence","Optimization",2,10,"None",1,0,"ß Support for Victims of Domestic Violence","Community"]

{"sheet":"Admin","index":10,"n_rows":20,"n_cols":12,"rows_kept":20,"cut":false,"hidden":true,"merged":[]}
["Project type",null,null,"F-Num","New and Existing Buildings","New and Existing Interiors","Core and Shell",null,null,null,"Changelog"]
["New and Existing Buildings",null,null,1,"P","P","P",null,null,null,26.09,"Changed upgrade documentation for X07 & X08 to \"new products only\""]
["New and Existing Interiors",null,null,2,"P","P","O",null,null,null,25.09,"Added column in v2 features that shows corresponding v1 feature."]
["Core and Shell",null,null,3,"P","O","O",null,null,null,26.03,"Changed Survey selection to \"none\" documentation (reporting logic remains the same)"]
[null,null,null,4,"P",null,"O",null,null,null,26.03,"Added clarifying instructions on the PV tab w/r/t features not previously achieved."]
[null,null,null,5,"O"]
[null,null,null,6,"O"]
[null,null,null,7,"O"]
[null,null,null,8,"O"]
[null,null,null,9,"O"]
[null,null,null,10,"O"]
[null,null,null,11,"O"]
[null,null,null,12,"O"]
[null,null,null,13,"O"]
[null,null,null,14,"O"]
[null,null,null,15,"O"]
[null,null,null,16,"O"]
[null,null,null,17,"O"]
[null,null,null,18,"N/A"]
[null,null,null,19,"N/A"]