Workbook

Sheet notes
A1: This file provides data published in the HCDB Standard Report 2026H1 in an easy to use format.

Sheet female
A1: Claimants by Age and Gender
A5: Age Group | B5: Accident Half Year | C5: Claimant Count | D5: Share on Claimant Count | E5: Insurer Paid | F5: Share on Insurer Paid | G5: Average Insurer Paid per Claimant
A6: 0-15 | B6: 20131 | C6: 533 | D6: =C6/'gender total'!C222 -> 0.019606401 | E6: 5245941.8 | F6: =E6/'gender total'!E222 -> 0.018433657 | G6: =IFERROR(E6/C6,"-") -> 9842.2923
A7: 0-15 | B7: 20132 | C7: 694 | D7: =C7/'gender total'!C223 -> 0.021088456 | E7: 5236866.8 | F7: =E7/'gender total'!E223 -> 0.014914368 | G7: =IFERROR(E7/C7,"-") -> 7545.9176
A8: 0-15 | B8: 20141 | C8: 461 | D8: =C8/'gender total'!C224 -> 0.015738085 | E8: 2995694.2 | F8: =E8/'gender total'!E224 -> 0.0096927202 | G8: =IFERROR(E8/C8,"-") -> 6498.2521
A9: 0-15 | B9: 20142 | C9: 698 | D9: =C9/'gender total'!C225 -> 0.022045354 | E9: 7450753.9 | F9: =E9/'gender total'!E225 -> 0.02042931 | G9: =IFERROR(E9/C9,"-") -> 10674.433
A10: 0-15 | B10: 20151 | C10: 539 | D10: =C10/'gender total'!C226 -> 0.017134501 | E10: 3496183.1 | F10: =E10/'gender total'!E226 -> 0.010311776 | G10: =IFERROR(E10/C10,"-") -> 6486.4251
A11: 0-15 | B11: 20152 | C11: 700 | D11: =C11/'gender total'!C227 -> 0.019968051 | E11: 5951610.7 | F11: =E11/'gender total'!E227 -> 0.014144271 | G11: =IFERROR(E11/C11,"-") -> 8502.3009
A12: 0-15 | B12: 20161 | C12: 505 | D12: =C12/'gender total'!C228 -> 0.015525563 | E12: 3719014.8 | F12: =E12/'gender total'!E228 -> 0.0098862876 | G12: =IFERROR(E12/C12,"-") -> 7364.3857
A13: 0-15 | B13: 20162 | C13: 707 | D13: =C13/'gender total'!C229 -> 0.018508822 | E13: 7250897.4 | F13: =E13/'gender total'!E229 -> 0.017595726 | G13: =IFERROR(E13/C13,"-") -> 10255.866
A14: 0-15 | B14: 20171 | C14: 547 | D14: =C14/'gender total'!C230 -> 0.016272013 | E14: 3169046.4 | F14: =E14/'gender total'!E230 -> 0.0093290394 | G14: =IFERROR(E14/C14,"-") -> 5793.5034
A15: 0-15 | B15: 20172 | C15: 728 | D15: =C15/'gender total'!C231 -> 0.018687271 | E15: 4187040 | F15: =E15/'gender total'!E231 -> 0.010540369 | G15: =IFERROR(E15/C15,"-") -> 5751.4286
A16: 0-15 | B16: 20181 | C16: 500 | D16: =C16/'gender total'!C232 -> 0.014758405 | E16: 3261880 | F16: =E16/'gender total'!E232 -> 0.0095777312 | G16: =IFERROR(E16/C16,"-") -> 6523.76
A17: 0-15 | B17: 20182 | C17: 592 | D17: =C17/'gender total'!C233 -> 0.015407037 | E17: 4003686 | F17: =E17/'gender total'!E233 -> 0.010181271 | G17: =IFERROR(E17/C17,"-") -> 6762.9831
... A32: 0-15 | B32: 20261 | C32: 233 | D32: =C32/'gender total'!C248 -> 0.012392958 | E32: 308216.98 | F32: =E32/'gender total'!E248 -> 0.0098597686 | G32: =IFERROR(E32/C32,"-") -> 1322.8197
A33: 16-24 | B33: 20131 | C33: 1905 | D33: =C33/'gender total'!C222 -> 0.070075409 | E33: 14623856 | F33: =E33/'gender total'!E222 -> 0.051386606 | G33: =IFERROR(E33/C33,"-") -> 7676.5647
A34: 16-24 | B34: 20132 | C34: 2447 | D34: =C34/'gender total'!C223 -> 0.074356559 | E34: 20158620 | F34: =E34/'gender total'!E223 -> 0.05741087 | G34: =IFERROR(E34/C34,"-") -> 8238.0957
A35: 16-24 | B35: 20141 | C35: 1874 | D35: =C35/'gender total'!C224 -> 0.063976512 | E35: 15205062 | F35: =E35/'gender total'!E224 -> 0.049196747 | G35: =IFERROR(E35/C35,"-") -> 8113.6937
A36: 16-24 | B36: 20142 | C36: 2309 | D36: =C36/'gender total'!C225 -> 0.072926537 | E36: 22436132 | F36: =E36/'gender total'!E225 -> 0.061517895 | G36: =IFERROR(E36/C36,"-") -> 9716.8177
A37: 16-24 | B37: 20151 | C37: 2129 | D37: =C37/'gender total'!C226 -> 0.06767969 | E37: 18663463 | F37: =E37/'gender total'!E226 -> 0.055046733 | G37: =IFERROR(E37/C37,"-") -> 8766.305
A38: 16-24 | B38: 20152 | C38: 2548 | D38: =C38/'gender total'!C227 -> 0.072683706 | E38: 25416322 | F38: =E38/'gender total'!E227 -> 0.060403034 | G38: =IFERROR(E38/C38,"-") -> 9975.0086
A39: 16-24 | B39: 20161 | C39: 2303 | D39: =C39/'gender total'!C228 -> 0.070802718 | E39: 20335339 | F39: =E39/'gender total'!E228 -> 0.054057598 | G39: =IFERROR(E39/C39,"-") -> 8829.9343
A40: 16-24 | B40: 20162 | C40: 2790 | D40: =C40/'gender total'!C229 -> 0.073040473 | E40: 24893447 | F40: =E40/'gender total'!E229 -> 0.060408835 | G40: =IFERROR(E40/C40,"-") -> 8922.3823
A41: 16-24 | B41: 20171 | C41: 2352 | D41: =C41/'gender total'!C230 -> 0.069966683 | E41: 17165685 | F41: =E41/'gender total'!E230 -> 0.050532348 | G41: =IFERROR(E41/C41,"-") -> 7298.3356
A42: 16-24 | B42: 20172 | C42: 2814 | D42: =C42/'gender total'!C231 -> 0.072233488 | E42: 22099088 | F42: =E42/'gender total'!E231 -> 0.055631789 | G42: =IFERROR(E42/C42,"-") -> 7853.2649
A43: 16-24 | B43: 20181 | C43: 2316 | D43: =C43/'gender total'!C232 -> 0.068360932 | E43: 17184305 | F43: =E43/'gender total'!E232 -> 0.050457605 | G43: =IFERROR(E43/C43,"-") -> 7419.8207
A44: 16-24 | B44: 20182 | C44: 2891 | D44: =C44/'gender total'!C233 -> 0.075239434 | E44: 22633211 | F44: =E44/'gender total'!E233 -> 0.057555678 | G44: =IFERROR(E44/C44,"-") -> 7828.8521
... A59: 16-24 | B59: 20261 | C59: 995 | D59: =C59/'gender total'!C248 -> 0.052922717 | E59: 1514539.1 | F59: =E59/'gender total'!E248 -> 0.048449652 | G59: =IFERROR(E59/C59,"-") -> 1522.1499
A60: 25-39 | B60: 20131 | C60: 4691 | D60: =C60/'gender total'!C222 -> 0.1725584 | E60: 42183489 | F60: =E60/'gender total'!E222 -> 0.1482281 | G60: =IFERROR(E60/C60,"-") -> 8992.4301
A61: 25-39 | B61: 20132 | C61: 5597 | D61: =C61/'gender total'!C223 -> 0.17007506 | E61: 48902058 | F61: =E61/'gender total'!E223 -> 0.13927093 | G61: =IFERROR(E61/C61,"-") -> 8737.1911
A62: 25-39 | B62: 20141 | C62: 5161 | D62: =C62/'gender total'!C224 -> 0.17619145 | E62: 43274814 | F62: =E62/'gender total'!E224 -> 0.14001785 | G62: =IFERROR(E62/C62,"-") -> 8384.9669
A63: 25-39 | B63: 20142 | C63: 5350 | D63: =C63/'gender total'!C225 -> 0.16897227 | E63: 49488938 | F63: =E63/'gender total'!E225 -> 0.1356943 | G63: =IFERROR(E63/C63,"-") -> 9250.2688
A64: 25-39 | B64: 20151 | C64: 5586 | D64: =C64/'gender total'!C226 -> 0.17757574 | E64: 53916868 | F64: =E64/'gender total'!E226 -> 0.15902448 | G64: =IFERROR(E64/C64,"-") -> 9652.1426
A65: 25-39 | B65: 20152 | C65: 5860 | D65: =C65/'gender total'!C227 -> 0.16716111 | E65: 60775218 | F65: =E65/'gender total'!E227 -> 0.14443504 | G65: =IFERROR(E65/C65,"-") -> 10371.198
A66: 25-39 | B66: 20161 | C66: 5654 | D66: =C66/'gender total'!C228 -> 0.17382482 | E66: 55209894 | F66: =E66/'gender total'!E228 -> 0.14676491 | G66: =IFERROR(E66/C66,"-") -> 9764.7495
A67: 25-39 | B67: 20162 | C67: 6454 | D67: =C67/'gender total'!C229 -> 0.16896173 | E67: 57501538 | F67: =E67/'gender total'!E229 -> 0.13953877 | G67: =IFERROR(E67/C67,"-") -> 8909.4419
A68: 25-39 | B68: 20171 | C68: 5887 | D68: =C68/'gender total'!C230 -> 0.17512494 | E68: 50778947 | F68: =E68/'gender total'!E230 -> 0.14948308 | G68: =IFERROR(E68/C68,"-") -> 8625.6067
A69: 25-39 | B69: 20172 | C69: 6748 | D69: =C69/'gender total'!C231 -> 0.17321662 | E69: 62214399 | F69: =E69/'gender total'!E231 -> 0.15661725 | G69: =IFERROR(E69/C69,"-") -> 9219.6798
A70: 25-39 | B70: 20181 | C70: 6115 | D70: =C70/'gender total'!C232 -> 0.18049529 | E70: 55793634 | F70: =E70/'gender total'!E232 -> 0.16382467 | G70: =IFERROR(E70/C70,"-") -> 9124.0611
A71: 25-39 | B71: 20182 | C71: 6770 | D71: =C71/'gender total'!C233 -> 0.17619196 | E71: 61034646 | F71: =E71/'gender total'!E233 -> 0.15520955 | G71: =IFERROR(E71/C71,"-") -> 9015.4574
...

Sheet male
A1: Claimants by Age and Gender
A5: Age Group | B5: Accident Half Year | C5: Claimant Count | D5: Share on Claimant Count | E5: Insurer Paid | F5: Share on Insurer Paid | G5: Average Insurer Paid per Claimant
A6: 0-15 | B6: 20131 | C6: 444 | D6: =C6/'gender total'!C222 -> 0.016332536 | E6: 4849413.3 | F6: =E6/'gender total'!E222 -> 0.0170403 | G6: =IFERROR(E6/C6,"-") -> 10922.102
A7: 0-15 | B7: 20132 | C7: 549 | D7: =C7/'gender total'!C223 -> 0.016682367 | E7: 4990120.8 | F7: =E7/'gender total'!E223 -> 0.014211646 | G7: =IFERROR(E7/C7,"-") -> 9089.4732
A8: 0-15 | B8: 20141 | C8: 429 | D8: =C8/'gender total'!C224 -> 0.014645637 | E8: 4666516.6 | F8: =E8/'gender total'!E224 -> 0.01509875 | G8: =IFERROR(E8/C8,"-") -> 10877.661
A9: 0-15 | B9: 20142 | C9: 642 | D9: =C9/'gender total'!C225 -> 0.020276672 | E9: 7008445.9 | F9: =E9/'gender total'!E225 -> 0.01921654 | G9: =IFERROR(E9/C9,"-") -> 10916.582
A10: 0-15 | B10: 20151 | C10: 440 | D10: =C10/'gender total'!C226 -> 0.013987348 | E10: 2094045.5 | F10: =E10/'gender total'!E226 -> 0.0061762579 | G10: =IFERROR(E10/C10,"-") -> 4759.1943
A11: 0-15 | B11: 20152 | C11: 569 | D11: =C11/'gender total'!C227 -> 0.016231173 | E11: 5873140.8 | F11: =E11/'gender total'!E227 -> 0.013957784 | G11: =IFERROR(E11/C11,"-") -> 10321.864
A12: 0-15 | B12: 20161 | C12: 432 | D12: =C12/'gender total'!C228 -> 0.013281274 | E12: 3431689.2 | F12: =E12/'gender total'!E228 -> 0.0091224876 | G12: =IFERROR(E12/C12,"-") -> 7943.725
A13: 0-15 | B13: 20162 | C13: 553 | D13: =C13/'gender total'!C229 -> 0.014477198 | E13: 4629407.4 | F13: =E13/'gender total'!E229 -> 0.011234166 | G13: =IFERROR(E13/C13,"-") -> 8371.442
A14: 0-15 | B14: 20171 | C14: 492 | D14: =C14/'gender total'!C230 -> 0.014635888 | E14: 5019120.8 | F14: =E14/'gender total'!E230 -> 0.014775289 | G14: =IFERROR(E14/C14,"-") -> 10201.465
A15: 0-15 | B15: 20172 | C15: 530 | D15: =C15/'gender total'!C231 -> 0.013604744 | E15: 5368193 | F15: =E15/'gender total'!E231 -> 0.013513779 | G15: =IFERROR(E15/C15,"-") -> 10128.666
A16: 0-15 | B16: 20181 | C16: 416 | D16: =C16/'gender total'!C232 -> 0.012278993 | E16: 3736945.5 | F16: =E16/'gender total'!E232 -> 0.010972647 | G16: =IFERROR(E16/C16,"-") -> 8983.042
A17: 0-15 | B17: 20182 | C17: 568 | D17: =C17/'gender total'!C233 -> 0.014782428 | E17: 5521512.6 | F17: =E17/'gender total'!E233 -> 0.014041065 | G17: =IFERROR(E17/C17,"-") -> 9720.9729
... A32: 0-15 | B32: 20261 | C32: 172 | D32: =C32/'gender total'!C248 -> 0.0091484496 | E32: 206899.31 | F32: =E32/'gender total'!E248 -> 0.0066186468 | G32: =IFERROR(E32/C32,"-") -> 1202.903
A33: 16-24 | B33: 20131 | C33: 1325 | D33: =C33/'gender total'!C222 -> 0.048740114 | E33: 16700969 | F33: =E33/'gender total'!E222 -> 0.058685351 | G33: =IFERROR(E33/C33,"-") -> 12604.505
A34: 16-24 | B34: 20132 | C34: 1637 | D34: =C34/'gender total'!C223 -> 0.049743231 | E34: 20335111 | F34: =E34/'gender total'!E223 -> 0.057913509 | G34: =IFERROR(E34/C34,"-") -> 12422.181
A35: 16-24 | B35: 20141 | C35: 1382 | D35: =C35/'gender total'!C224 -> 0.047180117 | E35: 17884386 | F35: =E35/'gender total'!E224 -> 0.057865834 | G35: =IFERROR(E35/C35,"-") -> 12940.945
A36: 16-24 | B36: 20142 | C36: 1747 | D36: =C36/'gender total'!C225 -> 0.055176552 | E36: 22337401 | F36: =E36/'gender total'!E225 -> 0.061247182 | G36: =IFERROR(E36/C36,"-") -> 12786.148
A37: 16-24 | B37: 20151 | C37: 1561 | D37: =C37/'gender total'!C226 -> 0.049623295 | E37: 18818624 | F37: =E37/'gender total'!E226 -> 0.055504371 | G37: =IFERROR(E37/C37,"-") -> 12055.493
A38: 16-24 | B38: 20152 | C38: 2047 | D38: =C38/'gender total'!C227 -> 0.058392287 | E38: 26023122 | F38: =E38/'gender total'!E227 -> 0.061845123 | G38: =IFERROR(E38/C38,"-") -> 12712.81
A39: 16-24 | B39: 20161 | C39: 1777 | D39: =C39/'gender total'!C228 -> 0.054631537 | E39: 22549045 | F39: =E39/'gender total'!E228 -> 0.059942312 | G39: =IFERROR(E39/C39,"-") -> 12689.389
A40: 16-24 | B40: 20162 | C40: 2320 | D40: =C40/'gender total'!C229 -> 0.060736164 | E40: 28954655 | F40: =E40/'gender total'!E229 -> 0.070264154 | G40: =IFERROR(E40/C40,"-") -> 12480.455
A41: 16-24 | B41: 20171 | C41: 1862 | D41: =C41/'gender total'!C230 -> 0.05539029 | E41: 18263046 | F41: =E41/'gender total'!E230 -> 0.053762758 | G41: =IFERROR(E41/C41,"-") -> 9808.2951
A42: 16-24 | B42: 20172 | C42: 2390 | D42: =C42/'gender total'!C231 -> 0.061349693 | E42: 21543012 | F42: =E42/'gender total'!E231 -> 0.054231936 | G42: =IFERROR(E42/C42,"-") -> 9013.8125
A43: 16-24 | B43: 20181 | C43: 1814 | D43: =C43/'gender total'!C232 -> 0.053543493 | E43: 17135995 | F43: =E43/'gender total'!E232 -> 0.050315754 | G43: =IFERROR(E43/C43,"-") -> 9446.5241
A44: 16-24 | B44: 20182 | C44: 2366 | D44: =C44/'gender total'!C233 -> 0.061576098 | E44: 23221466 | F44: =E44/'gender total'!E233 -> 0.059051596 | G44: =IFERROR(E44/C44,"-") -> 9814.6519
... A59: 16-24 | B59: 20261 | C59: 1090 | D59: =C59/'gender total'!C248 -> 0.05797564 | E59: 1857403.1 | F59: =E59/'gender total'!E248 -> 0.059417768 | G59: =IFERROR(E59/C59,"-") -> 1704.0396
A60: 25-39 | B60: 20131 | C60: 3265 | D60: =C60/'gender total'!C222 -> 0.120103 | E60: 36171516 | F60: =E60/'gender total'!E222 -> 0.12710269 | G60: =IFERROR(E60/C60,"-") -> 11078.565
A61: 25-39 | B61: 20132 | C61: 3803 | D61: =C61/'gender total'!C223 -> 0.11556109 | E61: 42829651 | F61: =E61/'gender total'!E223 -> 0.12197698 | G61: =IFERROR(E61/C61,"-") -> 11262.07
A62: 25-39 | B62: 20141 | C62: 3545 | D62: =C62/'gender total'!C224 -> 0.1210228 | E62: 40628605 | F62: =E62/'gender total'!E224 -> 0.13145591 | G62: =IFERROR(E62/C62,"-") -> 11460.82
A63: 25-39 | B63: 20142 | C63: 3831 | D63: =C63/'gender total'!C225 -> 0.12099678 | E63: 47858763 | F63: =E63/'gender total'!E225 -> 0.13122451 | G63: =IFERROR(E63/C63,"-") -> 12492.499
A64: 25-39 | B64: 20151 | C64: 3938 | D64: =C64/'gender total'!C226 -> 0.12518676 | E64: 41529354 | F64: =E64/'gender total'!E226 -> 0.12248827 | G64: =IFERROR(E64/C64,"-") -> 10545.798
A65: 25-39 | B65: 20152 | C65: 4631 | D65: =C65/'gender total'!C227 -> 0.13210292 | E65: 56538039 | F65: =E65/'gender total'!E227 -> 0.1343652 | G65: =IFERROR(E65/C65,"-") -> 12208.603
A66: 25-39 | B66: 20161 | C66: 4240 | D66: =C66/'gender total'!C228 -> 0.13035324 | E66: 51931870 | F66: =E66/'gender total'!E228 -> 0.13805092 | G66: =IFERROR(E66/C66,"-") -> 12248.082
A67: 25-39 | B67: 20162 | C67: 5202 | D67: =C67/'gender total'!C229 -> 0.13618514 | E67: 53677101 | F67: =E67/'gender total'!E229 -> 0.13025802 | G67: =IFERROR(E67/C67,"-") -> 10318.551
A68: 25-39 | B68: 20171 | C68: 4487 | D68: =C68/'gender total'!C230 -> 0.13347811 | E68: 46726361 | F68: =E68/'gender total'!E230 -> 0.13755307 | G68: =IFERROR(E68/C68,"-") -> 10413.72
A69: 25-39 | B69: 20172 | C69: 5300 | D69: =C69/'gender total'!C231 -> 0.13604744 | E69: 52248702 | F69: =E69/'gender total'!E231 -> 0.13152981 | G69: =IFERROR(E69/C69,"-") -> 9858.2456
A70: 25-39 | B70: 20181 | C70: 4579 | D70: =C70/'gender total'!C232 -> 0.13515747 | E70: 45541390 | F70: =E70/'gender total'!E232 -> 0.13372141 | G70: =IFERROR(E70/C70,"-") -> 9945.7064
A71: 25-39 | B71: 20182 | C71: 5376 | D71: =C71/'gender total'!C233 -> 0.13991255 | E71: 53056813 | F71: =E71/'gender total'!E233 -> 0.13492212 | G71: =IFERROR(E71/C71,"-") -> 9869.1988
...

Sheet gender total
A1: Claimants by Age and Gender
A5: Age Group | B5: Accident Half Year | C5: Claimant Count | D5: Share on Claimant Count | E5: Insurer Paid | F5: Share on Insurer Paid | G5: Average Insurer Paid per Claimant
A6: 0-15 | B6: 20131 | C6: =female!C6+male!C6 -> 977 | D6: =female!D6+male!D6 -> 0.035938937 | E6: =female!E6+male!E6 -> 10095355 | F6: =female!F6+male!F6 -> 0.035473957 | G6: =IFERROR(E6/C6,"-") -> 10333.014
A7: 0-15 | B7: 20132 | C7: =female!C7+male!C7 -> 1243 | D7: =female!D7+male!D7 -> 0.037770823 | E7: =female!E7+male!E7 -> 10226988 | F7: =female!F7+male!F7 -> 0.029126014 | G7: =IFERROR(E7/C7,"-") -> 8227.665
A8: 0-15 | B8: 20141 | C8: =female!C8+male!C8 -> 890 | D8: =female!D8+male!D8 -> 0.030383723 | E8: =female!E8+male!E8 -> 7662210.8 | F8: =female!F8+male!F8 -> 0.02479147 | G8: =IFERROR(E8/C8,"-") -> 8609.2256
A9: 0-15 | B9: 20142 | C9: =female!C9+male!C9 -> 1340 | D9: =female!D9+male!D9 -> 0.042322026 | E9: =female!E9+male!E9 -> 14459200 | F9: =female!F9+male!F9 -> 0.03964585 | G9: =IFERROR(E9/C9,"-") -> 10790.448
A10: 0-15 | B10: 20151 | C10: =female!C10+male!C10 -> 979 | D10: =female!D10+male!D10 -> 0.031121849 | E10: =female!E10+male!E10 -> 5590228.6 | F10: =female!F10+male!F10 -> 0.016488034 | G10: =IFERROR(E10/C10,"-") -> 5710.1416
A11: 0-15 | B11: 20152 | C11: =female!C11+male!C11 -> 1269 | D11: =female!D11+male!D11 -> 0.036199224 | E11: =female!E11+male!E11 -> 11824751 | F11: =female!F11+male!F11 -> 0.028102055 | G11: =IFERROR(E11/C11,"-") -> 9318.1651
A12: 0-15 | B12: 20161 | C12: =female!C12+male!C12 -> 937 | D12: =female!D12+male!D12 -> 0.028806837 | E12: =female!E12+male!E12 -> 7150704 | F12: =female!F12+male!F12 -> 0.019008775 | G12: =IFERROR(E12/C12,"-") -> 7631.4877
A13: 0-15 | B13: 20162 | C13: =female!C13+male!C13 -> 1260 | D13: =female!D13+male!D13 -> 0.03298602 | E13: =female!E13+male!E13 -> 11880305 | F13: =female!F13+male!F13 -> 0.028829892 | G13: =IFERROR(E13/C13,"-") -> 9428.8134
A14: 0-15 | B14: 20171 | C14: =female!C14+male!C14 -> 1039 | D14: =female!D14+male!D14 -> 0.030907901 | E14: =female!E14+male!E14 -> 8188167.2 | F14: =female!F14+male!F14 -> 0.024104328 | G14: =IFERROR(E14/C14,"-") -> 7880.8154
A15: 0-15 | B15: 20172 | C15: =female!C15+male!C15 -> 1258 | D15: =female!D15+male!D15 -> 0.032292014 | E15: =female!E15+male!E15 -> 9555233 | F15: =female!F15+male!F15 -> 0.024054147 | G15: =IFERROR(E15/C15,"-") -> 7595.5747
A16: 0-15 | B16: 20181 | C16: =female!C16+male!C16 -> 916 | D16: =female!D16+male!D16 -> 0.027037398 | E16: =female!E16+male!E16 -> 6998825.5 | F16: =female!F16+male!F16 -> 0.020550379 | G16: =IFERROR(E16/C16,"-") -> 7640.6392
A17: 0-15 | B17: 20182 | C17: =female!C17+male!C17 -> 1160 | D17: =female!D17+male!D17 -> 0.030189465 | E17: =female!E17+male!E17 -> 9525198.6 | F17: =female!F17+male!F17 -> 0.024222337 | G17: =IFERROR(E17/C17,"-") -> 8211.3781
... A248: Total | B248: 20261 | C248: =female!C248+male!C248 -> 18801 | D248: =female!D248+male!D248 -> 1 | E248: =female!E248+male!E248 -> 31260062 | F248: =female!F248+male!F248 -> 1 | G248: =IFERROR(E248/C248,"-") -> 1662.6808

Sheet territory
A1: Claimants by Region
A5: Territory | B5: Accident Half Year | C5: Claimant Count | D5: Share on Claimant Count | E5: Insurer Paid | F5: Share on Insurer Paid | G5: Average Insurer Paid per Claimant
A6: Greater Toronto Area (GTA) | B6: 20131 | C6: 12796 | D6: =C6/C114 -> 0.47070075 | E6: 1.3213932e+08 | F6: =E6/E114 -> 0.46432291 | G6: =E6/C6 -> 10326.611
A7: Greater Toronto Area (GTA) | B7: 20132 | C7: 15979 | D7: =C7/C115 -> 0.48555107 | E7: 1.6353409e+08 | F7: =E7/E115 -> 0.46573795 | G7: =E7/C7 -> 10234.313
A8: Greater Toronto Area (GTA) | B8: 20141 | C8: 13783 | D8: =C8/C116 -> 0.47053803 | E8: 1.4110839e+08 | F8: =E8/E116 -> 0.45656332 | G8: =E8/C8 -> 10237.857
A9: Greater Toronto Area (GTA) | B9: 20142 | C9: 15242 | D9: =C9/C117 -> 0.48139726 | E9: 1.6941481e+08 | F9: =E9/E117 -> 0.46452046 | G9: =E9/C9 -> 11114.999
A10: Greater Toronto Area (GTA) | B10: 20151 | C10: 14954 | D10: =C10/C118 -> 0.47537909 | E10: 1.6033784e+08 | F10: =E10/E118 -> 0.47290655 | G10: =E10/C10 -> 10722.07
A11: Greater Toronto Area (GTA) | B11: 20152 | C11: 17074 | D11: =C11/C119 -> 0.48704929 | E11: 2.0158395e+08 | F11: =E11/E119 -> 0.47907334 | G11: =E11/C11 -> 11806.487
A12: Greater Toronto Area (GTA) | B12: 20161 | C12: 15543 | D12: =C12/C120 -> 0.47784917 | E12: 1.8354587e+08 | F12: =E12/E120 -> 0.48792148 | G12: =E12/C12 -> 11808.909
A13: Greater Toronto Area (GTA) | B13: 20162 | C13: 18475 | D13: =C13/C121 -> 0.48366407 | E13: 1.9755674e+08 | F13: =E13/E121 -> 0.47941021 | G13: =E13/C13 -> 10693.193
A14: Greater Toronto Area (GTA) | B14: 20171 | C14: 16379 | D14: =C14/C122 -> 0.48723822 | E14: 1.6781813e+08 | F14: =E14/E122 -> 0.49402304 | G14: =E14/C14 -> 10245.933
A15: Greater Toronto Area (GTA) | B15: 20172 | C15: 18505 | D15: =C15/C123 -> 0.47501091 | E15: 1.8646594e+08 | F15: =E15/E123 -> 0.46940554 | G15: =E15/C15 -> 10076.517
A16: Greater Toronto Area (GTA) | B16: 20181 | C16: 16140 | D16: =C16/C124 -> 0.47640131 | E16: 1.6497081e+08 | F16: =E16/E124 -> 0.48439737 | G16: =E16/C16 -> 10221.24
A17: Greater Toronto Area (GTA) | B17: 20182 | C17: 18310 | D17: =C17/C125 -> 0.47652509 | E17: 1.8829259e+08 | F17: =E17/E125 -> 0.47882324 | G17: =E17/C17 -> 10283.593
... A32: Greater Toronto Area (GTA) | B32: 20261 | C32: 8295 | D32: =C32/C140 -> 0.44119994 | E32: 15209509 | F32: =E32/E140 -> 0.48654762 | G32: =E32/C32 -> 1833.5755
A33: Non-GTA Urban | B33: 20131 | C33: 9581 | D33: =C33/C114 -> 0.35243701 | E33: 95307989 | F33: =E33/E114 -> 0.3349017 | G33: =E33/C33 -> 9947.6035
A34: Non-GTA Urban | B34: 20132 | C34: 11270 | D34: =C34/C115 -> 0.34245951 | E34: 1.1766283e+08 | F34: =E34/E115 -> 0.3350986 | G34: =E34/C34 -> 10440.357
A35: Non-GTA Urban | B35: 20141 | C35: 10388 | D35: =C35/C116 -> 0.35463608 | E35: 1.0772004e+08 | F35: =E35/E116 -> 0.34853362 | G35: =E35/C35 -> 10369.661
A36: Non-GTA Urban | B36: 20142 | C36: 11063 | D36: =C36/C117 -> 0.34940939 | E36: 1.2720615e+08 | F36: =E36/E117 -> 0.34878803 | G36: =E36/C36 -> 11498.341
A37: Non-GTA Urban | B37: 20151 | C37: 11131 | D37: =C37/C118 -> 0.35384811 | E37: 1.1716626e+08 | F37: =E37/E118 -> 0.34557464 | G37: =E37/C37 -> 10526.121
A38: Non-GTA Urban | B38: 20152 | C38: 12151 | D38: =C38/C119 -> 0.34661684 | E38: 1.376706e+08 | F38: =E38/E119 -> 0.32718039 | G38: =E38/C38 -> 11329.981
A39: Non-GTA Urban | B39: 20161 | C39: 11463 | D39: =C39/C120 -> 0.35241492 | E39: 1.2497135e+08 | F39: =E39/E120 -> 0.33221237 | G39: =E39/C39 -> 10902.151
A40: Non-GTA Urban | B40: 20162 | C40: 13387 | D40: =C40/C121 -> 0.35046338 | E40: 1.3961623e+08 | F40: =E40/E121 -> 0.33880619 | G40: =E40/C40 -> 10429.24
A41: Non-GTA Urban | B41: 20171 | C41: 11743 | D41: =C41/C122 -> 0.3493277 | E41: 1.1422979e+08 | F41: =E41/E122 -> 0.33626969 | G41: =E41/C41 -> 9727.4797
A42: Non-GTA Urban | B42: 20172 | C42: 13664 | D42: =C42/C123 -> 0.35074569 | E42: 1.3563715e+08 | F42: =E42/E123 -> 0.34145019 | G42: =E42/C42 -> 9926.6068
A43: Non-GTA Urban | B43: 20181 | C43: 12037 | D43: =C43/C124 -> 0.35529384 | E43: 1.1699155e+08 | F43: =E43/E124 -> 0.34351773 | G43: =E43/C43 -> 9719.328
A44: Non-GTA Urban | B44: 20182 | C44: 13809 | D44: =C44/C125 -> 0.35938476 | E44: 1.3426477e+08 | F44: =E44/E125 -> 0.34143188 | G44: =E44/C44 -> 9722.9901
... A59: Non-GTA Urban | B59: 20261 | C59: 7217 | D59: =C59/C140 -> 0.38386256 | E59: 11071649 | F59: =E59/E140 -> 0.35417874 | G59: =E59/C59 -> 1534.1069
A60: Rural | B60: 20131 | C60: 4706 | D60: =C60/C114 -> 0.17311017 | E60: 55993509 | F60: =E60/E114 -> 0.19675498 | G60: =E60/C60 -> 11898.323
A61: Rural | B61: 20132 | C61: 5560 | D61: =C61/C115 -> 0.16895074 | E61: 69211163 | F61: =E61/E115 -> 0.19711037 | G61: =E61/C61 -> 12448.051
A62: Rural | B62: 20141 | C62: 5029 | D62: =C62/C116 -> 0.1716851 | E62: 58755344 | F62: =E62/E116 -> 0.19010589 | G62: =E62/C62 -> 11683.306
A63: Rural | B63: 20142 | C63: 5265 | D63: =C63/C117 -> 0.16628766 | E63: 66506023 | F63: =E63/E117 -> 0.18235365 | G63: =E63/C63 -> 12631.723
A64: Rural | B64: 20151 | C64: 5276 | D64: =C64/C118 -> 0.16772102 | E64: 60508575 | F64: =E64/E118 -> 0.17846631 | G64: =E64/C64 -> 11468.646
A65: Rural | B65: 20152 | C65: 5709 | D65: =C65/C119 -> 0.16285372 | E65: 79433463 | F65: =E65/E119 -> 0.1887772 | G65: =E65/C65 -> 13913.726
A66: Rural | B66: 20161 | C66: 5386 | D66: =C66/C120 -> 0.16558551 | E66: 65974153 | F66: =E66/E120 -> 0.17537963 | G66: =E66/C66 -> 12249.193
A67: Rural | B67: 20162 | C67: 6206 | D67: =C67/C121 -> 0.16246924 | E67: 73183369 | F67: =E67/E121 -> 0.17759381 | G67: =E67/C67 -> 11792.357
A68: Rural | B68: 20171 | C68: 5362 | D68: =C68/C122 -> 0.15950738 | E68: 56453843 | F68: =E68/E122 -> 0.16618884 | G68: =E68/C68 -> 10528.505
A69: Rural | B69: 20172 | C69: 6614 | D69: =C69/C123 -> 0.16977693 | E69: 73680050 | F69: =E69/E123 -> 0.18548065 | G69: =E69/C69 -> 11140.014
A70: Rural | B70: 20181 | C70: 5574 | D70: =C70/C124 -> 0.1645267 | E70: 57299181 | F70: =E70/E124 -> 0.16824535 | G70: =E70/C70 -> 10279.724
A71: Rural | B71: 20182 | C71: 6190 | D71: =C71/C125 -> 0.16109723 | E71: 69225898 | F71: =E71/E125 -> 0.17603969 | G71: =E71/C71 -> 11183.505
...

Sheet med-rehab
A1: Claimants by Medical and Rehabilitation Expense Class Claimants may be counted multiple times because the classes are not mutually exclusive.
A5: Class | B5: Accident Half Year | C5: Claimant Count | D5: Share on Claimant Count | E5: Insurer Paid | F5: Share on Insurer Paid | G5: Average Insurer Paid per Claimant
A6: Treatment – MIG Only | B6: 20131 | C6: 6451 | D6: =C6/C345 -> 0.23729998 | E6: 9668190 | F6: =E6/E345 -> 0.033972947 | G6: =E6/C6 -> 1498.7118
A7: Treatment – MIG Only | B7: 20132 | C7: 7703 | D7: =C7/C346 -> 0.23406971 | E7: 11467446 | F7: =E7/E346 -> 0.032658786 | G7: =E7/C7 -> 1488.6987
A8: Treatment – MIG Only | B8: 20141 | C8: 6686 | D8: =C8/C347 -> 0.22825345 | E8: 9876772.4 | F8: =E8/E347 -> 0.031956796 | G8: =E8/C8 -> 1477.2319
A9: Treatment – MIG Only | B9: 20142 | C9: 6933 | D9: =C9/C348 -> 0.21896911 | E9: 9997416.5 | F9: =E9/E348 -> 0.027412034 | G9: =E9/C9 -> 1442.0044
A10: Treatment – MIG Only | B10: 20151 | C10: 6946 | D10: =C10/C349 -> 0.22080936 | E10: 9914460.6 | F10: =E10/E349 -> 0.02924209 | G10: =E10/C10 -> 1427.3626
A11: Treatment – MIG Only | B11: 20152 | C11: 7465 | D11: =C11/C350 -> 0.212945 | E11: 10605640 | F11: =E11/E350 -> 0.025204781 | G11: =E11/C11 -> 1420.7153
A12: Treatment – MIG Only | B12: 20161 | C12: 6934 | D12: =C12/C351 -> 0.21317675 | E12: 9898536 | F12: =E12/E351 -> 0.02631336 | G12: =E12/C12 -> 1427.5362
A13: Treatment – MIG Only | B13: 20162 | C13: 8451 | D13: =C13/C352 -> 0.22124195 | E13: 11896249 | F13: =E13/E352 -> 0.028868584 | G13: =E13/C13 -> 1407.6736
A14: Treatment – MIG Only | B14: 20171 | C14: 7605 | D14: =C14/C353 -> 0.22623156 | E14: 10601661 | F14: =E14/E353 -> 0.031209172 | G14: =E14/C14 -> 1394.0383
A15: Treatment – MIG Only | B15: 20172 | C15: 9074 | D15: =C15/C354 -> 0.23292348 | E15: 12574256 | F15: =E15/E354 -> 0.031654175 | G15: =E15/C15 -> 1385.7457
A16: Treatment – MIG Only | B16: 20181 | C16: 7797 | D16: =C16/C355 -> 0.23014257 | E16: 10584136 | F16: =E16/E355 -> 0.031077786 | G16: =E16/C16 -> 1357.4626
A17: Treatment – MIG Only | B17: 20182 | C17: 9076 | D17: =C17/C356 -> 0.23620654 | E17: 12269203 | F17: =E17/E356 -> 0.031200271 | G17: =E17/C17 -> 1351.8294
... A32: Treatment – MIG Only | B32: 20261 | C32: 9850 | D32: =C32/C371 -> 0.5239083 | E32: 12366375 | F32: =E32/E371 -> 0.39559662 | G32: =E32/C32 -> 1255.4695
A33: Treatment – Non-MIG | B33: 20131 | C33: 4784 | D33: =C33/C345 -> 0.1759794 | E33: 68829847 | F33: =E33/E345 -> 0.24186044 | G33: =E33/C33 -> 14387.51
A34: Treatment – Non-MIG | B34: 20132 | C34: 6099 | D34: =C34/C346 -> 0.18532924 | E34: 90321191 | F34: =E34/E346 -> 0.25723081 | G34: =E34/C34 -> 14809.18
A35: Treatment – Non-MIG | B35: 20141 | C35: 4864 | D35: =C35/C347 -> 0.16605216 | E35: 76550826 | F35: =E35/E347 -> 0.24768407 | G35: =E35/C35 -> 15738.246
A36: Treatment – Non-MIG | B36: 20142 | C36: 5953 | D36: =C36/C348 -> 0.18801718 | E36: 1.0089758e+08 | F36: =E36/E348 -> 0.27665227 | G36: =E36/C36 -> 16949.031
A37: Treatment – Non-MIG | B37: 20151 | C37: 5342 | D37: =C37/C349 -> 0.16981912 | E37: 81173254 | F37: =E37/E349 -> 0.2394155 | G37: =E37/C37 -> 15195.293
A38: Treatment – Non-MIG | B38: 20152 | C38: 6693 | D38: =C38/C350 -> 0.19092309 | E38: 1.092512e+08 | F38: =E38/E350 -> 0.2596404 | G38: =E38/C38 -> 16323.203
A39: Treatment – Non-MIG | B39: 20161 | C39: 5883 | D39: =C39/C351 -> 0.18086513 | E39: 93807278 | F39: =E39/E351 -> 0.24936866 | G39: =E39/C39 -> 15945.483
A40: Treatment – Non-MIG | B40: 20162 | C40: 6813 | D40: =C40/C352 -> 0.17836012 | E40: 1.0313096e+08 | F40: =E40/E352 -> 0.25026753 | G40: =E40/C40 -> 15137.379
A41: Treatment – Non-MIG | B41: 20171 | C41: 5213 | D41: =C41/C353 -> 0.15507496 | E41: 75875879 | F41: =E41/E353 -> 0.22336343 | G41: =E41/C41 -> 14555.127
A42: Treatment – Non-MIG | B42: 20172 | C42: 6139 | D42: =C42/C354 -> 0.157584 | E42: 88887768 | F42: =E42/E354 -> 0.22376424 | G42: =E42/C42 -> 14479.193
A43: Treatment – Non-MIG | B43: 20181 | C43: 4983 | D43: =C43/C355 -> 0.14708226 | E43: 72660438 | F43: =E43/E355 -> 0.21335001 | G43: =E43/C43 -> 14581.665
A44: Treatment – Non-MIG | B44: 20182 | C44: 5997 | D44: =C44/C356 -> 0.15607433 | E44: 90674730 | F44: =E44/E356 -> 0.23058352 | G44: =E44/C44 -> 15120.015
... A59: Treatment – Non-MIG | B59: 20261 | C59: 2638 | D59: =C59/C371 -> 0.14031169 | E59: 3804955.5 | F59: =E59/E371 -> 0.12171938 | G59: =E59/C59 -> 1442.3637
A60: Treatment – MIG and Non-MIG | B60: 20131 | C60: 15228 | D60: =C60/C345 -> 0.56016185 | E60: 77641797 | F60: =E60/E345 -> 0.27282466 | G60: =E60/C60 -> 5098.6208
A61: Treatment – MIG and Non-MIG | B61: 20132 | C61: 18255 | D61: =C61/C346 -> 0.55471148 | E61: 92408142 | F61: =E61/E346 -> 0.26317435 | G61: =E61/C61 -> 5062.073
A62: Treatment – MIG and Non-MIG | B62: 20141 | C62: 17075 | D62: =C62/C347 -> 0.58292367 | E62: 88573463 | F62: =E62/E347 -> 0.28658392 | G62: =E62/C62 -> 5187.3185
A63: Treatment – MIG and Non-MIG | B63: 20142 | C63: 18048 | D63: =C63/C348 -> 0.57002085 | E63: 98142456 | F63: =E63/E348 -> 0.26909796 | G63: =E63/C63 -> 5437.8577
A64: Treatment – MIG and Non-MIG | B64: 20151 | C64: 18485 | D64: =C64/C349 -> 0.58762756 | E64: 1.0509595e+08 | F64: =E64/E349 -> 0.30997403 | G64: =E64/C64 -> 5685.4722
A65: Treatment – MIG and Non-MIG | B65: 20152 | C65: 20199 | D65: =C65/C350 -> 0.57619238 | E65: 1.2548899e+08 | F65: =E65/E350 -> 0.29823025 | G65: =E65/C65 -> 6212.634
A66: Treatment – MIG and Non-MIG | B66: 20161 | C66: 19101 | D66: =C66/C351 -> 0.58723522 | E66: 1.1741281e+08 | F66: =E66/E351 -> 0.31211943 | G66: =E66/C66 -> 6146.9456
A67: Treatment – MIG and Non-MIG | B67: 20162 | C67: 22163 | D67: =C67/C352 -> 0.58021362 | E67: 1.2712033e+08 | F67: =E67/E352 -> 0.30848243 | G67: =E67/C67 -> 5735.7003
A68: Treatment – MIG and Non-MIG | B68: 20171 | C68: 20141 | D68: =C68/C353 -> 0.59914921 | E68: 1.1468466e+08 | F68: =E68/E353 -> 0.33760874 | G68: =E68/C68 -> 5694.0899
A69: Treatment – MIG and Non-MIG | B69: 20172 | C69: 23156 | D69: =C69/C354 -> 0.59439895 | E69: 1.3709287e+08 | F69: =E69/E354 -> 0.34511477 | G69: =E69/C69 -> 5920.4037
A70: Treatment – MIG and Non-MIG | B70: 20181 | C70: 20655 | D70: =C70/C355 -> 0.60966971 | E70: 1.2248993e+08 | F70: =E70/E355 -> 0.3596624 | G70: =E70/C70 -> 5930.2797
A71: Treatment – MIG and Non-MIG | B71: 20182 | C71: 22813 | D71: =C71/C356 -> 0.59371747 | E71: 1.348087e+08 | F71: =E71/E356 -> 0.34281508 | G71: =E71/C71 -> 5909.293
...

Sheet injury
A1: Claimants by Reported Injury Grouping Only treatment expense as defined in the expense class exhibit is included in this report.
A5: Injury Class | B5: Accident Half Year | C5: Claimant Count | D5: Share on Claimant Count | E5: Insurer Paid | F5: Share on Insurer Paid | G5: Average Insurer Paid per Claimant
A6: A. Strains & Sprains | B6: 20131 | C6: 19033 | D6: =C6/C222 -> 0.71923062 | E6: 63851524 | F6: =E6/E222 -> 0.40893808 | G6: =E6/C6 -> 3354.7798
A7: A. Strains & Sprains | B7: 20132 | C7: 22863 | D7: =C7/C223 -> 0.71319837 | E7: 75757024 | F7: =E7/E223 -> 0.39010443 | G7: =E7/C7 -> 3313.5207
A8: A. Strains & Sprains | B8: 20141 | C8: 20630 | D8: =C8/C224 -> 0.72069869 | E8: 70812654 | F8: =E8/E224 -> 0.40464128 | G8: =E8/C8 -> 3432.5087
A9: A. Strains & Sprains | B9: 20142 | C9: 21686 | D9: =C9/C225 -> 0.70104093 | E9: 78737796 | F9: =E9/E225 -> 0.37666836 | G9: =E9/C9 -> 3630.8123
A10: A. Strains & Sprains | B10: 20151 | C10: 21877 | D10: =C10/C226 -> 0.71091541 | E10: 81511456 | F10: =E10/E226 -> 0.41548543 | G10: =E10/C10 -> 3725.8973
A11: A. Strains & Sprains | B11: 20152 | C11: 23645 | D11: =C11/C227 -> 0.68821492 | E11: 91356719 | F11: =E11/E227 -> 0.37235896 | G11: =E11/C11 -> 3863.6802
A12: A. Strains & Sprains | B12: 20161 | C12: 22160 | D12: =C12/C228 -> 0.69427909 | E12: 86602040 | F12: =E12/E228 -> 0.39165421 | G12: =E12/C12 -> 3908.0343
A13: A. Strains & Sprains | B13: 20162 | C13: 25779 | D13: =C13/C229 -> 0.68878083 | E13: 97017533 | F13: =E13/E229 -> 0.40065463 | G13: =E13/C13 -> 3763.4327
A14: A. Strains & Sprains | B14: 20171 | C14: 23167 | D14: =C14/C230 -> 0.70290361 | E14: 86718344 | F14: =E14/E230 -> 0.43108667 | G14: =E14/C14 -> 3743.184
A15: A. Strains & Sprains | B15: 20172 | C15: 26894 | D15: =C15/C231 -> 0.70093044 | E15: 1.0020671e+08 | F15: =E15/E231 -> 0.42005724 | G15: =E15/C15 -> 3725.9876
A16: A. Strains & Sprains | B16: 20181 | C16: 23654 | D16: =C16/C232 -> 0.70746224 | E16: 88994902 | F16: =E16/E232 -> 0.4325716 | G16: =E16/C16 -> 3762.3616
A17: A. Strains & Sprains | B17: 20182 | C17: 26429 | D17: =C17/C233 -> 0.69759278 | E17: 98316874 | F17: =E17/E233 -> 0.41352591 | G17: =E17/C17 -> 3720.0376
... A32: A. Strains & Sprains | B32: 20261 | C32: 13232 | D32: =C32/C248 -> 0.72026564 | E32: 20004299 | F32: =E32/E248 -> 0.68260671 | G32: =E32/C32 -> 1511.8122
A33: B. PNI | B33: 20131 | C33: 1570 | D33: =C33/C222 -> 0.059328119 | E33: 10217965 | F33: =E33/E222 -> 0.065441113 | G33: =E33/C33 -> 6508.2576
A34: B. PNI | B34: 20132 | C34: 1948 | D34: =C34/C223 -> 0.060766759 | E34: 13131258 | F34: =E34/E223 -> 0.067618308 | G34: =E34/C34 -> 6740.892
A35: B. PNI | B35: 20141 | C35: 1760 | D35: =C35/C224 -> 0.061484716 | E35: 12649843 | F35: =E35/E224 -> 0.072284381 | G35: =E35/C35 -> 7187.411
A36: B. PNI | B36: 20142 | C36: 1894 | D36: =C36/C225 -> 0.061227129 | E36: 13077012 | F36: =E36/E225 -> 0.062558222 | G36: =E36/C36 -> 6904.4412
A37: B. PNI | B37: 20151 | C37: 1977 | D37: =C37/C226 -> 0.06424463 | E37: 15008066 | F37: =E37/E226 -> 0.07650008 | G37: =E37/C37 -> 7591.3335
A38: B. PNI | B38: 20152 | C38: 2248 | D38: =C38/C227 -> 0.065430625 | E38: 16254311 | F38: =E38/E227 -> 0.066250609 | G38: =E38/C38 -> 7230.5653
A39: B. PNI | B39: 20161 | C39: 2141 | D39: =C39/C228 -> 0.067078138 | E39: 15466180 | F39: =E39/E228 -> 0.069945172 | G39: =E39/C39 -> 7223.8113
A40: B. PNI | B40: 20162 | C40: 2312 | D40: =C40/C229 -> 0.061773586 | E40: 15455581 | F40: =E40/E229 -> 0.063827123 | G40: =E40/C40 -> 6684.9398
A41: B. PNI | B41: 20171 | C41: 1953 | D41: =C41/C230 -> 0.059255439 | E41: 12092409 | F41: =E41/E230 -> 0.060112727 | G41: =E41/C41 -> 6191.7095
A42: B. PNI | B42: 20172 | C42: 1971 | D42: =C42/C231 -> 0.051369595 | E42: 12923917 | F42: =E42/E231 -> 0.054175861 | G42: =E42/C42 -> 6557.0354
A43: B. PNI | B43: 20181 | C43: 1759 | D43: =C43/C232 -> 0.052609541 | E43: 11752585 | F43: =E43/E232 -> 0.057125009 | G43: =E43/C43 -> 6681.4014
A44: B. PNI | B44: 20182 | C44: 1935 | D44: =C44/C233 -> 0.051074275 | E44: 13423747 | F44: =E44/E233 -> 0.05646098 | G44: =E44/C44 -> 6937.3368
... A59: B. PNI | B59: 20261 | C59: 741 | D59: =C59/C248 -> 0.040335311 | E59: 1210473.1 | F59: =E59/E248 -> 0.041304974 | G59: =E59/C59 -> 1633.567
A60: C. Fract/Disloc/Ext STI | B60: 20131 | C60: 1804 | D60: =C60/C222 -> 0.068170653 | E60: 15343174 | F60: =E60/E222 -> 0.098265596 | G60: =E60/C60 -> 8505.0853
A61: C. Fract/Disloc/Ext STI | B61: 20132 | C61: 2226 | D61: =C61/C223 -> 0.069438812 | E61: 20385115 | F61: =E61/E223 -> 0.10497144 | G61: =E61/C61 -> 9157.7338
A62: C. Fract/Disloc/Ext STI | B62: 20141 | C62: 1833 | D62: =C62/C224 -> 0.064034934 | E62: 16280896 | F62: =E62/E224 -> 0.093033129 | G62: =E62/C62 -> 8882.1038
A63: C. Fract/Disloc/Ext STI | B63: 20142 | C63: 2052 | D63: =C63/C225 -> 0.066334777 | E63: 19285876 | F63: =E63/E225 -> 0.092260384 | G63: =E63/C63 -> 9398.5751
A64: C. Fract/Disloc/Ext STI | B64: 20151 | C64: 1940 | D64: =C64/C226 -> 0.063042277 | E64: 18100051 | F64: =E64/E226 -> 0.092260744 | G64: =E64/C64 -> 9329.9233
A65: C. Fract/Disloc/Ext STI | B65: 20152 | C65: 2310 | D65: =C65/C227 -> 0.067235207 | E65: 23249760 | F65: =E65/E227 -> 0.094763215 | G65: =E65/C65 -> 10064.831
A66: C. Fract/Disloc/Ext STI | B66: 20161 | C66: 1944 | D66: =C66/C228 -> 0.060906072 | E66: 18602288 | F66: =E66/E228 -> 0.084128094 | G66: =E66/C66 -> 9569.0783
A67: C. Fract/Disloc/Ext STI | B67: 20162 | C67: 2425 | D67: =C67/C229 -> 0.064792797 | E67: 23583244 | F67: =E67/E229 -> 0.097392044 | G67: =E67/C67 -> 9725.049
A68: C. Fract/Disloc/Ext STI | B68: 20171 | C68: 2009 | D68: =C68/C230 -> 0.060954519 | E68: 19101577 | F68: =E68/E230 -> 0.094956094 | G68: =E68/C68 -> 9508.0026
A69: C. Fract/Disloc/Ext STI | B69: 20172 | C69: 2319 | D69: =C69/C231 -> 0.060439417 | E69: 21743276 | F69: =E69/E231 -> 0.091145799 | G69: =E69/C69 -> 9376.1433
A70: C. Fract/Disloc/Ext STI | B70: 20181 | C70: 1874 | D70: =C70/C232 -> 0.05604905 | E70: 18466383 | F70: =E70/E232 -> 0.089758317 | G70: =E70/C70 -> 9853.9928
A71: C. Fract/Disloc/Ext STI | B71: 20182 | C71: 2256 | D71: =C71/C233 -> 0.059547062 | E71: 21242634 | F71: =E71/E233 -> 0.089347628 | G71: =E71/C71 -> 9416.0612
...

Sheet occupation
A1: Claimants by Healthcare Provider Occupation Class Claimants may be counted multiple times because the classes are not mutually exclusive.
A5: Provider Occupation Class | B5: Accident Half Year | C5: Claimant Count | D5: Share on Claimant Count | E5: Insurer Paid | F5: Share on Insurer Paid | G5: Average Insurer Paid per Claimant
A6: Chiropractic | B6: 20131 | C6: 15395 | D6: =C6/C411 -> 0.56630495 | E6: 48600165 | F6: =E6/E411 -> 0.17077559 | G6: =E6/C6 -> 3156.8798
A7: Chiropractic | B7: 20132 | C7: 18805 | D7: =C7/C412 -> 0.57142423 | E7: 59519177 | F7: =E7/E412 -> 0.16950802 | G7: =E7/C7 -> 3165.0719
A8: Chiropractic | B8: 20141 | C8: 16799 | D8: =C8/C413 -> 0.5735013 | E8: 52358512 | F8: =E8/E413 -> 0.16940861 | G8: =E8/C8 -> 3116.7636
A9: Chiropractic | B9: 20142 | C9: 18054 | D9: =C9/C414 -> 0.57021035 | E9: 59007875 | F9: =E9/E414 -> 0.16179439 | G9: =E9/C9 -> 3268.41
A10: Chiropractic | B10: 20151 | C10: 17724 | D10: =C10/C415 -> 0.5634358 | E10: 58959017 | F10: =E10/E415 -> 0.17389598 | G10: =E10/C10 -> 3326.5074
A11: Chiropractic | B11: 20152 | C11: 19991 | D11: =C11/C416 -> 0.57025901 | E11: 70138507 | F11: =E11/E416 -> 0.16668732 | G11: =E11/C11 -> 3508.5042
A12: Chiropractic | B12: 20161 | C12: 18641 | D12: =C12/C417 -> 0.57309312 | E12: 63997728 | F12: =E12/E417 -> 0.17012569 | G12: =E12/C12 -> 3433.1703
A13: Chiropractic | B13: 20162 | C13: 21535 | D13: =C13/C418 -> 0.56377297 | E13: 71550087 | F13: =E13/E418 -> 0.17363033 | G13: =E13/C13 -> 3322.5023
A14: Chiropractic | B14: 20171 | C14: 18994 | D14: =C14/C419 -> 0.56502856 | E14: 60984698 | F14: =E14/E419 -> 0.17952677 | G14: =E14/C14 -> 3210.7348
A15: Chiropractic | B15: 20172 | C15: 21447 | D15: =C15/C420 -> 0.55053007 | E15: 69299772 | F15: =E15/E420 -> 0.17445382 | G15: =E15/C15 -> 3231.2105
A16: Chiropractic | B16: 20181 | C16: 18786 | D16: =C16/C421 -> 0.55450279 | E16: 62098539 | F16: =E16/E421 -> 0.18233752 | G16: =E16/C16 -> 3305.5754
A17: Chiropractic | B17: 20182 | C17: 21234 | D17: =C17/C422 -> 0.55262336 | E17: 68649166 | F17: =E17/E422 -> 0.17457307 | G17: =E17/C17 -> 3232.9832
... A32: Chiropractic | B32: 20261 | C32: 7623 | D32: =C32/C437 -> 0.40545716 | E32: 10415479 | F32: =E32/E437 -> 0.33318806 | G32: =E32/C32 -> 1366.3229
A33: Family Practice | B33: 20131 | C33: 4861 | D33: =C33/C411 -> 0.17881184 | E33: 10345274 | F33: =E33/E411 -> 0.036352146 | G33: =E33/C33 -> 2128.2194
A34: Family Practice | B34: 20132 | C34: 6067 | D34: =C34/C412 -> 0.18435686 | E34: 12747742 | F34: =E34/E412 -> 0.036305012 | G34: =E34/C34 -> 2101.1607
A35: Family Practice | B35: 20141 | C35: 5217 | D35: =C35/C413 -> 0.17810324 | E35: 10527636 | F35: =E35/E413 -> 0.034062699 | G35: =E35/C35 -> 2017.9483
A36: Family Practice | B36: 20142 | C36: 5766 | D36: =C36/C414 -> 0.18211105 | E36: 11671747 | F36: =E36/E414 -> 0.032002899 | G36: =E36/C36 -> 2024.2363
A37: Family Practice | B37: 20151 | C37: 5753 | D37: =C37/C415 -> 0.18288457 | E37: 11789936 | F37: =E37/E415 -> 0.034773689 | G37: =E37/C37 -> 2049.3544
A38: Family Practice | B38: 20152 | C38: 6485 | D38: =C38/C416 -> 0.18498973 | E38: 13173101 | F38: =E38/E416 -> 0.031306468 | G38: =E38/C38 -> 2031.3186
A39: Family Practice | B39: 20161 | C39: 6160 | D39: =C39/C417 -> 0.18938113 | E39: 12972418 | F39: =E39/E417 -> 0.034484686 | G39: =E39/C39 -> 2105.912
A40: Family Practice | B40: 20162 | C40: 7038 | D40: =C40/C418 -> 0.18425048 | E40: 14517574 | F40: =E40/E418 -> 0.035229743 | G40: =E40/C40 -> 2062.7414
A41: Family Practice | B41: 20171 | C41: 6123 | D41: =C41/C419 -> 0.18214541 | E41: 12596764 | F41: =E41/E419 -> 0.037082358 | G41: =E41/C41 -> 2057.2864
A42: Family Practice | B42: 20172 | C42: 6583 | D42: =C42/C420 -> 0.16898118 | E42: 13746296 | F42: =E42/E420 -> 0.034604643 | G42: =E42/C42 -> 2088.1506
A43: Family Practice | B43: 20181 | C43: 5645 | D43: =C43/C421 -> 0.16662239 | E43: 12030664 | F43: =E43/E421 -> 0.035325171 | G43: =E43/C43 -> 2131.2071
A44: Family Practice | B44: 20182 | C44: 6296 | D44: =C44/C422 -> 0.16385592 | E44: 13362680 | F44: =E44/E422 -> 0.033980953 | G44: =E44/C44 -> 2122.4078
... A59: Family Practice | B59: 20261 | C59: 411 | D59: =C59/C437 -> 0.021860539 | E59: 396044.59 | F59: =E59/E437 -> 0.012669347 | G59: =E59/C59 -> 963.61214
A60: Massage Therapy | B60: 20131 | C60: 11600 | D60: =C60/C411 -> 0.4267059 | E60: 10941449 | F60: =E60/E411 -> 0.038447036 | G60: =E60/C60 -> 943.22832
A61: Massage Therapy | B61: 20132 | C61: 14091 | D61: =C61/C412 -> 0.42818074 | E61: 13151182 | F61: =E61/E412 -> 0.037453992 | G61: =E61/C61 -> 933.30365
A62: Massage Therapy | B62: 20141 | C62: 12934 | D62: =C62/C413 -> 0.44155401 | E62: 11830853 | F62: =E62/E413 -> 0.038279322 | G62: =E62/C62 -> 914.7095
A63: Massage Therapy | B63: 20142 | C63: 14172 | D63: =C63/C414 -> 0.4476028 | E63: 12868381 | F63: =E63/E414 -> 0.035283966 | G63: =E63/C63 -> 908.01449
A64: Massage Therapy | B64: 20151 | C64: 14555 | D64: =C64/C415 -> 0.46269511 | E64: 13197011 | F64: =E64/E415 -> 0.03892377 | G64: =E64/C64 -> 906.6995
A65: Massage Therapy | B65: 20152 | C65: 16017 | D65: =C65/C416 -> 0.45689754 | E65: 15152139 | F65: =E65/E416 -> 0.03600974 | G65: =E65/C65 -> 946.00354
A66: Massage Therapy | B66: 20161 | C66: 15271 | D66: =C66/C417 -> 0.46948689 | E66: 13640228 | F66: =E66/E417 -> 0.036259931 | G66: =E66/C66 -> 893.21121
A67: Massage Therapy | B67: 20162 | C67: 17626 | D67: =C67/C418 -> 0.46143777 | E67: 15112682 | F67: =E67/E418 -> 0.03667389 | G67: =E67/C67 -> 857.40849
A68: Massage Therapy | B68: 20171 | C68: 15475 | D68: =C68/C419 -> 0.46034626 | E68: 12305873 | F68: =E68/E419 -> 0.036226031 | G68: =E68/C68 -> 795.20986
A69: Massage Therapy | B69: 20172 | C69: 18010 | D69: =C69/C420 -> 0.46230459 | E69: 14436941 | F69: =E69/E420 -> 0.03634326 | G69: =E69/C69 -> 801.60696
A70: Massage Therapy | B70: 20181 | C70: 15616 | D70: =C70/C421 -> 0.4609345 | E70: 12009379 | F70: =E70/E421 -> 0.035262671 | G70: =E70/C70 -> 769.04321
A71: Massage Therapy | B71: 20182 | C71: 17443 | D71: =C71/C422 -> 0.45396107 | E71: 13150622 | F71: =E71/E422 -> 0.033441696 | G71: =E71/C71 -> 753.91974
...

Sheet expense range
A1: Claimants by Medical and Rehabilitation Expense Range
A5: Medical and Rehabilitation Expense Range | B5: Accident Year | C5: Claimant Count | D5: Share on Claimant Count | E5: Treatment | F5: Insurer Initiated Exam | G5: Provider Initiated Exam | H5: Goods and Supplies | I5: Missed/Cancelled Appointment | J5: Transportation | K5: Other | L5: Unallocated Amount | M5: Insurer Paid | N5: Share on Insurer Paid | O5: Average Insurer Paid per Claimant
A6: 0 | B6: 2013 | C6: 630 | D6: =C6/C$12 -> 0.010483576 | E6: 0 | F6: 1933461.4 | G6: 0 | H6: 0 | I6: 0 | J6: 0 | K6: 0 | L6: 248421.31 | M6: 2181882.7 | N6: =M6/M$12 -> 0.0034321769 | O6: =M6/C6 -> 3463.3059
A7: $0+ to $2,200 | B7: 2013 | C7: 19829 | D7: =C7/C$12 -> 0.32996639 | E7: 25739409 | F7: 9543211.8 | G7: 519376.47 | H7: 64077.49 | I7: 894299.21 | J7: 158898.4 | K7: 46890.95 | L7: -1782247.7 | M7: 35183915 | N7: =M7/M$12 -> 0.055345514 | O7: =M7/C7 -> 1774.3666
A8: $2,200+ to $3,500 | B8: 2013 | C8: 16168 | D8: =C8/C$12 -> 0.26904516 | E8: 45790524 | F8: 17545144 | G8: 1235148.1 | H8: 282112.45 | I8: 1170453.7 | J8: 181042.74 | K8: 72112.47 | L8: -913273.74 | M8: 65363264 | N8: =M8/M$12 -> 0.10281867 | O8: =M8/C8 -> 4042.7551
A9: $3,500+ to $50,000 | B9: 2013 | C9: 22555 | D9: =C9/C$12 -> 0.37532865 | E9: 1.7926046e+08 | F9: 1.1835947e+08 | G9: 28664352 | H9: 5828640.8 | I9: 13712871 | J9: 9680806.7 | K9: 1872534.4 | L9: 11022292 | M9: 3.6840142e+08 | N9: =M9/M$12 -> 0.57950817 | O9: =M9/C9 -> 16333.47
A10: $50,000+ to $65,000 | B10: 2013 | C10: 257 | D10: =C10/C$12 -> 0.0042766333 | E10: 9686519.5 | F10: 5882022 | G10: 2177749.4 | H10: 524178.53 | I10: 340574.08 | J10: 1416527.4 | K10: 138285.45 | L10: 744329.36 | M10: 20910186 | N10: =M10/M$12 -> 0.032892445 | O10: =M10/C10 -> 81362.59
A11: $65,000+ | B11: 2013 | C11: 655 | D11: =C11/C$12 -> 0.010899591 | E11: 89859705 | F11: 11782805 | G11: 5845360.9 | H11: 7110873.6 | I11: 673701.26 | J11: 21265453 | K11: 1558385.9 | L11: 5576990.2 | M11: 1.4367328e+08 | N11: =M11/M$12 -> 0.22600303 | O11: =M11/C11 -> 219348.51
A12: Total | B12: 2013 | C12: =SUM(C6:C11) -> 60094 | D12: =SUM(D6:D11) -> 1 | E12: =SUM(E6:E11) -> 3.5033661e+08 | F12: =SUM(F6:F11) -> 1.6504611e+08 | G12: =SUM(G6:G11) -> 38441987 | H12: =SUM(H6:H11) -> 13809883 | I12: =SUM(I6:I11) -> 16791899 | J12: =SUM(J6:J11) -> 32702729 | ... N12: =SUM(N6:N11) -> 1 | O12: =M12/C12 -> 10578.659
A14: 0 | B14: 2017 | C14: 469 | D14: =C14/C$20 -> 0.0064624585 | E14: 0 | F14: 1464058.6 | G14: 0 | H14: 0 | I14: 0 | J14: 0 | K14: 0 | L14: 182193.92 | M14: 1646252.5 | N14: =M14/M$20 -> 0.0022339168 | O14: =M14/C14 -> 3510.1332
A15: $0+ to $2,200 | B15: 2017 | C15: 23160 | D15: =C15/C$20 -> 0.31912695 | E15: 29757369 | F15: 6429118.6 | G15: 469045.47 | H15: 81254.86 | I15: 690671.1 | J15: 126826.06 | K15: 34543.68 | L15: -2867040 | M15: 34721788 | N15: =M15/M$20 -> 0.047116459 | O15: =M15/C15 -> 1499.2137
A16: $2,200+ to $3,500 | B16: 2017 | C16: 20035 | D16: =C16/C$20 -> 0.27606686 | E16: 57652310 | F16: 16072548 | G16: 1316964.2 | H16: 478786.04 | I16: 975232.92 | J16: 220585.12 | K16: 60417.78 | L16: -1922985.2 | M16: 74853859 | N16: =M16/M$20 -> 0.10157451 | O16: =M16/C16 -> 3736.1547
A17: $3,500+ to $50,000 | B17: 2017 | C17: 27454 | D17: =C17/C$20 -> 0.37829496 | E17: 2.4847315e+08 | F17: 1.2327449e+08 | G17: 26852476 | H17: 10833047 | I17: 13524924 | J17: 9905313.7 | K17: 2638656.9 | L17: 8070603.9 | M17: 4.4357266e+08 | N17: =M17/M$20 -> 0.60191521 | O17: =M17/C17 -> 16156.941
A18: $50,000+ to $65,000 | B18: 2017 | C18: 659 | D18: =C18/C$20 -> 0.009080512 | E18: 25460500 | F18: 12131727 | G18: 5832408.8 | H18: 2006741.1 | I18: 806579.62 | J18: 2966173.4 | K18: 360288.08 | L18: 1860411 | M18: 51424829 | N18: =M18/M$20 -> 0.069781999 | O18: =M18/C18 -> 78034.642
A19: $65,000+ | B19: 2017 | C19: 796 | D19: =C19/C$20 -> 0.010968266 | E19: 78373773 | F19: 15214352 | G19: 7949455.4 | H19: 7813874.8 | I19: 981926.46 | J19: 13574162 | K19: 1614548.3 | L19: 5193970.7 | M19: 130716062 | N19: =M19/M$20 -> 0.1773779 | O19: =M19/C19 -> 164216.16
A20: Total | B20: 2017 | C20: =SUM(C14:C19) -> 72573 | D20: =SUM(D14:D19) -> 1 | E20: =SUM(E14:E19) -> 4.397171e+08 | F20: =SUM(F14:F19) -> 1.7458629e+08 | G20: =SUM(G14:G19) -> 42420350 | H20: =SUM(H14:H19) -> 21213703 | I20: =SUM(I14:I19) -> 16979334 | J20: =SUM(J14:J19) -> 26793060 | ... N20: =SUM(N14:N19) -> 1 | O20: =M20/C20 -> 10154.402
