Workbook

Sheet notes
A1: This file provides data published in the HCDB Standard Report 2026H1 in an easy to use format.

Sheet female
A1: Claimants by Age and Gender
A5: Age Group | B5: Accident Half Year | C5: Claimant Count | D5: Share on Claimant Count | E5: Insurer Paid | F5: Share on Insurer Paid | G5: Average Insurer Paid per Claimant
A6: 0-15 | B6: 20131 | C6: 533 | D6: =C6/'gender total'!C222 -> 0.019606401 | E6: 5245941.8 | F6: =E6/'gender total'!E222 -> 0.018433657 | G6: =IFERROR(E6/C6,"-") -> 9842.2923
A7: 0-15 | B7: 20132 | C7: 694 | D7: =C7/'gender total'!C223 -> 0.021088456 | E7: 5236866.8 | F7: =E7/'gender total'!E223 -> 0.014914368 | G7: =IFERROR(E7/C7,"-") -> 7545.9176
A8: 0-15 | B8: 20141 | C8: 461 | D8: =C8/'gender total'!C224 -> 0.015738085 | E8: 2995694.2 | F8: =E8/'gender total'!E224 -> 0.0096927202 | G8: =IFERROR(E8/C8,"-") -> 6498.2521
A9: 0-15 | B9: 20142 | C9: 698 | D9: =C9/'gender total'!C225 -> 0.022045354 | E9: 7450753.9 | F9: =E9/'gender total'!E225 -> 0.02042931 | G9: =IFERROR(E9/C9,"-") -> 10674.433
A10: 0-15 | B10: 20151 | C10: 539 | D10: =C10/'gender total'!C226 -> 0.017134501 | E10: 3496183.1 | F10: =E10/'gender total'!E226 -> 0.010311776 | G10: =IFERROR(E10/C10,"-") -> 6486.4251
A11: 0-15 | B11: 20152 | C11: 700 | D11: =C11/'gender total'!C227 -> 0.019968051 | E11: 5951610.7 | F11: =E11/'gender total'!E227 -> 0.014144271 | G11: =IFERROR(E11/C11,"-") -> 8502.3009
A12: 0-15 | B12: 20161 | C12: 505 | D12: =C12/'gender total'!C228 -> 0.015525563 | E12: 3719014.8 | F12: =E12/'gender total'!E228 -> 0.0098862876 | G12: =IFERROR(E12/C12,"-") -> 7364.3857
A13: 0-15 | B13: 20162 | C13: 707 | D13: =C13/'gender total'!C229 -> 0.018508822 | E13: 7250897.4 | F13: =E13/'gender total'!E229 -> 0.017595726 | G13: =IFERROR(E13/C13,"-") -> 10255.866
A14: 0-15 | B14: 20171 | C14: 547 | D14: =C14/'gender total'!C230 -> 0.016272013 | E14: 3169046.4 | F14: =E14/'gender total'!E230 -> 0.0093290394 | G14: =IFERROR(E14/C14,"-") -> 5793.5034
A15: 0-15 | B15: 20172 | C15: 728 | D15: =C15/'gender total'!C231 -> 0.018687271 | E15: 4187040 | F15: =E15/'gender total'!E231 -> 0.010540369 | G15: =IFERROR(E15/C15,"-") -> 5751.4286
A16: 0-15 | B16: 20181 | C16: 500 | D16: =C16/'gender total'!C232 -> 0.014758405 | E16: 3261880 | F16: =E16/'gender total'!E232 -> 0.0095777312 | G16: =IFERROR(E16/C16,"-") -> 6523.76
A17: 0-15 | B17: 20182 | C17: 592 | D17: =C17/'gender total'!C233 -> 0.015407037 | E17: 4003686 | F17: =E17/'gender total'!E233 -> 0.010181271 | G17: =IFERROR(E17/C17,"-") -> 6762.9831
... A32: 0-15 | B32: 20261 | C32: 233 | D32: =C32/'gender total'!C248 -> 0.012392958 | E32: 308216.98 | F32: =E32/'gender total'!E248 -> 0.0098597686 | G32: =IFERROR(E32/C32,"-") -> 1322.8197
A33: 16-24 | B33: 20131 | C33: 1905 | D33: =C33/'gender total'!C222 -> 0.070075409 | E33: 14623856 | F33: =E33/'gender total'!E222 -> 0.051386606 | G33: =IFERROR(E33/C33,"-") -> 7676.5647
A34: 16-24 | B34: 20132 | C34: 2447 | D34: =C34/'gender total'!C223 -> 0.074356559 | E34: 20158620 | F34: =E34/'gender total'!E223 -> 0.05741087 | G34: =IFERROR(E34/C34,"-") -> 8238.0957
A35: 16-24 | B35: 20141 | C35: 1874 | D35: =C35/'gender total'!C224 -> 0.063976512 | E35: 15205062 | F35: =E35/'gender total'!E224 -> 0.049196747 | G35: =IFERROR(E35/C35,"-") -> 8113.6937
A36: 16-24 | B36: 20142 | C36: 2309 | D36: =C36/'gender total'!C225 -> 0.072926537 | E36: 22436132 | F36: =E36/'gender total'!E225 -> 0.061517895 | G36: =IFERROR(E36/C36,"-") -> 9716.8177
A37: 16-24 | B37: 20151 | C37: 2129 | D37: =C37/'gender total'!C226 -> 0.06767969 | E37: 18663463 | F37: =E37/'gender total'!E226 -> 0.055046733 | G37: =IFERROR(E37/C37,"-") -> 8766.305
A38: 16-24 | B38: 20152 | C38: 2548 | D38: =C38/'gender total'!C227 -> 0.072683706 | E38: 25416322 | F38: =E38/'gender total'!E227 -> 0.060403034 | G38: =IFERROR(E38/C38,"-") -> 9975.0086
A39: 16-24 | B39: 20161 | C39: 2303 | D39: =C39/'gender total'!C228 -> 0.070802718 | E39: 20335339 | F39: =E39/'gender total'!E228 -> 0.054057598 | G39: =IFERROR(E39/C39,"-") -> 8829.9343
A40: 16-24 | B40: 20162 | C40: 2790 | D40: =C40/'gender total'!C229 -> 0.073040473 | E40: 24893447 | F40: =E40/'gender total'!E229 -> 0.060408835 | G40: =IFERROR(E40/C40,"-") -> 8922.3823
A41: 16-24 | B41: 20171 | C41: 2352 | D41: =C41/'gender total'!C230 -> 0.069966683 | E41: 17165685 | F41: =E41/'gender total'!E230 -> 0.050532348 | G41: =IFERROR(E41/C41,"-") -> 7298.3356
A42: 16-24 | B42: 20172 | C42: 2814 | D42: =C42/'gender total'!C231 -> 0.072233488 | E42: 22099088 | F42: =E42/'gender total'!E231 -> 0.055631789 | G42: =IFERROR(E42/C42,"-") -> 7853.2649
A43: 16-24 | B43: 20181 | C43: 2316 | D43: =C43/'gender total'!C232 -> 0.068360932 | E43: 17184305 | F43: =E43/'gender total'!E232 -> 0.050457605 | G43: =IFERROR(E43/C43,"-") -> 7419.8207
A44: 16-24 | B44: 20182 | C44: 2891 | D44: =C44/'gender total'!C233 -> 0.075239434 | E44: 22633211 | F44: =E44/'gender total'!E233 -> 0.057555678 | G44: =IFERROR(E44/C44,"-") -> 7828.8521
... A59: 16-24 | B59: 20261 | C59: 995 | D59: =C59/'gender total'!C248 -> 0.052922717 | E59: 1514539.1 | F59: =E59/'gender total'!E248 -> 0.048449652 | G59: =IFERROR(E59/C59,"-") -> 1522.1499
A60: 25-39 | B60: 20131 | C60: 4691 | D60: =C60/'gender total'!C222 -> 0.1725584 | E60: 42183489 | F60: =E60/'gender total'!E222 -> 0.1482281 | G60: =IFERROR(E60/C60,"-") -> 8992.4301
A61: 25-39 | B61: 20132 | C61: 5597 | D61: =C61/'gender total'!C223 -> 0.17007506 | E61: 48902058 | F61: =E61/'gender total'!E223 -> 0.13927093 | G61: =IFERROR(E61/C61,"-") -> 8737.1911
A62: 25-39 | B62: 20141 | C62: 5161 | D62: =C62/'gender total'!C224 -> 0.17619145 | E62: 43274814 | F62: =E62/'gender total'!E224 -> 0.14001785 | G62: =IFERROR(E62/C62,"-") -> 8384.9669
A63: 25-39 | B63: 20142 | C63: 5350 | D63: =C63/'gender total'!C225 -> 0.16897227 | E63: 49488938 | F63: =E63/'gender total'!E225 -> 0.1356943 | G63: =IFERROR(E63/C63,"-") -> 9250.2688
A64: 25-39 | B64: 20151 | C64: 5586 | D64: =C64/'gender total'!C226 -> 0.17757574 | E64: 53916868 | F64: =E64/'gender total'!E226 -> 0.15902448 | G64: =IFERROR(E64/C64,"-") -> 9652.1426
A65: 25-39 | B65: 20152 | C65: 5860 | D65: =C65/'gender total'!C227 -> 0.16716111 | E65: 60775218 | F65: =E65/'gender total'!E227 -> 0.14443504 | G65: =IFERROR(E65/C65,"-") -> 10371.198
A66: 25-39 | B66: 20161 | C66: 5654 | D66: =C66/'gender total'!C228 -> 0.17382482 | E66: 55209894 | F66: =E66/'gender total'!E228 -> 0.14676491 | G66: =IFERROR(E66/C66,"-") -> 9764.7495
A67: 25-39 | B67: 20162 | C67: 6454 | D67: =C67/'gender total'!C229 -> 0.16896173 | E67: 57501538 | F67: =E67/'gender total'!E229 -> 0.13953877 | G67: =IFERROR(E67/C67,"-") -> 8909.4419
A68: 25-39 | B68: 20171 | C68: 5887 | D68: =C68/'gender total'!C230 -> 0.17512494 | E68: 50778947 | F68: =E68/'gender total'!E230 -> 0.14948308 | G68: =IFERROR(E68/C68,"-") -> 8625.6067
A69: 25-39 | B69: 20172 | C69: 6748 | D69: =C69/'gender total'!C231 -> 0.17321662 | E69: 62214399 | F69: =E69/'gender total'!E231 -> 0.15661725 | G69: =IFERROR(E69/C69,"-") -> 9219.6798
A70: 25-39 | B70: 20181 | C70: 6115 | D70: =C70/'gender total'!C232 -> 0.18049529 | E70: 55793634 | F70: =E70/'gender total'!E232 -> 0.16382467 | G70: =IFERROR(E70/C70,"-") -> 9124.0611
A71: 25-39 | B71: 20182 | C71: 6770 | D71: =C71/'gender total'!C233 -> 0.17619196 | E71: 61034646 | F71: =E71/'gender total'!E233 -> 0.15520955 | G71: =IFERROR(E71/C71,"-") -> 9015.4574
... A86: 25-39 | B86: 20261 | C86: 3201 | D86: =C86/'gender total'!C248 -> 0.1702569 | E86: 5131000.7 | F86: =E86/'gender total'!E248 -> 0.16413917 | G86: =IFERROR(E86/C86,"-") -> 1602.9368
A87: 40-54 | B87: 20131 | C87: 5078 | D87: =C87/'gender total'!C222 -> 0.18679419 | E87: 51969271 | F87: =E87/'gender total'!E222 -> 0.18261425 | G87: =IFERROR(E87/C87,"-") -> 10234.201
A88: 40-54 | B88: 20132 | C88: 6045 | D88: =C88/'gender total'!C223 -> 0.18368835 | E88: 62793570 | F88: =E88/'gender total'!E223 -> 0.17883335 | G88: =IFERROR(E88/C88,"-") -> 10387.687
A89: 40-54 | B89: 20141 | C89: 5491 | D89: =C89/'gender total'!C224 -> 0.18745733 | E89: 57620331 | F89: =E89/'gender total'!E224 -> 0.18643349 | G89: =IFERROR(E89/C89,"-") -> 10493.595
A90: 40-54 | B90: 20142 | C90: 5551 | D90: =C90/'gender total'!C225 -> 0.17532057 | E90: 61545372 | F90: =E90/'gender total'!E225 -> 0.16875198 | G90: =IFERROR(E90/C90,"-") -> 11087.259
A91: 40-54 | B91: 20151 | C91: 5654 | D91: =C91/'gender total'!C226 -> 0.17973742 | E91: 64370507 | F91: =E91/'gender total'!E226 -> 0.18985684 | G91: =IFERROR(E91/C91,"-") -> 11384.95
A92: 40-54 | B92: 20152 | C92: 5812 | D92: =C92/'gender total'!C227 -> 0.16579188 | E92: 72589137 | F92: =E92/'gender total'!E227 -> 0.17251135 | G92: =IFERROR(E92/C92,"-") -> 12489.528
A93: 40-54 | B93: 20161 | C93: 5570 | D93: =C93/'gender total'!C228 -> 0.17124235 | E93: 67342149 | F93: =E93/'gender total'!E228 -> 0.17901619 | G93: =IFERROR(E93/C93,"-") -> 12090.152
A94: 40-54 | B94: 20162 | C94: 6130 | D94: =C94/'gender total'!C229 -> 0.16047961 | E94: 68022142 | F94: =E94/'gender total'!E229 -> 0.16506908 | G94: =IFERROR(E94/C94,"-") -> 11096.597
A95: 40-54 | B95: 20171 | C95: 5530 | D95: =C95/'gender total'!C230 -> 0.164505 | E95: 60856283 | F95: =E95/'gender total'!E230 -> 0.17914874 | G95: =IFERROR(E95/C95,"-") -> 11004.753
A96: 40-54 | B96: 20172 | C96: 6211 | D96: =C96/'gender total'!C231 -> 0.15943219 | E96: 67999956 | F96: =E96/'gender total'!E231 -> 0.17118169 | G96: =IFERROR(E96/C96,"-") -> 10948.31
A97: 40-54 | B97: 20181 | C97: 5469 | D97: =C97/'gender total'!C232 -> 0.16142743 | E97: 57217339 | F97: =E97/'gender total'!E232 -> 0.16800504 | G97: =IFERROR(E97/C97,"-") -> 10462.121
A98: 40-54 | B98: 20182 | C98: 5901 | D98: =C98/'gender total'!C233 -> 0.15357589 | E98: 65314055 | F98: =E98/'gender total'!E233 -> 0.16609197 | G98: =IFERROR(E98/C98,"-") -> 11068.303
... A113: 40-54 | B113: 20261 | C113: 2697 | D113: =C113/'gender total'!C248 -> 0.14344982 | E113: 4167384.5 | F113: =E113/'gender total'!E248 -> 0.13331338 | G113: =IFERROR(E113/C113,"-") -> 1545.1926
A114: 55-64 | B114: 20131 | C114: 2141 | D114: =C114/'gender total'!C222 -> 0.078756667 | E114: 21248037 | F114: =E114/'gender total'!E222 -> 0.074663244 | G114: =IFERROR(E114/C114,"-") -> 9924.3518
A115: 55-64 | B115: 20132 | C115: 2542 | D115: =C115/'gender total'!C223 -> 0.077243307 | E115: 27467806 | F115: =E115/'gender total'!E223 -> 0.078227113 | G115: =IFERROR(E115/C115,"-") -> 10805.589
A116: 55-64 | B116: 20141 | C116: 2303 | D116: =C116/'gender total'!C224 -> 0.078622149 | E116: 24704532 | F116: =E116/'gender total'!E224 -> 0.079932764 | G116: =IFERROR(E116/C116,"-") -> 10727.109
A117: 55-64 | B117: 20142 | C117: 2413 | D117: =C117/'gender total'!C225 -> 0.076211231 | E117: 24405581 | F117: =E117/'gender total'!E225 -> 0.066917949 | G117: =IFERROR(E117/C117,"-") -> 10114.207
A118: 55-64 | B118: 20151 | C118: 2507 | D118: =C118/'gender total'!C226 -> 0.079696093 | E118: 26285896 | F118: =E118/'gender total'!E226 -> 0.077528627 | G118: =IFERROR(E118/C118,"-") -> 10485
A119: 55-64 | B119: 20152 | C119: 2621 | D119: =C119/'gender total'!C227 -> 0.074766089 | E119: 30092147 | F119: =E119/'gender total'!E227 -> 0.071515344 | G119: =IFERROR(E119/C119,"-") -> 11481.17
A120: 55-64 | B120: 20161 | C120: 2655 | D120: =C120/'gender total'!C228 -> 0.081624497 | E120: 32140642 | F120: =E120/'gender total'!E228 -> 0.085439733 | G120: =IFERROR(E120/C120,"-") -> 12105.703
A121: 55-64 | B121: 20162 | C121: 3054 | D121: =C121/'gender total'!C229 -> 0.07995183 | E121: 32405469 | F121: =E121/'gender total'!E229 -> 0.078638233 | G121: =IFERROR(E121/C121,"-") -> 10610.828
A122: 55-64 | B122: 20171 | C122: 2702 | D122: =C122/'gender total'!C230 -> 0.080378391 | E122: 29957487 | F122: =E122/'gender total'!E230 -> 0.088188857 | G122: =IFERROR(E122/C122,"-") -> 11087.153
A123: 55-64 | B123: 20172 | C123: 3098 | D123: =C123/'gender total'!C231 -> 0.079523577 | E123: 34767805 | F123: =E123/'gender total'!E231 -> 0.087523758 | G123: =IFERROR(E123/C123,"-") -> 11222.661
A124: 55-64 | B124: 20181 | C124: 2788 | D124: =C124/'gender total'!C232 -> 0.082292866 | E124: 30707120 | F124: =E124/'gender total'!E232 -> 0.09016412 | G124: =IFERROR(E124/C124,"-") -> 11014.032
A125: 55-64 | B125: 20182 | C125: 3034 | D125: =C125/'gender total'!C233 -> 0.078961066 | E125: 33729999 | F125: =E125/'gender total'!E233 -> 0.085774525 | G125: =IFERROR(E125/C125,"-") -> 11117.336
... A140: 55-64 | B140: 20261 | C140: 1272 | D140: =C140/'gender total'!C248 -> 0.067655976 | E140: 2262822 | F140: =E140/'gender total'!E248 -> 0.072386998 | G140: =IFERROR(E140/C140,"-") -> 1778.9482
A141: 65-79 | B141: 20131 | C141: 1308 | D141: =C141/'gender total'!C222 -> 0.048114769 | E141: 13545540 | F141: =E141/'gender total'!E222 -> 0.047597525 | G141: =IFERROR(E141/C141,"-") -> 10355.918
A142: 65-79 | B142: 20132 | C142: 1465 | D142: =C142/'gender total'!C223 -> 0.044516698 | E142: 14885011 | F142: =E142/'gender total'!E223 -> 0.042391861 | G142: =IFERROR(E142/C142,"-") -> 10160.417
A143: 65-79 | B143: 20141 | C143: 1366 | D143: =C143/'gender total'!C224 -> 0.046633893 | E143: 14032989 | F143: =E143/'gender total'!E224 -> 0.045404445 | G143: =IFERROR(E143/C143,"-") -> 10273.052
A144: 65-79 | B144: 20142 | C144: 1436 | D144: =C144/'gender total'!C225 -> 0.045354052 | E144: 18185548 | F144: =E144/'gender total'!E225 -> 0.049863168 | G144: =IFERROR(E144/C144,"-") -> 12664.031
A145: 65-79 | B145: 20151 | C145: 1437 | D145: =C145/'gender total'!C226 -> 0.045681406 | E145: 14893226 | F145: =E145/'gender total'!E226 -> 0.043926652 | G145: =IFERROR(E145/C145,"-") -> 10364.11
A146: 65-79 | B146: 20152 | C146: 1708 | D146: =C146/'gender total'!C227 -> 0.048722045 | E146: 17081840 | F146: =E146/'gender total'!E227 -> 0.040595763 | G146: =IFERROR(E146/C146,"-") -> 10001.077
A147: 65-79 | B147: 20161 | C147: 1640 | D147: =C147/'gender total'!C228 -> 0.050419651 | E147: 17581021 | F147: =E147/'gender total'!E228 -> 0.046735773 | G147: =IFERROR(E147/C147,"-") -> 10720.135
A148: 65-79 | B148: 20162 | C148: 1804 | D148: =C148/'gender total'!C229 -> 0.047227604 | E148: 19948696 | F148: =E148/'gender total'!E229 -> 0.048409426 | G148: =IFERROR(E148/C148,"-") -> 11058.035
A149: 65-79 | B149: 20171 | C149: 1690 | D149: =C149/'gender total'!C230 -> 0.050273679 | E149: 15549599 | F149: =E149/'gender total'!E230 -> 0.045774912 | G149: =IFERROR(E149/C149,"-") -> 9200.9459
A150: 65-79 | B150: 20172 | C150: 1956 | D150: =C150/'gender total'!C231 -> 0.050209205 | E150: 18959697 | F150: =E150/'gender total'!E231 -> 0.047728751 | G150: =IFERROR(E150/C150,"-") -> 9693.0964
A151: 65-79 | B151: 20181 | C151: 1680 | D151: =C151/'gender total'!C232 -> 0.049588241 | E151: 15471877 | F151: =E151/'gender total'!E232 -> 0.045429469 | G151: =IFERROR(E151/C151,"-") -> 9209.4504
A152: 65-79 | B152: 20182 | C152: 1976 | D152: =C152/'gender total'!C233 -> 0.051426192 | E152: 20372659 | F152: =E152/'gender total'!E233 -> 0.051807152 | G152: =IFERROR(E152/C152,"-") -> 10310.05
... A167: 65-79 | B167: 20261 | C167: 1030 | D167: =C167/'gender total'!C248 -> 0.05478432 | E167: 1917551.8 | F167: =E167/'gender total'!E248 -> 0.061341907 | G167: =IFERROR(E167/C167,"-") -> 1861.7008
A168: 80+ | B168: 20131 | C168: 231 | D168: =C168/'gender total'!C222 -> 0.0084973331 | E168: 2267908.5 | F168: =E168/'gender total'!E222 -> 0.0079691789 | G168: =IFERROR(E168/C168,"-") -> 9817.7858
A169: 80+ | B169: 20132 | C169: 308 | D169: =C169/'gender total'!C223 -> 0.0093591419 | E169: 3526005.7 | F169: =E169/'gender total'!E223 -> 0.01004191 | G169: =IFERROR(E169/C169,"-") -> 11448.071
A170: 80+ | B170: 20141 | C170: 260 | D170: =C170/'gender total'!C224 -> 0.0088761437 | E170: 3013612.7 | F170: =E170/'gender total'!E224 -> 0.0097506961 | G170: =IFERROR(E170/C170,"-") -> 11590.818
A171: 80+ | B171: 20142 | C171: 291 | D171: =C171/'gender total'!C225 -> 0.0091908281 | E171: 5013421.4 | F171: =E171/'gender total'!E225 -> 0.013746359 | G171: =IFERROR(E171/C171,"-") -> 17228.252
A172: 80+ | B172: 20151 | C172: 251 | D172: =C172/'gender total'!C226 -> 0.0079791461 | E172: 3127742.3 | F172: =E172/'gender total'!E226 -> 0.0092250828 | G172: =IFERROR(E172/C172,"-") -> 12461.125
A173: 80+ | B173: 20152 | C173: 304 | D173: =C173/'gender total'!C227 -> 0.0086718393 | E173: 3823022.5 | F173: =E173/'gender total'!E227 -> 0.0090855853 | G173: =IFERROR(E173/C173,"-") -> 12575.732
A174: 80+ | B174: 20161 | C174: 275 | D174: =C174/'gender total'!C228 -> 0.0084545147 | E174: 3697665 | F174: =E174/'gender total'!E228 -> 0.0098295332 | G174: =IFERROR(E174/C174,"-") -> 13446.054
A175: 80+ | B175: 20162 | C175: 332 | D175: =C175/'gender total'!C229 -> 0.0086915545 | E175: 3084715.4 | F175: =E175/'gender total'!E229 -> 0.0074856675 | G175: =IFERROR(E175/C175,"-") -> 9291.3114
A176: 80+ | B176: 20171 | C176: 324 | D176: =C176/'gender total'!C230 -> 0.0096382675 | E176: 4026212.4 | F176: =E176/'gender total'!E230 -> 0.011852365 | G176: =IFERROR(E176/C176,"-") -> 12426.581
A177: 80+ | B177: 20172 | C177: 361 | D177: =C177/'gender total'!C231 -> 0.0092666273 | E177: 4172643.1 | F177: =E177/'gender total'!E231 -> 0.010504126 | G177: =IFERROR(E177/C177,"-") -> 11558.568
A178: 80+ | B178: 20181 | C178: 312 | D178: =C178/'gender total'!C232 -> 0.0092092447 | E178: 3261032.8 | F178: =E178/'gender total'!E232 -> 0.0095752436 | G178: =IFERROR(E178/C178,"-") -> 10452.028
A179: 80+ | B179: 20182 | C179: 364 | D179: =C179/'gender total'!C233 -> 0.0094732459 | E179: 5685417.5 | F179: =E179/'gender total'!E233 -> 0.014457872 | G179: =IFERROR(E179/C179,"-") -> 15619.279
... A194: 80+ | B194: 20261 | C194: 180 | D194: =C194/'gender total'!C248 -> 0.0095739588 | E194: 366051.84 | F194: =E194/'gender total'!E248 -> 0.011709888 | G194: =IFERROR(E194/C194,"-") -> 2033.6213
A195: Unknown | B195: 20131 | C195: 13 | D195: =C195/'gender total'!C222 -> 0.00047820489 | E195: 289440.26 | F195: =E195/'gender total'!E222 -> 0.001017061 | G195: =IFERROR(E195/C195,"-") -> 22264.635
A196: Unknown | B196: 20132 | C196: 19 | D196: =C196/'gender total'!C223 -> 0.00057734966 | E196: 43824.16 | F196: =E196/'gender total'!E223 -> 0.00012480929 | G196: =IFERROR(E196/C196,"-") -> 2306.5347
A197: Unknown | B197: 20141 | C197: 19 | D197: =C197/'gender total'!C224 -> 0.00064864127 | E197: 77613.13 | F197: =E197/'gender total'!E224 -> 0.00025112121 | G197: =IFERROR(E197/C197,"-") -> 4084.9016
A198: Unknown | B198: 20142 | C198: 24 | D198: =C198/'gender total'!C225 -> 0.00075800644 | E198: 145612.8 | F198: =E198/'gender total'!E225 -> 0.00039925745 | G198: =IFERROR(E198/C198,"-") -> 6067.2
A199: Unknown | B199: 20151 | C199: 16 | D199: =C199/'gender total'!C226 -> 0.00050863083 | E199: 40882.56 | F199: =E199/'gender total'!E226 -> 0.00012058059 | G199: =IFERROR(E199/C199,"-") -> 2555.16
A200: Unknown | B200: 20152 | C200: 23 | D200: =C200/'gender total'!C227 -> 0.00065609311 | E200: 113383.78 | F200: =E200/'gender total'!E227 -> 0.00026946166 | G200: =IFERROR(E200/C200,"-") -> 4929.7296
A201: Unknown | B201: 20161 | C201: 22 | D201: =C201/'gender total'!C228 -> 0.00067636118 | E201: 56657.22 | F201: =E201/'gender total'!E228 -> 0.00015061235 | G201: =IFERROR(E201/C201,"-") -> 2575.3282
...

Sheet male
A1: Claimants by Age and Gender
A5: Age Group | B5: Accident Half Year | C5: Claimant Count | D5: Share on Claimant Count | E5: Insurer Paid | F5: Share on Insurer Paid | G5: Average Insurer Paid per Claimant
A6: 0-15 | B6: 20131 | C6: 444 | D6: =C6/'gender total'!C222 -> 0.016332536 | E6: 4849413.3 | F6: =E6/'gender total'!E222 -> 0.0170403 | G6: =IFERROR(E6/C6,"-") -> 10922.102
A7: 0-15 | B7: 20132 | C7: 549 | D7: =C7/'gender total'!C223 -> 0.016682367 | E7: 4990120.8 | F7: =E7/'gender total'!E223 -> 0.014211646 | G7: =IFERROR(E7/C7,"-") -> 9089.4732
A8: 0-15 | B8: 20141 | C8: 429 | D8: =C8/'gender total'!C224 -> 0.014645637 | E8: 4666516.6 | F8: =E8/'gender total'!E224 -> 0.01509875 | G8: =IFERROR(E8/C8,"-") -> 10877.661
A9: 0-15 | B9: 20142 | C9: 642 | D9: =C9/'gender total'!C225 -> 0.020276672 | E9: 7008445.9 | F9: =E9/'gender total'!E225 -> 0.01921654 | G9: =IFERROR(E9/C9,"-") -> 10916.582
A10: 0-15 | B10: 20151 | C10: 440 | D10: =C10/'gender total'!C226 -> 0.013987348 | E10: 2094045.5 | F10: =E10/'gender total'!E226 -> 0.0061762579 | G10: =IFERROR(E10/C10,"-") -> 4759.1943
A11: 0-15 | B11: 20152 | C11: 569 | D11: =C11/'gender total'!C227 -> 0.016231173 | E11: 5873140.8 | F11: =E11/'gender total'!E227 -> 0.013957784 | G11: =IFERROR(E11/C11,"-") -> 10321.864
A12: 0-15 | B12: 20161 | C12: 432 | D12: =C12/'gender total'!C228 -> 0.013281274 | E12: 3431689.2 | F12: =E12/'gender total'!E228 -> 0.0091224876 | G12: =IFERROR(E12/C12,"-") -> 7943.725
A13: 0-15 | B13: 20162 | C13: 553 | D13: =C13/'gender total'!C229 -> 0.014477198 | E13: 4629407.4 | F13: =E13/'gender total'!E229 -> 0.011234166 | G13: =IFERROR(E13/C13,"-") -> 8371.442
A14: 0-15 | B14: 20171 | C14: 492 | D14: =C14/'gender total'!C230 -> 0.014635888 | E14: 5019120.8 | F14: =E14/'gender total'!E230 -> 0.014775289 | G14: =IFERROR(E14/C14,"-") -> 10201.465
A15: 0-15 | B15: 20172 | C15: 530 | D15: =C15/'gender total'!C231 -> 0.013604744 | E15: 5368193 | F15: =E15/'gender total'!E231 -> 0.013513779 | G15: =IFERROR(E15/C15,"-") -> 10128.666
A16: 0-15 | B16: 20181 | C16: 416 | D16: =C16/'gender total'!C232 -> 0.012278993 | E16: 3736945.5 | F16: =E16/'gender total'!E232 -> 0.010972647 | G16: =IFERROR(E16/C16,"-") -> 8983.042
A17: 0-15 | B17: 20182 | C17: 568 | D17: =C17/'gender total'!C233 -> 0.014782428 | E17: 5521512.6 | F17: =E17/'gender total'!E233 -> 0.014041065 | G17: =IFERROR(E17/C17,"-") -> 9720.9729
... A32: 0-15 | B32: 20261 | C32: 172 | D32: =C32/'gender total'!C248 -> 0.0091484496 | E32: 206899.31 | F32: =E32/'gender total'!E248 -> 0.0066186468 | G32: =IFERROR(E32/C32,"-") -> 1202.903
A33: 16-24 | B33: 20131 | C33: 1325 | D33: =C33/'gender total'!C222 -> 0.048740114 | E33: 16700969 | F33: =E33/'gender total'!E222 -> 0.058685351 | G33: =IFERROR(E33/C33,"-") -> 12604.505
A34: 16-24 | B34: 20132 | C34: 1637 | D34: =C34/'gender total'!C223 -> 0.049743231 | E34: 20335111 | F34: =E34/'gender total'!E223 -> 0.057913509 | G34: =IFERROR(E34/C34,"-") -> 12422.181
A35: 16-24 | B35: 20141 | C35: 1382 | D35: =C35/'gender total'!C224 -> 0.047180117 | E35: 17884386 | F35: =E35/'gender total'!E224 -> 0.057865834 | G35: =IFERROR(E35/C35,"-") -> 12940.945
A36: 16-24 | B36: 20142 | C36: 1747 | D36: =C36/'gender total'!C225 -> 0.055176552 | E36: 22337401 | F36: =E36/'gender total'!E225 -> 0.061247182 | G36: =IFERROR(E36/C36,"-") -> 12786.148
A37: 16-24 | B37: 20151 | C37: 1561 | D37: =C37/'gender total'!C226 -> 0.049623295 | E37: 18818624 | F37: =E37/'gender total'!E226 -> 0.055504371 | G37: =IFERROR(E37/C37,"-") -> 12055.493
A38: 16-24 | B38: 20152 | C38: 2047 | D38: =C38/'gender total'!C227 -> 0.058392287 | E38: 26023122 | F38: =E38/'gender total'!E227 -> 0.061845123 | G38: =IFERROR(E38/C38,"-") -> 12712.81
A39: 16-24 | B39: 20161 | C39: 1777 | D39: =C39/'gender total'!C228 -> 0.054631537 | E39: 22549045 | F39: =E39/'gender total'!E228 -> 0.059942312 | G39: =IFERROR(E39/C39,"-") -> 12689.389
A40: 16-24 | B40: 20162 | C40: 2320 | D40: =C40/'gender total'!C229 -> 0.060736164 | E40: 28954655 | F40: =E40/'gender total'!E229 -> 0.070264154 | G40: =IFERROR(E40/C40,"-") -> 12480.455
A41: 16-24 | B41: 20171 | C41: 1862 | D41: =C41/'gender total'!C230 -> 0.05539029 | E41: 18263046 | F41: =E41/'gender total'!E230 -> 0.053762758 | G41: =IFERROR(E41/C41,"-") -> 9808.2951
A42: 16-24 | B42: 20172 | C42: 2390 | D42: =C42/'gender total'!C231 -> 0.061349693 | E42: 21543012 | F42: =E42/'gender total'!E231 -> 0.054231936 | G42: =IFERROR(E42/C42,"-") -> 9013.8125
A43: 16-24 | B43: 20181 | C43: 1814 | D43: =C43/'gender total'!C232 -> 0.053543493 | E43: 17135995 | F43: =E43/'gender total'!E232 -> 0.050315754 | G43: =IFERROR(E43/C43,"-") -> 9446.5241
A44: 16-24 | B44: 20182 | C44: 2366 | D44: =C44/'gender total'!C233 -> 0.061576098 | E44: 23221466 | F44: =E44/'gender total'!E233 -> 0.059051596 | G44: =IFERROR(E44/C44,"-") -> 9814.6519
... A59: 16-24 | B59: 20261 | C59: 1090 | D59: =C59/'gender total'!C248 -> 0.05797564 | E59: 1857403.1 | F59: =E59/'gender total'!E248 -> 0.059417768 | G59: =IFERROR(E59/C59,"-") -> 1704.0396
A60: 25-39 | B60: 20131 | C60: 3265 | D60: =C60/'gender total'!C222 -> 0.120103 | E60: 36171516 | F60: =E60/'gender total'!E222 -> 0.12710269 | G60: =IFERROR(E60/C60,"-") -> 11078.565
A61: 25-39 | B61: 20132 | C61: 3803 | D61: =C61/'gender total'!C223 -> 0.11556109 | E61: 42829651 | F61: =E61/'gender total'!E223 -> 0.12197698 | G61: =IFERROR(E61/C61,"-") -> 11262.07
A62: 25-39 | B62: 20141 | C62: 3545 | D62: =C62/'gender total'!C224 -> 0.1210228 | E62: 40628605 | F62: =E62/'gender total'!E224 -> 0.13145591 | G62: =IFERROR(E62/C62,"-") -> 11460.82
A63: 25-39 | B63: 20142 | C63: 3831 | D63: =C63/'gender total'!C225 -> 0.12099678 | E63: 47858763 | F63: =E63/'gender total'!E225 -> 0.13122451 | G63: =IFERROR(E63/C63,"-") -> 12492.499
A64: 25-39 | B64: 20151 | C64: 3938 | D64: =C64/'gender total'!C226 -> 0.12518676 | E64: 41529354 | F64: =E64/'gender total'!E226 -> 0.12248827 | G64: =IFERROR(E64/C64,"-") -> 10545.798
A65: 25-39 | B65: 20152 | C65: 4631 | D65: =C65/'gender total'!C227 -> 0.13210292 | E65: 56538039 | F65: =E65/'gender total'!E227 -> 0.1343652 | G65: =IFERROR(E65/C65,"-") -> 12208.603
A66: 25-39 | B66: 20161 | C66: 4240 | D66: =C66/'gender total'!C228 -> 0.13035324 | E66: 51931870 | F66: =E66/'gender total'!E228 -> 0.13805092 | G66: =IFERROR(E66/C66,"-") -> 12248.082
A67: 25-39 | B67: 20162 | C67: 5202 | D67: =C67/'gender total'!C229 -> 0.13618514 | E67: 53677101 | F67: =E67/'gender total'!E229 -> 0.13025802 | G67: =IFERROR(E67/C67,"-") -> 10318.551
A68: 25-39 | B68: 20171 | C68: 4487 | D68: =C68/'gender total'!C230 -> 0.13347811 | E68: 46726361 | F68: =E68/'gender total'!E230 -> 0.13755307 | G68: =IFERROR(E68/C68,"-") -> 10413.72
A69: 25-39 | B69: 20172 | C69: 5300 | D69: =C69/'gender total'!C231 -> 0.13604744 | E69: 52248702 | F69: =E69/'gender total'!E231 -> 0.13152981 | G69: =IFERROR(E69/C69,"-") -> 9858.2456
A70: 25-39 | B70: 20181 | C70: 4579 | D70: =C70/'gender total'!C232 -> 0.13515747 | E70: 45541390 | F70: =E70/'gender total'!E232 -> 0.13372141 | G70: =IFERROR(E70/C70,"-") -> 9945.7064
A71: 25-39 | B71: 20182 | C71: 5376 | D71: =C71/'gender total'!C233 -> 0.13991255 | E71: 53056813 | F71: =E71/'gender total'!E233 -> 0.13492212 | G71: =IFERROR(E71/C71,"-") -> 9869.1988
... A86: 25-39 | B86: 20261 | C86: 3527 | D86: =C86/'gender total'!C248 -> 0.1875964 | E86: 5795805.2 | F86: =E86/'gender total'!E248 -> 0.18540607 | G86: =IFERROR(E86/C86,"-") -> 1643.2677
A87: 40-54 | B87: 20131 | C87: 3403 | D87: =C87/'gender total'!C222 -> 0.12517933 | E87: 40941678 | F87: =E87/'gender total'!E222 -> 0.14386451 | G87: =IFERROR(E87/C87,"-") -> 12031.054
A88: 40-54 | B88: 20132 | C88: 4238 | D88: =C88/'gender total'!C223 -> 0.12877936 | E88: 55161134 | F88: =E88/'gender total'!E223 -> 0.1570965 | G88: =IFERROR(E88/C88,"-") -> 13015.841
A89: 40-54 | B89: 20141 | C89: 3759 | D89: =C89/'gender total'!C224 -> 0.12832855 | E89: 49009316 | F89: =E89/'gender total'!E224 -> 0.15857212 | G89: =IFERROR(E89/C89,"-") -> 13037.86
A90: 40-54 | B90: 20142 | C90: 3852 | D90: =C90/'gender total'!C225 -> 0.12166003 | E90: 49697236 | F90: =E90/'gender total'!E225 -> 0.13626544 | G90: =IFERROR(E90/C90,"-") -> 12901.671
A91: 40-54 | B91: 20151 | C91: 3867 | D91: =C91/'gender total'!C226 -> 0.12292971 | E91: 48594847 | F91: =E91/'gender total'!E226 -> 0.1433275 | G91: =IFERROR(E91/C91,"-") -> 12566.55
A92: 40-54 | B92: 20152 | C92: 4242 | D92: =C92/'gender total'!C227 -> 0.12100639 | E92: 59994109 | F92: =E92/'gender total'!E227 -> 0.1425787 | G92: =IFERROR(E92/C92,"-") -> 14142.883
A93: 40-54 | B93: 20161 | C93: 3816 | D93: =C93/'gender total'!C228 -> 0.11731792 | E93: 49619595 | F93: =E93/'gender total'!E228 -> 0.13190418 | G93: =IFERROR(E93/C93,"-") -> 13003.038
A94: 40-54 | B94: 20162 | C94: 4484 | D94: =C94/'gender total'!C229 -> 0.11738834 | E94: 53952368 | F94: =E94/'gender total'!E229 -> 0.13092601 | G94: =IFERROR(E94/C94,"-") -> 12032.196
A95: 40-54 | B95: 20171 | C95: 3894 | D95: =C95/'gender total'!C230 -> 0.1158377 | E95: 43046313 | F95: =E95/'gender total'!E230 -> 0.12671974 | G95: =IFERROR(E95/C95,"-") -> 11054.523
A96: 40-54 | B96: 20172 | C96: 4360 | D96: =C96/'gender total'!C231 -> 0.11191827 | E96: 50094883 | F96: =E96/'gender total'!E231 -> 0.12610783 | G96: =IFERROR(E96/C96,"-") -> 11489.652
A97: 40-54 | B97: 20181 | C97: 3901 | D97: =C97/'gender total'!C232 -> 0.11514508 | E97: 46617172 | F97: =E97/'gender total'!E232 -> 0.13688019 | G97: =IFERROR(E97/C97,"-") -> 11950.057
A98: 40-54 | B98: 20182 | C98: 4255 | D98: =C98/'gender total'!C233 -> 0.11073808 | E98: 48277309 | F98: =E98/'gender total'!E233 -> 0.12276796 | G98: =IFERROR(E98/C98,"-") -> 11346.019
... A113: 40-54 | B113: 20261 | C113: 2258 | D113: =C113/'gender total'!C248 -> 0.12009999 | E113: 3949277.5 | F113: =E113/'gender total'!E248 -> 0.1263362 | G113: =IFERROR(E113/C113,"-") -> 1749.0157
A114: 55-64 | B114: 20131 | C114: 1599 | D114: =C114/'gender total'!C222 -> 0.058819202 | E114: 19339845 | F114: =E114/'gender total'!E222 -> 0.067958068 | G114: =IFERROR(E114/C114,"-") -> 12094.962
A115: 55-64 | B115: 20132 | C115: 2030 | D115: =C115/'gender total'!C223 -> 0.061685253 | E115: 26095960 | F115: =E115/'gender total'!E223 -> 0.074320155 | G115: =IFERROR(E115/C115,"-") -> 12855.153
A116: 55-64 | B116: 20141 | C116: 1883 | D116: =C116/'gender total'!C224 -> 0.064283763 | E116: 23029812 | F116: =E116/'gender total'!E224 -> 0.074514121 | G116: =IFERROR(E116/C116,"-") -> 12230.383
A117: 55-64 | B117: 20142 | C117: 1995 | D117: =C117/'gender total'!C225 -> 0.063009286 | E117: 27207368 | F117: =E117/'gender total'!E225 -> 0.074600204 | G117: =IFERROR(E117/C117,"-") -> 13637.779
A118: 55-64 | B118: 20151 | C118: 2020 | D118: =C118/'gender total'!C226 -> 0.064214642 | E118: 25973689 | F118: =E118/'gender total'!E226 -> 0.076607793 | G118: =IFERROR(E118/C118,"-") -> 12858.262
A119: 55-64 | B119: 20152 | C119: 2186 | D119: =C119/'gender total'!C227 -> 0.062357371 | E119: 30062775 | F119: =E119/'gender total'!E227 -> 0.07144554 | G119: =IFERROR(E119/C119,"-") -> 13752.413
A120: 55-64 | B120: 20161 | C120: 2085 | D120: =C120/'gender total'!C228 -> 0.064100593 | E120: 28052304 | F120: =E120/'gender total'!E228 -> 0.074571671 | G120: =IFERROR(E120/C120,"-") -> 13454.343
A121: 55-64 | B121: 20162 | C121: 2516 | D121: =C121/'gender total'!C229 -> 0.065867323 | E121: 32254467 | F121: =E121/'gender total'!E229 -> 0.078271798 | G121: =IFERROR(E121/C121,"-") -> 12819.741
A122: 55-64 | B122: 20171 | C122: 2151 | D122: =C122/'gender total'!C230 -> 0.063987387 | E122: 26145726 | F122: =E122/'gender total'!E230 -> 0.076967793 | G122: =IFERROR(E122/C122,"-") -> 12155.149
A123: 55-64 | B123: 20172 | C123: 2459 | D123: =C123/'gender total'!C231 -> 0.063120877 | E123: 31398266 | F123: =E123/'gender total'!E231 -> 0.07904135 | G123: =IFERROR(E123/C123,"-") -> 12768.713
A124: 55-64 | B124: 20181 | C124: 2195 | D124: =C124/'gender total'!C232 -> 0.064789398 | E124: 25037187 | F124: =E124/'gender total'!E232 -> 0.073515717 | G124: =IFERROR(E124/C124,"-") -> 11406.463
A125: 55-64 | B125: 20182 | C125: 2355 | D125: =C125/'gender total'!C233 -> 0.061289819 | E125: 28423133 | F125: =E125/'gender total'!E233 -> 0.072279302 | G125: =IFERROR(E125/C125,"-") -> 12069.271
... A140: 55-64 | B140: 20261 | C140: 1095 | D140: =C140/'gender total'!C248 -> 0.058241583 | E140: 1801258.8 | F140: =E140/'gender total'!E248 -> 0.057621729 | G140: =IFERROR(E140/C140,"-") -> 1644.9852
A141: 65-79 | B141: 20131 | C141: 1069 | D141: =C141/'gender total'!C222 -> 0.039323156 | E141: 12375680 | F141: =E141/'gender total'!E222 -> 0.043486768 | G141: =IFERROR(E141/C141,"-") -> 11576.876
A142: 65-79 | B142: 20132 | C142: 1287 | D142: =C142/'gender total'!C223 -> 0.039107843 | E142: 16163256 | F142: =E142/'gender total'!E223 -> 0.046032248 | G142: =IFERROR(E142/C142,"-") -> 12558.863
A143: 65-79 | B143: 20141 | C143: 1132 | D143: =C143/'gender total'!C224 -> 0.038645364 | E143: 10855403 | F143: =E143/'gender total'!E224 -> 0.035123206 | G143: =IFERROR(E143/C143,"-") -> 9589.5789
A144: 65-79 | B144: 20142 | C144: 1278 | D144: =C144/'gender total'!C225 -> 0.040363843 | E144: 18640436 | F144: =E144/'gender total'!E225 -> 0.051110431 | G144: =IFERROR(E144/C144,"-") -> 14585.631
A145: 65-79 | B145: 20151 | C145: 1281 | D145: =C145/'gender total'!C226 -> 0.040722256 | E145: 14774787 | F145: =E145/'gender total'!E226 -> 0.043577324 | G145: =IFERROR(E145/C145,"-") -> 11533.792
A146: 65-79 | B146: 20152 | C146: 1493 | D146: =C146/'gender total'!C227 -> 0.042589 | E146: 22934521 | F146: =E146/'gender total'!E227 -> 0.054504924 | G146: =IFERROR(E146/C146,"-") -> 15361.367
A147: 65-79 | B147: 20161 | C147: 1302 | D147: =C147/'gender total'!C228 -> 0.040028284 | E147: 16119137 | F147: =E147/'gender total'!E228 -> 0.042849634 | G147: =IFERROR(E147/C147,"-") -> 12380.289
A148: 65-79 | B148: 20162 | C148: 1535 | D148: =C148/'gender total'!C229 -> 0.04018535 | E148: 21306495 | F148: =E148/'gender total'!E229 -> 0.051704393 | G148: =IFERROR(E148/C148,"-") -> 13880.453
A149: 65-79 | B149: 20171 | C149: 1391 | D149: =C149/'gender total'!C230 -> 0.041379105 | E149: 15149210 | F149: =E149/'gender total'!E230 -> 0.044596247 | G149: =IFERROR(E149/C149,"-") -> 10890.877
A150: 65-79 | B150: 20172 | C150: 1652 | D150: =C150/'gender total'!C231 -> 0.042405729 | E150: 18904359 | F150: =E150/'gender total'!E231 -> 0.047589445 | G150: =IFERROR(E150/C150,"-") -> 11443.316
A151: 65-79 | B151: 20181 | C151: 1459 | D151: =C151/'gender total'!C232 -> 0.043065026 | E151: 16671520 | F151: =E151/'gender total'!E232 -> 0.048951934 | G151: =IFERROR(E151/C151,"-") -> 11426.676
A152: 65-79 | B152: 20182 | C152: 1616 | D152: =C152/'gender total'!C233 -> 0.042057048 | E152: 18013239 | F152: =E152/'gender total'!E233 -> 0.045807207 | G152: =IFERROR(E152/C152,"-") -> 11146.807
... A167: 65-79 | B167: 20261 | C167: 869 | D167: =C167/'gender total'!C248 -> 0.046220946 | E167: 1627057.6 | F167: =E167/'gender total'!E248 -> 0.052049082 | G167: =IFERROR(E167/C167,"-") -> 1872.3332
A168: 80+ | B168: 20131 | C168: 168 | D168: =C168/'gender total'!C222 -> 0.0061798786 | E168: 2783190 | F168: =E168/'gender total'!E222 -> 0.0097798206 | G168: =IFERROR(E168/C168,"-") -> 16566.607
A169: 80+ | B169: 20132 | C169: 237 | D169: =C169/'gender total'!C223 -> 0.0072016774 | E169: 2503943.1 | F169: =E169/'gender total'!E223 -> 0.0071311206 | G169: =IFERROR(E169/C169,"-") -> 10565.161
A170: 80+ | B170: 20141 | C170: 214 | D170: =C170/'gender total'!C224 -> 0.007305749 | E170: 2026995.4 | F170: =E170/'gender total'!E224 -> 0.0065584461 | G170: =IFERROR(E170/C170,"-") -> 9471.9411
A171: 80+ | B171: 20142 | C171: 227 | D171: =C171/'gender total'!C225 -> 0.0071694776 | E171: 3061063.5 | F171: =E171/'gender total'!E225 -> 0.0083931661 | G171: =IFERROR(E171/C171,"-") -> 13484.861
A172: 80+ | B172: 20151 | C172: 222 | D172: =C172/'gender total'!C226 -> 0.0070572528 | E172: 2423628.7 | F172: =E172/'gender total'!E226 -> 0.0071483432 | G172: =IFERROR(E172/C172,"-") -> 10917.246
A173: 80+ | B173: 20152 | C173: 290 | D173: =C173/'gender total'!C227 -> 0.0082724783 | E173: 3407799.7 | F173: =E173/'gender total'!E227 -> 0.0080987896 | G173: =IFERROR(E173/C173,"-") -> 11751.034
A174: 80+ | B174: 20161 | C174: 228 | D174: =C174/'gender total'!C228 -> 0.0070095613 | E174: 4336994.3 | F174: =E174/'gender total'!E228 -> 0.011529068 | G174: =IFERROR(E174/C174,"-") -> 19021.905
A175: 80+ | B175: 20162 | C175: 259 | D175: =C175/'gender total'!C229 -> 0.0067804597 | E175: 4034691.7 | F175: =E175/'gender total'!E229 -> 0.0097909715 | G175: =IFERROR(E175/C175,"-") -> 15577.96
A176: 80+ | B176: 20171 | C176: 270 | D176: =C176/'gender total'!C230 -> 0.0080318896 | E176: 3478929.5 | F176: =E176/'gender total'!E230 -> 0.010241273 | G176: =IFERROR(E176/C176,"-") -> 12884.924
A177: 80+ | B177: 20172 | C177: 300 | D177: =C177/'gender total'!C231 -> 0.0077007983 | E177: 3102839.9 | F177: =E177/'gender total'!E231 -> 0.0078110254 | G177: =IFERROR(E177/C177,"-") -> 10342.8
A178: 80+ | B178: 20181 | C178: 296 | D178: =C178/'gender total'!C232 -> 0.0087369757 | E178: 2843820.9 | F178: =E178/'gender total'!E232 -> 0.0083502004 | G178: =IFERROR(E178/C178,"-") -> 9607.5029
A179: 80+ | B179: 20182 | C179: 309 | D179: =C179/'gender total'!C233 -> 0.0080418488 | E179: 3834550.1 | F179: =E179/'gender total'!E233 -> 0.009751163 | G179: =IFERROR(E179/C179,"-") -> 12409.547
... A194: 80+ | B194: 20261 | C194: 181 | D194: =C194/'gender total'!C248 -> 0.0096271475 | E194: 354567.7 | F194: =E194/'gender total'!E248 -> 0.011342514 | G194: =IFERROR(E194/C194,"-") -> 1958.9376
A195: Unknown | B195: 20131 | C195: 12 | D195: =C195/'gender total'!C222 -> 0.0004414199 | E195: 49193.84 | F195: =E195/'gender total'!E222 -> 0.00017286169 | G195: =IFERROR(E195/C195,"-") -> 4099.4867
A196: Unknown | B196: 20132 | C196: 11 | D196: =C196/'gender total'!C223 -> 0.00033425507 | E196: 36037.97 | F196: =E196/'gender total'!E223 -> 0.00010263457 | G196: =IFERROR(E196/C196,"-") -> 3276.1791
A197: Unknown | B197: 20141 | C197: 13 | D197: =C197/'gender total'!C224 -> 0.00044380718 | E197: 40729.45 | F197: =E197/'gender total'!E224 -> 0.00013178219 | G197: =IFERROR(E197/C197,"-") -> 3133.0346
A198: Unknown | B198: 20142 | C198: 18 | D198: =C198/'gender total'!C225 -> 0.00056850483 | E198: 226963.25 | F198: =E198/'gender total'!E225 -> 0.00062231321 | G198: =IFERROR(E198/C198,"-") -> 12609.069
A199: Unknown | B199: 20151 | C199: 9 | D199: =C199/'gender total'!C226 -> 0.00028610484 | E199: 43864.6 | F199: =E199/'gender total'!E226 -> 0.00012937593 | G199: =IFERROR(E199/C199,"-") -> 4873.8444
A200: Unknown | B200: 20152 | C200: 22 | D200: =C200/'gender total'!C227 -> 0.00062756732 | E200: 102704.4 | F200: =E200/'gender total'!E227 -> 0.00024408163 | G200: =IFERROR(E200/C200,"-") -> 4668.3818
A201: Unknown | B201: 20161 | C201: 23 | D201: =C201/'gender total'!C228 -> 0.00070710487 | E201: 56087.19 | F201: =E201/'gender total'!E228 -> 0.00014909704 | G201: =IFERROR(E201/C201,"-") -> 2438.5735
...

Sheet gender total
A1: Claimants by Age and Gender
A5: Age Group | B5: Accident Half Year | C5: Claimant Count | D5: Share on Claimant Count | E5: Insurer Paid | F5: Share on Insurer Paid | G5: Average Insurer Paid per Claimant
A6: 0-15 | B6: 20131 | C6: =female!C6+male!C6 -> 977 | D6: =female!D6+male!D6 -> 0.035938937 | E6: =female!E6+male!E6 -> 10095355 | F6: =female!F6+male!F6 -> 0.035473957 | G6: =IFERROR(E6/C6,"-") -> 10333.014
A7: 0-15 | B7: 20132 | C7: =female!C7+male!C7 -> 1243 | D7: =female!D7+male!D7 -> 0.037770823 | E7: =female!E7+male!E7 -> 10226988 | F7: =female!F7+male!F7 -> 0.029126014 | G7: =IFERROR(E7/C7,"-") -> 8227.665
A8: 0-15 | B8: 20141 | C8: =female!C8+male!C8 -> 890 | D8: =female!D8+male!D8 -> 0.030383723 | E8: =female!E8+male!E8 -> 7662210.8 | F8: =female!F8+male!F8 -> 0.02479147 | G8: =IFERROR(E8/C8,"-") -> 8609.2256
A9: 0-15 | B9: 20142 | C9: =female!C9+male!C9 -> 1340 | D9: =female!D9+male!D9 -> 0.042322026 | E9: =female!E9+male!E9 -> 14459200 | F9: =female!F9+male!F9 -> 0.03964585 | G9: =IFERROR(E9/C9,"-") -> 10790.448
A10: 0-15 | B10: 20151 | C10: =female!C10+male!C10 -> 979 | D10: =female!D10+male!D10 -> 0.031121849 | E10: =female!E10+male!E10 -> 5590228.6 | F10: =female!F10+male!F10 -> 0.016488034 | G10: =IFERROR(E10/C10,"-") -> 5710.1416
A11: 0-15 | B11: 20152 | C11: =female!C11+male!C11 -> 1269 | D11: =female!D11+male!D11 -> 0.036199224 | E11: =female!E11+male!E11 -> 11824751 | F11: =female!F11+male!F11 -> 0.028102055 | G11: =IFERROR(E11/C11,"-") -> 9318.1651
A12: 0-15 | B12: 20161 | C12: =female!C12+male!C12 -> 937 | D12: =female!D12+male!D12 -> 0.028806837 | E12: =female!E12+male!E12 -> 7150704 | F12: =female!F12+male!F12 -> 0.019008775 | G12: =IFERROR(E12/C12,"-") -> 7631.4877
A13: 0-15 | B13: 20162 | C13: =female!C13+male!C13 -> 1260 | D13: =female!D13+male!D13 -> 0.03298602 | E13: =female!E13+male!E13 -> 11880305 | F13: =female!F13+male!F13 -> 0.028829892 | G13: =IFERROR(E13/C13,"-") -> 9428.8134
A14: 0-15 | B14: 20171 | C14: =female!C14+male!C14 -> 1039 | D14: =female!D14+male!D14 -> 0.030907901 | E14: =female!E14+male!E14 -> 8188167.2 | F14: =female!F14+male!F14 -> 0.024104328 | G14: =IFERROR(E14/C14,"-") -> 7880.8154
A15: 0-15 | B15: 20172 | C15: =female!C15+male!C15 -> 1258 | D15: =female!D15+male!D15 -> 0.032292014 | E15: =female!E15+male!E15 -> 9555233 | F15: =female!F15+male!F15 -> 0.024054147 | G15: =IFERROR(E15/C15,"-") -> 7595.5747
A16: 0-15 | B16: 20181 | C16: =female!C16+male!C16 -> 916 | D16: =female!D16+male!D16 -> 0.027037398 | E16: =female!E16+male!E16 -> 6998825.5 | F16: =female!F16+male!F16 -> 0.020550379 | G16: =IFERROR(E16/C16,"-") -> 7640.6392
A17: 0-15 | B17: 20182 | C17: =female!C17+male!C17 -> 1160 | D17: =female!D17+male!D17 -> 0.030189465 | E17: =female!E17+male!E17 -> 9525198.6 | F17: =female!F17+male!F17 -> 0.024222337 | G17: =IFERROR(E17/C17,"-") -> 8211.3781
... A248: Total | B248: 20261 | C248: =female!C248+male!C248 -> 18801 | D248: =female!D248+male!D248 -> 1 | E248: =female!E248+male!E248 -> 31260062 | F248: =female!F248+male!F248 -> 1 | G248: =IFERROR(E248/C248,"-") -> 1662.6808

Sheet territory
A1: Claimants by Region
A5: Territory | B5: Accident Half Year | C5: Claimant Count | D5: Share on Claimant Count | E5: Insurer Paid | F5: Share on Insurer Paid | G5: Average Insurer Paid per Claimant
A6: Greater Toronto Area (GTA) | B6: 20131 | C6: 12796 | D6: =C6/C114 -> 0.47070075 | E6: 1.3213932e+08 | F6: =E6/E114 -> 0.46432291 | G6: =E6/C6 -> 10326.611
A7: Greater Toronto Area (GTA) | B7: 20132 | C7: 15979 | D7: =C7/C115 -> 0.48555107 | E7: 1.6353409e+08 | F7: =E7/E115 -> 0.46573795 | G7: =E7/C7 -> 10234.313
A8: Greater Toronto Area (GTA) | B8: 20141 | C8: 13783 | D8: =C8/C116 -> 0.47053803 | E8: 1.4110839e+08 | F8: =E8/E116 -> 0.45656332 | G8: =E8/C8 -> 10237.857
A9: Greater Toronto Area (GTA) | B9: 20142 | C9: 15242 | D9: =C9/C117 -> 0.48139726 | E9: 1.6941481e+08 | F9: =E9/E117 -> 0.46452046 | G9: =E9/C9 -> 11114.999
A10: Greater Toronto Area (GTA) | B10: 20151 | C10: 14954 | D10: =C10/C118 -> 0.47537909 | E10: 1.6033784e+08 | F10: =E10/E118 -> 0.47290655 | G10: =E10/C10 -> 10722.07
A11: Greater Toronto Area (GTA) | B11: 20152 | C11: 17074 | D11: =C11/C119 -> 0.48704929 | E11: 2.0158395e+08 | F11: =E11/E119 -> 0.47907334 | G11: =E11/C11 -> 11806.487
A12: Greater Toronto Area (GTA) | B12: 20161 | C12: 15543 | D12: =C12/C120 -> 0.47784917 | E12: 1.8354587e+08 | F12: =E12/E120 -> 0.48792148 | G12: =E12/C12 -> 11808.909
A13: Greater Toronto Area (GTA) | B13: 20162 | C13: 18475 | D13: =C13/C121 -> 0.48366407 | E13: 1.9755674e+08 | F13: =E13/E121 -> 0.47941021 | G13: =E13/C13 -> 10693.193
A14: Greater Toronto Area (GTA) | B14: 20171 | C14: 16379 | D14: =C14/C122 -> 0.48723822 | E14: 1.6781813e+08 | F14: =E14/E122 -> 0.49402304 | G14: =E14/C14 -> 10245.933
A15: Greater Toronto Area (GTA) | B15: 20172 | C15: 18505 | D15: =C15/C123 -> 0.47501091 | E15: 1.8646594e+08 | F15: =E15/E123 -> 0.46940554 | G15: =E15/C15 -> 10076.517
A16: Greater Toronto Area (GTA) | B16: 20181 | C16: 16140 | D16: =C16/C124 -> 0.47640131 | E16: 1.6497081e+08 | F16: =E16/E124 -> 0.48439737 | G16: =E16/C16 -> 10221.24
A17: Greater Toronto Area (GTA) | B17: 20182 | C17: 18310 | D17: =C17/C125 -> 0.47652509 | E17: 1.8829259e+08 | F17: =E17/E125 -> 0.47882324 | G17: =E17/C17 -> 10283.593
... A32: Greater Toronto Area (GTA) | B32: 20261 | C32: 8295 | D32: =C32/C140 -> 0.44119994 | E32: 15209509 | F32: =E32/E140 -> 0.48654762 | G32: =E32/C32 -> 1833.5755
A33: Non-GTA Urban | B33: 20131 | C33: 9581 | D33: =C33/C114 -> 0.35243701 | E33: 95307989 | F33: =E33/E114 -> 0.3349017 | G33: =E33/C33 -> 9947.6035
A34: Non-GTA Urban | B34: 20132 | C34: 11270 | D34: =C34/C115 -> 0.34245951 | E34: 1.1766283e+08 | F34: =E34/E115 -> 0.3350986 | G34: =E34/C34 -> 10440.357
A35: Non-GTA Urban | B35: 20141 | C35: 10388 | D35: =C35/C116 -> 0.35463608 | E35: 1.0772004e+08 | F35: =E35/E116 -> 0.34853362 | G35: =E35/C35 -> 10369.661
A36: Non-GTA Urban | B36: 20142 | C36: 11063 | D36: =C36/C117 -> 0.34940939 | E36: 1.2720615e+08 | F36: =E36/E117 -> 0.34878803 | G36: =E36/C36 -> 11498.341
A37: Non-GTA Urban | B37: 20151 | C37: 11131 | D37: =C37/C118 -> 0.35384811 | E37: 1.1716626e+08 | F37: =E37/E118 -> 0.34557464 | G37: =E37/C37 -> 10526.121
A38: Non-GTA Urban | B38: 20152 | C38: 12151 | D38: =C38/C119 -> 0.34661684 | E38: 1.376706e+08 | F38: =E38/E119 -> 0.32718039 | G38: =E38/C38 -> 11329.981
A39: Non-GTA Urban | B39: 20161 | C39: 11463 | D39: =C39/C120 -> 0.35241492 | E39: 1.2497135e+08 | F39: =E39/E120 -> 0.33221237 | G39: =E39/C39 -> 10902.151
A40: Non-GTA Urban | B40: 20162 | C40: 13387 | D40: =C40/C121 -> 0.35046338 | E40: 1.3961623e+08 | F40: =E40/E121 -> 0.33880619 | G40: =E40/C40 -> 10429.24
A41: Non-GTA Urban | B41: 20171 | C41: 11743 | D41: =C41/C122 -> 0.3493277 | E41: 1.1422979e+08 | F41: =E41/E122 -> 0.33626969 | G41: =E41/C41 -> 9727.4797
A42: Non-GTA Urban | B42: 20172 | C42: 13664 | D42: =C42/C123 -> 0.35074569 | E42: 1.3563715e+08 | F42: =E42/E123 -> 0.34145019 | G42: =E42/C42 -> 9926.6068
A43: Non-GTA Urban | B43: 20181 | C43: 12037 | D43: =C43/C124 -> 0.35529384 | E43: 1.1699155e+08 | F43: =E43/E124 -> 0.34351773 | G43: =E43/C43 -> 9719.328
A44: Non-GTA Urban | B44: 20182 | C44: 13809 | D44: =C44/C125 -> 0.35938476 | E44: 1.3426477e+08 | F44: =E44/E125 -> 0.34143188 | G44: =E44/C44 -> 9722.9901
... A59: Non-GTA Urban | B59: 20261 | C59: 7217 | D59: =C59/C140 -> 0.38386256 | E59: 11071649 | F59: =E59/E140 -> 0.35417874 | G59: =E59/C59 -> 1534.1069
A60: Rural | B60: 20131 | C60: 4706 | D60: =C60/C114 -> 0.17311017 | E60: 55993509 | F60: =E60/E114 -> 0.19675498 | G60: =E60/C60 -> 11898.323
A61: Rural | B61: 20132 | C61: 5560 | D61: =C61/C115 -> 0.16895074 | E61: 69211163 | F61: =E61/E115 -> 0.19711037 | G61: =E61/C61 -> 12448.051
A62: Rural | B62: 20141 | C62: 5029 | D62: =C62/C116 -> 0.1716851 | E62: 58755344 | F62: =E62/E116 -> 0.19010589 | G62: =E62/C62 -> 11683.306
A63: Rural | B63: 20142 | C63: 5265 | D63: =C63/C117 -> 0.16628766 | E63: 66506023 | F63: =E63/E117 -> 0.18235365 | G63: =E63/C63 -> 12631.723
A64: Rural | B64: 20151 | C64: 5276 | D64: =C64/C118 -> 0.16772102 | E64: 60508575 | F64: =E64/E118 -> 0.17846631 | G64: =E64/C64 -> 11468.646
A65: Rural | B65: 20152 | C65: 5709 | D65: =C65/C119 -> 0.16285372 | E65: 79433463 | F65: =E65/E119 -> 0.1887772 | G65: =E65/C65 -> 13913.726
A66: Rural | B66: 20161 | C66: 5386 | D66: =C66/C120 -> 0.16558551 | E66: 65974153 | F66: =E66/E120 -> 0.17537963 | G66: =E66/C66 -> 12249.193
A67: Rural | B67: 20162 | C67: 6206 | D67: =C67/C121 -> 0.16246924 | E67: 73183369 | F67: =E67/E121 -> 0.17759381 | G67: =E67/C67 -> 11792.357
A68: Rural | B68: 20171 | C68: 5362 | D68: =C68/C122 -> 0.15950738 | E68: 56453843 | F68: =E68/E122 -> 0.16618884 | G68: =E68/C68 -> 10528.505
A69: Rural | B69: 20172 | C69: 6614 | D69: =C69/C123 -> 0.16977693 | E69: 73680050 | F69: =E69/E123 -> 0.18548065 | G69: =E69/C69 -> 11140.014
A70: Rural | B70: 20181 | C70: 5574 | D70: =C70/C124 -> 0.1645267 | E70: 57299181 | F70: =E70/E124 -> 0.16824535 | G70: =E70/C70 -> 10279.724
A71: Rural | B71: 20182 | C71: 6190 | D71: =C71/C125 -> 0.16109723 | E71: 69225898 | F71: =E71/E125 -> 0.17603969 | G71: =E71/C71 -> 11183.505
... A86: Rural | B86: 20261 | C86: 3271 | D86: =C86/C140 -> 0.17398011 | E86: 4954868.8 | F86: =E86/E140 -> 0.15850476 | G86: =E86/C86 -> 1514.7871
A87: Unknown | B87: 20131 | C87: 102 | D87: =C87/C114 -> 0.0037520692 | E87: 1144151.1 | F87: =E87/E114 -> 0.00402042 | G87: =E87/C87 -> 11217.168
A88: Unknown | B88: 20132 | C88: 100 | D88: =C88/C115 -> 0.0030386824 | E88: 720894.71 | F88: =E88/E115 -> 0.0020530767 | G88: =E88/C88 -> 7208.9471
A89: Unknown | B89: 20141 | C89: 92 | D89: =C89/C116 -> 0.0031407893 | E89: 1482643.9 | F89: =E89/E116 -> 0.0047971693 | G89: =E89/C89 -> 16115.694
A90: Unknown | B90: 20142 | C90: 92 | D90: =C90/C117 -> 0.0029056914 | E90: 1582057.1 | F90: =E90/E117 -> 0.0043378611 | G90: =E90/C90 -> 17196.273
A91: Unknown | B91: 20151 | C91: 96 | D91: =C91/C118 -> 0.003051785 | E91: 1034943.6 | F91: =E91/E118 -> 0.0030525021 | G91: =E91/C91 -> 10780.662
A92: Unknown | B92: 20152 | C92: 122 | D92: =C92/C119 -> 0.0034801461 | E92: 2090878.3 | F92: =E92/E119 -> 0.0049690665 | G92: =E92/C92 -> 17138.347
A93: Unknown | B93: 20161 | C93: 135 | D93: =C93/C120 -> 0.0041503981 | E93: 1687732.7 | F93: =E93/E120 -> 0.0044865137 | G93: =E93/C93 -> 12501.724
A94: Unknown | B94: 20162 | C94: 130 | D94: =C94/C121 -> 0.0034033195 | E94: 1726536.6 | F94: =E94/E121 -> 0.0041897799 | G94: =E94/C94 -> 13281.05
A95: Unknown | B95: 20171 | C95: 132 | D95: =C95/C122 -> 0.0039267016 | E95: 1195198.8 | F95: =E95/E122 -> 0.0035184264 | G95: =E95/C95 -> 9054.5362
A96: Unknown | B96: 20172 | C96: 174 | D96: =C96/C123 -> 0.004466463 | E96: 1455332.7 | F96: =E96/E123 -> 0.0036636247 | G96: =E96/C96 -> 8363.9812
A97: Unknown | B97: 20181 | C97: 128 | D97: =C97/C124 -> 0.0037781517 | E97: 1307629.1 | F97: =E97/E124 -> 0.0038395403 | G97: =E97/C97 -> 10215.852
A98: Unknown | B98: 20182 | C98: 115 | D98: =C98/C125 -> 0.0029929211 | E98: 1457030.5 | F98: =E98/E125 -> 0.0037051914 | G98: =E98/C98 -> 12669.831
... A113: Unknown | B113: 20261 | C113: 18 | D113: =C113/C140 -> 0.00095739588 | E113: 24035.2 | F113: =E113/E140 -> 0.00076887883 | G113: =E113/C113 -> 1335.2889
A114: All Regions | B114: 20131 | C114: =C6+C33+C60+C87 -> 27185 | D114: =D6+D33+D60+D87 -> 1 | E114: =E6+E33+E60+E87 -> 2.8458497e+08 | F114: =F6+F33+F60+F87 -> 1 | G114: =E114/C114 -> 10468.456
A115: All Regions | B115: 20132 | C115: =C7+C34+C61+C88 -> 32909 | D115: =D7+D34+D61+D88 -> 1 | E115: =E7+E34+E61+E88 -> 3.5112898e+08 | F115: =F7+F34+F61+F88 -> 1 | G115: =E115/C115 -> 10669.695
A116: All Regions | B116: 20141 | C116: =C8+C35+C62+C89 -> 29292 | D116: =D8+D35+D62+D89 -> 1 | E116: =E8+E35+E62+E89 -> 3.0906641e+08 | F116: =F8+F35+F62+F89 -> 1 | G116: =E116/C116 -> 10551.223
A117: All Regions | B117: 20142 | C117: =C9+C36+C63+C90 -> 31662 | D117: =D9+D36+D63+D90 -> 1 | E117: =E9+E36+E63+E90 -> 3.6470904e+08 | F117: =F9+F36+F63+F90 -> 1 | G117: =E117/C117 -> 11518.825
A118: All Regions | B118: 20151 | C118: =C10+C37+C64+C91 -> 31457 | D118: =D10+D37+D64+D91 -> 1 | E118: =E10+E37+E64+E91 -> 3.3904761e+08 | F118: =F10+F37+F64+F91 -> 1 | G118: =E118/C118 -> 10778.129
A119: All Regions | B119: 20152 | C119: =C11+C38+C65+C92 -> 35056 | D119: =D11+D38+D65+D92 -> 1 | E119: =E11+E38+E65+E92 -> 4.2077889e+08 | F119: =F11+F38+F65+F92 -> 1 | G119: =E119/C119 -> 12003.049
A120: All Regions | B120: 20161 | C120: =C12+C39+C66+C93 -> 32527 | D120: =D12+D39+D66+D93 -> 1 | E120: =E12+E39+E66+E93 -> 3.761791e+08 | F120: =F12+F39+F66+F93 -> 1 | G120: =E120/C120 -> 11565.134
A121: All Regions | B121: 20162 | C121: =C13+C40+C67+C94 -> 38198 | D121: =D13+D40+D67+D94 -> 1 | E121: =E13+E40+E67+E94 -> 4.1208288e+08 | F121: =F13+F40+F67+F94 -> 1 | G121: =E121/C121 -> 10788.075
A122: All Regions | B122: 20171 | C122: =C14+C41+C68+C95 -> 33616 | D122: =D14+D41+D68+D95 -> 1 | E122: =E14+E41+E68+E95 -> 3.3969696e+08 | F122: =F14+F41+F68+F95 -> 1 | G122: =E122/C122 -> 10105.217
A123: All Regions | B123: 20172 | C123: =C15+C42+C69+C96 -> 38957 | D123: =D15+D42+D69+D96 -> 1 | E123: =E15+E42+E69+E96 -> 3.9723848e+08 | F123: =F15+F42+F69+F96 -> 1 | G123: =E123/C123 -> 10196.845
A124: All Regions | B124: 20181 | C124: =C16+C43+C70+C97 -> 33879 | D124: =D16+D43+D70+D97 -> 1 | E124: =E16+E43+E70+E97 -> 3.4056917e+08 | F124: =F16+F43+F70+F97 -> 1 | G124: =E124/C124 -> 10052.516
A125: All Regions | B125: 20182 | C125: =C17+C44+C71+C98 -> 38424 | D125: =D17+D44+D71+D98 -> 1 | E125: =E17+E44+E71+E98 -> 3.9324029e+08 | F125: =F17+F44+F71+F98 -> 1 | G125: =E125/C125 -> 10234.236
... A140: All Regions | B140: 20261 | C140: =C32+C59+C86+C113 -> 18801 | D140: =D32+D59+D86+D113 -> 1 | E140: =E32+E59+E86+E113 -> 31260062 | F140: =F32+F59+F86+F113 -> 1 | G140: =E140/C140 -> 1662.6808

Sheet med-rehab
A1: Claimants by Medical and Rehabilitation Expense Class Claimants may be counted multiple times because the classes are not mutually exclusive.
A5: Class | B5: Accident Half Year | C5: Claimant Count | D5: Share on Claimant Count | E5: Insurer Paid | F5: Share on Insurer Paid | G5: Average Insurer Paid per Claimant
A6: Treatment – MIG Only | B6: 20131 | C6: 6451 | D6: =C6/C345 -> 0.23729998 | E6: 9668190 | F6: =E6/E345 -> 0.033972947 | G6: =E6/C6 -> 1498.7118
A7: Treatment – MIG Only | B7: 20132 | C7: 7703 | D7: =C7/C346 -> 0.23406971 | E7: 11467446 | F7: =E7/E346 -> 0.032658786 | G7: =E7/C7 -> 1488.6987
A8: Treatment – MIG Only | B8: 20141 | C8: 6686 | D8: =C8/C347 -> 0.22825345 | E8: 9876772.4 | F8: =E8/E347 -> 0.031956796 | G8: =E8/C8 -> 1477.2319
A9: Treatment – MIG Only | B9: 20142 | C9: 6933 | D9: =C9/C348 -> 0.21896911 | E9: 9997416.5 | F9: =E9/E348 -> 0.027412034 | G9: =E9/C9 -> 1442.0044
A10: Treatment – MIG Only | B10: 20151 | C10: 6946 | D10: =C10/C349 -> 0.22080936 | E10: 9914460.6 | F10: =E10/E349 -> 0.02924209 | G10: =E10/C10 -> 1427.3626
A11: Treatment – MIG Only | B11: 20152 | C11: 7465 | D11: =C11/C350 -> 0.212945 | E11: 10605640 | F11: =E11/E350 -> 0.025204781 | G11: =E11/C11 -> 1420.7153
A12: Treatment – MIG Only | B12: 20161 | C12: 6934 | D12: =C12/C351 -> 0.21317675 | E12: 9898536 | F12: =E12/E351 -> 0.02631336 | G12: =E12/C12 -> 1427.5362
A13: Treatment – MIG Only | B13: 20162 | C13: 8451 | D13: =C13/C352 -> 0.22124195 | E13: 11896249 | F13: =E13/E352 -> 0.028868584 | G13: =E13/C13 -> 1407.6736
A14: Treatment – MIG Only | B14: 20171 | C14: 7605 | D14: =C14/C353 -> 0.22623156 | E14: 10601661 | F14: =E14/E353 -> 0.031209172 | G14: =E14/C14 -> 1394.0383
A15: Treatment – MIG Only | B15: 20172 | C15: 9074 | D15: =C15/C354 -> 0.23292348 | E15: 12574256 | F15: =E15/E354 -> 0.031654175 | G15: =E15/C15 -> 1385.7457
A16: Treatment – MIG Only | B16: 20181 | C16: 7797 | D16: =C16/C355 -> 0.23014257 | E16: 10584136 | F16: =E16/E355 -> 0.031077786 | G16: =E16/C16 -> 1357.4626
A17: Treatment – MIG Only | B17: 20182 | C17: 9076 | D17: =C17/C356 -> 0.23620654 | E17: 12269203 | F17: =E17/E356 -> 0.031200271 | G17: =E17/C17 -> 1351.8294
... A32: Treatment – MIG Only | B32: 20261 | C32: 9850 | D32: =C32/C371 -> 0.5239083 | E32: 12366375 | F32: =E32/E371 -> 0.39559662 | G32: =E32/C32 -> 1255.4695
A33: Treatment – Non-MIG | B33: 20131 | C33: 4784 | D33: =C33/C345 -> 0.1759794 | E33: 68829847 | F33: =E33/E345 -> 0.24186044 | G33: =E33/C33 -> 14387.51
A34: Treatment – Non-MIG | B34: 20132 | C34: 6099 | D34: =C34/C346 -> 0.18532924 | E34: 90321191 | F34: =E34/E346 -> 0.25723081 | G34: =E34/C34 -> 14809.18
A35: Treatment – Non-MIG | B35: 20141 | C35: 4864 | D35: =C35/C347 -> 0.16605216 | E35: 76550826 | F35: =E35/E347 -> 0.24768407 | G35: =E35/C35 -> 15738.246
A36: Treatment – Non-MIG | B36: 20142 | C36: 5953 | D36: =C36/C348 -> 0.18801718 | E36: 1.0089758e+08 | F36: =E36/E348 -> 0.27665227 | G36: =E36/C36 -> 16949.031
A37: Treatment – Non-MIG | B37: 20151 | C37: 5342 | D37: =C37/C349 -> 0.16981912 | E37: 81173254 | F37: =E37/E349 -> 0.2394155 | G37: =E37/C37 -> 15195.293
A38: Treatment – Non-MIG | B38: 20152 | C38: 6693 | D38: =C38/C350 -> 0.19092309 | E38: 1.092512e+08 | F38: =E38/E350 -> 0.2596404 | G38: =E38/C38 -> 16323.203
A39: Treatment – Non-MIG | B39: 20161 | C39: 5883 | D39: =C39/C351 -> 0.18086513 | E39: 93807278 | F39: =E39/E351 -> 0.24936866 | G39: =E39/C39 -> 15945.483
A40: Treatment – Non-MIG | B40: 20162 | C40: 6813 | D40: =C40/C352 -> 0.17836012 | E40: 1.0313096e+08 | F40: =E40/E352 -> 0.25026753 | G40: =E40/C40 -> 15137.379
A41: Treatment – Non-MIG | B41: 20171 | C41: 5213 | D41: =C41/C353 -> 0.15507496 | E41: 75875879 | F41: =E41/E353 -> 0.22336343 | G41: =E41/C41 -> 14555.127
A42: Treatment – Non-MIG | B42: 20172 | C42: 6139 | D42: =C42/C354 -> 0.157584 | E42: 88887768 | F42: =E42/E354 -> 0.22376424 | G42: =E42/C42 -> 14479.193
A43: Treatment – Non-MIG | B43: 20181 | C43: 4983 | D43: =C43/C355 -> 0.14708226 | E43: 72660438 | F43: =E43/E355 -> 0.21335001 | G43: =E43/C43 -> 14581.665
A44: Treatment – Non-MIG | B44: 20182 | C44: 5997 | D44: =C44/C356 -> 0.15607433 | E44: 90674730 | F44: =E44/E356 -> 0.23058352 | G44: =E44/C44 -> 15120.015
... A59: Treatment – Non-MIG | B59: 20261 | C59: 2638 | D59: =C59/C371 -> 0.14031169 | E59: 3804955.5 | F59: =E59/E371 -> 0.12171938 | G59: =E59/C59 -> 1442.3637
A60: Treatment – MIG and Non-MIG | B60: 20131 | C60: 15228 | D60: =C60/C345 -> 0.56016185 | E60: 77641797 | F60: =E60/E345 -> 0.27282466 | G60: =E60/C60 -> 5098.6208
A61: Treatment – MIG and Non-MIG | B61: 20132 | C61: 18255 | D61: =C61/C346 -> 0.55471148 | E61: 92408142 | F61: =E61/E346 -> 0.26317435 | G61: =E61/C61 -> 5062.073
A62: Treatment – MIG and Non-MIG | B62: 20141 | C62: 17075 | D62: =C62/C347 -> 0.58292367 | E62: 88573463 | F62: =E62/E347 -> 0.28658392 | G62: =E62/C62 -> 5187.3185
A63: Treatment – MIG and Non-MIG | B63: 20142 | C63: 18048 | D63: =C63/C348 -> 0.57002085 | E63: 98142456 | F63: =E63/E348 -> 0.26909796 | G63: =E63/C63 -> 5437.8577
A64: Treatment – MIG and Non-MIG | B64: 20151 | C64: 18485 | D64: =C64/C349 -> 0.58762756 | E64: 1.0509595e+08 | F64: =E64/E349 -> 0.30997403 | G64: =E64/C64 -> 5685.4722
A65: Treatment – MIG and Non-MIG | B65: 20152 | C65: 20199 | D65: =C65/C350 -> 0.57619238 | E65: 1.2548899e+08 | F65: =E65/E350 -> 0.29823025 | G65: =E65/C65 -> 6212.634
A66: Treatment – MIG and Non-MIG | B66: 20161 | C66: 19101 | D66: =C66/C351 -> 0.58723522 | E66: 1.1741281e+08 | F66: =E66/E351 -> 0.31211943 | G66: =E66/C66 -> 6146.9456
A67: Treatment – MIG and Non-MIG | B67: 20162 | C67: 22163 | D67: =C67/C352 -> 0.58021362 | E67: 1.2712033e+08 | F67: =E67/E352 -> 0.30848243 | G67: =E67/C67 -> 5735.7003
A68: Treatment – MIG and Non-MIG | B68: 20171 | C68: 20141 | D68: =C68/C353 -> 0.59914921 | E68: 1.1468466e+08 | F68: =E68/E353 -> 0.33760874 | G68: =E68/C68 -> 5694.0899
A69: Treatment – MIG and Non-MIG | B69: 20172 | C69: 23156 | D69: =C69/C354 -> 0.59439895 | E69: 1.3709287e+08 | F69: =E69/E354 -> 0.34511477 | G69: =E69/C69 -> 5920.4037
A70: Treatment – MIG and Non-MIG | B70: 20181 | C70: 20655 | D70: =C70/C355 -> 0.60966971 | E70: 1.2248993e+08 | F70: =E70/E355 -> 0.3596624 | G70: =E70/C70 -> 5930.2797
A71: Treatment – MIG and Non-MIG | B71: 20182 | C71: 22813 | D71: =C71/C356 -> 0.59371747 | E71: 1.348087e+08 | F71: =E71/E356 -> 0.34281508 | G71: =E71/C71 -> 5909.293
... A86: Treatment – MIG and Non-MIG | B86: 20261 | C86: 5883 | D86: =C86/C371 -> 0.31290889 | E86: 13134416 | F86: =E86/E371 -> 0.42016603 | G86: =E86/C86 -> 2232.6052
A87: Treatment – Subtotal | B87: 20131 | C87: =C33+C6+C60 -> 26463 | D87: =C87/C345 -> 0.97344124 | E87: =E33+E6+E60 -> 1.5613983e+08 | F87: =E87/E345 -> 0.54865805 | G87: =E87/C87 -> 5900.3074
A88: Treatment – Subtotal | B88: 20132 | C88: =C34+C7+C61 -> 32057 | D88: =C88/C346 -> 0.97411043 | E88: =E34+E7+E61 -> 1.9419678e+08 | F88: =E88/E346 -> 0.55306395 | G88: =E88/C88 -> 6057.8588
A89: Treatment – Subtotal | B89: 20141 | C89: =C35+C8+C62 -> 28625 | D89: =C89/C347 -> 0.97722928 | E89: =E35+E8+E62 -> 1.7500106e+08 | F89: =E89/E347 -> 0.56622478 | G89: =E89/C89 -> 6113.5742
A90: Treatment – Subtotal | B90: 20142 | C90: =C36+C9+C63 -> 30934 | D90: =C90/C348 -> 0.97700714 | E90: =E36+E9+E63 -> 209037457 | F90: =E90/E348 -> 0.57316226 | G90: =E90/C90 -> 6757.5308
A91: Treatment – Subtotal | B91: 20151 | C91: =C37+C10+C64 -> 30773 | D91: =C91/C349 -> 0.97825603 | E91: =E37+E10+E64 -> 1.9618367e+08 | F91: =E91/E349 -> 0.57863162 | G91: =E91/C91 -> 6375.1883
A92: Treatment – Subtotal | B92: 20152 | C92: =C38+C11+C65 -> 34357 | D92: =C92/C350 -> 0.98006047 | E92: =E38+E11+E65 -> 2.4534583e+08 | F92: =E92/E350 -> 0.58307543 | G92: =E92/C92 -> 7141.0726
A93: Treatment – Subtotal | B93: 20161 | C93: =C39+C12+C66 -> 31918 | D93: =C93/C351 -> 0.98127709 | E93: =E39+E12+E66 -> 2.2111862e+08 | F93: =E93/E351 -> 0.58780145 | G93: =E93/C93 -> 6927.7092
A94: Treatment – Subtotal | B94: 20162 | C94: =C40+C13+C67 -> 37427 | D94: =C94/C352 -> 0.9798157 | E94: =E40+E13+E67 -> 2.4214754e+08 | F94: =E94/E352 -> 0.58761854 | G94: =E94/C94 -> 6469.8623
A95: Treatment – Subtotal | B95: 20171 | C95: =C41+C14+C68 -> 32959 | D95: =C95/C353 -> 0.98045574 | E95: =E41+E14+E68 -> 2.011622e+08 | F95: =E95/E353 -> 0.59218134 | G95: =E95/C95 -> 6103.4074
A96: Treatment – Subtotal | B96: 20172 | C96: =C42+C15+C69 -> 38369 | D96: =C96/C354 -> 0.98490644 | E96: =E42+E15+E69 -> 2.3855489e+08 | F96: =E96/E354 -> 0.60053319 | G96: =E96/C96 -> 6217.3863
A97: Treatment – Subtotal | B97: 20181 | C97: =C43+C16+C70 -> 33435 | D97: =C97/C355 -> 0.98689454 | E97: =E43+E16+E70 -> 2.057345e+08 | F97: =E97/E355 -> 0.6040902 | G97: =E97/C97 -> 6153.2676
A98: Treatment – Subtotal | B98: 20182 | C98: =C44+C17+C71 -> 37886 | D98: =C98/C356 -> 0.98599833 | E98: =E44+E17+E71 -> 2.3775263e+08 | F98: =E98/E356 -> 0.60459887 | G98: =E98/C98 -> 6275.4747
... A113: Treatment – Subtotal | B113: 20261 | C113: =C59+C32+C86 -> 18371 | D113: =C113/C371 -> 0.97712888 | E113: =E59+E32+E86 -> 29305747 | F113: =E113/E371 -> 0.93748204 | G113: =E113/C113 -> 1595.2178
A114: Insurer Initiated Exam | B114: 20131 | C114: 11450 | D114: =C114/C345 -> 0.42118816 | E114: 74017914 | F114: =E114/E345 -> 0.26009074 | G114: =E114/C114 -> 6464.4466
A115: Insurer Initiated Exam | B115: 20132 | C115: 14105 | D115: =C115/C346 -> 0.42860616 | E115: 91028201 | F115: =E115/E346 -> 0.25924434 | G115: =E115/C115 -> 6453.6122
A116: Insurer Initiated Exam | B116: 20141 | C116: 12300 | D116: =C116/C347 -> 0.41990987 | E116: 77588369 | F116: =E116/E347 -> 0.25104109 | G116: =E116/C116 -> 6307.9975
A117: Insurer Initiated Exam | B117: 20142 | C117: 13660 | D117: =C117/C348 -> 0.431432 | E117: 88499483 | F117: =E117/E348 -> 0.24265778 | G117: =E117/C117 -> 6478.7323
A118: Insurer Initiated Exam | B118: 20151 | C118: 13350 | D118: =C118/C349 -> 0.42438885 | E118: 85990428 | F118: =E118/E349 -> 0.25362346 | G118: =E118/C118 -> 6441.2305
A119: Insurer Initiated Exam | B119: 20152 | C119: 15104 | D119: =C119/C350 -> 0.43085349 | E119: 1.0016135e+08 | F119: =E119/E350 -> 0.23803796 | G119: =E119/C119 -> 6631.4453
A120: Insurer Initiated Exam | B120: 20161 | C120: 13641 | D120: =C120/C351 -> 0.41937467 | E120: 89224671 | F120: =E120/E351 -> 0.23718668 | G120: =E120/C120 -> 6540.9186
A121: Insurer Initiated Exam | B121: 20162 | C121: 15852 | D121: =C121/C352 -> 0.41499555 | E121: 1.0032359e+08 | F121: =E121/E352 -> 0.24345489 | G121: =E121/C121 -> 6328.7656
A122: Insurer Initiated Exam | B122: 20171 | C122: 13416 | D122: =C122/C353 -> 0.39909567 | E122: 82999571 | F122: =E122/E353 -> 0.24433416 | G122: =E122/C122 -> 6186.6108
A123: Insurer Initiated Exam | B123: 20172 | C123: 14511 | D123: =C123/C354 -> 0.37248761 | E123: 91586722 | F123: =E123/E354 -> 0.23055853 | G123: =E123/C123 -> 6311.5376
A124: Insurer Initiated Exam | B124: 20181 | C124: 12015 | D124: =C124/C355 -> 0.35464447 | E124: 77501286 | F124: =E124/E355 -> 0.22756401 | G124: =E124/C124 -> 6450.3775
A125: Insurer Initiated Exam | B125: 20182 | C125: 13394 | D125: =C125/C356 -> 0.34858422 | E125: 86263565 | F125: =E125/E356 -> 0.21936604 | G125: =E125/C125 -> 6440.4632
... A140: Insurer Initiated Exam | B140: 20261 | C140: 486 | D140: =C140/C371 -> 0.025849689 | E140: 1136281.1 | F140: =E140/E371 -> 0.03634929 | G140: =E140/C140 -> 2338.0269
A141: Provider Initiated Exam | B141: 20131 | C141: 11253 | D141: =C141/C345 -> 0.41394151 | E141: 17070119 | F141: =E141/E345 -> 0.059982503 | G141: =E141/C141 -> 1516.9394
A142: Provider Initiated Exam | B142: 20132 | C142: 13722 | D142: =C142/C346 -> 0.416968 | E142: 21371868 | F142: =E142/E346 -> 0.060866148 | G142: =E142/C142 -> 1557.4893
A143: Provider Initiated Exam | B143: 20141 | C143: 12092 | D143: =C143/C347 -> 0.41280896 | E143: 17585879 | F143: =E143/E347 -> 0.0569 | G143: =E143/C143 -> 1454.34
A144: Provider Initiated Exam | B144: 20142 | C144: 13038 | D144: =C144/C348 -> 0.411787 | E144: 19695338 | F144: =E144/E348 -> 0.054002878 | G144: =E144/C144 -> 1510.6104
A145: Provider Initiated Exam | B145: 20151 | C145: 12447 | D145: =C145/C349 -> 0.395683 | E145: 17134862 | F145: =E145/E349 -> 0.050538217 | G145: =E145/C145 -> 1376.6258
A146: Provider Initiated Exam | B146: 20152 | C146: 14650 | D146: =C146/C350 -> 0.41790278 | E146: 21623913 | F146: =E146/E350 -> 0.051390204 | G146: =E146/C146 -> 1476.035
A147: Provider Initiated Exam | B147: 20161 | C147: 13570 | D147: =C147/C351 -> 0.41719187 | E147: 19717446 | F147: =E147/E351 -> 0.052415049 | G147: =E147/C147 -> 1453.0174
A148: Provider Initiated Exam | B148: 20162 | C148: 15743 | D148: =C148/C352 -> 0.412142 | E148: 21807109 | F148: =E148/E352 -> 0.052919232 | G148: =E148/C148 -> 1385.194
A149: Provider Initiated Exam | B149: 20171 | C149: 13159 | D149: =C149/C353 -> 0.3914505 | E149: 18821262 | F149: =E149/E353 -> 0.055406037 | G149: =E149/C149 -> 1430.2958
A150: Provider Initiated Exam | B150: 20172 | C150: 15143 | D150: =C150/C354 -> 0.38871063 | E150: 23599087 | F150: =E150/E354 -> 0.059407858 | G150: =E150/C150 -> 1558.4156
A151: Provider Initiated Exam | B151: 20181 | C151: 13059 | D151: =C151/C355 -> 0.38546002 | E151: 20825525 | F151: =E151/E355 -> 0.061149178 | G151: =E151/C151 -> 1594.7259
A152: Provider Initiated Exam | B152: 20182 | C152: 14878 | D152: =C152/C356 -> 0.38720591 | E152: 25157236 | F152: =E152/E356 -> 0.063974208 | G152: =E152/C152 -> 1690.9017
... A167: Provider Initiated Exam | B167: 20261 | C167: 3198 | D167: =C167/C371 -> 0.17009734 | E167: 1649269.7 | F167: =E167/E371 -> 0.052759644 | G167: =E167/C167 -> 515.71912
A168: Goods and Supplies | B168: 20131 | C168: 4635 | D168: =C168/C345 -> 0.17049844 | E168: 6352513.9 | F168: =E168/E345 -> 0.022322029 | G168: =E168/C168 -> 1370.5532
A169: Goods and Supplies | B169: 20132 | C169: 5977 | D169: =C169/C346 -> 0.18162205 | E169: 7457368.9 | F169: =E169/E346 -> 0.021238261 | G169: =E169/C169 -> 1247.6776
A170: Goods and Supplies | B170: 20141 | C170: 5294 | D170: =C170/C347 -> 0.18073194 | E170: 6836412.2 | F170: =E170/E347 -> 0.022119557 | G170: =E170/C170 -> 1291.351
A171: Goods and Supplies | B171: 20142 | C171: 6177 | D171: =C171/C348 -> 0.19509191 | E171: 9536207.2 | F171: =E171/E348 -> 0.026147439 | G171: =E171/C171 -> 1543.825
A172: Goods and Supplies | B172: 20151 | C172: 6284 | D172: =C172/C349 -> 0.19976476 | E172: 8689483.3 | F172: =E172/E349 -> 0.025629095 | G172: =E172/C172 -> 1382.7949
A173: Goods and Supplies | B173: 20152 | C173: 7811 | D173: =C173/C350 -> 0.22281492 | E173: 12258512 | F173: =E173/E350 -> 0.029132907 | G173: =E173/C173 -> 1569.3909
A174: Goods and Supplies | B174: 20161 | C174: 7299 | D174: =C174/C351 -> 0.22439819 | E174: 10734605 | F174: =E174/E351 -> 0.02853589 | G174: =E174/C174 -> 1470.6954
A175: Goods and Supplies | B175: 20162 | C175: 8450 | D175: =C175/C352 -> 0.22121577 | E175: 12305902 | F175: =E175/E352 -> 0.029862686 | G175: =E175/C175 -> 1456.3197
A176: Goods and Supplies | B176: 20171 | C176: 7014 | D176: =C176/C353 -> 0.20865064 | E176: 9058052 | F176: =E176/E353 -> 0.026665095 | G176: =E176/C176 -> 1291.4246
A177: Goods and Supplies | B177: 20172 | C177: 8245 | D177: =C177/C354 -> 0.21164361 | E177: 12155651 | F177: =E177/E354 -> 0.030600387 | G177: =E177/C177 -> 1474.3058
A178: Goods and Supplies | B178: 20181 | C178: 7147 | D178: =C178/C355 -> 0.21095664 | E178: 10795711 | F178: =E178/E355 -> 0.031699026 | G178: =E178/C178 -> 1510.5234
A179: Goods and Supplies | B179: 20182 | C179: 8197 | D179: =C179/C356 -> 0.21333021 | E179: 12732528 | F179: =E179/E356 -> 0.032378494 | G179: =E179/C179 -> 1553.3156
... A194: Goods and Supplies | B194: 20261 | C194: 1202 | D194: =C194/C371 -> 0.06393277 | E194: 802027.44 | F194: =E194/E371 -> 0.025656617 | G194: =E194/C194 -> 667.24413
A195: Missed/Cancelled Appointments | B195: 20131 | C195: 5437 | D195: =C195/C345 -> 0.2 | E195: 7644165.5 | F195: =E195/E345 -> 0.026860749 | G195: =E195/C195 -> 1405.9528
A196: Missed/Cancelled Appointments | B196: 20132 | C196: 6664 | D196: =C196/C346 -> 0.2024978 | E196: 9147733.4 | F196: =E196/E346 -> 0.026052346 | G196: =E196/C196 -> 1372.7091
A197: Missed/Cancelled Appointments | B197: 20141 | C197: 5798 | D197: =C197/C347 -> 0.197938 | E197: 7697630.1 | F197: =E197/E347 -> 0.024906071 | G197: =E197/C197 -> 1327.6354
A198: Missed/Cancelled Appointments | B198: 20142 | C198: 6478 | D198: =C198/C348 -> 0.20459857 | E198: 8527760.2 | F198: =E198/E348 -> 0.023382366 | G198: =E198/C198 -> 1316.4187
A199: Missed/Cancelled Appointments | B199: 20151 | C199: 6303 | D199: =C199/C349 -> 0.20036876 | E199: 8331644 | F199: =E199/E349 -> 0.02457367 | G199: =E199/C199 -> 1321.8537
A200: Missed/Cancelled Appointments | B200: 20152 | C200: 7141 | D200: =C200/C350 -> 0.20370265 | E200: 9238206.5 | F200: =E200/E350 -> 0.021955014 | G200: =E200/C200 -> 1293.6853
A201: Missed/Cancelled Appointments – IE | B201: 20161 | C201: 6523 | D201: =C201/C351 -> 0.20054109 | E201: 8626396.1 | F201: =E201/E351 -> 0.02293162 | G201: =E201/C201 -> 1322.4584
...

Sheet injury
A1: Claimants by Reported Injury Grouping Only treatment expense as defined in the expense class exhibit is included in this report.
A5: Injury Class | B5: Accident Half Year | C5: Claimant Count | D5: Share on Claimant Count | E5: Insurer Paid | F5: Share on Insurer Paid | G5: Average Insurer Paid per Claimant
A6: A. Strains & Sprains | B6: 20131 | C6: 19033 | D6: =C6/C222 -> 0.71923062 | E6: 63851524 | F6: =E6/E222 -> 0.40893808 | G6: =E6/C6 -> 3354.7798
A7: A. Strains & Sprains | B7: 20132 | C7: 22863 | D7: =C7/C223 -> 0.71319837 | E7: 75757024 | F7: =E7/E223 -> 0.39010443 | G7: =E7/C7 -> 3313.5207
A8: A. Strains & Sprains | B8: 20141 | C8: 20630 | D8: =C8/C224 -> 0.72069869 | E8: 70812654 | F8: =E8/E224 -> 0.40464128 | G8: =E8/C8 -> 3432.5087
A9: A. Strains & Sprains | B9: 20142 | C9: 21686 | D9: =C9/C225 -> 0.70104093 | E9: 78737796 | F9: =E9/E225 -> 0.37666836 | G9: =E9/C9 -> 3630.8123
A10: A. Strains & Sprains | B10: 20151 | C10: 21877 | D10: =C10/C226 -> 0.71091541 | E10: 81511456 | F10: =E10/E226 -> 0.41548543 | G10: =E10/C10 -> 3725.8973
A11: A. Strains & Sprains | B11: 20152 | C11: 23645 | D11: =C11/C227 -> 0.68821492 | E11: 91356719 | F11: =E11/E227 -> 0.37235896 | G11: =E11/C11 -> 3863.6802
A12: A. Strains & Sprains | B12: 20161 | C12: 22160 | D12: =C12/C228 -> 0.69427909 | E12: 86602040 | F12: =E12/E228 -> 0.39165421 | G12: =E12/C12 -> 3908.0343
A13: A. Strains & Sprains | B13: 20162 | C13: 25779 | D13: =C13/C229 -> 0.68878083 | E13: 97017533 | F13: =E13/E229 -> 0.40065463 | G13: =E13/C13 -> 3763.4327
A14: A. Strains & Sprains | B14: 20171 | C14: 23167 | D14: =C14/C230 -> 0.70290361 | E14: 86718344 | F14: =E14/E230 -> 0.43108667 | G14: =E14/C14 -> 3743.184
A15: A. Strains & Sprains | B15: 20172 | C15: 26894 | D15: =C15/C231 -> 0.70093044 | E15: 1.0020671e+08 | F15: =E15/E231 -> 0.42005724 | G15: =E15/C15 -> 3725.9876
A16: A. Strains & Sprains | B16: 20181 | C16: 23654 | D16: =C16/C232 -> 0.70746224 | E16: 88994902 | F16: =E16/E232 -> 0.4325716 | G16: =E16/C16 -> 3762.3616
A17: A. Strains & Sprains | B17: 20182 | C17: 26429 | D17: =C17/C233 -> 0.69759278 | E17: 98316874 | F17: =E17/E233 -> 0.41352591 | G17: =E17/C17 -> 3720.0376
... A32: A. Strains & Sprains | B32: 20261 | C32: 13232 | D32: =C32/C248 -> 0.72026564 | E32: 20004299 | F32: =E32/E248 -> 0.68260671 | G32: =E32/C32 -> 1511.8122
A33: B. PNI | B33: 20131 | C33: 1570 | D33: =C33/C222 -> 0.059328119 | E33: 10217965 | F33: =E33/E222 -> 0.065441113 | G33: =E33/C33 -> 6508.2576
A34: B. PNI | B34: 20132 | C34: 1948 | D34: =C34/C223 -> 0.060766759 | E34: 13131258 | F34: =E34/E223 -> 0.067618308 | G34: =E34/C34 -> 6740.892
A35: B. PNI | B35: 20141 | C35: 1760 | D35: =C35/C224 -> 0.061484716 | E35: 12649843 | F35: =E35/E224 -> 0.072284381 | G35: =E35/C35 -> 7187.411
A36: B. PNI | B36: 20142 | C36: 1894 | D36: =C36/C225 -> 0.061227129 | E36: 13077012 | F36: =E36/E225 -> 0.062558222 | G36: =E36/C36 -> 6904.4412
A37: B. PNI | B37: 20151 | C37: 1977 | D37: =C37/C226 -> 0.06424463 | E37: 15008066 | F37: =E37/E226 -> 0.07650008 | G37: =E37/C37 -> 7591.3335
A38: B. PNI | B38: 20152 | C38: 2248 | D38: =C38/C227 -> 0.065430625 | E38: 16254311 | F38: =E38/E227 -> 0.066250609 | G38: =E38/C38 -> 7230.5653
A39: B. PNI | B39: 20161 | C39: 2141 | D39: =C39/C228 -> 0.067078138 | E39: 15466180 | F39: =E39/E228 -> 0.069945172 | G39: =E39/C39 -> 7223.8113
A40: B. PNI | B40: 20162 | C40: 2312 | D40: =C40/C229 -> 0.061773586 | E40: 15455581 | F40: =E40/E229 -> 0.063827123 | G40: =E40/C40 -> 6684.9398
A41: B. PNI | B41: 20171 | C41: 1953 | D41: =C41/C230 -> 0.059255439 | E41: 12092409 | F41: =E41/E230 -> 0.060112727 | G41: =E41/C41 -> 6191.7095
A42: B. PNI | B42: 20172 | C42: 1971 | D42: =C42/C231 -> 0.051369595 | E42: 12923917 | F42: =E42/E231 -> 0.054175861 | G42: =E42/C42 -> 6557.0354
A43: B. PNI | B43: 20181 | C43: 1759 | D43: =C43/C232 -> 0.052609541 | E43: 11752585 | F43: =E43/E232 -> 0.057125009 | G43: =E43/C43 -> 6681.4014
A44: B. PNI | B44: 20182 | C44: 1935 | D44: =C44/C233 -> 0.051074275 | E44: 13423747 | F44: =E44/E233 -> 0.05646098 | G44: =E44/C44 -> 6937.3368
... A59: B. PNI | B59: 20261 | C59: 741 | D59: =C59/C248 -> 0.040335311 | E59: 1210473.1 | F59: =E59/E248 -> 0.041304974 | G59: =E59/C59 -> 1633.567
A60: C. Fract/Disloc/Ext STI | B60: 20131 | C60: 1804 | D60: =C60/C222 -> 0.068170653 | E60: 15343174 | F60: =E60/E222 -> 0.098265596 | G60: =E60/C60 -> 8505.0853
A61: C. Fract/Disloc/Ext STI | B61: 20132 | C61: 2226 | D61: =C61/C223 -> 0.069438812 | E61: 20385115 | F61: =E61/E223 -> 0.10497144 | G61: =E61/C61 -> 9157.7338
A62: C. Fract/Disloc/Ext STI | B62: 20141 | C62: 1833 | D62: =C62/C224 -> 0.064034934 | E62: 16280896 | F62: =E62/E224 -> 0.093033129 | G62: =E62/C62 -> 8882.1038
A63: C. Fract/Disloc/Ext STI | B63: 20142 | C63: 2052 | D63: =C63/C225 -> 0.066334777 | E63: 19285876 | F63: =E63/E225 -> 0.092260384 | G63: =E63/C63 -> 9398.5751
A64: C. Fract/Disloc/Ext STI | B64: 20151 | C64: 1940 | D64: =C64/C226 -> 0.063042277 | E64: 18100051 | F64: =E64/E226 -> 0.092260744 | G64: =E64/C64 -> 9329.9233
A65: C. Fract/Disloc/Ext STI | B65: 20152 | C65: 2310 | D65: =C65/C227 -> 0.067235207 | E65: 23249760 | F65: =E65/E227 -> 0.094763215 | G65: =E65/C65 -> 10064.831
A66: C. Fract/Disloc/Ext STI | B66: 20161 | C66: 1944 | D66: =C66/C228 -> 0.060906072 | E66: 18602288 | F66: =E66/E228 -> 0.084128094 | G66: =E66/C66 -> 9569.0783
A67: C. Fract/Disloc/Ext STI | B67: 20162 | C67: 2425 | D67: =C67/C229 -> 0.064792797 | E67: 23583244 | F67: =E67/E229 -> 0.097392044 | G67: =E67/C67 -> 9725.049
A68: C. Fract/Disloc/Ext STI | B68: 20171 | C68: 2009 | D68: =C68/C230 -> 0.060954519 | E68: 19101577 | F68: =E68/E230 -> 0.094956094 | G68: =E68/C68 -> 9508.0026
A69: C. Fract/Disloc/Ext STI | B69: 20172 | C69: 2319 | D69: =C69/C231 -> 0.060439417 | E69: 21743276 | F69: =E69/E231 -> 0.091145799 | G69: =E69/C69 -> 9376.1433
A70: C. Fract/Disloc/Ext STI | B70: 20181 | C70: 1874 | D70: =C70/C232 -> 0.05604905 | E70: 18466383 | F70: =E70/E232 -> 0.089758317 | G70: =E70/C70 -> 9853.9928
A71: C. Fract/Disloc/Ext STI | B71: 20182 | C71: 2256 | D71: =C71/C233 -> 0.059547062 | E71: 21242634 | F71: =E71/E233 -> 0.089347628 | G71: =E71/C71 -> 9416.0612
... A86: C. Fract/Disloc/Ext STI | B86: 20261 | C86: 817 | D86: =C86/C248 -> 0.044472266 | E86: 1598101.8 | F86: =E86/E248 -> 0.054532028 | G86: =E86/C86 -> 1956.061
A87: D1. ABI/CNI | B87: 20131 | C87: 1806 | D87: =C87/C222 -> 0.068246231 | E87: 29521486 | F87: =E87/E222 -> 0.18907082 | G87: =E87/C87 -> 16346.338
A88: D1. ABI/CNI | B88: 20132 | C88: 2290 | D88: =C88/C223 -> 0.071435256 | E88: 37194403 | F88: =E88/E223 -> 0.19152945 | G88: =E88/C88 -> 16242.097
A89: D1. ABI/CNI | B89: 20141 | C89: 2122 | D89: =C89/C224 -> 0.074131004 | E89: 33295511 | F89: =E89/E224 -> 0.19025891 | G89: =E89/C89 -> 15690.627
A90: D1. ABI/CNI | B90: 20142 | C90: 2636 | D90: =C90/C225 -> 0.085213681 | E90: 44584200 | F90: =E90/E225 -> 0.21328331 | G90: =E90/C90 -> 16913.581
A91: D1. ABI/CNI | B91: 20151 | C91: 2609 | D91: =C91/C226 -> 0.084782114 | E91: 40848186 | F91: =E91/E226 -> 0.208214 | G91: =E91/C91 -> 15656.645
A92: D1. ABI/CNI | B92: 20152 | C92: 3191 | D92: =C92/C227 -> 0.092877725 | E92: 57202866 | F92: =E92/E227 -> 0.23315198 | G92: =E92/C92 -> 17926.313
A93: D1. ABI/CNI | B93: 20161 | C93: 3097 | D93: =C93/C228 -> 0.097029889 | E93: 49103589 | F93: =E93/E228 -> 0.22206899 | G93: =E93/C93 -> 15855.211
A94: D1. ABI/CNI | B94: 20162 | C94: 3800 | D94: =C94/C229 -> 0.10153098 | E94: 53486111 | F94: =E94/E229 -> 0.22088232 | G94: =E94/C94 -> 14075.292
A95: D1. ABI/CNI | B95: 20171 | C95: 3422 | D95: =C95/C230 -> 0.10382597 | E95: 46279846 | F95: =E95/E230 -> 0.23006233 | G95: =E95/C95 -> 13524.21
A96: D1. ABI/CNI | B96: 20172 | C96: 4320 | D96: =C96/C231 -> 0.11259089 | E96: 56045634 | F96: =E96/E231 -> 0.2349381 | G96: =E96/C96 -> 12973.526
A97: D1. ABI/CNI | B97: 20181 | C97: 3792 | D97: =C97/C232 -> 0.11341409 | E97: 49080642 | F97: =E97/E232 -> 0.23856301 | G97: =E97/C97 -> 12943.207
A98: D1. ABI/CNI | B98: 20182 | C98: 4499 | D98: =C98/C233 -> 0.11875099 | E98: 57969169 | F98: =E98/E233 -> 0.24382135 | G98: =E98/C98 -> 12884.901
... A113: D1. ABI/CNI | B113: 20261 | C113: 2684 | D113: =C113/C248 -> 0.14609983 | E113: 4852592.2 | F113: =E113/E248 -> 0.165585 | G113: =E113/C113 -> 1807.9703
A114: D2. Spinal Inj/SCI | B114: 20131 | C114: 404 | D114: =C114/C222 -> 0.015266599 | E114: 5013775.6 | F114: =E114/E222 -> 0.032110804 | G114: =E114/C114 -> 12410.336
A115: D2. Spinal Inj/SCI | B115: 20132 | C115: 490 | D115: =C115/C223 -> 0.015285273 | E115: 5919035.5 | F115: =E115/E223 -> 0.030479576 | G115: =E115/C115 -> 12079.664
A116: D2. Spinal Inj/SCI | B116: 20141 | C116: 435 | D116: =C116/C224 -> 0.015196507 | E116: 5739078.8 | F116: =E116/E224 -> 0.032794537 | G116: =E116/C116 -> 13193.285
A117: D2. Spinal Inj/SCI | B117: 20142 | C117: 478 | D117: =C117/C225 -> 0.015452253 | E117: 5841540.4 | F117: =E117/E225 -> 0.027944946 | G117: =E117/C117 -> 12220.796
A118: D2. Spinal Inj/SCI | B118: 20151 | C118: 456 | D118: =C118/C226 -> 0.014818185 | E118: 6084753.7 | F118: =E118/E226 -> 0.031015598 | G118: =E118/C118 -> 13343.758
A119: D2. Spinal Inj/SCI | B119: 20152 | C119: 645 | D119: =C119/C227 -> 0.018773467 | E119: 7865973.9 | F119: =E119/E227 -> 0.03206076 | G119: =E119/C119 -> 12195.308
A120: D2. Spinal Inj/SCI | B120: 20161 | C120: 565 | D120: =C120/C228 -> 0.01770161 | E120: 7826094.9 | F120: =E120/E228 -> 0.035393197 | G120: =E120/C120 -> 13851.495
A121: D2. Spinal Inj/SCI | B121: 20162 | C121: 649 | D121: =C121/C229 -> 0.017340423 | E121: 6914841.9 | F121: =E121/E229 -> 0.028556317 | G121: =E121/C121 -> 10654.61
A122: D2. Spinal Inj/SCI | B122: 20171 | C122: 480 | D122: =C122/C230 -> 0.014563549 | E122: 5020316.3 | F122: =E122/E230 -> 0.024956558 | G122: =E122/C122 -> 10458.992
A123: D2. Spinal Inj/SCI | B123: 20172 | C123: 594 | D123: =C123/C231 -> 0.015481248 | E123: 6606701.7 | F123: =E123/E231 -> 0.027694681 | G123: =E123/C123 -> 11122.394
A124: D2. Spinal Inj/SCI | B124: 20181 | C124: 468 | D124: =C124/C232 -> 0.013997308 | E124: 5372923.2 | F124: =E124/E232 -> 0.02611581 | G124: =E124/C124 -> 11480.605
A125: D2. Spinal Inj/SCI | B125: 20182 | C125: 521 | D125: =C125/C233 -> 0.013751782 | E125: 5758108.2 | F125: =E125/E233 -> 0.024218904 | G125: =E125/C125 -> 11052.031
... A140: D2. Spinal Inj/SCI | B140: 20261 | C140: 192 | D140: =C140/C248 -> 0.010451255 | E140: 375027.21 | F140: =E140/E248 -> 0.012797054 | G140: =E140/C140 -> 1953.2667
A141: D3. Int/Ext Inj | B141: 20131 | C141: 334 | D141: =C141/C222 -> 0.012621396 | E141: 3460085.8 | F141: =E141/E222 -> 0.022160174 | G141: =E141/C141 -> 10359.538
A142: D3. Int/Ext Inj | B142: 20132 | C142: 459 | D142: =C142/C223 -> 0.014318246 | E142: 5172528.7 | F142: =E142/E223 -> 0.026635502 | G142: =E142/C142 -> 11269.126
A143: D3. Int/Ext Inj | B143: 20141 | C143: 298 | D143: =C143/C224 -> 0.01041048 | E143: 3345018.9 | F143: =E143/E224 -> 0.019114278 | G143: =E143/C143 -> 11224.896
A144: D3. Int/Ext Inj | B144: 20142 | C144: 353 | D144: =C144/C225 -> 0.011411392 | E144: 3499310.1 | F144: =E144/E225 -> 0.016740111 | G144: =E144/C144 -> 9913.0599
A145: D3. Int/Ext Inj | B145: 20151 | C145: 348 | D145: =C145/C226 -> 0.011308615 | E145: 4134893.7 | F145: =E145/E226 -> 0.021076646 | G145: =E145/C145 -> 11881.879
A146: D3. Int/Ext Inj | B146: 20152 | C146: 433 | D146: =C146/C227 -> 0.012602963 | E146: 5591302.2 | F146: =E146/E227 -> 0.022789473 | G146: =E146/C146 -> 12912.938
A147: D3. Int/Ext Inj | B147: 20161 | C147: 352 | D147: =C147/C228 -> 0.01102826 | E147: 4437144.2 | F147: =E147/E228 -> 0.020066805 | G147: =E147/C147 -> 12605.523
A148: D3. Int/Ext Inj | B148: 20162 | C148: 436 | D148: =C148/C229 -> 0.011649344 | E148: 5594041.6 | F148: =E148/E229 -> 0.02310179 | G148: =E148/C148 -> 12830.371
A149: D3. Int/Ext Inj | B149: 20171 | C149: 356 | D149: =C149/C230 -> 0.010801299 | E149: 4109973.3 | F149: =E149/E230 -> 0.020431141 | G149: =E149/C149 -> 11544.869
A150: D3. Int/Ext Inj | B150: 20172 | C150: 433 | D150: =C150/C231 -> 0.011285152 | E150: 6265021.6 | F150: =E150/E231 -> 0.02626239 | G150: =E150/C150 -> 14468.872
A151: D3. Int/Ext Inj | B151: 20181 | C151: 352 | D151: =C151/C232 -> 0.01052789 | E151: 4313759.1 | F151: =E151/E232 -> 0.020967602 | G151: =E151/C151 -> 12254.997
A152: D3. Int/Ext Inj | B152: 20182 | C152: 409 | D152: =C152/C233 -> 0.010795545 | E152: 5997100 | F152: =E152/E233 -> 0.025224116 | G152: =E152/C152 -> 14662.836
... A167: D3. Int/Ext Inj | B167: 20261 | C167: 157 | D167: =C167/C248 -> 0.0085460781 | E167: 299962.64 | F167: =E167/E248 -> 0.010235625 | G167: =E167/C167 -> 1910.5901
A168: E. Multi Mj Inju | B168: 20131 | C168: 460 | D168: =C168/C222 -> 0.017382761 | E168: 25545893 | F168: =E168/E222 -> 0.16360907 | G168: =E168/C168 -> 55534.551
A169: E. Multi Mj Inju | B169: 20132 | C169: 563 | D169: =C169/C223 -> 0.017562467 | E169: 32686784 | F169: =E169/E223 -> 0.16831785 | G169: =E169/C169 -> 58058.231
A170: E. Multi Mj Inju | B170: 20141 | C170: 480 | D170: =C170/C224 -> 0.016768559 | E170: 29277037 | F170: =E170/E224 -> 0.16729634 | G170: =E170/C170 -> 60993.826
A171: E. Multi Mj Inju | B171: 20142 | C171: 661 | D171: =C171/C225 -> 0.021368074 | E171: 39639975 | F171: =E171/E225 -> 0.18963097 | G171: =E171/C171 -> 59969.705
A172: E. Multi Mj Inju | B172: 20151 | C172: 536 | D172: =C172/C226 -> 0.017417866 | E172: 27121785 | F172: =E172/E226 -> 0.13824691 | G172: =E172/C172 -> 50600.345
A173: E. Multi Mj Inju | B173: 20152 | C173: 739 | D173: =C173/C227 -> 0.021509445 | E173: 39170906 | F173: =E173/E227 -> 0.15965588 | G173: =E173/C173 -> 53005.285
A174: E. Multi Mj Inju | B174: 20161 | C174: 631 | D174: =C174/C228 -> 0.019769409 | E174: 34946262 | F174: =E174/E228 -> 0.15804305 | G174: =E174/C174 -> 55382.349
A175: E. Multi Mj Inju | B175: 20162 | C175: 745 | D175: =C175/C229 -> 0.019905416 | E175: 35224504 | F175: =E175/E229 -> 0.14546712 | G175: =E175/C175 -> 47281.214
A176: E. Multi Mj Inju | B176: 20171 | C176: 588 | D176: =C176/C230 -> 0.017840347 | E176: 24070368 | F176: =E176/E230 -> 0.11965651 | G176: =E176/C176 -> 40936
A177: E. Multi Mj Inju | B177: 20172 | C177: 773 | D177: =C177/C231 -> 0.020146472 | E177: 30909183 | F177: =E177/E231 -> 0.12956843 | G177: =E177/C177 -> 39986.006
A178: E. Multi Mj Inju | B178: 20181 | C178: 642 | D178: =C178/C232 -> 0.019201436 | E178: 24149460 | F178: =E178/E232 -> 0.11738167 | G178: =E178/C178 -> 37615.981
A179: E. Multi Mj Inju | B179: 20182 | C179: 764 | D179: =C179/C233 -> 0.02016576 | E179: 30897728 | F179: =E179/E233 -> 0.12995746 | G179: =E179/C179 -> 40442.053
... A194: E. Multi Mj Inju | B194: 20261 | C194: 229 | D194: =C194/C248 -> 0.012465299 | E194: 569386.35 | F194: =E194/E248 -> 0.01942917 | G194: =E194/C194 -> 2486.4033
A195: F. Other | B195: 20131 | C195: 1052 | D195: =C195/C222 -> 0.039753618 | E195: 3185930.9 | F195: =E195/E222 -> 0.020404344 | G195: =E195/C195 -> 3028.4514
A196: F. Other | B196: 20132 | C196: 1218 | D196: =C196/C223 -> 0.037994822 | E196: 3950630.6 | F196: =E196/E223 -> 0.02034344 | G196: =E196/C196 -> 3243.5391
A197: F. Other | B197: 20141 | C197: 1067 | D197: =C197/C224 -> 0.037275109 | E197: 3601022.2 | F197: =E197/E224 -> 0.020577145 | G197: =E197/C197 -> 3374.9036
A198: F. Other | B198: 20142 | C198: 1174 | D198: =C198/C225 -> 0.037951768 | E198: 4371748.7 | F198: =E198/E225 -> 0.02091371 | G198: =E198/C198 -> 3723.8064
A199: F. Other | B199: 20151 | C199: 1030 | D199: =C199/C226 -> 0.0334709 | E199: 3374476.1 | F199: =E199/E226 -> 0.017200596 | G199: =E199/C199 -> 3276.1904
A200: F. Other | B200: 20152 | C200: 1146 | D200: =C200/C227 -> 0.033355648 | E200: 4653994.5 | F200: =E200/E227 -> 0.01896912 | G200: =E200/C200 -> 4061.0772
A201: F. Other | B201: 20161 | C201: 1028 | D201: =C201/C228 -> 0.032207532 | E201: 4135024.2 | F201: =E201/E228 -> 0.018700479 | G201: =E201/C201 -> 4022.3971
...

Sheet occupation
A1: Claimants by Healthcare Provider Occupation Class Claimants may be counted multiple times because the classes are not mutually exclusive.
A5: Provider Occupation Class | B5: Accident Half Year | C5: Claimant Count | D5: Share on Claimant Count | E5: Insurer Paid | F5: Share on Insurer Paid | G5: Average Insurer Paid per Claimant
A6: Chiropractic | B6: 20131 | C6: 15395 | D6: =C6/C411 -> 0.56630495 | E6: 48600165 | F6: =E6/E411 -> 0.17077559 | G6: =E6/C6 -> 3156.8798
A7: Chiropractic | B7: 20132 | C7: 18805 | D7: =C7/C412 -> 0.57142423 | E7: 59519177 | F7: =E7/E412 -> 0.16950802 | G7: =E7/C7 -> 3165.0719
A8: Chiropractic | B8: 20141 | C8: 16799 | D8: =C8/C413 -> 0.5735013 | E8: 52358512 | F8: =E8/E413 -> 0.16940861 | G8: =E8/C8 -> 3116.7636
A9: Chiropractic | B9: 20142 | C9: 18054 | D9: =C9/C414 -> 0.57021035 | E9: 59007875 | F9: =E9/E414 -> 0.16179439 | G9: =E9/C9 -> 3268.41
A10: Chiropractic | B10: 20151 | C10: 17724 | D10: =C10/C415 -> 0.5634358 | E10: 58959017 | F10: =E10/E415 -> 0.17389598 | G10: =E10/C10 -> 3326.5074
A11: Chiropractic | B11: 20152 | C11: 19991 | D11: =C11/C416 -> 0.57025901 | E11: 70138507 | F11: =E11/E416 -> 0.16668732 | G11: =E11/C11 -> 3508.5042
A12: Chiropractic | B12: 20161 | C12: 18641 | D12: =C12/C417 -> 0.57309312 | E12: 63997728 | F12: =E12/E417 -> 0.17012569 | G12: =E12/C12 -> 3433.1703
A13: Chiropractic | B13: 20162 | C13: 21535 | D13: =C13/C418 -> 0.56377297 | E13: 71550087 | F13: =E13/E418 -> 0.17363033 | G13: =E13/C13 -> 3322.5023
A14: Chiropractic | B14: 20171 | C14: 18994 | D14: =C14/C419 -> 0.56502856 | E14: 60984698 | F14: =E14/E419 -> 0.17952677 | G14: =E14/C14 -> 3210.7348
A15: Chiropractic | B15: 20172 | C15: 21447 | D15: =C15/C420 -> 0.55053007 | E15: 69299772 | F15: =E15/E420 -> 0.17445382 | G15: =E15/C15 -> 3231.2105
A16: Chiropractic | B16: 20181 | C16: 18786 | D16: =C16/C421 -> 0.55450279 | E16: 62098539 | F16: =E16/E421 -> 0.18233752 | G16: =E16/C16 -> 3305.5754
A17: Chiropractic | B17: 20182 | C17: 21234 | D17: =C17/C422 -> 0.55262336 | E17: 68649166 | F17: =E17/E422 -> 0.17457307 | G17: =E17/C17 -> 3232.9832
... A32: Chiropractic | B32: 20261 | C32: 7623 | D32: =C32/C437 -> 0.40545716 | E32: 10415479 | F32: =E32/E437 -> 0.33318806 | G32: =E32/C32 -> 1366.3229
A33: Family Practice | B33: 20131 | C33: 4861 | D33: =C33/C411 -> 0.17881184 | E33: 10345274 | F33: =E33/E411 -> 0.036352146 | G33: =E33/C33 -> 2128.2194
A34: Family Practice | B34: 20132 | C34: 6067 | D34: =C34/C412 -> 0.18435686 | E34: 12747742 | F34: =E34/E412 -> 0.036305012 | G34: =E34/C34 -> 2101.1607
A35: Family Practice | B35: 20141 | C35: 5217 | D35: =C35/C413 -> 0.17810324 | E35: 10527636 | F35: =E35/E413 -> 0.034062699 | G35: =E35/C35 -> 2017.9483
A36: Family Practice | B36: 20142 | C36: 5766 | D36: =C36/C414 -> 0.18211105 | E36: 11671747 | F36: =E36/E414 -> 0.032002899 | G36: =E36/C36 -> 2024.2363
A37: Family Practice | B37: 20151 | C37: 5753 | D37: =C37/C415 -> 0.18288457 | E37: 11789936 | F37: =E37/E415 -> 0.034773689 | G37: =E37/C37 -> 2049.3544
A38: Family Practice | B38: 20152 | C38: 6485 | D38: =C38/C416 -> 0.18498973 | E38: 13173101 | F38: =E38/E416 -> 0.031306468 | G38: =E38/C38 -> 2031.3186
A39: Family Practice | B39: 20161 | C39: 6160 | D39: =C39/C417 -> 0.18938113 | E39: 12972418 | F39: =E39/E417 -> 0.034484686 | G39: =E39/C39 -> 2105.912
A40: Family Practice | B40: 20162 | C40: 7038 | D40: =C40/C418 -> 0.18425048 | E40: 14517574 | F40: =E40/E418 -> 0.035229743 | G40: =E40/C40 -> 2062.7414
A41: Family Practice | B41: 20171 | C41: 6123 | D41: =C41/C419 -> 0.18214541 | E41: 12596764 | F41: =E41/E419 -> 0.037082358 | G41: =E41/C41 -> 2057.2864
A42: Family Practice | B42: 20172 | C42: 6583 | D42: =C42/C420 -> 0.16898118 | E42: 13746296 | F42: =E42/E420 -> 0.034604643 | G42: =E42/C42 -> 2088.1506
A43: Family Practice | B43: 20181 | C43: 5645 | D43: =C43/C421 -> 0.16662239 | E43: 12030664 | F43: =E43/E421 -> 0.035325171 | G43: =E43/C43 -> 2131.2071
A44: Family Practice | B44: 20182 | C44: 6296 | D44: =C44/C422 -> 0.16385592 | E44: 13362680 | F44: =E44/E422 -> 0.033980953 | G44: =E44/C44 -> 2122.4078
... A59: Family Practice | B59: 20261 | C59: 411 | D59: =C59/C437 -> 0.021860539 | E59: 396044.59 | F59: =E59/E437 -> 0.012669347 | G59: =E59/C59 -> 963.61214
A60: Massage Therapy | B60: 20131 | C60: 11600 | D60: =C60/C411 -> 0.4267059 | E60: 10941449 | F60: =E60/E411 -> 0.038447036 | G60: =E60/C60 -> 943.22832
A61: Massage Therapy | B61: 20132 | C61: 14091 | D61: =C61/C412 -> 0.42818074 | E61: 13151182 | F61: =E61/E412 -> 0.037453992 | G61: =E61/C61 -> 933.30365
A62: Massage Therapy | B62: 20141 | C62: 12934 | D62: =C62/C413 -> 0.44155401 | E62: 11830853 | F62: =E62/E413 -> 0.038279322 | G62: =E62/C62 -> 914.7095
A63: Massage Therapy | B63: 20142 | C63: 14172 | D63: =C63/C414 -> 0.4476028 | E63: 12868381 | F63: =E63/E414 -> 0.035283966 | G63: =E63/C63 -> 908.01449
A64: Massage Therapy | B64: 20151 | C64: 14555 | D64: =C64/C415 -> 0.46269511 | E64: 13197011 | F64: =E64/E415 -> 0.03892377 | G64: =E64/C64 -> 906.6995
A65: Massage Therapy | B65: 20152 | C65: 16017 | D65: =C65/C416 -> 0.45689754 | E65: 15152139 | F65: =E65/E416 -> 0.03600974 | G65: =E65/C65 -> 946.00354
A66: Massage Therapy | B66: 20161 | C66: 15271 | D66: =C66/C417 -> 0.46948689 | E66: 13640228 | F66: =E66/E417 -> 0.036259931 | G66: =E66/C66 -> 893.21121
A67: Massage Therapy | B67: 20162 | C67: 17626 | D67: =C67/C418 -> 0.46143777 | E67: 15112682 | F67: =E67/E418 -> 0.03667389 | G67: =E67/C67 -> 857.40849
A68: Massage Therapy | B68: 20171 | C68: 15475 | D68: =C68/C419 -> 0.46034626 | E68: 12305873 | F68: =E68/E419 -> 0.036226031 | G68: =E68/C68 -> 795.20986
A69: Massage Therapy | B69: 20172 | C69: 18010 | D69: =C69/C420 -> 0.46230459 | E69: 14436941 | F69: =E69/E420 -> 0.03634326 | G69: =E69/C69 -> 801.60696
A70: Massage Therapy | B70: 20181 | C70: 15616 | D70: =C70/C421 -> 0.4609345 | E70: 12009379 | F70: =E70/E421 -> 0.035262671 | G70: =E70/C70 -> 769.04321
A71: Massage Therapy | B71: 20182 | C71: 17443 | D71: =C71/C422 -> 0.45396107 | E71: 13150622 | F71: =E71/E422 -> 0.033441696 | G71: =E71/C71 -> 753.91974
... A86: Massage Therapy | B86: 20261 | C86: 2615 | D86: =C86/C437 -> 0.13908835 | E86: 870784.92 | F86: =E86/E437 -> 0.027856148 | G86: =E86/C86 -> 332.99615
A87: Medicine/Surgery Other | B87: 20131 | C87: 4256 | D87: =C87/C411 -> 0.15655692 | E87: 13001554 | F87: =E87/E411 -> 0.045686019 | G87: =E87/C87 -> 3054.8765
A88: Medicine/Surgery Other | B88: 20132 | C88: 4797 | D88: =C88/C412 -> 0.1457656 | E88: 14270837 | F88: =E88/E412 -> 0.040642722 | G88: =E88/C88 -> 2974.9504
A89: Medicine/Surgery Other | B89: 20141 | C89: 3749 | D89: =C89/C413 -> 0.12798716 | E89: 10940024 | F89: =E89/E413 -> 0.035397 | G89: =E89/C89 -> 2918.1178
A90: Medicine/Surgery Other | B90: 20142 | C90: 3880 | D90: =C90/C414 -> 0.12254437 | E90: 11169799 | F90: =E90/E414 -> 0.030626603 | G90: =E90/C90 -> 2878.8141
A91: Medicine/Surgery Other | B91: 20151 | C91: 3662 | D91: =C91/C415 -> 0.11641288 | E91: 10393560 | F91: =E91/E415 -> 0.030655163 | G91: =E91/C91 -> 2838.2195
A92: Medicine/Surgery Other | B92: 20152 | C92: 4091 | D92: =C92/C416 -> 0.116699 | E92: 11389219 | F92: =E92/E416 -> 0.027066992 | G92: =E92/C92 -> 2783.9694
A93: Medicine/Surgery Other | B93: 20161 | C93: 3497 | D93: =C93/C417 -> 0.10751068 | E93: 9633296 | F93: =E93/E417 -> 0.02560827 | G93: =E93/C93 -> 2754.7315
A94: Medicine/Surgery Other | B94: 20162 | C94: 3801 | D94: =C94/C418 -> 0.099507828 | E94: 10486296 | F94: =E94/E418 -> 0.025447056 | G94: =E94/C94 -> 2758.8256
A95: Medicine/Surgery Other | B95: 20171 | C95: 3139 | D95: =C95/C419 -> 0.093378153 | E95: 8143352.5 | F95: =E95/E419 -> 0.023972403 | G95: =E95/C95 -> 2594.2505
A96: Medicine/Surgery Other | B96: 20172 | C96: 3287 | D96: =C96/C420 -> 0.08437508 | E96: 8627992.1 | F96: =E96/E420 -> 0.02171993 | G96: =E96/C96 -> 2624.8835
A97: Medicine/Surgery Other | B97: 20181 | C97: 2650 | D97: =C97/C421 -> 0.078219546 | E97: 7156640.8 | F97: =E97/E421 -> 0.021013765 | G97: =E97/C97 -> 2700.6192
A98: Medicine/Surgery Other | B98: 20182 | C98: 2945 | D98: =C98/C422 -> 0.076644805 | E98: 7885170.7 | F98: =E98/E422 -> 0.020051788 | G98: =E98/C98 -> 2677.4773
... A113: Medicine/Surgery Other | B113: 20261 | C113: 43 | D113: =C113/C437 -> 0.0022871124 | E113: 67655.54 | F113: =E113/E437 -> 0.0021642804 | G113: =E113/C113 -> 1573.3847
A114: Neurology | B114: 20131 | C114: 1409 | D114: =C114/C411 -> 0.051830053 | E114: 3167813.7 | F114: =E114/E411 -> 0.011131346 | G114: =E114/C114 -> 2248.2709
A115: Neurology | B115: 20132 | C115: 1930 | D115: =C115/C412 -> 0.058646571 | E115: 4421492.4 | F115: =E115/E412 -> 0.012592217 | G115: =E115/C115 -> 2290.9287
A116: Neurology | B116: 20141 | C116: 1814 | D116: =C116/C413 -> 0.061928172 | E116: 4162227.5 | F116: =E116/E413 -> 0.013467097 | G116: =E116/C116 -> 2294.5025
A117: Neurology | B117: 20142 | C117: 2424 | D117: =C117/C414 -> 0.076558651 | E117: 5603942.6 | F117: =E117/E414 -> 0.015365516 | G117: =E117/C117 -> 2311.8575
A118: Neurology | B118: 20151 | C118: 2428 | D118: =C118/C415 -> 0.077184728 | E118: 5582442.9 | F118: =E118/E415 -> 0.016465071 | G118: =E118/C118 -> 2299.194
A119: Neurology | B119: 20152 | C119: 2944 | D119: =C119/C416 -> 0.083979918 | E119: 7040002 | F119: =E119/E416 -> 0.016730882 | G119: =E119/C119 -> 2391.305
A120: Neurology | B120: 20161 | C120: 2655 | D120: =C120/C417 -> 0.081624497 | E120: 6415069.6 | F120: =E120/E417 -> 0.017053232 | G120: =E120/C120 -> 2416.2221
A121: Neurology | B121: 20162 | C121: 3000 | D121: =C121/C418 -> 0.078538143 | E121: 7267448 | F121: =E121/E418 -> 0.017635889 | G121: =E121/C121 -> 2422.4827
A122: Neurology | B122: 20171 | C122: 2411 | D122: =C122/C419 -> 0.071721799 | E122: 5971983.9 | F122: =E122/E419 -> 0.017580328 | G122: =E122/C122 -> 2476.9738
A123: Neurology | B123: 20172 | C123: 2841 | D123: =C123/C420 -> 0.07292656 | E123: 7186597.2 | F123: =E123/E420 -> 0.018091392 | G123: =E123/C123 -> 2529.6013
A124: Neurology | B124: 20181 | C124: 2524 | D124: =C124/C421 -> 0.074500428 | E124: 6638776.5 | F124: =E124/E421 -> 0.019493181 | G124: =E124/C124 -> 2630.2601
A125: Neurology | B125: 20182 | C125: 2854 | D125: =C125/C422 -> 0.074276494 | E125: 7633638 | F125: =E125/E422 -> 0.019412146 | G125: =E125/C125 -> 2674.7155
... A140: Neurology | B140: 20261 | C140: 131 | D140: =C140/C437 -> 0.0069677145 | E140: 138595.9 | F140: =E140/E437 -> 0.0044336412 | G140: =E140/C140 -> 1057.984
A141: Occupational Therapy | B141: 20131 | C141: 6384 | D141: =C141/C411 -> 0.23483539 | E141: 34128136 | F141: =E141/E411 -> 0.11992248 | G141: =E141/C141 -> 5345.886
A142: Occupational Therapy | B142: 20132 | C142: 7519 | D142: =C142/C412 -> 0.22847853 | E142: 43085228 | F142: =E142/E412 -> 0.12270485 | G142: =E142/C142 -> 5730.1806
A143: Occupational Therapy | B143: 20141 | C143: 6446 | D143: =C143/C413 -> 0.22006008 | E143: 36829962 | F143: =E143/E413 -> 0.11916521 | G143: =E143/C143 -> 5713.615
A144: Occupational Therapy | B144: 20142 | C144: 7543 | D144: =C144/C414 -> 0.23823511 | E144: 46844553 | F144: =E144/E414 -> 0.12844363 | G144: =E144/C144 -> 6210.3345
A145: Occupational Therapy | B145: 20151 | C145: 7342 | D145: =C145/C415 -> 0.23339797 | E145: 40997053 | F145: =E145/E415 -> 0.12091828 | G145: =E145/C145 -> 5583.9081
A146: Occupational Therapy | B146: 20152 | C146: 8955 | D146: =C146/C416 -> 0.25544843 | E146: 55136354 | F146: =E146/E416 -> 0.13103403 | G146: =E146/C146 -> 6157.0468
A147: Occupational Therapy | B147: 20161 | C147: 8531 | D147: =C147/C417 -> 0.26227442 | E147: 48500080 | F147: =E147/E417 -> 0.12892816 | G147: =E147/C147 -> 5685.1576
A148: Occupational Therapy | B148: 20162 | C148: 10010 | D148: =C148/C418 -> 0.26205561 | E148: 51544890 | F148: =E148/E418 -> 0.12508379 | G148: =E148/C148 -> 5149.3396
A149: Occupational Therapy | B149: 20171 | C149: 8622 | D149: =C149/C419 -> 0.25648501 | E149: 42266663 | F149: =E149/E419 -> 0.12442461 | G149: =E149/C149 -> 4902.1878
A150: Occupational Therapy | B150: 20172 | C150: 9951 | D150: =C150/C420 -> 0.25543548 | E150: 53511173 | F150: =E150/E420 -> 0.13470793 | G150: =E150/C150 -> 5377.4668
A151: Occupational Therapy | B151: 20181 | C151: 8434 | D151: =C151/C421 -> 0.24894477 | E151: 44303455 | F151: =E151/E421 -> 0.13008651 | G151: =E151/C151 -> 5252.9589
A152: Occupational Therapy | B152: 20182 | C152: 9362 | D152: =C152/C422 -> 0.2436498 | E152: 54509960 | F152: =E152/E422 -> 0.13861743 | G152: =E152/C152 -> 5822.4695
... A167: Occupational Therapy | B167: 20261 | C167: 1929 | D167: =C167/C437 -> 0.10260093 | E167: 2546491.9 | F167: =E167/E437 -> 0.081461511 | G167: =E167/C167 -> 1320.1099
A168: Orthopedic Surgery | B168: 20131 | C168: 4044 | D168: =C168/C411 -> 0.14875851 | E168: 9526957.6 | F168: =E168/E411 -> 0.033476672 | G168: =E168/C168 -> 2355.8253
A169: Orthopedic Surgery | B169: 20132 | C169: 5339 | D169: =C169/C412 -> 0.16223525 | E169: 12933185 | F169: =E169/E412 -> 0.036833146 | G169: =E169/C169 -> 2422.3983
A170: Orthopedic Surgery | B170: 20141 | C170: 4735 | D170: =C170/C413 -> 0.16164823 | E170: 11265916 | F170: =E170/E413 -> 0.036451442 | G170: =E170/C170 -> 2379.2854
A171: Orthopedic Surgery | B171: 20142 | C171: 5342 | D171: =C171/C414 -> 0.1687196 | E171: 12984248 | F171: =E171/E414 -> 0.035601661 | G171: =E171/C171 -> 2430.5967
A172: Orthopedic Surgery | B172: 20151 | C172: 5141 | D172: =C172/C415 -> 0.16342944 | E172: 12590535 | F172: =E172/E415 -> 0.037135006 | G172: =E172/C172 -> 2449.044
A173: Orthopedic Surgery | B173: 20152 | C173: 5685 | D173: =C173/C416 -> 0.1621691 | E173: 14167649 | F173: =E173/E416 -> 0.033670056 | G173: =E173/C173 -> 2492.1106
A174: Orthopedic Surgery | B174: 20161 | C174: 4715 | D174: =C174/C417 -> 0.1449565 | E174: 12054363 | F174: =E174/E417 -> 0.032044213 | G174: =E174/C174 -> 2556.5988
A175: Orthopedic Surgery | B175: 20162 | C175: 4999 | D175: =C175/C418 -> 0.13087073 | E175: 12802375 | F175: =E175/E418 -> 0.031067476 | G175: =E175/C175 -> 2560.9872
A176: Orthopedic Surgery | B176: 20171 | C176: 4014 | D176: =C176/C419 -> 0.11940743 | E176: 10354750 | F176: =E176/E419 -> 0.030482314 | G176: =E176/C176 -> 2579.6586
A177: Orthopedic Surgery | B177: 20172 | C177: 4268 | D177: =C177/C420 -> 0.10955669 | E177: 11492524 | F177: =E177/E420 -> 0.028931044 | G177: =E177/C177 -> 2692.7188
A178: Orthopedic Surgery | B178: 20181 | C178: 3360 | D178: =C178/C421 -> 0.099176481 | E178: 9308549.7 | F178: =E178/E421 -> 0.027332332 | G178: =E178/C178 -> 2770.4017
A179: Orthopedic Surgery | B179: 20182 | C179: 3790 | D179: =C179/C422 -> 0.098636269 | E179: 10311751 | F179: =E179/E422 -> 0.026222519 | G179: =E179/C179 -> 2720.7786
... A194: Orthopedic Surgery | B194: 20261 | C194: 60 | D194: =C194/C437 -> 0.0031913196 | E194: 146876.87 | F194: =E194/E437 -> 0.0046985469 | G194: =E194/C194 -> 2447.9478
A195: Physiatry | B195: 20131 | C195: 3019 | D195: =C195/C411 -> 0.11105389 | E195: 8171160.2 | F195: =E195/E411 -> 0.02871255 | G195: =E195/C195 -> 2706.5784
A196: Physiatry | B196: 20132 | C196: 3896 | D196: =C196/C412 -> 0.11838707 | E196: 10531094 | F196: =E196/E412 -> 0.029992097 | G196: =E196/C196 -> 2703.053
A197: Physiatry | B197: 20141 | C197: 3670 | D197: =C197/C413 -> 0.12529018 | E197: 9642392.8 | F197: =E197/E413 -> 0.031198449 | G197: =E197/C197 -> 2627.355
A198: Physiatry | B198: 20142 | C198: 4461 | D198: =C198/C414 -> 0.14089445 | E198: 11633466 | F198: =E198/E414 -> 0.031897937 | G198: =E198/C198 -> 2607.8157
A199: Physiatry | B199: 20151 | C199: 4453 | D199: =C199/C415 -> 0.14155832 | E199: 11971315 | F199: =E199/E415 -> 0.035308654 | G199: =E199/C199 -> 2688.3707
A200: Physiatry | B200: 20152 | C200: 5394 | D200: =C200/C416 -> 0.1538681 | E200: 14635401 | F200: =E200/E416 -> 0.034781691 | G200: =E200/C200 -> 2713.2743
A201: Physiatry | B201: 20161 | C201: 4911 | D201: =C201/C417 -> 0.15098226 | E201: 13351240 | F201: =E201/E417 -> 0.03549171 | G201: =E201/C201 -> 2718.6397
...

Sheet expense range
A1: Claimants by Medical and Rehabilitation Expense Range
A5: Medical and Rehabilitation Expense Range | B5: Accident Year | C5: Claimant Count | D5: Share on Claimant Count | E5: Treatment | F5: Insurer Initiated Exam | G5: Provider Initiated Exam | H5: Goods and Supplies | I5: Missed/Cancelled Appointment | J5: Transportation | K5: Other | L5: Unallocated Amount | M5: Insurer Paid | N5: Share on Insurer Paid | O5: Average Insurer Paid per Claimant
A6: 0 | B6: 2013 | C6: 630 | D6: =C6/C$12 -> 0.010483576 | E6: 0 | F6: 1933461.4 | G6: 0 | H6: 0 | I6: 0 | J6: 0 | K6: 0 | L6: 248421.31 | M6: 2181882.7 | N6: =M6/M$12 -> 0.0034321769 | O6: =M6/C6 -> 3463.3059
A7: $0+ to $2,200 | B7: 2013 | C7: 19829 | D7: =C7/C$12 -> 0.32996639 | E7: 25739409 | F7: 9543211.8 | G7: 519376.47 | H7: 64077.49 | I7: 894299.21 | J7: 158898.4 | K7: 46890.95 | L7: -1782247.7 | M7: 35183915 | N7: =M7/M$12 -> 0.055345514 | O7: =M7/C7 -> 1774.3666
A8: $2,200+ to $3,500 | B8: 2013 | C8: 16168 | D8: =C8/C$12 -> 0.26904516 | E8: 45790524 | F8: 17545144 | G8: 1235148.1 | H8: 282112.45 | I8: 1170453.7 | J8: 181042.74 | K8: 72112.47 | L8: -913273.74 | M8: 65363264 | N8: =M8/M$12 -> 0.10281867 | O8: =M8/C8 -> 4042.7551
A9: $3,500+ to $50,000 | B9: 2013 | C9: 22555 | D9: =C9/C$12 -> 0.37532865 | E9: 1.7926046e+08 | F9: 1.1835947e+08 | G9: 28664352 | H9: 5828640.8 | I9: 13712871 | J9: 9680806.7 | K9: 1872534.4 | L9: 11022292 | M9: 3.6840142e+08 | N9: =M9/M$12 -> 0.57950817 | O9: =M9/C9 -> 16333.47
A10: $50,000+ to $65,000 | B10: 2013 | C10: 257 | D10: =C10/C$12 -> 0.0042766333 | E10: 9686519.5 | F10: 5882022 | G10: 2177749.4 | H10: 524178.53 | I10: 340574.08 | J10: 1416527.4 | K10: 138285.45 | L10: 744329.36 | M10: 20910186 | N10: =M10/M$12 -> 0.032892445 | O10: =M10/C10 -> 81362.59
A11: $65,000+ | B11: 2013 | C11: 655 | D11: =C11/C$12 -> 0.010899591 | E11: 89859705 | F11: 11782805 | G11: 5845360.9 | H11: 7110873.6 | I11: 673701.26 | J11: 21265453 | K11: 1558385.9 | L11: 5576990.2 | M11: 1.4367328e+08 | N11: =M11/M$12 -> 0.22600303 | O11: =M11/C11 -> 219348.51
A12: Total | B12: 2013 | C12: =SUM(C6:C11) -> 60094 | D12: =SUM(D6:D11) -> 1 | E12: =SUM(E6:E11) -> 3.5033661e+08 | F12: =SUM(F6:F11) -> 1.6504611e+08 | G12: =SUM(G6:G11) -> 38441987 | H12: =SUM(H6:H11) -> 13809883 | I12: =SUM(I6:I11) -> 16791899 | J12: =SUM(J6:J11) -> 32702729 | ... N12: =SUM(N6:N11) -> 1 | O12: =M12/C12 -> 10578.659
A14: 0 | B14: 2017 | C14: 469 | D14: =C14/C$20 -> 0.0064624585 | E14: 0 | F14: 1464058.6 | G14: 0 | H14: 0 | I14: 0 | J14: 0 | K14: 0 | L14: 182193.92 | M14: 1646252.5 | N14: =M14/M$20 -> 0.0022339168 | O14: =M14/C14 -> 3510.1332
A15: $0+ to $2,200 | B15: 2017 | C15: 23160 | D15: =C15/C$20 -> 0.31912695 | E15: 29757369 | F15: 6429118.6 | G15: 469045.47 | H15: 81254.86 | I15: 690671.1 | J15: 126826.06 | K15: 34543.68 | L15: -2867040 | M15: 34721788 | N15: =M15/M$20 -> 0.047116459 | O15: =M15/C15 -> 1499.2137
A16: $2,200+ to $3,500 | B16: 2017 | C16: 20035 | D16: =C16/C$20 -> 0.27606686 | E16: 57652310 | F16: 16072548 | G16: 1316964.2 | H16: 478786.04 | I16: 975232.92 | J16: 220585.12 | K16: 60417.78 | L16: -1922985.2 | M16: 74853859 | N16: =M16/M$20 -> 0.10157451 | O16: =M16/C16 -> 3736.1547
A17: $3,500+ to $50,000 | B17: 2017 | C17: 27454 | D17: =C17/C$20 -> 0.37829496 | E17: 2.4847315e+08 | F17: 1.2327449e+08 | G17: 26852476 | H17: 10833047 | I17: 13524924 | J17: 9905313.7 | K17: 2638656.9 | L17: 8070603.9 | M17: 4.4357266e+08 | N17: =M17/M$20 -> 0.60191521 | O17: =M17/C17 -> 16156.941
A18: $50,000+ to $65,000 | B18: 2017 | C18: 659 | D18: =C18/C$20 -> 0.009080512 | E18: 25460500 | F18: 12131727 | G18: 5832408.8 | H18: 2006741.1 | I18: 806579.62 | J18: 2966173.4 | K18: 360288.08 | L18: 1860411 | M18: 51424829 | N18: =M18/M$20 -> 0.069781999 | O18: =M18/C18 -> 78034.642
A19: $65,000+ | B19: 2017 | C19: 796 | D19: =C19/C$20 -> 0.010968266 | E19: 78373773 | F19: 15214352 | G19: 7949455.4 | H19: 7813874.8 | I19: 981926.46 | J19: 13574162 | K19: 1614548.3 | L19: 5193970.7 | M19: 130716062 | N19: =M19/M$20 -> 0.1773779 | O19: =M19/C19 -> 164216.16
A20: Total | B20: 2017 | C20: =SUM(C14:C19) -> 72573 | D20: =SUM(D14:D19) -> 1 | E20: =SUM(E14:E19) -> 4.397171e+08 | F20: =SUM(F14:F19) -> 1.7458629e+08 | G20: =SUM(G14:G19) -> 42420350 | H20: =SUM(H14:H19) -> 21213703 | I20: =SUM(I14:I19) -> 16979334 | J20: =SUM(J14:J19) -> 26793060 | ... N20: =SUM(N14:N19) -> 1 | O20: =M20/C20 -> 10154.402
